{"text_format":"1","workbook":"xlsx","n_sheets":4,"sheets":["Stage-Storage (Standard)","Stage-Storage (Metric)","Backend Calcs Standard","Backend Calcs Metric"],"not_rendered":{"charts":0,"images":1,"macros":1,"external_links":0,"defined_names":2,"comments":2,"pivot_tables":0},"unopened":[],"bounds":{"document_bytes":16777216,"sheet_cells":100000,"rows_first":2000,"rows_last":500,"rows_between":2000,"halvings":0,"cell_chars":16384,"cell_head_chars":4096},"cells_cut":0,"cells_raw":0,"read":"whole","date_system":"1900"}

{"sheet":"Stage-Storage (Standard)","index":0,"n_rows":316,"n_cols":12,"rows_kept":316,"cut":false,"hidden":false,"merged":[[6,0,6,2],[12,1,13,8],[3,0,3,2],[2,0,2,2],[4,0,4,2],[5,0,5,2]]}
[]
[]
["Chamber Model"]
["Number of Chambers",null,null,null,25]
["Number of Endcaps",null,null,null,10]
["Stone Voids (porosity)",null,null,null,0.4]
["Base of Stone Elevation",null,null,null,0,{"$f":"IF('Backend Calcs Standard'!$A$12=1, \"ft\",\"m\")","v":"ft"}]
["Recommended Stone Below Chambers*",null,null,null,9,{"$f":"IF('Backend Calcs Standard'!$A$12=1, \"in.\",\"mm\")","v":"in."},"Include perimeter stone?"]
["Recommended Stone Above Chambers*",null,null,null,12,{"$f":"IF('Backend Calcs Standard'!$A$12=1, \"in.\",\"mm\")","v":"in."}]
[]
[null,{"$f":"IF('Backend Calcs Standard'!A11=1,\"Area of System**\", \" \")","v":"Area of System**"},null,1491,{"$f":"IF('Backend Calcs Standard'!$A$11=1,IF('Backend Calcs Standard'!$A$12=1, \"sq.ft\",\"sq.m\"),\"\")","v":"sq.ft"}]
[null,null,{"$f":"IF('Backend Calcs Standard'!A11=1,\"**Area must be greater than: \", \" \")","v":"**Area must be greater than: "},null,{"$f":"'Backend Calcs Standard'!H15","v":"1451 sq.ft"}]
[null,"*The minimum stone below and above the chambers to be determinded by the design engineer. "]
[]
["System Height\n (in)",{"$f":"IF('Backend Calcs Standard'!A12=1, \"Incremental Single Chamber Storage (cu.ft)\",\"Incremental Single Chamber Storage (cu.m)\")","v":"Incremental Single Chamber Storage (cu.ft)"},{"$f":"IF('Backend Calcs Standard'!A12=1,\"Incremental Single End Cap Storage (cu.ft)\",\"Incremental Single End Cap Storage (cu.m)\")","v":"Incremental Single End Cap Storage (cu.ft)"},{"$f":"IF('Backend Calcs Standard'!A12=1,\"Incremental Total Chamber Storage (cu.ft)\",\"Incremental Total Chamber Storage (cu.m)\")","v":"Incremental Total Chamber Storage (cu.ft)"},{"$f":"IF('Backend Calcs Standard'!A12=1,\"Incremental Total End Cap Storage (cu.ft)\",\"Incremental Total End Cap Storage (cu.m)\")","v":"Incremental Total End Cap Storage (cu.ft)"},{"$f":"IF('Backend Calcs Standard'!A12=1,\"Incremental Stone Storage (cu.ft)\",\"Incremental Stone Storage (cu.m)\")","v":"Incremental Stone Storage (cu.ft)"},{"$f":"IF('Backend Calcs Standard'!A12=1,\"Incremental Chamber, End Cap, & Stone (cu.ft)\",\"Incremental Chamber, End Cap, & Stone (cu.m)\")","v":"Incremental Chamber, End Cap, & Stone (cu.ft)"},{"$f":"IF('Backend Calcs Standard'!A12=1,\"Cumulative Total Storage for System (cu.ft)\",\"Cumulative Total Storage for System (cu.m)\")","v":"Cumulative Total Storage for System (cu.ft)"},{"$f":"IF('Backend Calcs Standard'!A12=1,\"Cumulative System Storage (cu.ft)\",\"Cumulative System Storage (cu.m)\")","v":"Cumulative System Storage (cu.ft)"},{"$f":"IF('Backend Calcs Standard'!A12=1,\"Elevation (ft)\",\"Elevation (m)\")","v":"Elevation (ft)"}]
[{"$f":"IFERROR(IF(B16=\"\",\"\",'Backend Calcs Standard'!P17),\"\")","v":66},{"$f":"IFERROR(IF(C16=\"\",\"\",(IF('Backend Calcs Standard'!$A$12=1,'Backend Calcs Standard'!S17,(('Backend Calcs Standard'!S17)*0.0283168)))),\"\")","v":0},{"$f":"IFERROR(IF(D16=\"\",\"\",(IF('Backend Calcs Standard'!$A$12=1,'Backend Calcs Standard'!T17,(('Backend Calcs Standard'!T17)*0.0283168)))),\"\")","v":0},{"$f":"IFERROR(IF(E16=\"\",\"\",(IF('Backend Calcs Standard'!$A$12=1,'Backend Calcs Standard'!U17,(('Backend Calcs Standard'!U17)*0.0283168)))),\"\")","v":0},{"$f":"IFERROR(IF(F16=\"\",\"\",(IF('Backend Calcs Standard'!$A$12=1,'Backend Calcs Standard'!V17,(('Backend Calcs Standard'!V17)*0.0283168)))),\"\")","v":0},{"$f":"IF(I16=\"\",\"\",(IF('Backend Calcs Standard'!$A$12=1,'Backend Calcs Standard'!W17,('Backend Calcs Standard'!W17*0.0283168))))","v":49.699999999999996},{"$f":"IFERROR(IF(F16=\"\",\"\",(F16+E16+D16)),\"\")","v":49.699999999999996},{"$f":"IF('Backend Calcs Standard'!$A$12=1,'Backend Calcs Standard'!X17,('Backend Calcs Standard'!X17*0.0283168))","v":49.699999999999996},{"$f":"IFERROR(IF(H16=\"\",\"\",(IF('Backend Calcs Standard'!$A$12=1,'Backend Calcs Standard'!Y17,('Backend Calcs Standard'!Y17*0.0283168)))),\"\")","v":5075.7678472222206},{"$f":"IF(A16=\"\",\"\",IF('Backend Calcs Standard'!$A$12=1,'Backend Calcs Standard'!Z17,'Backend Calcs Standard'!O17))","v":5.5},null,{"$f":"IF(G16=\"\",\"\",G16*12)","v":596.4}]
[{"$f":"IFERROR(IF(B17=\"\",\"\",'Backend Calcs Standard'!P18),\"\")","v":65},{"$f":"IFERROR(IF(C17=\"\",\"\",(IF('Backend Calcs Standard'!$A$12=1,'Backend Calcs Standard'!S18,(('Backend Calcs Standard'!S18)*0.0283168)))),\"\")","v":0},{"$f":"IFERROR(IF(D17=\"\",\"\",(IF('Backend Calcs Standard'!$A$12=1,'Backend Calcs Standard'!T18,(('Backend Calcs Standard'!T18)*0.0283168)))),\"\")","v":0},{"$f":"IFERROR(IF(E17=\"\",\"\",(IF('Backend Calcs Standard'!$A$12=1,'Backend Calcs Standard'!U18,(('Backend Calcs Standard'!U18)*0.0283168)))),\"\")","v":0},{"$f":"IFERROR(IF(F17=\"\",\"\",(IF('Backend Calcs Standard'!$A$12=1,'Backend Calcs Standard'!V18,(('Backend Calcs Standard'!V18)*0.0283168)))),\"\")","v":0},{"$f":"IF(I17=\"\",\"\",(IF('Backend Calcs Standard'!$A$12=1,'Backend Calcs Standard'!W18,('Backend Calcs Standard'!W18*0.0283168))))","v":49.699999999999996},49.699999999999996,{"$f":"IF('Backend Calcs Standard'!$A$12=1,'Backend Calcs Standard'!X18,('Backend Calcs Standard'!X18*0.0283168))","v":49.699999999999996},{"$f":"IFERROR(IF(H17=\"\",\"\",(IF('Backend Calcs Standard'!$A$12=1,'Backend Calcs Standard'!Y18,('Backend Calcs Standard'!Y18*0.0283168)))),\"\")","v":5026.0678472222207},{"$f":"IF(A17=\"\",\"\",IF('Backend Calcs Standard'!$A$12=1,'Backend Calcs Standard'!Z18,'Backend Calcs Standard'!O18))","v":5.4166666666666661},null,{"$f":"IF(G17=\"\",\"\",G17*12)","v":596.4}]
[{"$f":"IFERROR(IF(B18=\"\",\"\",'Backend Calcs Standard'!P19),\"\")","v":64},{"$f":"IFERROR(IF(C18=\"\",\"\",(IF('Backend Calcs Standard'!$A$12=1,'Backend Calcs Standard'!S19,(('Backend Calcs Standard'!S19)*0.0283168)))),\"\")","v":0},{"$f":"IFERROR(IF(D18=\"\",\"\",(IF('Backend Calcs Standard'!$A$12=1,'Backend Calcs Standard'!T19,(('Backend Calcs Standard'!T19)*0.0283168)))),\"\")","v":0},{"$f":"IFERROR(IF(E18=\"\",\"\",(IF('Backend Calcs Standard'!$A$12=1,'Backend Calcs Standard'!U19,(('Backend Calcs Standard'!U19)*0.0283168)))),\"\")","v":0},{"$f":"IFERROR(IF(F18=\"\",\"\",(IF('Backend Calcs Standard'!$A$12=1,'Backend Calcs Standard'!V19,(('Backend Calcs Standard'!V19)*0.0283168)))),\"\")","v":0},{"$f":"IF(I18=\"\",\"\",(IF('Backend Calcs Standard'!$A$12=1,'Backend Calcs Standard'!W19,('Backend Calcs Standard'!W19*0.0283168))))","v":49.699999999999996},49.699999999999996,{"$f":"IF('Backend Calcs Standard'!$A$12=1,'Backend Calcs Standard'!X19,('Backend Calcs Standard'!X19*0.0283168))","v":49.699999999999996},{"$f":"IFERROR(IF(H18=\"\",\"\",(IF('Backend Calcs Standard'!$A$12=1,'Backend Calcs Standard'!Y19,('Backend Calcs Standard'!Y19*0.0283168)))),\"\")","v":4976.3678472222209},{"$f":"IF(A18=\"\",\"\",IF('Backend Calcs Standard'!$A$12=1,'Backend Calcs Standard'!Z19,'Backend Calcs Standard'!O19))","v":5.333333333333333},null,596.4]
[{"$f":"IFERROR(IF(B19=\"\",\"\",'Backend Calcs Standard'!P20),\"\")","v":63},{"$f":"IFERROR(IF(C19=\"\",\"\",(IF('Backend Calcs Standard'!$A$12=1,'Backend Calcs Standard'!S20,(('Backend Calcs Standard'!S20)*0.0283168)))),\"\")","v":0},{"$f":"IFERROR(IF(D19=\"\",\"\",(IF('Backend Calcs Standard'!$A$12=1,'Backend Calcs Standard'!T20,(('Backend Calcs Standard'!T20)*0.0283168)))),\"\")","v":0},{"$f":"IFERROR(IF(E19=\"\",\"\",(IF('Backend Calcs Standard'!$A$12=1,'Backend Calcs Standard'!U20,(('Backend Calcs Standard'!U20)*0.0283168)))),\"\")","v":0},{"$f":"IFERROR(IF(F19=\"\",\"\",(IF('Backend Calcs Standard'!$A$12=1,'Backend Calcs Standard'!V20,(('Backend Calcs Standard'!V20)*0.0283168)))),\"\")","v":0},{"$f":"IF(I19=\"\",\"\",(IF('Backend Calcs Standard'!$A$12=1,'Backend Calcs Standard'!W20,('Backend Calcs Standard'!W20*0.0283168))))","v":49.699999999999996},49.699999999999996,{"$f":"IF('Backend Calcs Standard'!$A$12=1,'Backend Calcs Standard'!X20,('Backend Calcs Standard'!X20*0.0283168))","v":49.699999999999996},{"$f":"IFERROR(IF(H19=\"\",\"\",(IF('Backend Calcs Standard'!$A$12=1,'Backend Calcs Standard'!Y20,('Backend Calcs Standard'!Y20*0.0283168)))),\"\")","v":4926.6678472222211},{"$f":"IF(A19=\"\",\"\",IF('Backend Calcs Standard'!$A$12=1,'Backend Calcs Standard'!Z20,'Backend Calcs Standard'!O20))","v":5.25},null,596.4]
[{"$f":"IFERROR(IF(B20=\"\",\"\",'Backend Calcs Standard'!P21),\"\")","v":62},{"$f":"IFERROR(IF(C20=\"\",\"\",(IF('Backend Calcs Standard'!$A$12=1,'Backend Calcs Standard'!S21,(('Backend Calcs Standard'!S21)*0.0283168)))),\"\")","v":0},{"$f":"IFERROR(IF(D20=\"\",\"\",(IF('Backend Calcs Standard'!$A$12=1,'Backend Calcs Standard'!T21,(('Backend Calcs Standard'!T21)*0.0283168)))),\"\")","v":0},{"$f":"IFERROR(IF(E20=\"\",\"\",(IF('Backend Calcs Standard'!$A$12=1,'Backend Calcs Standard'!U21,(('Backend Calcs Standard'!U21)*0.0283168)))),\"\")","v":0},{"$f":"IFERROR(IF(F20=\"\",\"\",(IF('Backend Calcs Standard'!$A$12=1,'Backend Calcs Standard'!V21,(('Backend Calcs Standard'!V21)*0.0283168)))),\"\")","v":0},{"$f":"IF(I20=\"\",\"\",(IF('Backend Calcs Standard'!$A$12=1,'Backend Calcs Standard'!W21,('Backend Calcs Standard'!W21*0.0283168))))","v":49.699999999999996},49.699999999999996,{"$f":"IF('Backend Calcs Standard'!$A$12=1,'Backend Calcs Standard'!X21,('Backend Calcs Standard'!X21*0.0283168))","v":49.699999999999996},{"$f":"IFERROR(IF(H20=\"\",\"\",(IF('Backend Calcs Standard'!$A$12=1,'Backend Calcs Standard'!Y21,('Backend Calcs Standard'!Y21*0.0283168)))),\"\")","v":4876.9678472222213},{"$f":"IF(A20=\"\",\"\",IF('Backend Calcs Standard'!$A$12=1,'Backend Calcs Standard'!Z21,'Backend Calcs Standard'!O21))","v":5.1666666666666661},null,596.4]
[{"$f":"IFERROR(IF(B21=\"\",\"\",'Backend Calcs Standard'!P22),\"\")","v":61},{"$f":"IFERROR(IF(C21=\"\",\"\",(IF('Backend Calcs Standard'!$A$12=1,'Backend Calcs Standard'!S22,(('Backend Calcs Standard'!S22)*0.0283168)))),\"\")","v":0},{"$f":"IFERROR(IF(D21=\"\",\"\",(IF('Backend Calcs Standard'!$A$12=1,'Backend Calcs Standard'!T22,(('Backend Calcs Standard'!T22)*0.0283168)))),\"\")","v":0},{"$f":"IFERROR(IF(E21=\"\",\"\",(IF('Backend Calcs Standard'!$A$12=1,'Backend Calcs Standard'!U22,(('Backend Calcs Standard'!U22)*0.0283168)))),\"\")","v":0},{"$f":"IFERROR(IF(F21=\"\",\"\",(IF('Backend Calcs Standard'!$A$12=1,'Backend Calcs Standard'!V22,(('Backend Calcs Standard'!V22)*0.0283168)))),\"\")","v":0},{"$f":"IF(I21=\"\",\"\",(IF('Backend Calcs Standard'!$A$12=1,'Backend Calcs Standard'!W22,('Backend Calcs Standard'!W22*0.0283168))))","v":49.699999999999996},49.699999999999996,{"$f":"IF('Backend Calcs Standard'!$A$12=1,'Backend Calcs Standard'!X22,('Backend Calcs Standard'!X22*0.0283168))","v":49.699999999999996},{"$f":"IFERROR(IF(H21=\"\",\"\",(IF('Backend Calcs Standard'!$A$12=1,'Backend Calcs Standard'!Y22,('Backend Calcs Standard'!Y22*0.0283168)))),\"\")","v":4827.2678472222215},{"$f":"IF(A21=\"\",\"\",IF('Backend Calcs Standard'!$A$12=1,'Backend Calcs Standard'!Z22,'Backend Calcs Standard'!O22))","v":5.083333333333333},null,596.4]
[{"$f":"IFERROR(IF(B22=\"\",\"\",'Backend Calcs Standard'!P23),\"\")","v":60},{"$f":"IFERROR(IF(C22=\"\",\"\",(IF('Backend Calcs Standard'!$A$12=1,'Backend Calcs Standard'!S23,(('Backend Calcs Standard'!S23)*0.0283168)))),\"\")","v":0},{"$f":"IFERROR(IF(D22=\"\",\"\",(IF('Backend Calcs Standard'!$A$12=1,'Backend Calcs Standard'!T23,(('Backend Calcs Standard'!T23)*0.0283168)))),\"\")","v":0},{"$f":"IFERROR(IF(E22=\"\",\"\",(IF('Backend Calcs Standard'!$A$12=1,'Backend Calcs Standard'!U23,(('Backend Calcs Standard'!U23)*0.0283168)))),\"\")","v":0},{"$f":"IFERROR(IF(F22=\"\",\"\",(IF('Backend Calcs Standard'!$A$12=1,'Backend Calcs Standard'!V23,(('Backend Calcs Standard'!V23)*0.0283168)))),\"\")","v":0},{"$f":"IF(I22=\"\",\"\",(IF('Backend Calcs Standard'!$A$12=1,'Backend Calcs Standard'!W23,('Backend Calcs Standard'!W23*0.0283168))))","v":49.699999999999996},49.699999999999996,{"$f":"IF('Backend Calcs Standard'!$A$12=1,'Backend Calcs Standard'!X23,('Backend Calcs Standard'!X23*0.0283168))","v":49.699999999999996},{"$f":"IFERROR(IF(H22=\"\",\"\",(IF('Backend Calcs Standard'!$A$12=1,'Backend Calcs Standard'!Y23,('Backend Calcs Standard'!Y23*0.0283168)))),\"\")","v":4777.5678472222216},{"$f":"IF(A22=\"\",\"\",IF('Backend Calcs Standard'!$A$12=1,'Backend Calcs Standard'!Z23,'Backend Calcs Standard'!O23))","v":5},null,596.4]
[{"$f":"IFERROR(IF(B23=\"\",\"\",'Backend Calcs Standard'!P24),\"\")","v":59},{"$f":"IFERROR(IF(C23=\"\",\"\",(IF('Backend Calcs Standard'!$A$12=1,'Backend Calcs Standard'!S24,(('Backend Calcs Standard'!S24)*0.0283168)))),\"\")","v":0},{"$f":"IFERROR(IF(D23=\"\",\"\",(IF('Backend Calcs Standard'!$A$12=1,'Backend Calcs Standard'!T24,(('Backend Calcs Standard'!T24)*0.0283168)))),\"\")","v":0},{"$f":"IFERROR(IF(E23=\"\",\"\",(IF('Backend Calcs Standard'!$A$12=1,'Backend Calcs Standard'!U24,(('Backend Calcs Standard'!U24)*0.0283168)))),\"\")","v":0},{"$f":"IFERROR(IF(F23=\"\",\"\",(IF('Backend Calcs Standard'!$A$12=1,'Backend Calcs Standard'!V24,(('Backend Calcs Standard'!V24)*0.0283168)))),\"\")","v":0},{"$f":"IF(I23=\"\",\"\",(IF('Backend Calcs Standard'!$A$12=1,'Backend Calcs Standard'!W24,('Backend Calcs Standard'!W24*0.0283168))))","v":49.699999999999996},49.699999999999996,{"$f":"IF('Backend Calcs Standard'!$A$12=1,'Backend Calcs Standard'!X24,('Backend Calcs Standard'!X24*0.0283168))","v":49.699999999999996},{"$f":"IFERROR(IF(H23=\"\",\"\",(IF('Backend Calcs Standard'!$A$12=1,'Backend Calcs Standard'!Y24,('Backend Calcs Standard'!Y24*0.0283168)))),\"\")","v":4727.8678472222218},{"$f":"IF(A23=\"\",\"\",IF('Backend Calcs Standard'!$A$12=1,'Backend Calcs Standard'!Z24,'Backend Calcs Standard'!O24))","v":4.9166666666666661},null,596.4]
[{"$f":"IFERROR(IF(B24=\"\",\"\",'Backend Calcs Standard'!P25),\"\")","v":58},{"$f":"IFERROR(IF(C24=\"\",\"\",(IF('Backend Calcs Standard'!$A$12=1,'Backend Calcs Standard'!S25,(('Backend Calcs Standard'!S25)*0.0283168)))),\"\")","v":0},{"$f":"IFERROR(IF(D24=\"\",\"\",(IF('Backend Calcs Standard'!$A$12=1,'Backend Calcs Standard'!T25,(('Backend Calcs Standard'!T25)*0.0283168)))),\"\")","v":0},{"$f":"IFERROR(IF(E24=\"\",\"\",(IF('Backend Calcs Standard'!$A$12=1,'Backend Calcs Standard'!U25,(('Backend Calcs Standard'!U25)*0.0283168)))),\"\")","v":0},{"$f":"IFERROR(IF(F24=\"\",\"\",(IF('Backend Calcs Standard'!$A$12=1,'Backend Calcs Standard'!V25,(('Backend Calcs Standard'!V25)*0.0283168)))),\"\")","v":0},{"$f":"IF(I24=\"\",\"\",(IF('Backend Calcs Standard'!$A$12=1,'Backend Calcs Standard'!W25,('Backend Calcs Standard'!W25*0.0283168))))","v":49.699999999999996},49.699999999999996,{"$f":"IF('Backend Calcs Standard'!$A$12=1,'Backend Calcs Standard'!X25,('Backend Calcs Standard'!X25*0.0283168))","v":49.699999999999996},{"$f":"IFERROR(IF(H24=\"\",\"\",(IF('Backend Calcs Standard'!$A$12=1,'Backend Calcs Standard'!Y25,('Backend Calcs Standard'!Y25*0.0283168)))),\"\")","v":4678.167847222222},{"$f":"IF(A24=\"\",\"\",IF('Backend Calcs Standard'!$A$12=1,'Backend Calcs Standard'!Z25,'Backend Calcs Standard'!O25))","v":4.833333333333333},null,596.4]
[{"$f":"IFERROR(IF(B25=\"\",\"\",'Backend Calcs Standard'!P26),\"\")","v":57},{"$f":"IFERROR(IF(C25=\"\",\"\",(IF('Backend Calcs Standard'!$A$12=1,'Backend Calcs Standard'!S26,(('Backend Calcs Standard'!S26)*0.0283168)))),\"\")","v":0},{"$f":"IFERROR(IF(D25=\"\",\"\",(IF('Backend Calcs Standard'!$A$12=1,'Backend Calcs Standard'!T26,(('Backend Calcs Standard'!T26)*0.0283168)))),\"\")","v":0},{"$f":"IFERROR(IF(E25=\"\",\"\",(IF('Backend Calcs Standard'!$A$12=1,'Backend Calcs Standard'!U26,(('Backend Calcs Standard'!U26)*0.0283168)))),\"\")","v":0},{"$f":"IFERROR(IF(F25=\"\",\"\",(IF('Backend Calcs Standard'!$A$12=1,'Backend Calcs Standard'!V26,(('Backend Calcs Standard'!V26)*0.0283168)))),\"\")","v":0},{"$f":"IF(I25=\"\",\"\",(IF('Backend Calcs Standard'!$A$12=1,'Backend Calcs Standard'!W26,('Backend Calcs Standard'!W26*0.0283168))))","v":49.699999999999996},49.699999999999996,{"$f":"IF('Backend Calcs Standard'!$A$12=1,'Backend Calcs Standard'!X26,('Backend Calcs Standard'!X26*0.0283168))","v":49.699999999999996},{"$f":"IFERROR(IF(H25=\"\",\"\",(IF('Backend Calcs Standard'!$A$12=1,'Backend Calcs Standard'!Y26,('Backend Calcs Standard'!Y26*0.0283168)))),\"\")","v":4628.4678472222222},{"$f":"IF(A25=\"\",\"\",IF('Backend Calcs Standard'!$A$12=1,'Backend Calcs Standard'!Z26,'Backend Calcs Standard'!O26))","v":4.75},null,596.4]
[{"$f":"IFERROR(IF(B26=\"\",\"\",'Backend Calcs Standard'!P27),\"\")","v":56},{"$f":"IFERROR(IF(C26=\"\",\"\",(IF('Backend Calcs Standard'!$A$12=1,'Backend Calcs Standard'!S27,(('Backend Calcs Standard'!S27)*0.0283168)))),\"\")","v":0},{"$f":"IFERROR(IF(D26=\"\",\"\",(IF('Backend Calcs Standard'!$A$12=1,'Backend Calcs Standard'!T27,(('Backend Calcs Standard'!T27)*0.0283168)))),\"\")","v":0},{"$f":"IFERROR(IF(E26=\"\",\"\",(IF('Backend Calcs Standard'!$A$12=1,'Backend Calcs Standard'!U27,(('Backend Calcs Standard'!U27)*0.0283168)))),\"\")","v":0},{"$f":"IFERROR(IF(F26=\"\",\"\",(IF('Backend Calcs Standard'!$A$12=1,'Backend Calcs Standard'!V27,(('Backend Calcs Standard'!V27)*0.0283168)))),\"\")","v":0},{"$f":"IF(I26=\"\",\"\",(IF('Backend Calcs Standard'!$A$12=1,'Backend Calcs Standard'!W27,('Backend Calcs Standard'!W27*0.0283168))))","v":49.699999999999996},49.699999999999996,{"$f":"IF('Backend Calcs Standard'!$A$12=1,'Backend Calcs Standard'!X27,('Backend Calcs Standard'!X27*0.0283168))","v":49.699999999999996},{"$f":"IFERROR(IF(H26=\"\",\"\",(IF('Backend Calcs Standard'!$A$12=1,'Backend Calcs Standard'!Y27,('Backend Calcs Standard'!Y27*0.0283168)))),\"\")","v":4578.7678472222224},{"$f":"IF(A26=\"\",\"\",IF('Backend Calcs Standard'!$A$12=1,'Backend Calcs Standard'!Z27,'Backend Calcs Standard'!O27))","v":4.6666666666666661},null,596.4]
[{"$f":"IFERROR(IF(B27=\"\",\"\",'Backend Calcs Standard'!P28),\"\")","v":55},{"$f":"IFERROR(IF(C27=\"\",\"\",(IF('Backend Calcs Standard'!$A$12=1,'Backend Calcs Standard'!S28,(('Backend Calcs Standard'!S28)*0.0283168)))),\"\")","v":0},{"$f":"IFERROR(IF(D27=\"\",\"\",(IF('Backend Calcs Standard'!$A$12=1,'Backend Calcs Standard'!T28,(('Backend Calcs Standard'!T28)*0.0283168)))),\"\")","v":0},{"$f":"IFERROR(IF(E27=\"\",\"\",(IF('Backend Calcs Standard'!$A$12=1,'Backend Calcs Standard'!U28,(('Backend Calcs Standard'!U28)*0.0283168)))),\"\")","v":0},{"$f":"IFERROR(IF(F27=\"\",\"\",(IF('Backend Calcs Standard'!$A$12=1,'Backend Calcs Standard'!V28,(('Backend Calcs Standard'!V28)*0.0283168)))),\"\")","v":0},{"$f":"IF(I27=\"\",\"\",(IF('Backend Calcs Standard'!$A$12=1,'Backend Calcs Standard'!W28,('Backend Calcs Standard'!W28*0.0283168))))","v":49.699999999999996},49.699999999999996,{"$f":"IF('Backend Calcs Standard'!$A$12=1,'Backend Calcs Standard'!X28,('Backend Calcs Standard'!X28*0.0283168))","v":49.699999999999996},{"$f":"IFERROR(IF(H27=\"\",\"\",(IF('Backend Calcs Standard'!$A$12=1,'Backend Calcs Standard'!Y28,('Backend Calcs Standard'!Y28*0.0283168)))),\"\")","v":4529.0678472222226},{"$f":"IF(A27=\"\",\"\",IF('Backend Calcs Standard'!$A$12=1,'Backend Calcs Standard'!Z28,'Backend Calcs Standard'!O28))","v":4.583333333333333},null,596.4]
[{"$f":"IFERROR(IF(B28=\"\",\"\",'Backend Calcs Standard'!P29),\"\")","v":54},{"$f":"IFERROR(IF(C28=\"\",\"\",(IF('Backend Calcs Standard'!$A$12=1,'Backend Calcs Standard'!S29,(('Backend Calcs Standard'!S29)*0.0283168)))),\"\")","v":0.182731481481481},{"$f":"IFERROR(IF(D28=\"\",\"\",(IF('Backend Calcs Standard'!$A$12=1,'Backend Calcs Standard'!T29,(('Backend Calcs Standard'!T29)*0.0283168)))),\"\")","v":0},{"$f":"IFERROR(IF(E28=\"\",\"\",(IF('Backend Calcs Standard'!$A$12=1,'Backend Calcs Standard'!U29,(('Backend Calcs Standard'!U29)*0.0283168)))),\"\")","v":4.5682870370370248},{"$f":"IFERROR(IF(F28=\"\",\"\",(IF('Backend Calcs Standard'!$A$12=1,'Backend Calcs Standard'!V29,(('Backend Calcs Standard'!V29)*0.0283168)))),\"\")","v":0},{"$f":"IF(I28=\"\",\"\",(IF('Backend Calcs Standard'!$A$12=1,'Backend Calcs Standard'!W29,('Backend Calcs Standard'!W29*0.0283168))))","v":47.87268518518519},52.440972222222214,{"$f":"IF('Backend Calcs Standard'!$A$12=1,'Backend Calcs Standard'!X29,('Backend Calcs Standard'!X29*0.0283168))","v":52.440972222222214},{"$f":"IFERROR(IF(H28=\"\",\"\",(IF('Backend Calcs Standard'!$A$12=1,'Backend Calcs Standard'!Y29,('Backend Calcs Standard'!Y29*0.0283168)))),\"\")","v":4479.3678472222227},{"$f":"IF(A28=\"\",\"\",IF('Backend Calcs Standard'!$A$12=1,'Backend Calcs Standard'!Z29,'Backend Calcs Standard'!O29))","v":4.5},null,629.29166666666652]
[{"$f":"IFERROR(IF(B29=\"\",\"\",'Backend Calcs Standard'!P30),\"\")","v":53},{"$f":"IFERROR(IF(C29=\"\",\"\",(IF('Backend Calcs Standard'!$A$12=1,'Backend Calcs Standard'!S30,(('Backend Calcs Standard'!S30)*0.0283168)))),\"\")","v":0.31384259259259262},{"$f":"IFERROR(IF(D29=\"\",\"\",(IF('Backend Calcs Standard'!$A$12=1,'Backend Calcs Standard'!T30,(('Backend Calcs Standard'!T30)*0.0283168)))),\"\")","v":9.9999999999997868E-3},{"$f":"IFERROR(IF(E29=\"\",\"\",(IF('Backend Calcs Standard'!$A$12=1,'Backend Calcs Standard'!U30,(('Backend Calcs Standard'!U30)*0.0283168)))),\"\")","v":7.8460648148148158},{"$f":"IFERROR(IF(F29=\"\",\"\",(IF('Backend Calcs Standard'!$A$12=1,'Backend Calcs Standard'!V30,(('Backend Calcs Standard'!V30)*0.0283168)))),\"\")","v":9.9999999999997868E-2},{"$f":"IF(I29=\"\",\"\",(IF('Backend Calcs Standard'!$A$12=1,'Backend Calcs Standard'!W30,('Backend Calcs Standard'!W30*0.0283168))))","v":46.521574074074074},54.467638888888892,{"$f":"IF('Backend Calcs Standard'!$A$12=1,'Backend Calcs Standard'!X30,('Backend Calcs Standard'!X30*0.0283168))","v":54.467638888888885},{"$f":"IFERROR(IF(H29=\"\",\"\",(IF('Backend Calcs Standard'!$A$12=1,'Backend Calcs Standard'!Y30,('Backend Calcs Standard'!Y30*0.0283168)))),\"\")","v":4426.9268750000001},{"$f":"IF(A29=\"\",\"\",IF('Backend Calcs Standard'!$A$12=1,'Backend Calcs Standard'!Z30,'Backend Calcs Standard'!O30))","v":4.4166666666666661},null,653.61166666666668]
[{"$f":"IFERROR(IF(B30=\"\",\"\",'Backend Calcs Standard'!P31),\"\")","v":52},{"$f":"IFERROR(IF(C30=\"\",\"\",(IF('Backend Calcs Standard'!$A$12=1,'Backend Calcs Standard'!S31,(('Backend Calcs Standard'!S31)*0.0283168)))),\"\")","v":0.44235532407407402},{"$f":"IFERROR(IF(D30=\"\",\"\",(IF('Backend Calcs Standard'!$A$12=1,'Backend Calcs Standard'!T31,(('Backend Calcs Standard'!T31)*0.0283168)))),\"\")","v":3.0000000000001137E-2},{"$f":"IFERROR(IF(E30=\"\",\"\",(IF('Backend Calcs Standard'!$A$12=1,'Backend Calcs Standard'!U31,(('Backend Calcs Standard'!U31)*0.0283168)))),\"\")","v":11.058883101851851},{"$f":"IFERROR(IF(F30=\"\",\"\",(IF('Backend Calcs Standard'!$A$12=1,'Backend Calcs Standard'!V31,(('Backend Calcs Standard'!V31)*0.0283168)))),\"\")","v":0.30000000000001137},{"$f":"IF(I30=\"\",\"\",(IF('Backend Calcs Standard'!$A$12=1,'Backend Calcs Standard'!W31,('Backend Calcs Standard'!W31*0.0283168))))","v":45.156446759259261},56.515329861111127,{"$f":"IF('Backend Calcs Standard'!$A$12=1,'Backend Calcs Standard'!X31,('Backend Calcs Standard'!X31*0.0283168))","v":56.515329861111127},{"$f":"IFERROR(IF(H30=\"\",\"\",(IF('Backend Calcs Standard'!$A$12=1,'Backend Calcs Standard'!Y31,('Backend Calcs Standard'!Y31*0.0283168)))),\"\")","v":4372.4592361111108},{"$f":"IF(A30=\"\",\"\",IF('Backend Calcs Standard'!$A$12=1,'Backend Calcs Standard'!Z31,'Backend Calcs Standard'!O31))","v":4.333333333333333},null,678.18395833333352]
[{"$f":"IFERROR(IF(B31=\"\",\"\",'Backend Calcs Standard'!P32),\"\")","v":51},{"$f":"IFERROR(IF(C31=\"\",\"\",(IF('Backend Calcs Standard'!$A$12=1,'Backend Calcs Standard'!S32,(('Backend Calcs Standard'!S32)*0.0283168)))),\"\")","v":0.62631365740740741},{"$f":"IFERROR(IF(D31=\"\",\"\",(IF('Backend Calcs Standard'!$A$12=1,'Backend Calcs Standard'!T32,(('Backend Calcs Standard'!T32)*0.0283168)))),\"\")","v":4.9999999999998934E-2},{"$f":"IFERROR(IF(E31=\"\",\"\",(IF('Backend Calcs Standard'!$A$12=1,'Backend Calcs Standard'!U32,(('Backend Calcs Standard'!U32)*0.0283168)))),\"\")","v":15.657841435185185},{"$f":"IFERROR(IF(F31=\"\",\"\",(IF('Backend Calcs Standard'!$A$12=1,'Backend Calcs Standard'!V32,(('Backend Calcs Standard'!V32)*0.0283168)))),\"\")","v":0.49999999999998934},{"$f":"IF(I31=\"\",\"\",(IF('Backend Calcs Standard'!$A$12=1,'Backend Calcs Standard'!W32,('Backend Calcs Standard'!W32*0.0283168))))","v":43.236863425925925},59.394704861111101,{"$f":"IF('Backend Calcs Standard'!$A$12=1,'Backend Calcs Standard'!X32,('Backend Calcs Standard'!X32*0.0283168))","v":59.394704861111101},{"$f":"IFERROR(IF(H31=\"\",\"\",(IF('Backend Calcs Standard'!$A$12=1,'Backend Calcs Standard'!Y32,('Backend Calcs Standard'!Y32*0.0283168)))),\"\")","v":4315.9439062499996},{"$f":"IF(A31=\"\",\"\",IF('Backend Calcs Standard'!$A$12=1,'Backend Calcs Standard'!Z32,'Backend Calcs Standard'!O32))","v":4.25},null,712.73645833333319]
[{"$f":"IFERROR(IF(B32=\"\",\"\",'Backend Calcs Standard'!P33),\"\")","v":50},{"$f":"IFERROR(IF(C32=\"\",\"\",(IF('Backend Calcs Standard'!$A$12=1,'Backend Calcs Standard'!S33,(('Backend Calcs Standard'!S33)*0.0283168)))),\"\")","v":1.0240046296296297},{"$f":"IFERROR(IF(D32=\"\",\"\",(IF('Backend Calcs Standard'!$A$12=1,'Backend Calcs Standard'!T33,(('Backend Calcs Standard'!T33)*0.0283168)))),\"\")","v":7.0000000000000284E-2},{"$f":"IFERROR(IF(E32=\"\",\"\",(IF('Backend Calcs Standard'!$A$12=1,'Backend Calcs Standard'!U33,(('Backend Calcs Standard'!U33)*0.0283168)))),\"\")","v":25.60011574074074},{"$f":"IFERROR(IF(F32=\"\",\"\",(IF('Backend Calcs Standard'!$A$12=1,'Backend Calcs Standard'!V33,(('Backend Calcs Standard'!V33)*0.0283168)))),\"\")","v":0.70000000000000284},{"$f":"IF(I32=\"\",\"\",(IF('Backend Calcs Standard'!$A$12=1,'Backend Calcs Standard'!W33,('Backend Calcs Standard'!W33*0.0283168))))","v":39.179953703703703},65.480069444444439,{"$f":"IF('Backend Calcs Standard'!$A$12=1,'Backend Calcs Standard'!X33,('Backend Calcs Standard'!X33*0.0283168))","v":65.480069444444439},{"$f":"IFERROR(IF(H32=\"\",\"\",(IF('Backend Calcs Standard'!$A$12=1,'Backend Calcs Standard'!Y33,('Backend Calcs Standard'!Y33*0.0283168)))),\"\")","v":4256.5492013888888},{"$f":"IF(A32=\"\",\"\",IF('Backend Calcs Standard'!$A$12=1,'Backend Calcs Standard'!Z33,'Backend Calcs Standard'!O33))","v":4.1666666666666661},null,785.76083333333327]
[{"$f":"IFERROR(IF(B33=\"\",\"\",'Backend Calcs Standard'!P34),\"\")","v":49},{"$f":"IFERROR(IF(C33=\"\",\"\",(IF('Backend Calcs Standard'!$A$12=1,'Backend Calcs Standard'!S34,(('Backend Calcs Standard'!S34)*0.0283168)))),\"\")","v":1.2720486111111111},{"$f":"IFERROR(IF(D33=\"\",\"\",(IF('Backend Calcs Standard'!$A$12=1,'Backend Calcs Standard'!T34,(('Backend Calcs Standard'!T34)*0.0283168)))),\"\")","v":8.0000000000000071E-2},{"$f":"IFERROR(IF(E33=\"\",\"\",(IF('Backend Calcs Standard'!$A$12=1,'Backend Calcs Standard'!U34,(('Backend Calcs Standard'!U34)*0.0283168)))),\"\")","v":31.801215277777779},{"$f":"IFERROR(IF(F33=\"\",\"\",(IF('Backend Calcs Standard'!$A$12=1,'Backend Calcs Standard'!V34,(('Backend Calcs Standard'!V34)*0.0283168)))),\"\")","v":0.80000000000000071},{"$f":"IF(I33=\"\",\"\",(IF('Backend Calcs Standard'!$A$12=1,'Backend Calcs Standard'!W34,('Backend Calcs Standard'!W34*0.0283168))))","v":36.659513888888895},69.260729166666664,{"$f":"IF('Backend Calcs Standard'!$A$12=1,'Backend Calcs Standard'!X34,('Backend Calcs Standard'!X34*0.0283168))","v":69.260729166666678},{"$f":"IFERROR(IF(H33=\"\",\"\",(IF('Backend Calcs Standard'!$A$12=1,'Backend Calcs Standard'!Y34,('Backend Calcs Standard'!Y34*0.0283168)))),\"\")","v":4191.0691319444441},{"$f":"IF(A33=\"\",\"\",IF('Backend Calcs Standard'!$A$12=1,'Backend Calcs Standard'!Z34,'Backend Calcs Standard'!O34))","v":4.083333333333333},null,831.12874999999997]
[{"$f":"IFERROR(IF(B34=\"\",\"\",'Backend Calcs Standard'!P35),\"\")","v":48},{"$f":"IFERROR(IF(C34=\"\",\"\",(IF('Backend Calcs Standard'!$A$12=1,'Backend Calcs Standard'!S35,(('Backend Calcs Standard'!S35)*0.0283168)))),\"\")","v":1.4614930555555556},{"$f":"IFERROR(IF(D34=\"\",\"\",(IF('Backend Calcs Standard'!$A$12=1,'Backend Calcs Standard'!T35,(('Backend Calcs Standard'!T35)*0.0283168)))),\"\")","v":9.9999999999999645E-2},{"$f":"IFERROR(IF(E34=\"\",\"\",(IF('Backend Calcs Standard'!$A$12=1,'Backend Calcs Standard'!U35,(('Backend Calcs Standard'!U35)*0.0283168)))),\"\")","v":36.537326388888893},{"$f":"IFERROR(IF(F34=\"\",\"\",(IF('Backend Calcs Standard'!$A$12=1,'Backend Calcs Standard'!V35,(('Backend Calcs Standard'!V35)*0.0283168)))),\"\")","v":0.99999999999999645},{"$f":"IF(I34=\"\",\"\",(IF('Backend Calcs Standard'!$A$12=1,'Backend Calcs Standard'!W35,('Backend Calcs Standard'!W35*0.0283168))))","v":34.685069444444444},72.222395833333337,{"$f":"IF('Backend Calcs Standard'!$A$12=1,'Backend Calcs Standard'!X35,('Backend Calcs Standard'!X35*0.0283168))","v":72.222395833333337},{"$f":"IFERROR(IF(H34=\"\",\"\",(IF('Backend Calcs Standard'!$A$12=1,'Backend Calcs Standard'!Y35,('Backend Calcs Standard'!Y35*0.0283168)))),\"\")","v":4121.8084027777777},{"$f":"IF(A34=\"\",\"\",IF('Backend Calcs Standard'!$A$12=1,'Backend Calcs Standard'!Z35,'Backend Calcs Standard'!O35))","v":4},null,866.66875000000005]
[{"$f":"IFERROR(IF(B35=\"\",\"\",'Backend Calcs Standard'!P36),\"\")","v":47},{"$f":"IFERROR(IF(C35=\"\",\"\",(IF('Backend Calcs Standard'!$A$12=1,'Backend Calcs Standard'!S36,(('Backend Calcs Standard'!S36)*0.0283168)))),\"\")","v":1.6197048611111111},{"$f":"IFERROR(IF(D35=\"\",\"\",(IF('Backend Calcs Standard'!$A$12=1,'Backend Calcs Standard'!T36,(('Backend Calcs Standard'!T36)*0.0283168)))),\"\")","v":0.12000000000000099},{"$f":"IFERROR(IF(E35=\"\",\"\",(IF('Backend Calcs Standard'!$A$12=1,'Backend Calcs Standard'!U36,(('Backend Calcs Standard'!U36)*0.0283168)))),\"\")","v":40.492621527777779},{"$f":"IFERROR(IF(F35=\"\",\"\",(IF('Backend Calcs Standard'!$A$12=1,'Backend Calcs Standard'!V36,(('Backend Calcs Standard'!V36)*0.0283168)))),\"\")","v":1.2000000000000099},{"$f":"IF(I35=\"\",\"\",(IF('Backend Calcs Standard'!$A$12=1,'Backend Calcs Standard'!W36,('Backend Calcs Standard'!W36*0.0283168))))","v":33.022951388888885},74.715572916666673,{"$f":"IF('Backend Calcs Standard'!$A$12=1,'Backend Calcs Standard'!X36,('Backend Calcs Standard'!X36*0.0283168))","v":74.715572916666673},{"$f":"IFERROR(IF(H35=\"\",\"\",(IF('Backend Calcs Standard'!$A$12=1,'Backend Calcs Standard'!Y36,('Backend Calcs Standard'!Y36*0.0283168)))),\"\")","v":4049.5860069444443},{"$f":"IF(A35=\"\",\"\",IF('Backend Calcs Standard'!$A$12=1,'Backend Calcs Standard'!Z36,'Backend Calcs Standard'!O36))","v":3.9166666666666665},null,896.58687500000008]
[{"$f":"IFERROR(IF(B36=\"\",\"\",'Backend Calcs Standard'!P37),\"\")","v":46},{"$f":"IFERROR(IF(C36=\"\",\"\",(IF('Backend Calcs Standard'!$A$12=1,'Backend Calcs Standard'!S37,(('Backend Calcs Standard'!S37)*0.0283168)))),\"\")","v":1.7567418981481482},{"$f":"IFERROR(IF(D36=\"\",\"\",(IF('Backend Calcs Standard'!$A$12=1,'Backend Calcs Standard'!T37,(('Backend Calcs Standard'!T37)*0.0283168)))),\"\")","v":0.14999999999999858},{"$f":"IFERROR(IF(E36=\"\",\"\",(IF('Backend Calcs Standard'!$A$12=1,'Backend Calcs Standard'!U37,(('Backend Calcs Standard'!U37)*0.0283168)))),\"\")","v":43.918547453703702},{"$f":"IFERROR(IF(F36=\"\",\"\",(IF('Backend Calcs Standard'!$A$12=1,'Backend Calcs Standard'!V37,(('Backend Calcs Standard'!V37)*0.0283168)))),\"\")","v":1.4999999999999858},{"$f":"IF(I36=\"\",\"\",(IF('Backend Calcs Standard'!$A$12=1,'Backend Calcs Standard'!W37,('Backend Calcs Standard'!W37*0.0283168))))","v":31.532581018518531},76.951128472222223,{"$f":"IF('Backend Calcs Standard'!$A$12=1,'Backend Calcs Standard'!X37,('Backend Calcs Standard'!X37*0.0283168))","v":76.951128472222223},{"$f":"IFERROR(IF(H36=\"\",\"\",(IF('Backend Calcs Standard'!$A$12=1,'Backend Calcs Standard'!Y37,('Backend Calcs Standard'!Y37*0.0283168)))),\"\")","v":3974.8704340277777},{"$f":"IF(A36=\"\",\"\",IF('Backend Calcs Standard'!$A$12=1,'Backend Calcs Standard'!Z37,'Backend Calcs Standard'!O37))","v":3.833333333333333},null,923.41354166666667]
[{"$f":"IFERROR(IF(B37=\"\",\"\",'Backend Calcs Standard'!P38),\"\")","v":45},{"$f":"IFERROR(IF(C37=\"\",\"\",(IF('Backend Calcs Standard'!$A$12=1,'Backend Calcs Standard'!S38,(('Backend Calcs Standard'!S38)*0.0283168)))),\"\")","v":1.8778587962962963},{"$f":"IFERROR(IF(D37=\"\",\"\",(IF('Backend Calcs Standard'!$A$12=1,'Backend Calcs Standard'!T38,(('Backend Calcs Standard'!T38)*0.0283168)))),\"\")","v":0.16000000000000014},{"$f":"IFERROR(IF(E37=\"\",\"\",(IF('Backend Calcs Standard'!$A$12=1,'Backend Calcs Standard'!U38,(('Backend Calcs Standard'!U38)*0.0283168)))),\"\")","v":46.946469907407405},{"$f":"IFERROR(IF(F37=\"\",\"\",(IF('Backend Calcs Standard'!$A$12=1,'Backend Calcs Standard'!V38,(('Backend Calcs Standard'!V38)*0.0283168)))),\"\")","v":1.6000000000000014},{"$f":"IF(I37=\"\",\"\",(IF('Backend Calcs Standard'!$A$12=1,'Backend Calcs Standard'!W38,('Backend Calcs Standard'!W38*0.0283168))))","v":30.281412037037043},78.827881944444442,{"$f":"IF('Backend Calcs Standard'!$A$12=1,'Backend Calcs Standard'!X38,('Backend Calcs Standard'!X38*0.0283168))","v":78.827881944444442},{"$f":"IFERROR(IF(H37=\"\",\"\",(IF('Backend Calcs Standard'!$A$12=1,'Backend Calcs Standard'!Y38,('Backend Calcs Standard'!Y38*0.0283168)))),\"\")","v":3897.9193055555556},{"$f":"IF(A37=\"\",\"\",IF('Backend Calcs Standard'!$A$12=1,'Backend Calcs Standard'!Z38,'Backend Calcs Standard'!O38))","v":3.75},null,945.93458333333331]
[{"$f":"IFERROR(IF(B38=\"\",\"\",'Backend Calcs Standard'!P39),\"\")","v":44},{"$f":"IFERROR(IF(C38=\"\",\"\",(IF('Backend Calcs Standard'!$A$12=1,'Backend Calcs Standard'!S39,(('Backend Calcs Standard'!S39)*0.0283168)))),\"\")","v":1.9862442129629629},{"$f":"IFERROR(IF(D38=\"\",\"\",(IF('Backend Calcs Standard'!$A$12=1,'Backend Calcs Standard'!T39,(('Backend Calcs Standard'!T39)*0.0283168)))),\"\")","v":0.16999999999999993},{"$f":"IFERROR(IF(E38=\"\",\"\",(IF('Backend Calcs Standard'!$A$12=1,'Backend Calcs Standard'!U39,(('Backend Calcs Standard'!U39)*0.0283168)))),\"\")","v":49.656105324074076},{"$f":"IFERROR(IF(F38=\"\",\"\",(IF('Backend Calcs Standard'!$A$12=1,'Backend Calcs Standard'!V39,(('Backend Calcs Standard'!V39)*0.0283168)))),\"\")","v":1.6999999999999993},{"$f":"IF(I38=\"\",\"\",(IF('Backend Calcs Standard'!$A$12=1,'Backend Calcs Standard'!W39,('Backend Calcs Standard'!W39*0.0283168))))","v":29.157557870370372},80.513663194444447,{"$f":"IF('Backend Calcs Standard'!$A$12=1,'Backend Calcs Standard'!X39,('Backend Calcs Standard'!X39*0.0283168))","v":80.513663194444447},{"$f":"IFERROR(IF(H38=\"\",\"\",(IF('Backend Calcs Standard'!$A$12=1,'Backend Calcs Standard'!Y39,('Backend Calcs Standard'!Y39*0.0283168)))),\"\")","v":3819.0914236111112},{"$f":"IF(A38=\"\",\"\",IF('Backend Calcs Standard'!$A$12=1,'Backend Calcs Standard'!Z39,'Backend Calcs Standard'!O39))","v":3.6666666666666665},null,966.16395833333331]
[{"$f":"IFERROR(IF(B39=\"\",\"\",'Backend Calcs Standard'!P40),\"\")","v":43},{"$f":"IFERROR(IF(C39=\"\",\"\",(IF('Backend Calcs Standard'!$A$12=1,'Backend Calcs Standard'!S40,(('Backend Calcs Standard'!S40)*0.0283168)))),\"\")","v":2.0839756944444443},{"$f":"IFERROR(IF(D39=\"\",\"\",(IF('Backend Calcs Standard'!$A$12=1,'Backend Calcs Standard'!T40,(('Backend Calcs Standard'!T40)*0.0283168)))),\"\")","v":0.19000000000000128},{"$f":"IFERROR(IF(E39=\"\",\"\",(IF('Backend Calcs Standard'!$A$12=1,'Backend Calcs Standard'!U40,(('Backend Calcs Standard'!U40)*0.0283168)))),\"\")","v":52.099392361111107},{"$f":"IFERROR(IF(F39=\"\",\"\",(IF('Backend Calcs Standard'!$A$12=1,'Backend Calcs Standard'!V40,(('Backend Calcs Standard'!V40)*0.0283168)))),\"\")","v":1.9000000000000128},{"$f":"IF(I39=\"\",\"\",(IF('Backend Calcs Standard'!$A$12=1,'Backend Calcs Standard'!W40,('Backend Calcs Standard'!W40*0.0283168))))","v":28.100243055555559},82.099635416666672,{"$f":"IF('Backend Calcs Standard'!$A$12=1,'Backend Calcs Standard'!X40,('Backend Calcs Standard'!X40*0.0283168))","v":82.099635416666672},{"$f":"IFERROR(IF(H39=\"\",\"\",(IF('Backend Calcs Standard'!$A$12=1,'Backend Calcs Standard'!Y40,('Backend Calcs Standard'!Y40*0.0283168)))),\"\")","v":3738.5777604166669},{"$f":"IF(A39=\"\",\"\",IF('Backend Calcs Standard'!$A$12=1,'Backend Calcs Standard'!Z40,'Backend Calcs Standard'!O40))","v":3.583333333333333},null,985.19562500000006]
[{"$f":"IFERROR(IF(B40=\"\",\"\",'Backend Calcs Standard'!P41),\"\")","v":42},{"$f":"IFERROR(IF(C40=\"\",\"\",(IF('Backend Calcs Standard'!$A$12=1,'Backend Calcs Standard'!S41,(('Backend Calcs Standard'!S41)*0.0283168)))),\"\")","v":2.1730324074074074},{"$f":"IFERROR(IF(D40=\"\",\"\",(IF('Backend Calcs Standard'!$A$12=1,'Backend Calcs Standard'!T41,(('Backend Calcs Standard'!T41)*0.0283168)))),\"\")","v":0.19999999999999929},{"$f":"IFERROR(IF(E40=\"\",\"\",(IF('Backend Calcs Standard'!$A$12=1,'Backend Calcs Standard'!U41,(('Backend Calcs Standard'!U41)*0.0283168)))),\"\")","v":54.325810185185183},{"$f":"IFERROR(IF(F40=\"\",\"\",(IF('Backend Calcs Standard'!$A$12=1,'Backend Calcs Standard'!V41,(('Backend Calcs Standard'!V41)*0.0283168)))),\"\")","v":1.9999999999999929},{"$f":"IF(I40=\"\",\"\",(IF('Backend Calcs Standard'!$A$12=1,'Backend Calcs Standard'!W41,('Backend Calcs Standard'!W41*0.0283168))))","v":27.169675925925933},83.495486111111106,{"$f":"IF('Backend Calcs Standard'!$A$12=1,'Backend Calcs Standard'!X41,('Backend Calcs Standard'!X41*0.0283168))","v":83.495486111111106},{"$f":"IFERROR(IF(H40=\"\",\"\",(IF('Backend Calcs Standard'!$A$12=1,'Backend Calcs Standard'!Y41,('Backend Calcs Standard'!Y41*0.0283168)))),\"\")","v":3656.4781250000001},{"$f":"IF(A40=\"\",\"\",IF('Backend Calcs Standard'!$A$12=1,'Backend Calcs Standard'!Z41,'Backend Calcs Standard'!O41))","v":3.5},null,1001.9458333333332]
[{"$f":"IFERROR(IF(B41=\"\",\"\",'Backend Calcs Standard'!P42),\"\")","v":41},{"$f":"IFERROR(IF(C41=\"\",\"\",(IF('Backend Calcs Standard'!$A$12=1,'Backend Calcs Standard'!S42,(('Backend Calcs Standard'!S42)*0.0283168)))),\"\")","v":2.255271990740741},{"$f":"IFERROR(IF(D41=\"\",\"\",(IF('Backend Calcs Standard'!$A$12=1,'Backend Calcs Standard'!T42,(('Backend Calcs Standard'!T42)*0.0283168)))),\"\")","v":0.22000000000000064},{"$f":"IFERROR(IF(E41=\"\",\"\",(IF('Backend Calcs Standard'!$A$12=1,'Backend Calcs Standard'!U42,(('Backend Calcs Standard'!U42)*0.0283168)))),\"\")","v":56.381799768518526},{"$f":"IFERROR(IF(F41=\"\",\"\",(IF('Backend Calcs Standard'!$A$12=1,'Backend Calcs Standard'!V42,(('Backend Calcs Standard'!V42)*0.0283168)))),\"\")","v":2.2000000000000064},{"$f":"IF(I41=\"\",\"\",(IF('Backend Calcs Standard'!$A$12=1,'Backend Calcs Standard'!W42,('Backend Calcs Standard'!W42*0.0283168))))","v":26.267280092592589},84.849079861111122,{"$f":"IF('Backend Calcs Standard'!$A$12=1,'Backend Calcs Standard'!X42,('Backend Calcs Standard'!X42*0.0283168))","v":84.849079861111122},{"$f":"IFERROR(IF(H41=\"\",\"\",(IF('Backend Calcs Standard'!$A$12=1,'Backend Calcs Standard'!Y42,('Backend Calcs Standard'!Y42*0.0283168)))),\"\")","v":3572.9826388888891},{"$f":"IF(A41=\"\",\"\",IF('Backend Calcs Standard'!$A$12=1,'Backend Calcs Standard'!Z42,'Backend Calcs Standard'!O42))","v":3.4166666666666665},null,1018.1889583333334]
[{"$f":"IFERROR(IF(B42=\"\",\"\",'Backend Calcs Standard'!P43),\"\")","v":40},{"$f":"IFERROR(IF(C42=\"\",\"\",(IF('Backend Calcs Standard'!$A$12=1,'Backend Calcs Standard'!S43,(('Backend Calcs Standard'!S43)*0.0283168)))),\"\")","v":2.3325810185185185},{"$f":"IFERROR(IF(D42=\"\",\"\",(IF('Backend Calcs Standard'!$A$12=1,'Backend Calcs Standard'!T43,(('Backend Calcs Standard'!T43)*0.0283168)))),\"\")","v":0.22999999999999865},{"$f":"IFERROR(IF(E42=\"\",\"\",(IF('Backend Calcs Standard'!$A$12=1,'Backend Calcs Standard'!U43,(('Backend Calcs Standard'!U43)*0.0283168)))),\"\")","v":58.314525462962962},{"$f":"IFERROR(IF(F42=\"\",\"\",(IF('Backend Calcs Standard'!$A$12=1,'Backend Calcs Standard'!V43,(('Backend Calcs Standard'!V43)*0.0283168)))),\"\")","v":2.2999999999999865},{"$f":"IF(I42=\"\",\"\",(IF('Backend Calcs Standard'!$A$12=1,'Backend Calcs Standard'!W43,('Backend Calcs Standard'!W43*0.0283168))))","v":25.454189814814825},86.06871527777777,{"$f":"IF('Backend Calcs Standard'!$A$12=1,'Backend Calcs Standard'!X43,('Backend Calcs Standard'!X43*0.0283168))","v":86.06871527777777},{"$f":"IFERROR(IF(H42=\"\",\"\",(IF('Backend Calcs Standard'!$A$12=1,'Backend Calcs Standard'!Y43,('Backend Calcs Standard'!Y43*0.0283168)))),\"\")","v":3488.1335590277781},{"$f":"IF(A42=\"\",\"\",IF('Backend Calcs Standard'!$A$12=1,'Backend Calcs Standard'!Z43,'Backend Calcs Standard'!O43))","v":3.333333333333333},null,1032.8245833333333]
[{"$f":"IFERROR(IF(B43=\"\",\"\",'Backend Calcs Standard'!P44),\"\")","v":39},{"$f":"IFERROR(IF(C43=\"\",\"\",(IF('Backend Calcs Standard'!$A$12=1,'Backend Calcs Standard'!S44,(('Backend Calcs Standard'!S44)*0.0283168)))),\"\")","v":2.4059143518518518},{"$f":"IFERROR(IF(D43=\"\",\"\",(IF('Backend Calcs Standard'!$A$12=1,'Backend Calcs Standard'!T44,(('Backend Calcs Standard'!T44)*0.0283168)))),\"\")","v":0.25},{"$f":"IFERROR(IF(E43=\"\",\"\",(IF('Backend Calcs Standard'!$A$12=1,'Backend Calcs Standard'!U44,(('Backend Calcs Standard'!U44)*0.0283168)))),\"\")","v":60.147858796296291},{"$f":"IFERROR(IF(F43=\"\",\"\",(IF('Backend Calcs Standard'!$A$12=1,'Backend Calcs Standard'!V44,(('Backend Calcs Standard'!V44)*0.0283168)))),\"\")","v":2.5},{"$f":"IF(I43=\"\",\"\",(IF('Backend Calcs Standard'!$A$12=1,'Backend Calcs Standard'!W44,('Backend Calcs Standard'!W44*0.0283168))))","v":24.640856481481489},87.288715277777783,{"$f":"IF('Backend Calcs Standard'!$A$12=1,'Backend Calcs Standard'!X44,('Backend Calcs Standard'!X44*0.0283168))","v":87.288715277777783},{"$f":"IFERROR(IF(H43=\"\",\"\",(IF('Backend Calcs Standard'!$A$12=1,'Backend Calcs Standard'!Y44,('Backend Calcs Standard'!Y44*0.0283168)))),\"\")","v":3402.0648437500004},{"$f":"IF(A43=\"\",\"\",IF('Backend Calcs Standard'!$A$12=1,'Backend Calcs Standard'!Z44,'Backend Calcs Standard'!O44))","v":3.25},null,1047.4645833333334]
[{"$f":"IFERROR(IF(B44=\"\",\"\",'Backend Calcs Standard'!P45),\"\")","v":38},{"$f":"IFERROR(IF(C44=\"\",\"\",(IF('Backend Calcs Standard'!$A$12=1,'Backend Calcs Standard'!S45,(('Backend Calcs Standard'!S45)*0.0283168)))),\"\")","v":2.4755092592592596},{"$f":"IFERROR(IF(D44=\"\",\"\",(IF('Backend Calcs Standard'!$A$12=1,'Backend Calcs Standard'!T45,(('Backend Calcs Standard'!T45)*0.0283168)))),\"\")","v":0.27000000000000135},{"$f":"IFERROR(IF(E44=\"\",\"\",(IF('Backend Calcs Standard'!$A$12=1,'Backend Calcs Standard'!U45,(('Backend Calcs Standard'!U45)*0.0283168)))),\"\")","v":61.887731481481488},{"$f":"IFERROR(IF(F44=\"\",\"\",(IF('Backend Calcs Standard'!$A$12=1,'Backend Calcs Standard'!V45,(('Backend Calcs Standard'!V45)*0.0283168)))),\"\")","v":2.7000000000000135},{"$f":"IF(I44=\"\",\"\",(IF('Backend Calcs Standard'!$A$12=1,'Backend Calcs Standard'!W45,('Backend Calcs Standard'!W45*0.0283168))))","v":23.864907407407404},88.452638888888913,{"$f":"IF('Backend Calcs Standard'!$A$12=1,'Backend Calcs Standard'!X45,('Backend Calcs Standard'!X45*0.0283168))","v":88.452638888888899},{"$f":"IFERROR(IF(H44=\"\",\"\",(IF('Backend Calcs Standard'!$A$12=1,'Backend Calcs Standard'!Y45,('Backend Calcs Standard'!Y45*0.0283168)))),\"\")","v":3314.7761284722228},{"$f":"IF(A44=\"\",\"\",IF('Backend Calcs Standard'!$A$12=1,'Backend Calcs Standard'!Z45,'Backend Calcs Standard'!O45))","v":3.1666666666666665},null,1061.4316666666668]
[{"$f":"IFERROR(IF(B45=\"\",\"\",'Backend Calcs Standard'!P46),\"\")","v":37},{"$f":"IFERROR(IF(C45=\"\",\"\",(IF('Backend Calcs Standard'!$A$12=1,'Backend Calcs Standard'!S46,(('Backend Calcs Standard'!S46)*0.0283168)))),\"\")","v":2.5415509259259261},{"$f":"IFERROR(IF(D45=\"\",\"\",(IF('Backend Calcs Standard'!$A$12=1,'Backend Calcs Standard'!T46,(('Backend Calcs Standard'!T46)*0.0283168)))),\"\")","v":0.27999999999999936},{"$f":"IFERROR(IF(E45=\"\",\"\",(IF('Backend Calcs Standard'!$A$12=1,'Backend Calcs Standard'!U46,(('Backend Calcs Standard'!U46)*0.0283168)))),\"\")","v":63.538773148148152},{"$f":"IFERROR(IF(F45=\"\",\"\",(IF('Backend Calcs Standard'!$A$12=1,'Backend Calcs Standard'!V46,(('Backend Calcs Standard'!V46)*0.0283168)))),\"\")","v":2.7999999999999936},{"$f":"IF(I45=\"\",\"\",(IF('Backend Calcs Standard'!$A$12=1,'Backend Calcs Standard'!W46,('Backend Calcs Standard'!W46*0.0283168))))","v":23.164490740740746},89.503263888888895,{"$f":"IF('Backend Calcs Standard'!$A$12=1,'Backend Calcs Standard'!X46,('Backend Calcs Standard'!X46*0.0283168))","v":89.503263888888895},{"$f":"IFERROR(IF(H45=\"\",\"\",(IF('Backend Calcs Standard'!$A$12=1,'Backend Calcs Standard'!Y46,('Backend Calcs Standard'!Y46*0.0283168)))),\"\")","v":3226.3234895833339},{"$f":"IF(A45=\"\",\"\",IF('Backend Calcs Standard'!$A$12=1,'Backend Calcs Standard'!Z46,'Backend Calcs Standard'!O46))","v":3.083333333333333},null,1074.0391666666667]
[{"$f":"IFERROR(IF(B46=\"\",\"\",'Backend Calcs Standard'!P47),\"\")","v":36},{"$f":"IFERROR(IF(C46=\"\",\"\",(IF('Backend Calcs Standard'!$A$12=1,'Backend Calcs Standard'!S47,(('Backend Calcs Standard'!S47)*0.0283168)))),\"\")","v":2.6042245370370374},{"$f":"IFERROR(IF(D46=\"\",\"\",(IF('Backend Calcs Standard'!$A$12=1,'Backend Calcs Standard'!T47,(('Backend Calcs Standard'!T47)*0.0283168)))),\"\")","v":0.30000000000000071},{"$f":"IFERROR(IF(E46=\"\",\"\",(IF('Backend Calcs Standard'!$A$12=1,'Backend Calcs Standard'!U47,(('Backend Calcs Standard'!U47)*0.0283168)))),\"\")","v":65.105613425925938},{"$f":"IFERROR(IF(F46=\"\",\"\",(IF('Backend Calcs Standard'!$A$12=1,'Backend Calcs Standard'!V47,(('Backend Calcs Standard'!V47)*0.0283168)))),\"\")","v":3.0000000000000071},{"$f":"IF(I46=\"\",\"\",(IF('Backend Calcs Standard'!$A$12=1,'Backend Calcs Standard'!W47,('Backend Calcs Standard'!W47*0.0283168))))","v":22.45775462962963},90.563368055555571,{"$f":"IF('Backend Calcs Standard'!$A$12=1,'Backend Calcs Standard'!X47,('Backend Calcs Standard'!X47*0.0283168))","v":90.563368055555586},{"$f":"IFERROR(IF(H46=\"\",\"\",(IF('Backend Calcs Standard'!$A$12=1,'Backend Calcs Standard'!Y47,('Backend Calcs Standard'!Y47*0.0283168)))),\"\")","v":3136.8202256944451},{"$f":"IF(A46=\"\",\"\",IF('Backend Calcs Standard'!$A$12=1,'Backend Calcs Standard'!Z47,'Backend Calcs Standard'!O47))","v":3},null,1086.760416666667]
[{"$f":"IFERROR(IF(B47=\"\",\"\",'Backend Calcs Standard'!P48),\"\")","v":35},{"$f":"IFERROR(IF(C47=\"\",\"\",(IF('Backend Calcs Standard'!$A$12=1,'Backend Calcs Standard'!S48,(('Backend Calcs Standard'!S48)*0.0283168)))),\"\")","v":2.6636284722222223},{"$f":"IFERROR(IF(D47=\"\",\"\",(IF('Backend Calcs Standard'!$A$12=1,'Backend Calcs Standard'!T48,(('Backend Calcs Standard'!T48)*0.0283168)))),\"\")","v":0.31999999999999851},{"$f":"IFERROR(IF(E47=\"\",\"\",(IF('Backend Calcs Standard'!$A$12=1,'Backend Calcs Standard'!U48,(('Backend Calcs Standard'!U48)*0.0283168)))),\"\")","v":66.590711805555557},{"$f":"IFERROR(IF(F47=\"\",\"\",(IF('Backend Calcs Standard'!$A$12=1,'Backend Calcs Standard'!V48,(('Backend Calcs Standard'!V48)*0.0283168)))),\"\")","v":3.1999999999999851},{"$f":"IF(I47=\"\",\"\",(IF('Backend Calcs Standard'!$A$12=1,'Backend Calcs Standard'!W48,('Backend Calcs Standard'!W48*0.0283168))))","v":21.783715277777787},91.574427083333333,{"$f":"IF('Backend Calcs Standard'!$A$12=1,'Backend Calcs Standard'!X48,('Backend Calcs Standard'!X48*0.0283168))","v":91.574427083333333},{"$f":"IFERROR(IF(H47=\"\",\"\",(IF('Backend Calcs Standard'!$A$12=1,'Backend Calcs Standard'!Y48,('Backend Calcs Standard'!Y48*0.0283168)))),\"\")","v":3046.2568576388894},{"$f":"IF(A47=\"\",\"\",IF('Backend Calcs Standard'!$A$12=1,'Backend Calcs Standard'!Z48,'Backend Calcs Standard'!O48))","v":2.9166666666666665},null,1098.8931250000001]
[{"$f":"IFERROR(IF(B48=\"\",\"\",'Backend Calcs Standard'!P49),\"\")","v":34},{"$f":"IFERROR(IF(C48=\"\",\"\",(IF('Backend Calcs Standard'!$A$12=1,'Backend Calcs Standard'!S49,(('Backend Calcs Standard'!S49)*0.0283168)))),\"\")","v":2.7199305555555555},{"$f":"IFERROR(IF(D48=\"\",\"\",(IF('Backend Calcs Standard'!$A$12=1,'Backend Calcs Standard'!T49,(('Backend Calcs Standard'!T49)*0.0283168)))),\"\")","v":0.33000000000000007},{"$f":"IFERROR(IF(E48=\"\",\"\",(IF('Backend Calcs Standard'!$A$12=1,'Backend Calcs Standard'!U49,(('Backend Calcs Standard'!U49)*0.0283168)))),\"\")","v":67.998263888888886},{"$f":"IFERROR(IF(F48=\"\",\"\",(IF('Backend Calcs Standard'!$A$12=1,'Backend Calcs Standard'!V49,(('Backend Calcs Standard'!V49)*0.0283168)))),\"\")","v":3.3000000000000007},{"$f":"IF(I48=\"\",\"\",(IF('Backend Calcs Standard'!$A$12=1,'Backend Calcs Standard'!W49,('Backend Calcs Standard'!W49*0.0283168))))","v":21.180694444444448},92.478958333333338,{"$f":"IF('Backend Calcs Standard'!$A$12=1,'Backend Calcs Standard'!X49,('Backend Calcs Standard'!X49*0.0283168))","v":92.478958333333338},{"$f":"IFERROR(IF(H48=\"\",\"\",(IF('Backend Calcs Standard'!$A$12=1,'Backend Calcs Standard'!Y49,('Backend Calcs Standard'!Y49*0.0283168)))),\"\")","v":2954.682430555556},{"$f":"IF(A48=\"\",\"\",IF('Backend Calcs Standard'!$A$12=1,'Backend Calcs Standard'!Z49,'Backend Calcs Standard'!O49))","v":2.833333333333333},null,1109.7474999999999]
[{"$f":"IFERROR(IF(B49=\"\",\"\",'Backend Calcs Standard'!P50),\"\")","v":33},{"$f":"IFERROR(IF(C49=\"\",\"\",(IF('Backend Calcs Standard'!$A$12=1,'Backend Calcs Standard'!S50,(('Backend Calcs Standard'!S50)*0.0283168)))),\"\")","v":2.7732696759259259},{"$f":"IFERROR(IF(D49=\"\",\"\",(IF('Backend Calcs Standard'!$A$12=1,'Backend Calcs Standard'!T50,(('Backend Calcs Standard'!T50)*0.0283168)))),\"\")","v":0.35000000000000142},{"$f":"IFERROR(IF(E49=\"\",\"\",(IF('Backend Calcs Standard'!$A$12=1,'Backend Calcs Standard'!U50,(('Backend Calcs Standard'!U50)*0.0283168)))),\"\")","v":69.331741898148152},{"$f":"IFERROR(IF(F49=\"\",\"\",(IF('Backend Calcs Standard'!$A$12=1,'Backend Calcs Standard'!V50,(('Backend Calcs Standard'!V50)*0.0283168)))),\"\")","v":3.5000000000000142},{"$f":"IF(I49=\"\",\"\",(IF('Backend Calcs Standard'!$A$12=1,'Backend Calcs Standard'!W50,('Backend Calcs Standard'!W50*0.0283168))))","v":20.567303240740738},93.399045138888908,{"$f":"IF('Backend Calcs Standard'!$A$12=1,'Backend Calcs Standard'!X50,('Backend Calcs Standard'!X50*0.0283168))","v":93.399045138888908},{"$f":"IFERROR(IF(H49=\"\",\"\",(IF('Backend Calcs Standard'!$A$12=1,'Backend Calcs Standard'!Y50,('Backend Calcs Standard'!Y50*0.0283168)))),\"\")","v":2862.2034722222229},{"$f":"IF(A49=\"\",\"\",IF('Backend Calcs Standard'!$A$12=1,'Backend Calcs Standard'!Z50,'Backend Calcs Standard'!O50))","v":2.75},null,1120.7885416666668]
[{"$f":"IFERROR(IF(B50=\"\",\"\",'Backend Calcs Standard'!P51),\"\")","v":32},{"$f":"IFERROR(IF(C50=\"\",\"\",(IF('Backend Calcs Standard'!$A$12=1,'Backend Calcs Standard'!S51,(('Backend Calcs Standard'!S51)*0.0283168)))),\"\")","v":2.8236979166666667},{"$f":"IFERROR(IF(D50=\"\",\"\",(IF('Backend Calcs Standard'!$A$12=1,'Backend Calcs Standard'!T51,(('Backend Calcs Standard'!T51)*0.0283168)))),\"\")","v":0.36999999999999922},{"$f":"IFERROR(IF(E50=\"\",\"\",(IF('Backend Calcs Standard'!$A$12=1,'Backend Calcs Standard'!U51,(('Backend Calcs Standard'!U51)*0.0283168)))),\"\")","v":70.592447916666671},{"$f":"IFERROR(IF(F50=\"\",\"\",(IF('Backend Calcs Standard'!$A$12=1,'Backend Calcs Standard'!V51,(('Backend Calcs Standard'!V51)*0.0283168)))),\"\")","v":3.6999999999999922},{"$f":"IF(I50=\"\",\"\",(IF('Backend Calcs Standard'!$A$12=1,'Backend Calcs Standard'!W51,('Backend Calcs Standard'!W51*0.0283168))))","v":19.983020833333338},94.275468750000002,{"$f":"IF('Backend Calcs Standard'!$A$12=1,'Backend Calcs Standard'!X51,('Backend Calcs Standard'!X51*0.0283168))","v":94.275468750000002},{"$f":"IFERROR(IF(H50=\"\",\"\",(IF('Backend Calcs Standard'!$A$12=1,'Backend Calcs Standard'!Y51,('Backend Calcs Standard'!Y51*0.0283168)))),\"\")","v":2768.8044270833338},{"$f":"IF(A50=\"\",\"\",IF('Backend Calcs Standard'!$A$12=1,'Backend Calcs Standard'!Z51,'Backend Calcs Standard'!O51))","v":2.6666666666666665},null,1131.305625]
[{"$f":"IFERROR(IF(B51=\"\",\"\",'Backend Calcs Standard'!P52),\"\")","v":31},{"$f":"IFERROR(IF(C51=\"\",\"\",(IF('Backend Calcs Standard'!$A$12=1,'Backend Calcs Standard'!S52,(('Backend Calcs Standard'!S52)*0.0283168)))),\"\")","v":2.8713541666666664},{"$f":"IFERROR(IF(D51=\"\",\"\",(IF('Backend Calcs Standard'!$A$12=1,'Backend Calcs Standard'!T52,(('Backend Calcs Standard'!T52)*0.0283168)))),\"\")","v":0.36999999999999922},{"$f":"IFERROR(IF(E51=\"\",\"\",(IF('Backend Calcs Standard'!$A$12=1,'Backend Calcs Standard'!U52,(('Backend Calcs Standard'!U52)*0.0283168)))),\"\")","v":71.783854166666657},{"$f":"IFERROR(IF(F51=\"\",\"\",(IF('Backend Calcs Standard'!$A$12=1,'Backend Calcs Standard'!V52,(('Backend Calcs Standard'!V52)*0.0283168)))),\"\")","v":3.6999999999999922},{"$f":"IF(I51=\"\",\"\",(IF('Backend Calcs Standard'!$A$12=1,'Backend Calcs Standard'!W52,('Backend Calcs Standard'!W52*0.0283168))))","v":19.506458333333342},94.990312499999987,{"$f":"IF('Backend Calcs Standard'!$A$12=1,'Backend Calcs Standard'!X52,('Backend Calcs Standard'!X52*0.0283168))","v":94.990312499999987},{"$f":"IFERROR(IF(H51=\"\",\"\",(IF('Backend Calcs Standard'!$A$12=1,'Backend Calcs Standard'!Y52,('Backend Calcs Standard'!Y52*0.0283168)))),\"\")","v":2674.5289583333338},{"$f":"IF(A51=\"\",\"\",IF('Backend Calcs Standard'!$A$12=1,'Backend Calcs Standard'!Z52,'Backend Calcs Standard'!O52))","v":2.583333333333333},null,1139.88375]
[{"$f":"IFERROR(IF(B52=\"\",\"\",'Backend Calcs Standard'!P53),\"\")","v":30},{"$f":"IFERROR(IF(C52=\"\",\"\",(IF('Backend Calcs Standard'!$A$12=1,'Backend Calcs Standard'!S53,(('Backend Calcs Standard'!S53)*0.0283168)))),\"\")","v":2.9163078703703706},{"$f":"IFERROR(IF(D52=\"\",\"\",(IF('Backend Calcs Standard'!$A$12=1,'Backend Calcs Standard'!T53,(('Backend Calcs Standard'!T53)*0.0283168)))),\"\")","v":0.40000000000000036},{"$f":"IFERROR(IF(E52=\"\",\"\",(IF('Backend Calcs Standard'!$A$12=1,'Backend Calcs Standard'!U53,(('Backend Calcs Standard'!U53)*0.0283168)))),\"\")","v":72.907696759259267},{"$f":"IFERROR(IF(F52=\"\",\"\",(IF('Backend Calcs Standard'!$A$12=1,'Backend Calcs Standard'!V53,(('Backend Calcs Standard'!V53)*0.0283168)))),\"\")","v":4.0000000000000036},{"$f":"IF(I52=\"\",\"\",(IF('Backend Calcs Standard'!$A$12=1,'Backend Calcs Standard'!W53,('Backend Calcs Standard'!W53*0.0283168))))","v":18.936921296296294},95.844618055555571,{"$f":"IF('Backend Calcs Standard'!$A$12=1,'Backend Calcs Standard'!X53,('Backend Calcs Standard'!X53*0.0283168))","v":95.844618055555557},{"$f":"IFERROR(IF(H52=\"\",\"\",(IF('Backend Calcs Standard'!$A$12=1,'Backend Calcs Standard'!Y53,('Backend Calcs Standard'!Y53*0.0283168)))),\"\")","v":2579.5386458333337},{"$f":"IF(A52=\"\",\"\",IF('Backend Calcs Standard'!$A$12=1,'Backend Calcs Standard'!Z53,'Backend Calcs Standard'!O53))","v":2.5},null,1150.135416666667]
[{"$f":"IFERROR(IF(B53=\"\",\"\",'Backend Calcs Standard'!P54),\"\")","v":29},{"$f":"IFERROR(IF(C53=\"\",\"\",(IF('Backend Calcs Standard'!$A$12=1,'Backend Calcs Standard'!S54,(('Backend Calcs Standard'!S54)*0.0283168)))),\"\")","v":2.9644386574074075},{"$f":"IFERROR(IF(D53=\"\",\"\",(IF('Backend Calcs Standard'!$A$12=1,'Backend Calcs Standard'!T54,(('Backend Calcs Standard'!T54)*0.0283168)))),\"\")","v":0.41000000000000014},{"$f":"IFERROR(IF(E53=\"\",\"\",(IF('Backend Calcs Standard'!$A$12=1,'Backend Calcs Standard'!U54,(('Backend Calcs Standard'!U54)*0.0283168)))),\"\")","v":74.11096643518519},{"$f":"IFERROR(IF(F53=\"\",\"\",(IF('Backend Calcs Standard'!$A$12=1,'Backend Calcs Standard'!V54,(('Backend Calcs Standard'!V54)*0.0283168)))),\"\")","v":4.1000000000000014},{"$f":"IF(I53=\"\",\"\",(IF('Backend Calcs Standard'!$A$12=1,'Backend Calcs Standard'!W54,('Backend Calcs Standard'!W54*0.0283168))))","v":18.415613425925926},96.626579861111111,{"$f":"IF('Backend Calcs Standard'!$A$12=1,'Backend Calcs Standard'!X54,('Backend Calcs Standard'!X54*0.0283168))","v":96.626579861111111},{"$f":"IFERROR(IF(H53=\"\",\"\",(IF('Backend Calcs Standard'!$A$12=1,'Backend Calcs Standard'!Y54,('Backend Calcs Standard'!Y54*0.0283168)))),\"\")","v":2483.694027777778},{"$f":"IF(A53=\"\",\"\",IF('Backend Calcs Standard'!$A$12=1,'Backend Calcs Standard'!Z54,'Backend Calcs Standard'!O54))","v":2.4166666666666665},null,1159.5189583333333]
[{"$f":"IFERROR(IF(B54=\"\",\"\",'Backend Calcs Standard'!P55),\"\")","v":28},{"$f":"IFERROR(IF(C54=\"\",\"\",(IF('Backend Calcs Standard'!$A$12=1,'Backend Calcs Standard'!S55,(('Backend Calcs Standard'!S55)*0.0283168)))),\"\")","v":2.9983912037037039},{"$f":"IFERROR(IF(D54=\"\",\"\",(IF('Backend Calcs Standard'!$A$12=1,'Backend Calcs Standard'!T55,(('Backend Calcs Standard'!T55)*0.0283168)))),\"\")","v":0.41999999999999993},{"$f":"IFERROR(IF(E54=\"\",\"\",(IF('Backend Calcs Standard'!$A$12=1,'Backend Calcs Standard'!U55,(('Backend Calcs Standard'!U55)*0.0283168)))),\"\")","v":74.959780092592595},{"$f":"IFERROR(IF(F54=\"\",\"\",(IF('Backend Calcs Standard'!$A$12=1,'Backend Calcs Standard'!V55,(('Backend Calcs Standard'!V55)*0.0283168)))),\"\")","v":4.1999999999999993},{"$f":"IF(I54=\"\",\"\",(IF('Backend Calcs Standard'!$A$12=1,'Backend Calcs Standard'!W55,('Backend Calcs Standard'!W55*0.0283168))))","v":18.036087962962963},97.195868055555565,{"$f":"IF('Backend Calcs Standard'!$A$12=1,'Backend Calcs Standard'!X55,('Backend Calcs Standard'!X55*0.0283168))","v":97.195868055555565},{"$f":"IFERROR(IF(H54=\"\",\"\",(IF('Backend Calcs Standard'!$A$12=1,'Backend Calcs Standard'!Y55,('Backend Calcs Standard'!Y55*0.0283168)))),\"\")","v":2387.0674479166669},{"$f":"IF(A54=\"\",\"\",IF('Backend Calcs Standard'!$A$12=1,'Backend Calcs Standard'!Z55,'Backend Calcs Standard'!O55))","v":2.333333333333333},null,1166.3504166666667]
[{"$f":"IFERROR(IF(B55=\"\",\"\",'Backend Calcs Standard'!P56),\"\")","v":27},{"$f":"IFERROR(IF(C55=\"\",\"\",(IF('Backend Calcs Standard'!$A$12=1,'Backend Calcs Standard'!S56,(('Backend Calcs Standard'!S56)*0.0283168)))),\"\")","v":3.0355381944444444},{"$f":"IFERROR(IF(D55=\"\",\"\",(IF('Backend Calcs Standard'!$A$12=1,'Backend Calcs Standard'!T56,(('Backend Calcs Standard'!T56)*0.0283168)))),\"\")","v":0.44000000000000128},{"$f":"IFERROR(IF(E55=\"\",\"\",(IF('Backend Calcs Standard'!$A$12=1,'Backend Calcs Standard'!U56,(('Backend Calcs Standard'!U56)*0.0283168)))),\"\")","v":75.888454861111114},{"$f":"IFERROR(IF(F55=\"\",\"\",(IF('Backend Calcs Standard'!$A$12=1,'Backend Calcs Standard'!V56,(('Backend Calcs Standard'!V56)*0.0283168)))),\"\")","v":4.4000000000000128},{"$f":"IF(I55=\"\",\"\",(IF('Backend Calcs Standard'!$A$12=1,'Backend Calcs Standard'!W56,('Backend Calcs Standard'!W56*0.0283168))))","v":17.584618055555552},97.873072916666672,{"$f":"IF('Backend Calcs Standard'!$A$12=1,'Backend Calcs Standard'!X56,('Backend Calcs Standard'!X56*0.0283168))","v":97.873072916666672},{"$f":"IFERROR(IF(H55=\"\",\"\",(IF('Backend Calcs Standard'!$A$12=1,'Backend Calcs Standard'!Y56,('Backend Calcs Standard'!Y56*0.0283168)))),\"\")","v":2289.8715798611115},{"$f":"IF(A55=\"\",\"\",IF('Backend Calcs Standard'!$A$12=1,'Backend Calcs Standard'!Z56,'Backend Calcs Standard'!O56))","v":2.25},null,1174.4768750000001]
[{"$f":"IFERROR(IF(B56=\"\",\"\",'Backend Calcs Standard'!P57),\"\")","v":26},{"$f":"IFERROR(IF(C56=\"\",\"\",(IF('Backend Calcs Standard'!$A$12=1,'Backend Calcs Standard'!S57,(('Backend Calcs Standard'!S57)*0.0283168)))),\"\")","v":3.0707060185185187},{"$f":"IFERROR(IF(D56=\"\",\"\",(IF('Backend Calcs Standard'!$A$12=1,'Backend Calcs Standard'!T57,(('Backend Calcs Standard'!T57)*0.0283168)))),\"\")","v":0.44999999999999929},{"$f":"IFERROR(IF(E56=\"\",\"\",(IF('Backend Calcs Standard'!$A$12=1,'Backend Calcs Standard'!U57,(('Backend Calcs Standard'!U57)*0.0283168)))),\"\")","v":76.767650462962962},{"$f":"IFERROR(IF(F56=\"\",\"\",(IF('Backend Calcs Standard'!$A$12=1,'Backend Calcs Standard'!V57,(('Backend Calcs Standard'!V57)*0.0283168)))),\"\")","v":4.4999999999999929},{"$f":"IF(I56=\"\",\"\",(IF('Backend Calcs Standard'!$A$12=1,'Backend Calcs Standard'!W57,('Backend Calcs Standard'!W57*0.0283168))))","v":17.192939814814821},98.460590277777783,{"$f":"IF('Backend Calcs Standard'!$A$12=1,'Backend Calcs Standard'!X57,('Backend Calcs Standard'!X57*0.0283168))","v":98.460590277777783},{"$f":"IFERROR(IF(H56=\"\",\"\",(IF('Backend Calcs Standard'!$A$12=1,'Backend Calcs Standard'!Y57,('Backend Calcs Standard'!Y57*0.0283168)))),\"\")","v":2191.9985069444447},{"$f":"IF(A56=\"\",\"\",IF('Backend Calcs Standard'!$A$12=1,'Backend Calcs Standard'!Z57,'Backend Calcs Standard'!O57))","v":2.1666666666666665},null,1181.5270833333334]
[{"$f":"IFERROR(IF(B57=\"\",\"\",'Backend Calcs Standard'!P58),\"\")","v":25},{"$f":"IFERROR(IF(C57=\"\",\"\",(IF('Backend Calcs Standard'!$A$12=1,'Backend Calcs Standard'!S58,(('Backend Calcs Standard'!S58)*0.0283168)))),\"\")","v":3.1052256944444445},{"$f":"IFERROR(IF(D57=\"\",\"\",(IF('Backend Calcs Standard'!$A$12=1,'Backend Calcs Standard'!T58,(('Backend Calcs Standard'!T58)*0.0283168)))),\"\")","v":0.45999999999999908},{"$f":"IFERROR(IF(E57=\"\",\"\",(IF('Backend Calcs Standard'!$A$12=1,'Backend Calcs Standard'!U58,(('Backend Calcs Standard'!U58)*0.0283168)))),\"\")","v":77.630642361111114},{"$f":"IFERROR(IF(F57=\"\",\"\",(IF('Backend Calcs Standard'!$A$12=1,'Backend Calcs Standard'!V58,(('Backend Calcs Standard'!V58)*0.0283168)))),\"\")","v":4.5999999999999908},{"$f":"IF(I57=\"\",\"\",(IF('Backend Calcs Standard'!$A$12=1,'Backend Calcs Standard'!W58,('Backend Calcs Standard'!W58*0.0283168))))","v":16.807743055555562},99.038385416666671,{"$f":"IF('Backend Calcs Standard'!$A$12=1,'Backend Calcs Standard'!X58,('Backend Calcs Standard'!X58*0.0283168))","v":99.038385416666671},{"$f":"IFERROR(IF(H57=\"\",\"\",(IF('Backend Calcs Standard'!$A$12=1,'Backend Calcs Standard'!Y58,('Backend Calcs Standard'!Y58*0.0283168)))),\"\")","v":2093.5379166666671},{"$f":"IF(A57=\"\",\"\",IF('Backend Calcs Standard'!$A$12=1,'Backend Calcs Standard'!Z58,'Backend Calcs Standard'!O58))","v":2.083333333333333},null,1188.4606250000002]
[{"$f":"IFERROR(IF(B58=\"\",\"\",'Backend Calcs Standard'!P59),\"\")","v":24},{"$f":"IFERROR(IF(C58=\"\",\"\",(IF('Backend Calcs Standard'!$A$12=1,'Backend Calcs Standard'!S59,(('Backend Calcs Standard'!S59)*0.0283168)))),\"\")","v":3.1384027777777779},{"$f":"IFERROR(IF(D58=\"\",\"\",(IF('Backend Calcs Standard'!$A$12=1,'Backend Calcs Standard'!T59,(('Backend Calcs Standard'!T59)*0.0283168)))),\"\")","v":0.47000000000000064},{"$f":"IFERROR(IF(E58=\"\",\"\",(IF('Backend Calcs Standard'!$A$12=1,'Backend Calcs Standard'!U59,(('Backend Calcs Standard'!U59)*0.0283168)))),\"\")","v":78.460069444444443},{"$f":"IFERROR(IF(F58=\"\",\"\",(IF('Backend Calcs Standard'!$A$12=1,'Backend Calcs Standard'!V59,(('Backend Calcs Standard'!V59)*0.0283168)))),\"\")","v":4.7000000000000064},{"$f":"IF(I58=\"\",\"\",(IF('Backend Calcs Standard'!$A$12=1,'Backend Calcs Standard'!W59,('Backend Calcs Standard'!W59*0.0283168))))","v":16.435972222222222},99.596041666666679,{"$f":"IF('Backend Calcs Standard'!$A$12=1,'Backend Calcs Standard'!X59,('Backend Calcs Standard'!X59*0.0283168))","v":99.596041666666665},{"$f":"IFERROR(IF(H58=\"\",\"\",(IF('Backend Calcs Standard'!$A$12=1,'Backend Calcs Standard'!Y59,('Backend Calcs Standard'!Y59*0.0283168)))),\"\")","v":1994.4995312500002},{"$f":"IF(A58=\"\",\"\",IF('Backend Calcs Standard'!$A$12=1,'Backend Calcs Standard'!Z59,'Backend Calcs Standard'!O59))","v":2},null,1195.1525000000001]
[{"$f":"IFERROR(IF(B59=\"\",\"\",'Backend Calcs Standard'!P60),\"\")","v":23},{"$f":"IFERROR(IF(C59=\"\",\"\",(IF('Backend Calcs Standard'!$A$12=1,'Backend Calcs Standard'!S60,(('Backend Calcs Standard'!S60)*0.0283168)))),\"\")","v":3.1705324074074075},{"$f":"IFERROR(IF(D59=\"\",\"\",(IF('Backend Calcs Standard'!$A$12=1,'Backend Calcs Standard'!T60,(('Backend Calcs Standard'!T60)*0.0283168)))),\"\")","v":0.49000000000000021},{"$f":"IFERROR(IF(E59=\"\",\"\",(IF('Backend Calcs Standard'!$A$12=1,'Backend Calcs Standard'!U60,(('Backend Calcs Standard'!U60)*0.0283168)))),\"\")","v":79.26331018518519},{"$f":"IFERROR(IF(F59=\"\",\"\",(IF('Backend Calcs Standard'!$A$12=1,'Backend Calcs Standard'!V60,(('Backend Calcs Standard'!V60)*0.0283168)))),\"\")","v":4.9000000000000021},{"$f":"IF(I59=\"\",\"\",(IF('Backend Calcs Standard'!$A$12=1,'Backend Calcs Standard'!W60,('Backend Calcs Standard'!W60*0.0283168))))","v":16.034675925925924},100.19798611111112,{"$f":"IF('Backend Calcs Standard'!$A$12=1,'Backend Calcs Standard'!X60,('Backend Calcs Standard'!X60*0.0283168))","v":100.19798611111112},{"$f":"IFERROR(IF(H59=\"\",\"\",(IF('Backend Calcs Standard'!$A$12=1,'Backend Calcs Standard'!Y60,('Backend Calcs Standard'!Y60*0.0283168)))),\"\")","v":1894.9034895833336},{"$f":"IF(A59=\"\",\"\",IF('Backend Calcs Standard'!$A$12=1,'Backend Calcs Standard'!Z60,'Backend Calcs Standard'!O60))","v":1.9166666666666665},null,1202.3758333333335]
[{"$f":"IFERROR(IF(B60=\"\",\"\",'Backend Calcs Standard'!P61),\"\")","v":22},{"$f":"IFERROR(IF(C60=\"\",\"\",(IF('Backend Calcs Standard'!$A$12=1,'Backend Calcs Standard'!S61,(('Backend Calcs Standard'!S61)*0.0283168)))),\"\")","v":3.201701388888889},{"$f":"IFERROR(IF(D60=\"\",\"\",(IF('Backend Calcs Standard'!$A$12=1,'Backend Calcs Standard'!T61,(('Backend Calcs Standard'!T61)*0.0283168)))),\"\")","v":0.5},{"$f":"IFERROR(IF(E60=\"\",\"\",(IF('Backend Calcs Standard'!$A$12=1,'Backend Calcs Standard'!U61,(('Backend Calcs Standard'!U61)*0.0283168)))),\"\")","v":80.042534722222229},{"$f":"IFERROR(IF(F60=\"\",\"\",(IF('Backend Calcs Standard'!$A$12=1,'Backend Calcs Standard'!V61,(('Backend Calcs Standard'!V61)*0.0283168)))),\"\")","v":5},{"$f":"IF(I60=\"\",\"\",(IF('Backend Calcs Standard'!$A$12=1,'Backend Calcs Standard'!W61,('Backend Calcs Standard'!W61*0.0283168))))","v":15.682986111111111},100.72552083333335,{"$f":"IF('Backend Calcs Standard'!$A$12=1,'Backend Calcs Standard'!X61,('Backend Calcs Standard'!X61*0.0283168))","v":100.72552083333333},{"$f":"IFERROR(IF(H60=\"\",\"\",(IF('Backend Calcs Standard'!$A$12=1,'Backend Calcs Standard'!Y61,('Backend Calcs Standard'!Y61*0.0283168)))),\"\")","v":1794.7055034722225},{"$f":"IF(A60=\"\",\"\",IF('Backend Calcs Standard'!$A$12=1,'Backend Calcs Standard'!Z61,'Backend Calcs Standard'!O61))","v":1.8333333333333333},null,1208.7062500000002]
[{"$f":"IFERROR(IF(B61=\"\",\"\",'Backend Calcs Standard'!P62),\"\")","v":21},{"$f":"IFERROR(IF(C61=\"\",\"\",(IF('Backend Calcs Standard'!$A$12=1,'Backend Calcs Standard'!S62,(('Backend Calcs Standard'!S62)*0.0283168)))),\"\")","v":3.2321354166666669},{"$f":"IFERROR(IF(D61=\"\",\"\",(IF('Backend Calcs Standard'!$A$12=1,'Backend Calcs Standard'!T62,(('Backend Calcs Standard'!T62)*0.0283168)))),\"\")","v":0.50999999999999979},{"$f":"IFERROR(IF(E61=\"\",\"\",(IF('Backend Calcs Standard'!$A$12=1,'Backend Calcs Standard'!U62,(('Backend Calcs Standard'!U62)*0.0283168)))),\"\")","v":80.803385416666671},{"$f":"IFERROR(IF(F61=\"\",\"\",(IF('Backend Calcs Standard'!$A$12=1,'Backend Calcs Standard'!V62,(('Backend Calcs Standard'!V62)*0.0283168)))),\"\")","v":5.0999999999999979},{"$f":"IF(I61=\"\",\"\",(IF('Backend Calcs Standard'!$A$12=1,'Backend Calcs Standard'!W62,('Backend Calcs Standard'!W62*0.0283168))))","v":15.338645833333333},101.24203125,{"$f":"IF('Backend Calcs Standard'!$A$12=1,'Backend Calcs Standard'!X62,('Backend Calcs Standard'!X62*0.0283168))","v":101.24203125},{"$f":"IFERROR(IF(H61=\"\",\"\",(IF('Backend Calcs Standard'!$A$12=1,'Backend Calcs Standard'!Y62,('Backend Calcs Standard'!Y62*0.0283168)))),\"\")","v":1693.9799826388892},{"$f":"IF(A61=\"\",\"\",IF('Backend Calcs Standard'!$A$12=1,'Backend Calcs Standard'!Z62,'Backend Calcs Standard'!O62))","v":1.75},null,1214.9043750000001]
[{"$f":"IFERROR(IF(B62=\"\",\"\",'Backend Calcs Standard'!P63),\"\")","v":20},{"$f":"IFERROR(IF(C62=\"\",\"\",(IF('Backend Calcs Standard'!$A$12=1,'Backend Calcs Standard'!S63,(('Backend Calcs Standard'!S63)*0.0283168)))),\"\")","v":3.2612789351851852},{"$f":"IFERROR(IF(D62=\"\",\"\",(IF('Backend Calcs Standard'!$A$12=1,'Backend Calcs Standard'!T63,(('Backend Calcs Standard'!T63)*0.0283168)))),\"\")","v":0.52000000000000046},{"$f":"IFERROR(IF(E62=\"\",\"\",(IF('Backend Calcs Standard'!$A$12=1,'Backend Calcs Standard'!U63,(('Backend Calcs Standard'!U63)*0.0283168)))),\"\")","v":81.531973379629633},{"$f":"IFERROR(IF(F62=\"\",\"\",(IF('Backend Calcs Standard'!$A$12=1,'Backend Calcs Standard'!V63,(('Backend Calcs Standard'!V63)*0.0283168)))),\"\")","v":5.2000000000000046},{"$f":"IF(I62=\"\",\"\",(IF('Backend Calcs Standard'!$A$12=1,'Backend Calcs Standard'!W63,('Backend Calcs Standard'!W63*0.0283168))))","v":15.007210648148147},101.73918402777778,{"$f":"IF('Backend Calcs Standard'!$A$12=1,'Backend Calcs Standard'!X63,('Backend Calcs Standard'!X63*0.0283168))","v":101.73918402777778},{"$f":"IFERROR(IF(H62=\"\",\"\",(IF('Backend Calcs Standard'!$A$12=1,'Backend Calcs Standard'!Y63,('Backend Calcs Standard'!Y63*0.0283168)))),\"\")","v":1592.7379513888891},{"$f":"IF(A62=\"\",\"\",IF('Backend Calcs Standard'!$A$12=1,'Backend Calcs Standard'!Z63,'Backend Calcs Standard'!O63))","v":1.6666666666666665},null,1220.8702083333333]
[{"$f":"IFERROR(IF(B63=\"\",\"\",'Backend Calcs Standard'!P64),\"\")","v":19},{"$f":"IFERROR(IF(C63=\"\",\"\",(IF('Backend Calcs Standard'!$A$12=1,'Backend Calcs Standard'!S64,(('Backend Calcs Standard'!S64)*0.0283168)))),\"\")","v":3.2916435185185184},{"$f":"IFERROR(IF(D63=\"\",\"\",(IF('Backend Calcs Standard'!$A$12=1,'Backend Calcs Standard'!T64,(('Backend Calcs Standard'!T64)*0.0283168)))),\"\")","v":0.52999999999999936},{"$f":"IFERROR(IF(E63=\"\",\"\",(IF('Backend Calcs Standard'!$A$12=1,'Backend Calcs Standard'!U64,(('Backend Calcs Standard'!U64)*0.0283168)))),\"\")","v":82.291087962962962},{"$f":"IFERROR(IF(F63=\"\",\"\",(IF('Backend Calcs Standard'!$A$12=1,'Backend Calcs Standard'!V64,(('Backend Calcs Standard'!V64)*0.0283168)))),\"\")","v":5.2999999999999936},{"$f":"IF(I63=\"\",\"\",(IF('Backend Calcs Standard'!$A$12=1,'Backend Calcs Standard'!W64,('Backend Calcs Standard'!W64*0.0283168))))","v":14.663564814814821},102.25465277777778,{"$f":"IF('Backend Calcs Standard'!$A$12=1,'Backend Calcs Standard'!X64,('Backend Calcs Standard'!X64*0.0283168))","v":102.25465277777778},{"$f":"IFERROR(IF(H63=\"\",\"\",(IF('Backend Calcs Standard'!$A$12=1,'Backend Calcs Standard'!Y64,('Backend Calcs Standard'!Y64*0.0283168)))),\"\")","v":1490.9987673611113},{"$f":"IF(A63=\"\",\"\",IF('Backend Calcs Standard'!$A$12=1,'Backend Calcs Standard'!Z64,'Backend Calcs Standard'!O64))","v":1.5833333333333333},null,1227.0558333333333]
[{"$f":"IFERROR(IF(B64=\"\",\"\",'Backend Calcs Standard'!P65),\"\")","v":18},{"$f":"IFERROR(IF(C64=\"\",\"\",(IF('Backend Calcs Standard'!$A$12=1,'Backend Calcs Standard'!S65,(('Backend Calcs Standard'!S65)*0.0283168)))),\"\")","v":3.3206250000000002},{"$f":"IFERROR(IF(D64=\"\",\"\",(IF('Backend Calcs Standard'!$A$12=1,'Backend Calcs Standard'!T65,(('Backend Calcs Standard'!T65)*0.0283168)))),\"\")","v":0.54},{"$f":"IFERROR(IF(E64=\"\",\"\",(IF('Backend Calcs Standard'!$A$12=1,'Backend Calcs Standard'!U65,(('Backend Calcs Standard'!U65)*0.0283168)))),\"\")","v":83.015625},{"$f":"IFERROR(IF(F64=\"\",\"\",(IF('Backend Calcs Standard'!$A$12=1,'Backend Calcs Standard'!V65,(('Backend Calcs Standard'!V65)*0.0283168)))),\"\")","v":5.4},{"$f":"IF(I64=\"\",\"\",(IF('Backend Calcs Standard'!$A$12=1,'Backend Calcs Standard'!W65,('Backend Calcs Standard'!W65*0.0283168))))","v":14.33375},102.749375,{"$f":"IF('Backend Calcs Standard'!$A$12=1,'Backend Calcs Standard'!X65,('Backend Calcs Standard'!X65*0.0283168))","v":102.749375},{"$f":"IFERROR(IF(H64=\"\",\"\",(IF('Backend Calcs Standard'!$A$12=1,'Backend Calcs Standard'!Y65,('Backend Calcs Standard'!Y65*0.0283168)))),\"\")","v":1388.7441145833334},{"$f":"IF(A64=\"\",\"\",IF('Backend Calcs Standard'!$A$12=1,'Backend Calcs Standard'!Z65,'Backend Calcs Standard'!O65))","v":1.5},null,1232.9925000000001]
[{"$f":"IFERROR(IF(B65=\"\",\"\",'Backend Calcs Standard'!P66),\"\")","v":17},{"$f":"IFERROR(IF(C65=\"\",\"\",(IF('Backend Calcs Standard'!$A$12=1,'Backend Calcs Standard'!S66,(('Backend Calcs Standard'!S66)*0.0283168)))),\"\")","v":3.3492361111111109},{"$f":"IFERROR(IF(D65=\"\",\"\",(IF('Backend Calcs Standard'!$A$12=1,'Backend Calcs Standard'!T66,(('Backend Calcs Standard'!T66)*0.0283168)))),\"\")","v":0.55000000000000071},{"$f":"IFERROR(IF(E65=\"\",\"\",(IF('Backend Calcs Standard'!$A$12=1,'Backend Calcs Standard'!U66,(('Backend Calcs Standard'!U66)*0.0283168)))),\"\")","v":83.730902777777771},{"$f":"IFERROR(IF(F65=\"\",\"\",(IF('Backend Calcs Standard'!$A$12=1,'Backend Calcs Standard'!V66,(('Backend Calcs Standard'!V66)*0.0283168)))),\"\")","v":5.5000000000000071},{"$f":"IF(I65=\"\",\"\",(IF('Backend Calcs Standard'!$A$12=1,'Backend Calcs Standard'!W66,('Backend Calcs Standard'!W66*0.0283168))))","v":14.00763888888889},103.23854166666666,{"$f":"IF('Backend Calcs Standard'!$A$12=1,'Backend Calcs Standard'!X66,('Backend Calcs Standard'!X66*0.0283168))","v":103.23854166666666},{"$f":"IFERROR(IF(H65=\"\",\"\",(IF('Backend Calcs Standard'!$A$12=1,'Backend Calcs Standard'!Y66,('Backend Calcs Standard'!Y66*0.0283168)))),\"\")","v":1285.9947395833333},{"$f":"IF(A65=\"\",\"\",IF('Backend Calcs Standard'!$A$12=1,'Backend Calcs Standard'!Z66,'Backend Calcs Standard'!O66))","v":1.4166666666666665},null,1238.8625]
[{"$f":"IFERROR(IF(B66=\"\",\"\",'Backend Calcs Standard'!P67),\"\")","v":16},{"$f":"IFERROR(IF(C66=\"\",\"\",(IF('Backend Calcs Standard'!$A$12=1,'Backend Calcs Standard'!S67,(('Backend Calcs Standard'!S67)*0.0283168)))),\"\")","v":3.376689814814815},{"$f":"IFERROR(IF(D66=\"\",\"\",(IF('Backend Calcs Standard'!$A$12=1,'Backend Calcs Standard'!T67,(('Backend Calcs Standard'!T67)*0.0283168)))),\"\")","v":0.55999999999999961},{"$f":"IFERROR(IF(E66=\"\",\"\",(IF('Backend Calcs Standard'!$A$12=1,'Backend Calcs Standard'!U67,(('Backend Calcs Standard'!U67)*0.0283168)))),\"\")","v":84.417245370370381},{"$f":"IFERROR(IF(F66=\"\",\"\",(IF('Backend Calcs Standard'!$A$12=1,'Backend Calcs Standard'!V67,(('Backend Calcs Standard'!V67)*0.0283168)))),\"\")","v":5.5999999999999961},{"$f":"IF(I66=\"\",\"\",(IF('Backend Calcs Standard'!$A$12=1,'Backend Calcs Standard'!W67,('Backend Calcs Standard'!W67*0.0283168))))","v":13.693101851851852},103.71034722222223,{"$f":"IF('Backend Calcs Standard'!$A$12=1,'Backend Calcs Standard'!X67,('Backend Calcs Standard'!X67*0.0283168))","v":103.71034722222223},{"$f":"IFERROR(IF(H66=\"\",\"\",(IF('Backend Calcs Standard'!$A$12=1,'Backend Calcs Standard'!Y67,('Backend Calcs Standard'!Y67*0.0283168)))),\"\")","v":1182.7561979166667},{"$f":"IF(A66=\"\",\"\",IF('Backend Calcs Standard'!$A$12=1,'Backend Calcs Standard'!Z67,'Backend Calcs Standard'!O67))","v":1.3333333333333333},null,1244.5241666666666]
[{"$f":"IFERROR(IF(B67=\"\",\"\",'Backend Calcs Standard'!P68),\"\")","v":15},{"$f":"IFERROR(IF(C67=\"\",\"\",(IF('Backend Calcs Standard'!$A$12=1,'Backend Calcs Standard'!S68,(('Backend Calcs Standard'!S68)*0.0283168)))),\"\")","v":3.4046990740740739},{"$f":"IFERROR(IF(D67=\"\",\"\",(IF('Backend Calcs Standard'!$A$12=1,'Backend Calcs Standard'!T68,(('Backend Calcs Standard'!T68)*0.0283168)))),\"\")","v":0.56000000000000005},{"$f":"IFERROR(IF(E67=\"\",\"\",(IF('Backend Calcs Standard'!$A$12=1,'Backend Calcs Standard'!U68,(('Backend Calcs Standard'!U68)*0.0283168)))),\"\")","v":85.117476851851848},{"$f":"IFERROR(IF(F67=\"\",\"\",(IF('Backend Calcs Standard'!$A$12=1,'Backend Calcs Standard'!V68,(('Backend Calcs Standard'!V68)*0.0283168)))),\"\")","v":5.6000000000000005},{"$f":"IF(I67=\"\",\"\",(IF('Backend Calcs Standard'!$A$12=1,'Backend Calcs Standard'!W68,('Backend Calcs Standard'!W68*0.0283168))))","v":13.41300925925926},104.13048611111111,{"$f":"IF('Backend Calcs Standard'!$A$12=1,'Backend Calcs Standard'!X68,('Backend Calcs Standard'!X68*0.0283168))","v":104.1304861111111},{"$f":"IFERROR(IF(H67=\"\",\"\",(IF('Backend Calcs Standard'!$A$12=1,'Backend Calcs Standard'!Y68,('Backend Calcs Standard'!Y68*0.0283168)))),\"\")","v":1079.0458506944444},{"$f":"IF(A67=\"\",\"\",IF('Backend Calcs Standard'!$A$12=1,'Backend Calcs Standard'!Z68,'Backend Calcs Standard'!O68))","v":1.25},null,1249.5658333333333]
[{"$f":"IFERROR(IF(B68=\"\",\"\",'Backend Calcs Standard'!P69),\"\")","v":14},{"$f":"IFERROR(IF(C68=\"\",\"\",(IF('Backend Calcs Standard'!$A$12=1,'Backend Calcs Standard'!S69,(('Backend Calcs Standard'!S69)*0.0283168)))),\"\")","v":3.4329108796296293},{"$f":"IFERROR(IF(D68=\"\",\"\",(IF('Backend Calcs Standard'!$A$12=1,'Backend Calcs Standard'!T69,(('Backend Calcs Standard'!T69)*0.0283168)))),\"\")","v":0.56999999999999984},{"$f":"IFERROR(IF(E68=\"\",\"\",(IF('Backend Calcs Standard'!$A$12=1,'Backend Calcs Standard'!U69,(('Backend Calcs Standard'!U69)*0.0283168)))),\"\")","v":85.822771990740733},{"$f":"IFERROR(IF(F68=\"\",\"\",(IF('Backend Calcs Standard'!$A$12=1,'Backend Calcs Standard'!V69,(('Backend Calcs Standard'!V69)*0.0283168)))),\"\")","v":5.6999999999999984},{"$f":"IF(I68=\"\",\"\",(IF('Backend Calcs Standard'!$A$12=1,'Backend Calcs Standard'!W69,('Backend Calcs Standard'!W69*0.0283168))))","v":13.090891203703707},104.61366319444444,{"$f":"IF('Backend Calcs Standard'!$A$12=1,'Backend Calcs Standard'!X69,('Backend Calcs Standard'!X69*0.0283168))","v":104.61366319444444},{"$f":"IFERROR(IF(H68=\"\",\"\",(IF('Backend Calcs Standard'!$A$12=1,'Backend Calcs Standard'!Y69,('Backend Calcs Standard'!Y69*0.0283168)))),\"\")","v":974.91536458333326},{"$f":"IF(A68=\"\",\"\",IF('Backend Calcs Standard'!$A$12=1,'Backend Calcs Standard'!Z69,'Backend Calcs Standard'!O69))","v":1.1666666666666665},null,1255.3639583333334]
[{"$f":"IFERROR(IF(B69=\"\",\"\",'Backend Calcs Standard'!P70),\"\")","v":13},{"$f":"IFERROR(IF(C69=\"\",\"\",(IF('Backend Calcs Standard'!$A$12=1,'Backend Calcs Standard'!S70,(('Backend Calcs Standard'!S70)*0.0283168)))),\"\")","v":3.4620428240740742},{"$f":"IFERROR(IF(D69=\"\",\"\",(IF('Backend Calcs Standard'!$A$12=1,'Backend Calcs Standard'!T70,(('Backend Calcs Standard'!T70)*0.0283168)))),\"\")","v":0.58000000000000007},{"$f":"IFERROR(IF(E69=\"\",\"\",(IF('Backend Calcs Standard'!$A$12=1,'Backend Calcs Standard'!U70,(('Backend Calcs Standard'!U70)*0.0283168)))),\"\")","v":86.551070601851848},{"$f":"IFERROR(IF(F69=\"\",\"\",(IF('Backend Calcs Standard'!$A$12=1,'Backend Calcs Standard'!V70,(('Backend Calcs Standard'!V70)*0.0283168)))),\"\")","v":5.8000000000000007},{"$f":"IF(I69=\"\",\"\",(IF('Backend Calcs Standard'!$A$12=1,'Backend Calcs Standard'!W70,('Backend Calcs Standard'!W70*0.0283168))))","v":12.759571759259257},105.1106423611111,{"$f":"IF('Backend Calcs Standard'!$A$12=1,'Backend Calcs Standard'!X70,('Backend Calcs Standard'!X70*0.0283168))","v":105.1106423611111},{"$f":"IFERROR(IF(H69=\"\",\"\",(IF('Backend Calcs Standard'!$A$12=1,'Backend Calcs Standard'!Y70,('Backend Calcs Standard'!Y70*0.0283168)))),\"\")","v":870.30170138888877},{"$f":"IF(A69=\"\",\"\",IF('Backend Calcs Standard'!$A$12=1,'Backend Calcs Standard'!Z70,'Backend Calcs Standard'!O70))","v":1.0833333333333333},null,1261.3277083333332]
[{"$f":"IFERROR(IF(B70=\"\",\"\",'Backend Calcs Standard'!P71),\"\")","v":12},{"$f":"IFERROR(IF(C70=\"\",\"\",(IF('Backend Calcs Standard'!$A$12=1,'Backend Calcs Standard'!S71,(('Backend Calcs Standard'!S71)*0.0283168)))),\"\")","v":3.4899537037037041},{"$f":"IFERROR(IF(D70=\"\",\"\",(IF('Backend Calcs Standard'!$A$12=1,'Backend Calcs Standard'!T71,(('Backend Calcs Standard'!T71)*0.0283168)))),\"\")","v":0.58000000000000007},{"$f":"IFERROR(IF(E70=\"\",\"\",(IF('Backend Calcs Standard'!$A$12=1,'Backend Calcs Standard'!U71,(('Backend Calcs Standard'!U71)*0.0283168)))),\"\")","v":87.248842592592595},{"$f":"IFERROR(IF(F70=\"\",\"\",(IF('Backend Calcs Standard'!$A$12=1,'Backend Calcs Standard'!V71,(('Backend Calcs Standard'!V71)*0.0283168)))),\"\")","v":5.8000000000000007},{"$f":"IF(I70=\"\",\"\",(IF('Backend Calcs Standard'!$A$12=1,'Backend Calcs Standard'!W71,('Backend Calcs Standard'!W71*0.0283168))))","v":12.480462962962958},105.52930555555555,{"$f":"IF('Backend Calcs Standard'!$A$12=1,'Backend Calcs Standard'!X71,('Backend Calcs Standard'!X71*0.0283168))","v":105.52930555555555},{"$f":"IFERROR(IF(H70=\"\",\"\",(IF('Backend Calcs Standard'!$A$12=1,'Backend Calcs Standard'!Y71,('Backend Calcs Standard'!Y71*0.0283168)))),\"\")","v":765.19105902777767},{"$f":"IF(A70=\"\",\"\",IF('Backend Calcs Standard'!$A$12=1,'Backend Calcs Standard'!Z71,'Backend Calcs Standard'!O71))","v":1},null,1266.3516666666667]
[{"$f":"IFERROR(IF(B71=\"\",\"\",'Backend Calcs Standard'!P72),\"\")","v":11},{"$f":"IFERROR(IF(C71=\"\",\"\",(IF('Backend Calcs Standard'!$A$12=1,'Backend Calcs Standard'!S72,(('Backend Calcs Standard'!S72)*0.0283168)))),\"\")","v":3.5176157407407405},{"$f":"IFERROR(IF(D71=\"\",\"\",(IF('Backend Calcs Standard'!$A$12=1,'Backend Calcs Standard'!T72,(('Backend Calcs Standard'!T72)*0.0283168)))),\"\")","v":0.57999999999999996},{"$f":"IFERROR(IF(E71=\"\",\"\",(IF('Backend Calcs Standard'!$A$12=1,'Backend Calcs Standard'!U72,(('Backend Calcs Standard'!U72)*0.0283168)))),\"\")","v":87.940393518518505},{"$f":"IFERROR(IF(F71=\"\",\"\",(IF('Backend Calcs Standard'!$A$12=1,'Backend Calcs Standard'!V72,(('Backend Calcs Standard'!V72)*0.0283168)))),\"\")","v":5.8},{"$f":"IF(I71=\"\",\"\",(IF('Backend Calcs Standard'!$A$12=1,'Backend Calcs Standard'!W72,('Backend Calcs Standard'!W72*0.0283168))))","v":12.203842592592595},105.9442361111111,{"$f":"IF('Backend Calcs Standard'!$A$12=1,'Backend Calcs Standard'!X72,('Backend Calcs Standard'!X72*0.0283168))","v":105.9442361111111},{"$f":"IFERROR(IF(H71=\"\",\"\",(IF('Backend Calcs Standard'!$A$12=1,'Backend Calcs Standard'!Y72,('Backend Calcs Standard'!Y72*0.0283168)))),\"\")","v":659.66175347222213},{"$f":"IF(A71=\"\",\"\",IF('Backend Calcs Standard'!$A$12=1,'Backend Calcs Standard'!Z72,'Backend Calcs Standard'!O72))","v":0.91666666666666663},null,1271.3308333333332]
[{"$f":"IFERROR(IF(B72=\"\",\"\",'Backend Calcs Standard'!P73),\"\")","v":10},{"$f":"IFERROR(IF(C72=\"\",\"\",(IF('Backend Calcs Standard'!$A$12=1,'Backend Calcs Standard'!S73,(('Backend Calcs Standard'!S73)*0.0283168)))),\"\")","v":3.545167824074074},{"$f":"IFERROR(IF(D72=\"\",\"\",(IF('Backend Calcs Standard'!$A$12=1,'Backend Calcs Standard'!T73,(('Backend Calcs Standard'!T73)*0.0283168)))),\"\")","v":0.59},{"$f":"IFERROR(IF(E72=\"\",\"\",(IF('Backend Calcs Standard'!$A$12=1,'Backend Calcs Standard'!U73,(('Backend Calcs Standard'!U73)*0.0283168)))),\"\")","v":88.629195601851848},{"$f":"IFERROR(IF(F72=\"\",\"\",(IF('Backend Calcs Standard'!$A$12=1,'Backend Calcs Standard'!V73,(('Backend Calcs Standard'!V73)*0.0283168)))),\"\")","v":5.8999999999999995},{"$f":"IF(I72=\"\",\"\",(IF('Backend Calcs Standard'!$A$12=1,'Backend Calcs Standard'!W73,('Backend Calcs Standard'!W73*0.0283168))))","v":11.888321759259261},106.41751736111111,{"$f":"IF('Backend Calcs Standard'!$A$12=1,'Backend Calcs Standard'!X73,('Backend Calcs Standard'!X73*0.0283168))","v":106.41751736111111},{"$f":"IFERROR(IF(H72=\"\",\"\",(IF('Backend Calcs Standard'!$A$12=1,'Backend Calcs Standard'!Y73,('Backend Calcs Standard'!Y73*0.0283168)))),\"\")","v":553.71751736111105},{"$f":"IF(A72=\"\",\"\",IF('Backend Calcs Standard'!$A$12=1,'Backend Calcs Standard'!Z73,'Backend Calcs Standard'!O73))","v":0.83333333333333326},null,1277.0102083333334]
[{"$f":"IFERROR(IF(B73=\"\",\"\",'Backend Calcs Standard'!P74),\"\")","v":9},{"$f":"IFERROR(IF(C73=\"\",\"\",(IF('Backend Calcs Standard'!$A$12=1,'Backend Calcs Standard'!S74,(('Backend Calcs Standard'!S74)*0.0283168)))),\"\")","v":0},{"$f":"IFERROR(IF(D73=\"\",\"\",(IF('Backend Calcs Standard'!$A$12=1,'Backend Calcs Standard'!T74,(('Backend Calcs Standard'!T74)*0.0283168)))),\"\")","v":0},{"$f":"IFERROR(IF(E73=\"\",\"\",(IF('Backend Calcs Standard'!$A$12=1,'Backend Calcs Standard'!U74,(('Backend Calcs Standard'!U74)*0.0283168)))),\"\")","v":0},{"$f":"IFERROR(IF(F73=\"\",\"\",(IF('Backend Calcs Standard'!$A$12=1,'Backend Calcs Standard'!V74,(('Backend Calcs Standard'!V74)*0.0283168)))),\"\")","v":0},{"$f":"IF(I73=\"\",\"\",(IF('Backend Calcs Standard'!$A$12=1,'Backend Calcs Standard'!W74,('Backend Calcs Standard'!W74*0.0283168))))","v":49.699999999999996},49.699999999999996,{"$f":"IF('Backend Calcs Standard'!$A$12=1,'Backend Calcs Standard'!X74,('Backend Calcs Standard'!X74*0.0283168))","v":49.699999999999996},{"$f":"IFERROR(IF(H73=\"\",\"\",(IF('Backend Calcs Standard'!$A$12=1,'Backend Calcs Standard'!Y74,('Backend Calcs Standard'!Y74*0.0283168)))),\"\")","v":447.29999999999995},{"$f":"IF(A73=\"\",\"\",IF('Backend Calcs Standard'!$A$12=1,'Backend Calcs Standard'!Z74,'Backend Calcs Standard'!O74))","v":0.75},null,596.4]
[{"$f":"IFERROR(IF(B74=\"\",\"\",'Backend Calcs Standard'!P75),\"\")","v":8},{"$f":"IFERROR(IF(C74=\"\",\"\",(IF('Backend Calcs Standard'!$A$12=1,'Backend Calcs Standard'!S75,(('Backend Calcs Standard'!S75)*0.0283168)))),\"\")","v":0},{"$f":"IFERROR(IF(D74=\"\",\"\",(IF('Backend Calcs Standard'!$A$12=1,'Backend Calcs Standard'!T75,(('Backend Calcs Standard'!T75)*0.0283168)))),\"\")","v":0},{"$f":"IFERROR(IF(E74=\"\",\"\",(IF('Backend Calcs Standard'!$A$12=1,'Backend Calcs Standard'!U75,(('Backend Calcs Standard'!U75)*0.0283168)))),\"\")","v":0},{"$f":"IFERROR(IF(F74=\"\",\"\",(IF('Backend Calcs Standard'!$A$12=1,'Backend Calcs Standard'!V75,(('Backend Calcs Standard'!V75)*0.0283168)))),\"\")","v":0},{"$f":"IF(I74=\"\",\"\",(IF('Backend Calcs Standard'!$A$12=1,'Backend Calcs Standard'!W75,('Backend Calcs Standard'!W75*0.0283168))))","v":49.699999999999996},49.699999999999996,{"$f":"IF('Backend Calcs Standard'!$A$12=1,'Backend Calcs Standard'!X75,('Backend Calcs Standard'!X75*0.0283168))","v":49.699999999999996},{"$f":"IFERROR(IF(H74=\"\",\"\",(IF('Backend Calcs Standard'!$A$12=1,'Backend Calcs Standard'!Y75,('Backend Calcs Standard'!Y75*0.0283168)))),\"\")","v":397.59999999999997},{"$f":"IF(A74=\"\",\"\",IF('Backend Calcs Standard'!$A$12=1,'Backend Calcs Standard'!Z75,'Backend Calcs Standard'!O75))","v":0.66666666666666663},null,596.4]
[{"$f":"IFERROR(IF(B75=\"\",\"\",'Backend Calcs Standard'!P76),\"\")","v":7},{"$f":"IFERROR(IF(C75=\"\",\"\",(IF('Backend Calcs Standard'!$A$12=1,'Backend Calcs Standard'!S76,(('Backend Calcs Standard'!S76)*0.0283168)))),\"\")","v":0},{"$f":"IFERROR(IF(D75=\"\",\"\",(IF('Backend Calcs Standard'!$A$12=1,'Backend Calcs Standard'!T76,(('Backend Calcs Standard'!T76)*0.0283168)))),\"\")","v":0},{"$f":"IFERROR(IF(E75=\"\",\"\",(IF('Backend Calcs Standard'!$A$12=1,'Backend Calcs Standard'!U76,(('Backend Calcs Standard'!U76)*0.0283168)))),\"\")","v":0},{"$f":"IFERROR(IF(F75=\"\",\"\",(IF('Backend Calcs Standard'!$A$12=1,'Backend Calcs Standard'!V76,(('Backend Calcs Standard'!V76)*0.0283168)))),\"\")","v":0},{"$f":"IF(I75=\"\",\"\",(IF('Backend Calcs Standard'!$A$12=1,'Backend Calcs Standard'!W76,('Backend Calcs Standard'!W76*0.0283168))))","v":49.699999999999996},49.699999999999996,{"$f":"IF('Backend Calcs Standard'!$A$12=1,'Backend Calcs Standard'!X76,('Backend Calcs Standard'!X76*0.0283168))","v":49.699999999999996},{"$f":"IFERROR(IF(H75=\"\",\"\",(IF('Backend Calcs Standard'!$A$12=1,'Backend Calcs Standard'!Y76,('Backend Calcs Standard'!Y76*0.0283168)))),\"\")","v":347.9},{"$f":"IF(A75=\"\",\"\",IF('Backend Calcs Standard'!$A$12=1,'Backend Calcs Standard'!Z76,'Backend Calcs Standard'!O76))","v":0.58333333333333326},null,596.4]
[{"$f":"IFERROR(IF(B76=\"\",\"\",'Backend Calcs Standard'!P77),\"\")","v":6},{"$f":"IFERROR(IF(C76=\"\",\"\",(IF('Backend Calcs Standard'!$A$12=1,'Backend Calcs Standard'!S77,(('Backend Calcs Standard'!S77)*0.0283168)))),\"\")","v":0},{"$f":"IFERROR(IF(D76=\"\",\"\",(IF('Backend Calcs Standard'!$A$12=1,'Backend Calcs Standard'!T77,(('Backend Calcs Standard'!T77)*0.0283168)))),\"\")","v":0},{"$f":"IFERROR(IF(E76=\"\",\"\",(IF('Backend Calcs Standard'!$A$12=1,'Backend Calcs Standard'!U77,(('Backend Calcs Standard'!U77)*0.0283168)))),\"\")","v":0},{"$f":"IFERROR(IF(F76=\"\",\"\",(IF('Backend Calcs Standard'!$A$12=1,'Backend Calcs Standard'!V77,(('Backend Calcs Standard'!V77)*0.0283168)))),\"\")","v":0},{"$f":"IF(I76=\"\",\"\",(IF('Backend Calcs Standard'!$A$12=1,'Backend Calcs Standard'!W77,('Backend Calcs Standard'!W77*0.0283168))))","v":49.699999999999996},49.699999999999996,{"$f":"IF('Backend Calcs Standard'!$A$12=1,'Backend Calcs Standard'!X77,('Backend Calcs Standard'!X77*0.0283168))","v":49.699999999999996},{"$f":"IFERROR(IF(H76=\"\",\"\",(IF('Backend Calcs Standard'!$A$12=1,'Backend Calcs Standard'!Y77,('Backend Calcs Standard'!Y77*0.0283168)))),\"\")","v":298.2},{"$f":"IF(A76=\"\",\"\",IF('Backend Calcs Standard'!$A$12=1,'Backend Calcs Standard'!Z77,'Backend Calcs Standard'!O77))","v":0.5},null,596.4]
[{"$f":"IFERROR(IF(B77=\"\",\"\",'Backend Calcs Standard'!P78),\"\")","v":5},{"$f":"IFERROR(IF(C77=\"\",\"\",(IF('Backend Calcs Standard'!$A$12=1,'Backend Calcs Standard'!S78,(('Backend Calcs Standard'!S78)*0.0283168)))),\"\")","v":0},{"$f":"IFERROR(IF(D77=\"\",\"\",(IF('Backend Calcs Standard'!$A$12=1,'Backend Calcs Standard'!T78,(('Backend Calcs Standard'!T78)*0.0283168)))),\"\")","v":0},{"$f":"IFERROR(IF(E77=\"\",\"\",(IF('Backend Calcs Standard'!$A$12=1,'Backend Calcs Standard'!U78,(('Backend Calcs Standard'!U78)*0.0283168)))),\"\")","v":0},{"$f":"IFERROR(IF(F77=\"\",\"\",(IF('Backend Calcs Standard'!$A$12=1,'Backend Calcs Standard'!V78,(('Backend Calcs Standard'!V78)*0.0283168)))),\"\")","v":0},{"$f":"IF(I77=\"\",\"\",(IF('Backend Calcs Standard'!$A$12=1,'Backend Calcs Standard'!W78,('Backend Calcs Standard'!W78*0.0283168))))","v":49.699999999999996},49.699999999999996,{"$f":"IF('Backend Calcs Standard'!$A$12=1,'Backend Calcs Standard'!X78,('Backend Calcs Standard'!X78*0.0283168))","v":49.699999999999996},{"$f":"IFERROR(IF(H77=\"\",\"\",(IF('Backend Calcs Standard'!$A$12=1,'Backend Calcs Standard'!Y78,('Backend Calcs Standard'!Y78*0.0283168)))),\"\")","v":248.49999999999997},{"$f":"IF(A77=\"\",\"\",IF('Backend Calcs Standard'!$A$12=1,'Backend Calcs Standard'!Z78,'Backend Calcs Standard'!O78))","v":0.41666666666666663},null,596.4]
[{"$f":"IFERROR(IF(B78=\"\",\"\",'Backend Calcs Standard'!P79),\"\")","v":4},{"$f":"IFERROR(IF(C78=\"\",\"\",(IF('Backend Calcs Standard'!$A$12=1,'Backend Calcs Standard'!S79,(('Backend Calcs Standard'!S79)*0.0283168)))),\"\")","v":0},{"$f":"IFERROR(IF(D78=\"\",\"\",(IF('Backend Calcs Standard'!$A$12=1,'Backend Calcs Standard'!T79,(('Backend Calcs Standard'!T79)*0.0283168)))),\"\")","v":0},{"$f":"IFERROR(IF(E78=\"\",\"\",(IF('Backend Calcs Standard'!$A$12=1,'Backend Calcs Standard'!U79,(('Backend Calcs Standard'!U79)*0.0283168)))),\"\")","v":0},{"$f":"IFERROR(IF(F78=\"\",\"\",(IF('Backend Calcs Standard'!$A$12=1,'Backend Calcs Standard'!V79,(('Backend Calcs Standard'!V79)*0.0283168)))),\"\")","v":0},{"$f":"IF(I78=\"\",\"\",(IF('Backend Calcs Standard'!$A$12=1,'Backend Calcs Standard'!W79,('Backend Calcs Standard'!W79*0.0283168))))","v":49.699999999999996},49.699999999999996,{"$f":"IF('Backend Calcs Standard'!$A$12=1,'Backend Calcs Standard'!X79,('Backend Calcs Standard'!X79*0.0283168))","v":49.699999999999996},{"$f":"IFERROR(IF(H78=\"\",\"\",(IF('Backend Calcs Standard'!$A$12=1,'Backend Calcs Standard'!Y79,('Backend Calcs Standard'!Y79*0.0283168)))),\"\")","v":198.79999999999998},{"$f":"IF(A78=\"\",\"\",IF('Backend Calcs Standard'!$A$12=1,'Backend Calcs Standard'!Z79,'Backend Calcs Standard'!O79))","v":0.33333333333333331},null,596.4]
[{"$f":"IFERROR(IF(B79=\"\",\"\",'Backend Calcs Standard'!P80),\"\")","v":3},{"$f":"IFERROR(IF(C79=\"\",\"\",(IF('Backend Calcs Standard'!$A$12=1,'Backend Calcs Standard'!S80,(('Backend Calcs Standard'!S80)*0.0283168)))),\"\")","v":0},{"$f":"IFERROR(IF(D79=\"\",\"\",(IF('Backend Calcs Standard'!$A$12=1,'Backend Calcs Standard'!T80,(('Backend Calcs Standard'!T80)*0.0283168)))),\"\")","v":0},{"$f":"IFERROR(IF(E79=\"\",\"\",(IF('Backend Calcs Standard'!$A$12=1,'Backend Calcs Standard'!U80,(('Backend Calcs Standard'!U80)*0.0283168)))),\"\")","v":0},{"$f":"IFERROR(IF(F79=\"\",\"\",(IF('Backend Calcs Standard'!$A$12=1,'Backend Calcs Standard'!V80,(('Backend Calcs Standard'!V80)*0.0283168)))),\"\")","v":0},{"$f":"IF(I79=\"\",\"\",(IF('Backend Calcs Standard'!$A$12=1,'Backend Calcs Standard'!W80,('Backend Calcs Standard'!W80*0.0283168))))","v":49.699999999999996},49.699999999999996,{"$f":"IF('Backend Calcs Standard'!$A$12=1,'Backend Calcs Standard'!X80,('Backend Calcs Standard'!X80*0.0283168))","v":49.699999999999996},{"$f":"IFERROR(IF(H79=\"\",\"\",(IF('Backend Calcs Standard'!$A$12=1,'Backend Calcs Standard'!Y80,('Backend Calcs Standard'!Y80*0.0283168)))),\"\")","v":149.1},{"$f":"IF(A79=\"\",\"\",IF('Backend Calcs Standard'!$A$12=1,'Backend Calcs Standard'!Z80,'Backend Calcs Standard'!O80))","v":0.25},null,596.4]
[{"$f":"IFERROR(IF(B80=\"\",\"\",'Backend Calcs Standard'!P81),\"\")","v":2},{"$f":"IFERROR(IF(C80=\"\",\"\",(IF('Backend Calcs Standard'!$A$12=1,'Backend Calcs Standard'!S81,(('Backend Calcs Standard'!S81)*0.0283168)))),\"\")","v":0},{"$f":"IFERROR(IF(D80=\"\",\"\",(IF('Backend Calcs Standard'!$A$12=1,'Backend Calcs Standard'!T81,(('Backend Calcs Standard'!T81)*0.0283168)))),\"\")","v":0},{"$f":"IFERROR(IF(E80=\"\",\"\",(IF('Backend Calcs Standard'!$A$12=1,'Backend Calcs Standard'!U81,(('Backend Calcs Standard'!U81)*0.0283168)))),\"\")","v":0},{"$f":"IFERROR(IF(F80=\"\",\"\",(IF('Backend Calcs Standard'!$A$12=1,'Backend Calcs Standard'!V81,(('Backend Calcs Standard'!V81)*0.0283168)))),\"\")","v":0},{"$f":"IF(I80=\"\",\"\",(IF('Backend Calcs Standard'!$A$12=1,'Backend Calcs Standard'!W81,('Backend Calcs Standard'!W81*0.0283168))))","v":49.699999999999996},{"$f":"IFERROR(IF(F80=\"\",\"\",(F80+E80+D80)),\"\")","v":49.699999999999996},{"$f":"IF('Backend Calcs Standard'!$A$12=1,'Backend Calcs Standard'!X81,('Backend Calcs Standard'!X81*0.0283168))","v":49.699999999999996},{"$f":"IFERROR(IF(H80=\"\",\"\",(IF('Backend Calcs Standard'!$A$12=1,'Backend Calcs Standard'!Y81,('Backend Calcs Standard'!Y81*0.0283168)))),\"\")","v":99.399999999999991},{"$f":"IF(A80=\"\",\"\",IF('Backend Calcs Standard'!$A$12=1,'Backend Calcs Standard'!Z81,'Backend Calcs Standard'!O81))","v":0.16666666666666666},null,596.4]
[{"$f":"IFERROR(IF(B81=\"\",\"\",'Backend Calcs Standard'!P82),\"\")","v":1},{"$f":"IFERROR(IF(C81=\"\",\"\",(IF('Backend Calcs Standard'!$A$12=1,'Backend Calcs Standard'!S82,(('Backend Calcs Standard'!S82)*0.0283168)))),\"\")","v":0},{"$f":"IFERROR(IF(D81=\"\",\"\",(IF('Backend Calcs Standard'!$A$12=1,'Backend Calcs Standard'!T82,(('Backend Calcs Standard'!T82)*0.0283168)))),\"\")","v":0},{"$f":"IFERROR(IF(E81=\"\",\"\",(IF('Backend Calcs Standard'!$A$12=1,'Backend Calcs Standard'!U82,(('Backend Calcs Standard'!U82)*0.0283168)))),\"\")","v":0},{"$f":"IFERROR(IF(F81=\"\",\"\",(IF('Backend Calcs Standard'!$A$12=1,'Backend Calcs Standard'!V82,(('Backend Calcs Standard'!V82)*0.0283168)))),\"\")","v":0},{"$f":"IF(I81=\"\",\"\",(IF('Backend Calcs Standard'!$A$12=1,'Backend Calcs Standard'!W82,('Backend Calcs Standard'!W82*0.0283168))))","v":49.699999999999996},{"$f":"IFERROR(IF(F81=\"\",\"\",(F81+E81+D81)),\"\")","v":49.699999999999996},{"$f":"IF('Backend Calcs Standard'!$A$12=1,'Backend Calcs Standard'!X82,('Backend Calcs Standard'!X82*0.0283168))","v":49.699999999999996},{"$f":"IFERROR(IF(H81=\"\",\"\",(IF('Backend Calcs Standard'!$A$12=1,'Backend Calcs Standard'!Y82,('Backend Calcs Standard'!Y82*0.0283168)))),\"\")","v":49.699999999999996},{"$f":"IF(A81=\"\",\"\",IF('Backend Calcs Standard'!$A$12=1,'Backend Calcs Standard'!Z82,'Backend Calcs Standard'!O82))","v":8.3333333333333329E-2},null,{"$f":"IF(G81=\"\",\"\",G81*12)","v":596.4}]
[{"$f":"IFERROR(IF(B82=\"\",\"\",'Backend Calcs Standard'!P83),\"\")","v":0},{"$f":"IFERROR(IF(C82=\"\",\"\",(IF('Backend Calcs Standard'!$A$12=1,'Backend Calcs Standard'!S83,(('Backend Calcs Standard'!S83)*0.0283168)))),\"\")","v":0},{"$f":"IFERROR(IF(D82=\"\",\"\",(IF('Backend Calcs Standard'!$A$12=1,'Backend Calcs Standard'!T83,(('Backend Calcs Standard'!T83)*0.0283168)))),\"\")","v":0},{"$f":"IFERROR(IF(E82=\"\",\"\",(IF('Backend Calcs Standard'!$A$12=1,'Backend Calcs Standard'!U83,(('Backend Calcs Standard'!U83)*0.0283168)))),\"\")","v":0},{"$f":"IFERROR(IF(F82=\"\",\"\",(IF('Backend Calcs Standard'!$A$12=1,'Backend Calcs Standard'!V83,(('Backend Calcs Standard'!V83)*0.0283168)))),\"\")","v":0},{"$f":"IF(I82=\"\",\"\",(IF('Backend Calcs Standard'!$A$12=1,'Backend Calcs Standard'!W83,('Backend Calcs Standard'!W83*0.0283168))))","v":0},{"$f":"IFERROR(IF(F82=\"\",\"\",(F82+E82+D82)),\"\")","v":0},{"$f":"IF('Backend Calcs Standard'!$A$12=1,'Backend Calcs Standard'!X83,('Backend Calcs Standard'!X83*0.0283168))","v":0},{"$f":"IFERROR(IF(H82=\"\",\"\",(IF('Backend Calcs Standard'!$A$12=1,'Backend Calcs Standard'!Y83,'Backend Calcs Standard'!Y83*0.0283168))),\"\")","v":0},{"$f":"IF(A82=\"\",\"\",IF('Backend Calcs Standard'!$A$12=1,'Backend Calcs Standard'!Z83,'Backend Calcs Standard'!O83))","v":0},null,0]
[{"$f":"IFERROR(IF(B83=\"\",\"\",'Backend Calcs Standard'!P84),\"\")","v":""},{"$f":"IFERROR(IF(C83=\"\",\"\",(IF('Backend Calcs Standard'!$A$12=1,'Backend Calcs Standard'!S84,(('Backend Calcs Standard'!S84)*0.0283168)))),\"\")","v":""},{"$f":"IFERROR(IF(D83=\"\",\"\",(IF('Backend Calcs Standard'!$A$12=1,'Backend Calcs Standard'!T84,(('Backend Calcs Standard'!T84)*0.0283168)))),\"\")","v":""},{"$f":"IFERROR(IF(E83=\"\",\"\",(IF('Backend Calcs Standard'!$A$12=1,'Backend Calcs Standard'!U84,(('Backend Calcs Standard'!U84)*0.0283168)))),\"\")","v":""},{"$f":"IFERROR(IF(F83=\"\",\"\",(IF('Backend Calcs Standard'!$A$12=1,'Backend Calcs Standard'!V84,(('Backend Calcs Standard'!V84)*0.0283168)))),\"\")","v":""},{"$f":"IF(I83=\"\",\"\",(IF('Backend Calcs Standard'!$A$12=1,'Backend Calcs Standard'!W84,('Backend Calcs Standard'!W84*0.0283168))))","v":""},{"$f":"IFERROR(IF(F83=\"\",\"\",(F83+E83+D83)),\"\")","v":""},{"$f":"IF('Backend Calcs Standard'!$A$12=1,'Backend Calcs Standard'!X84,('Backend Calcs Standard'!X84*0.0283168))","v":""},{"$f":"IFERROR(IF(H83=\"\",\"\",(IF('Backend Calcs Standard'!$A$12=1,'Backend Calcs Standard'!Y84,'Backend Calcs Standard'!Y84*0.0283168))),\"\")","v":""},{"$f":"IF(A83=\"\",\"\",IF('Backend Calcs Standard'!$A$12=1,'Backend Calcs Standard'!Z84,'Backend Calcs Standard'!O84))","v":""},null,""]
[{"$f":"IFERROR(IF(B84=\"\",\"\",'Backend Calcs Standard'!P85),\"\")","v":""},{"$f":"IFERROR(IF(C84=\"\",\"\",(IF('Backend Calcs Standard'!$A$12=1,'Backend Calcs Standard'!S85,(('Backend Calcs Standard'!S85)*0.0283168)))),\"\")","v":""},{"$f":"IFERROR(IF(D84=\"\",\"\",(IF('Backend Calcs Standard'!$A$12=1,'Backend Calcs Standard'!T85,(('Backend Calcs Standard'!T85)*0.0283168)))),\"\")","v":""},{"$f":"IFERROR(IF(E84=\"\",\"\",(IF('Backend Calcs Standard'!$A$12=1,'Backend Calcs Standard'!U85,(('Backend Calcs Standard'!U85)*0.0283168)))),\"\")","v":""},{"$f":"IFERROR(IF(F84=\"\",\"\",(IF('Backend Calcs Standard'!$A$12=1,'Backend Calcs Standard'!V85,(('Backend Calcs Standard'!V85)*0.0283168)))),\"\")","v":""},{"$f":"IF(I84=\"\",\"\",(IF('Backend Calcs Standard'!$A$12=1,'Backend Calcs Standard'!W85,('Backend Calcs Standard'!W85*0.0283168))))","v":""},"",{"$f":"IF('Backend Calcs Standard'!$A$12=1,'Backend Calcs Standard'!X85,('Backend Calcs Standard'!X85*0.0283168))","v":""},{"$f":"IFERROR(IF(H84=\"\",\"\",(IF('Backend Calcs Standard'!$A$12=1,'Backend Calcs Standard'!Y85,'Backend Calcs Standard'!Y85*0.0283168))),\"\")","v":""},{"$f":"IF(A84=\"\",\"\",IF('Backend Calcs Standard'!$A$12=1,'Backend Calcs Standard'!Z85,'Backend Calcs Standard'!O85))","v":""},null,""]
[{"$f":"IFERROR(IF(B85=\"\",\"\",'Backend Calcs Standard'!P86),\"\")","v":""},{"$f":"IFERROR(IF(C85=\"\",\"\",(IF('Backend Calcs Standard'!$A$12=1,'Backend Calcs Standard'!S86,(('Backend Calcs Standard'!S86)*0.0283168)))),\"\")","v":""},{"$f":"IFERROR(IF(D85=\"\",\"\",(IF('Backend Calcs Standard'!$A$12=1,'Backend Calcs Standard'!T86,(('Backend Calcs Standard'!T86)*0.0283168)))),\"\")","v":""},{"$f":"IFERROR(IF(E85=\"\",\"\",(IF('Backend Calcs Standard'!$A$12=1,'Backend Calcs Standard'!U86,(('Backend Calcs Standard'!U86)*0.0283168)))),\"\")","v":""},{"$f":"IFERROR(IF(F85=\"\",\"\",(IF('Backend Calcs Standard'!$A$12=1,'Backend Calcs Standard'!V86,(('Backend Calcs Standard'!V86)*0.0283168)))),\"\")","v":""},{"$f":"IF(I85=\"\",\"\",(IF('Backend Calcs Standard'!$A$12=1,'Backend Calcs Standard'!W86,('Backend Calcs Standard'!W86*0.0283168))))","v":""},"",{"$f":"IF('Backend Calcs Standard'!$A$12=1,'Backend Calcs Standard'!X86,('Backend Calcs Standard'!X86*0.0283168))","v":""},{"$f":"IFERROR(IF(H85=\"\",\"\",(IF('Backend Calcs Standard'!$A$12=1,'Backend Calcs Standard'!Y86,'Backend Calcs Standard'!Y86*0.0283168))),\"\")","v":""},{"$f":"IF(A85=\"\",\"\",IF('Backend Calcs Standard'!$A$12=1,'Backend Calcs Standard'!Z86,'Backend Calcs Standard'!O86))","v":""},null,""]
[{"$f":"IFERROR(IF(B86=\"\",\"\",'Backend Calcs Standard'!P87),\"\")","v":""},{"$f":"IFERROR(IF(C86=\"\",\"\",(IF('Backend Calcs Standard'!$A$12=1,'Backend Calcs Standard'!S87,(('Backend Calcs Standard'!S87)*0.0283168)))),\"\")","v":""},{"$f":"IFERROR(IF(D86=\"\",\"\",(IF('Backend Calcs Standard'!$A$12=1,'Backend Calcs Standard'!T87,(('Backend Calcs Standard'!T87)*0.0283168)))),\"\")","v":""},{"$f":"IFERROR(IF(E86=\"\",\"\",(IF('Backend Calcs Standard'!$A$12=1,'Backend Calcs Standard'!U87,(('Backend Calcs Standard'!U87)*0.0283168)))),\"\")","v":""},{"$f":"IFERROR(IF(F86=\"\",\"\",(IF('Backend Calcs Standard'!$A$12=1,'Backend Calcs Standard'!V87,(('Backend Calcs Standard'!V87)*0.0283168)))),\"\")","v":""},{"$f":"IF(I86=\"\",\"\",(IF('Backend Calcs Standard'!$A$12=1,'Backend Calcs Standard'!W87,('Backend Calcs Standard'!W87*0.0283168))))","v":""},"",{"$f":"IF('Backend Calcs Standard'!$A$12=1,'Backend Calcs Standard'!X87,('Backend Calcs Standard'!X87*0.0283168))","v":""},{"$f":"IFERROR(IF(H86=\"\",\"\",(IF('Backend Calcs Standard'!$A$12=1,'Backend Calcs Standard'!Y87,'Backend Calcs Standard'!Y87*0.0283168))),\"\")","v":""},{"$f":"IF(A86=\"\",\"\",IF('Backend Calcs Standard'!$A$12=1,'Backend Calcs Standard'!Z87,'Backend Calcs Standard'!O87))","v":""},null,""]
[{"$f":"IFERROR(IF(B87=\"\",\"\",'Backend Calcs Standard'!P88),\"\")","v":""},{"$f":"IFERROR(IF(C87=\"\",\"\",(IF('Backend Calcs Standard'!$A$12=1,'Backend Calcs Standard'!S88,(('Backend Calcs Standard'!S88)*0.0283168)))),\"\")","v":""},{"$f":"IFERROR(IF(D87=\"\",\"\",(IF('Backend Calcs Standard'!$A$12=1,'Backend Calcs Standard'!T88,(('Backend Calcs Standard'!T88)*0.0283168)))),\"\")","v":""},{"$f":"IFERROR(IF(E87=\"\",\"\",(IF('Backend Calcs Standard'!$A$12=1,'Backend Calcs Standard'!U88,(('Backend Calcs Standard'!U88)*0.0283168)))),\"\")","v":""},{"$f":"IFERROR(IF(F87=\"\",\"\",(IF('Backend Calcs Standard'!$A$12=1,'Backend Calcs Standard'!V88,(('Backend Calcs Standard'!V88)*0.0283168)))),\"\")","v":""},{"$f":"IF(I87=\"\",\"\",(IF('Backend Calcs Standard'!$A$12=1,'Backend Calcs Standard'!W88,('Backend Calcs Standard'!W88*0.0283168))))","v":""},"",{"$f":"IF('Backend Calcs Standard'!$A$12=1,'Backend Calcs Standard'!X88,('Backend Calcs Standard'!X88*0.0283168))","v":""},{"$f":"IFERROR(IF(H87=\"\",\"\",(IF('Backend Calcs Standard'!$A$12=1,'Backend Calcs Standard'!Y88,'Backend Calcs Standard'!Y88*0.0283168))),\"\")","v":""},{"$f":"IF(A87=\"\",\"\",IF('Backend Calcs Standard'!$A$12=1,'Backend Calcs Standard'!Z88,'Backend Calcs Standard'!O88))","v":""},null,""]
[{"$f":"IFERROR(IF(B88=\"\",\"\",'Backend Calcs Standard'!P89),\"\")","v":""},{"$f":"IFERROR(IF(C88=\"\",\"\",(IF('Backend Calcs Standard'!$A$12=1,'Backend Calcs Standard'!S89,(('Backend Calcs Standard'!S89)*0.0283168)))),\"\")","v":""},{"$f":"IFERROR(IF(D88=\"\",\"\",(IF('Backend Calcs Standard'!$A$12=1,'Backend Calcs Standard'!T89,(('Backend Calcs Standard'!T89)*0.0283168)))),\"\")","v":""},{"$f":"IFERROR(IF(E88=\"\",\"\",(IF('Backend Calcs Standard'!$A$12=1,'Backend Calcs Standard'!U89,(('Backend Calcs Standard'!U89)*0.0283168)))),\"\")","v":""},{"$f":"IFERROR(IF(F88=\"\",\"\",(IF('Backend Calcs Standard'!$A$12=1,'Backend Calcs Standard'!V89,(('Backend Calcs Standard'!V89)*0.0283168)))),\"\")","v":""},{"$f":"IF(I88=\"\",\"\",(IF('Backend Calcs Standard'!$A$12=1,'Backend Calcs Standard'!W89,('Backend Calcs Standard'!W89*0.0283168))))","v":""},"",{"$f":"IF('Backend Calcs Standard'!$A$12=1,'Backend Calcs Standard'!X89,('Backend Calcs Standard'!X89*0.0283168))","v":""},{"$f":"IFERROR(IF(H88=\"\",\"\",(IF('Backend Calcs Standard'!$A$12=1,'Backend Calcs Standard'!Y89,'Backend Calcs Standard'!Y89*0.0283168))),\"\")","v":""},{"$f":"IF(A88=\"\",\"\",IF('Backend Calcs Standard'!$A$12=1,'Backend Calcs Standard'!Z89,'Backend Calcs Standard'!O89))","v":""},null,""]
[{"$f":"IFERROR(IF(B89=\"\",\"\",'Backend Calcs Standard'!P90),\"\")","v":""},{"$f":"IFERROR(IF(C89=\"\",\"\",(IF('Backend Calcs Standard'!$A$12=1,'Backend Calcs Standard'!S90,(('Backend Calcs Standard'!S90)*0.0283168)))),\"\")","v":""},{"$f":"IFERROR(IF(D89=\"\",\"\",(IF('Backend Calcs Standard'!$A$12=1,'Backend Calcs Standard'!T90,(('Backend Calcs Standard'!T90)*0.0283168)))),\"\")","v":""},{"$f":"IFERROR(IF(E89=\"\",\"\",(IF('Backend Calcs Standard'!$A$12=1,'Backend Calcs Standard'!U90,(('Backend Calcs Standard'!U90)*0.0283168)))),\"\")","v":""},{"$f":"IFERROR(IF(F89=\"\",\"\",(IF('Backend Calcs Standard'!$A$12=1,'Backend Calcs Standard'!V90,(('Backend Calcs Standard'!V90)*0.0283168)))),\"\")","v":""},{"$f":"IF(I89=\"\",\"\",(IF('Backend Calcs Standard'!$A$12=1,'Backend Calcs Standard'!W90,('Backend Calcs Standard'!W90*0.0283168))))","v":""},"",{"$f":"IF('Backend Calcs Standard'!$A$12=1,'Backend Calcs Standard'!X90,('Backend Calcs Standard'!X90*0.0283168))","v":""},{"$f":"IFERROR(IF(H89=\"\",\"\",(IF('Backend Calcs Standard'!$A$12=1,'Backend Calcs Standard'!Y90,'Backend Calcs Standard'!Y90*0.0283168))),\"\")","v":""},{"$f":"IF(A89=\"\",\"\",IF('Backend Calcs Standard'!$A$12=1,'Backend Calcs Standard'!Z90,'Backend Calcs Standard'!O90))","v":""}]
[{"$f":"IFERROR(IF(B90=\"\",\"\",'Backend Calcs Standard'!P91),\"\")","v":""},{"$f":"IFERROR(IF(C90=\"\",\"\",(IF('Backend Calcs Standard'!$A$12=1,'Backend Calcs Standard'!S91,(('Backend Calcs Standard'!S91)*0.0283168)))),\"\")","v":""},{"$f":"IFERROR(IF(D90=\"\",\"\",(IF('Backend Calcs Standard'!$A$12=1,'Backend Calcs Standard'!T91,(('Backend Calcs Standard'!T91)*0.0283168)))),\"\")","v":""},{"$f":"IFERROR(IF(E90=\"\",\"\",(IF('Backend Calcs Standard'!$A$12=1,'Backend Calcs Standard'!U91,(('Backend Calcs Standard'!U91)*0.0283168)))),\"\")","v":""},{"$f":"IFERROR(IF(F90=\"\",\"\",(IF('Backend Calcs Standard'!$A$12=1,'Backend Calcs Standard'!V91,(('Backend Calcs Standard'!V91)*0.0283168)))),\"\")","v":""},{"$f":"IF(I90=\"\",\"\",(IF('Backend Calcs Standard'!$A$12=1,'Backend Calcs Standard'!W91,('Backend Calcs Standard'!W91*0.0283168))))","v":""},"",{"$f":"IF('Backend Calcs Standard'!$A$12=1,'Backend Calcs Standard'!X91,('Backend Calcs Standard'!X91*0.0283168))","v":""},{"$f":"IFERROR(IF(H90=\"\",\"\",(IF('Backend Calcs Standard'!$A$12=1,'Backend Calcs Standard'!Y91,'Backend Calcs Standard'!Y91*0.0283168))),\"\")","v":""},{"$f":"IF(A90=\"\",\"\",IF('Backend Calcs Standard'!$A$12=1,'Backend Calcs Standard'!Z91,'Backend Calcs Standard'!O91))","v":""}]
[{"$f":"IFERROR(IF(B91=\"\",\"\",'Backend Calcs Standard'!P92),\"\")","v":""},{"$f":"IFERROR(IF(C91=\"\",\"\",(IF('Backend Calcs Standard'!$A$12=1,'Backend Calcs Standard'!S92,(('Backend Calcs Standard'!S92)*0.0283168)))),\"\")","v":""},{"$f":"IFERROR(IF(D91=\"\",\"\",(IF('Backend Calcs Standard'!$A$12=1,'Backend Calcs Standard'!T92,(('Backend Calcs Standard'!T92)*0.0283168)))),\"\")","v":""},{"$f":"IFERROR(IF(E91=\"\",\"\",(IF('Backend Calcs Standard'!$A$12=1,'Backend Calcs Standard'!U92,(('Backend Calcs Standard'!U92)*0.0283168)))),\"\")","v":""},{"$f":"IFERROR(IF(F91=\"\",\"\",(IF('Backend Calcs Standard'!$A$12=1,'Backend Calcs Standard'!V92,(('Backend Calcs Standard'!V92)*0.0283168)))),\"\")","v":""},{"$f":"IF(I91=\"\",\"\",(IF('Backend Calcs Standard'!$A$12=1,'Backend Calcs Standard'!W92,('Backend Calcs Standard'!W92*0.0283168))))","v":""},"",{"$f":"IF('Backend Calcs Standard'!$A$12=1,'Backend Calcs Standard'!X92,('Backend Calcs Standard'!X92*0.0283168))","v":""},{"$f":"IFERROR(IF(H91=\"\",\"\",(IF('Backend Calcs Standard'!$A$12=1,'Backend Calcs Standard'!Y92,'Backend Calcs Standard'!Y92*0.0283168))),\"\")","v":""},{"$f":"IF(A91=\"\",\"\",IF('Backend Calcs Standard'!$A$12=1,'Backend Calcs Standard'!Z92,'Backend Calcs Standard'!O92))","v":""}]
[{"$f":"IFERROR(IF(B92=\"\",\"\",'Backend Calcs Standard'!P93),\"\")","v":""},{"$f":"IFERROR(IF(C92=\"\",\"\",(IF('Backend Calcs Standard'!$A$12=1,'Backend Calcs Standard'!S93,(('Backend Calcs Standard'!S93)*0.0283168)))),\"\")","v":""},{"$f":"IFERROR(IF(D92=\"\",\"\",(IF('Backend Calcs Standard'!$A$12=1,'Backend Calcs Standard'!T93,(('Backend Calcs Standard'!T93)*0.0283168)))),\"\")","v":""},{"$f":"IFERROR(IF(E92=\"\",\"\",(IF('Backend Calcs Standard'!$A$12=1,'Backend Calcs Standard'!U93,(('Backend Calcs Standard'!U93)*0.0283168)))),\"\")","v":""},{"$f":"IFERROR(IF(F92=\"\",\"\",(IF('Backend Calcs Standard'!$A$12=1,'Backend Calcs Standard'!V93,(('Backend Calcs Standard'!V93)*0.0283168)))),\"\")","v":""},{"$f":"IF(I92=\"\",\"\",(IF('Backend Calcs Standard'!$A$12=1,'Backend Calcs Standard'!W93,('Backend Calcs Standard'!W93*0.0283168))))","v":""},"",{"$f":"IF('Backend Calcs Standard'!$A$12=1,'Backend Calcs Standard'!X93,('Backend Calcs Standard'!X93*0.0283168))","v":""},{"$f":"IFERROR(IF(H92=\"\",\"\",(IF('Backend Calcs Standard'!$A$12=1,'Backend Calcs Standard'!Y93,'Backend Calcs Standard'!Y93*0.0283168))),\"\")","v":""},{"$f":"IF(A92=\"\",\"\",IF('Backend Calcs Standard'!$A$12=1,'Backend Calcs Standard'!Z93,'Backend Calcs Standard'!O93))","v":""}]
[{"$f":"IFERROR(IF(B93=\"\",\"\",'Backend Calcs Standard'!P94),\"\")","v":""},{"$f":"IFERROR(IF(C93=\"\",\"\",(IF('Backend Calcs Standard'!$A$12=1,'Backend Calcs Standard'!S94,(('Backend Calcs Standard'!S94)*0.0283168)))),\"\")","v":""},{"$f":"IFERROR(IF(D93=\"\",\"\",(IF('Backend Calcs Standard'!$A$12=1,'Backend Calcs Standard'!T94,(('Backend Calcs Standard'!T94)*0.0283168)))),\"\")","v":""},{"$f":"IFERROR(IF(E93=\"\",\"\",(IF('Backend Calcs Standard'!$A$12=1,'Backend Calcs Standard'!U94,(('Backend Calcs Standard'!U94)*0.0283168)))),\"\")","v":""},{"$f":"IFERROR(IF(F93=\"\",\"\",(IF('Backend Calcs Standard'!$A$12=1,'Backend Calcs Standard'!V94,(('Backend Calcs Standard'!V94)*0.0283168)))),\"\")","v":""},{"$f":"IF(I93=\"\",\"\",(IF('Backend Calcs Standard'!$A$12=1,'Backend Calcs Standard'!W94,('Backend Calcs Standard'!W94*0.0283168))))","v":""},"",{"$f":"IF('Backend Calcs Standard'!$A$12=1,'Backend Calcs Standard'!X94,('Backend Calcs Standard'!X94*0.0283168))","v":""},{"$f":"IFERROR(IF(H93=\"\",\"\",(IF('Backend Calcs Standard'!$A$12=1,'Backend Calcs Standard'!Y94,'Backend Calcs Standard'!Y94*0.0283168))),\"\")","v":""},{"$f":"IF(A93=\"\",\"\",IF('Backend Calcs Standard'!$A$12=1,'Backend Calcs Standard'!Z94,'Backend Calcs Standard'!O94))","v":""}]
[{"$f":"IFERROR(IF(B94=\"\",\"\",'Backend Calcs Standard'!P95),\"\")","v":""},{"$f":"IFERROR(IF(C94=\"\",\"\",(IF('Backend Calcs Standard'!$A$12=1,'Backend Calcs Standard'!S95,(('Backend Calcs Standard'!S95)*0.0283168)))),\"\")","v":""},{"$f":"IFERROR(IF(D94=\"\",\"\",(IF('Backend Calcs Standard'!$A$12=1,'Backend Calcs Standard'!T95,(('Backend Calcs Standard'!T95)*0.0283168)))),\"\")","v":""},{"$f":"IFERROR(IF(E94=\"\",\"\",(IF('Backend Calcs Standard'!$A$12=1,'Backend Calcs Standard'!U95,(('Backend Calcs Standard'!U95)*0.0283168)))),\"\")","v":""},{"$f":"IFERROR(IF(F94=\"\",\"\",(IF('Backend Calcs Standard'!$A$12=1,'Backend Calcs Standard'!V95,(('Backend Calcs Standard'!V95)*0.0283168)))),\"\")","v":""},{"$f":"IF(I94=\"\",\"\",(IF('Backend Calcs Standard'!$A$12=1,'Backend Calcs Standard'!W95,('Backend Calcs Standard'!W95*0.0283168))))","v":""},"",{"$f":"IF('Backend Calcs Standard'!$A$12=1,'Backend Calcs Standard'!X95,('Backend Calcs Standard'!X95*0.0283168))","v":""},{"$f":"IFERROR(IF(H94=\"\",\"\",(IF('Backend Calcs Standard'!$A$12=1,'Backend Calcs Standard'!Y95,'Backend Calcs Standard'!Y95*0.0283168))),\"\")","v":""},{"$f":"IF(A94=\"\",\"\",IF('Backend Calcs Standard'!$A$12=1,'Backend Calcs Standard'!Z95,'Backend Calcs Standard'!O95))","v":""}]
[{"$f":"IFERROR(IF(B95=\"\",\"\",'Backend Calcs Standard'!P96),\"\")","v":""},{"$f":"IFERROR(IF(C95=\"\",\"\",(IF('Backend Calcs Standard'!$A$12=1,'Backend Calcs Standard'!S96,(('Backend Calcs Standard'!S96)*0.0283168)))),\"\")","v":""},{"$f":"IFERROR(IF(D95=\"\",\"\",(IF('Backend Calcs Standard'!$A$12=1,'Backend Calcs Standard'!T96,(('Backend Calcs Standard'!T96)*0.0283168)))),\"\")","v":""},{"$f":"IFERROR(IF(E95=\"\",\"\",(IF('Backend Calcs Standard'!$A$12=1,'Backend Calcs Standard'!U96,(('Backend Calcs Standard'!U96)*0.0283168)))),\"\")","v":""},{"$f":"IFERROR(IF(F95=\"\",\"\",(IF('Backend Calcs Standard'!$A$12=1,'Backend Calcs Standard'!V96,(('Backend Calcs Standard'!V96)*0.0283168)))),\"\")","v":""},{"$f":"IF(I95=\"\",\"\",(IF('Backend Calcs Standard'!$A$12=1,'Backend Calcs Standard'!W96,('Backend Calcs Standard'!W96*0.0283168))))","v":""},"",{"$f":"IF('Backend Calcs Standard'!$A$12=1,'Backend Calcs Standard'!X96,('Backend Calcs Standard'!X96*0.0283168))","v":""},{"$f":"IFERROR(IF(H95=\"\",\"\",(IF('Backend Calcs Standard'!$A$12=1,'Backend Calcs Standard'!Y96,'Backend Calcs Standard'!Y96*0.0283168))),\"\")","v":""},{"$f":"IF(A95=\"\",\"\",IF('Backend Calcs Standard'!$A$12=1,'Backend Calcs Standard'!Z96,'Backend Calcs Standard'!O96))","v":""}]
[{"$f":"IFERROR(IF(B96=\"\",\"\",'Backend Calcs Standard'!P97),\"\")","v":""},{"$f":"IFERROR(IF(C96=\"\",\"\",(IF('Backend Calcs Standard'!$A$12=1,'Backend Calcs Standard'!S97,(('Backend Calcs Standard'!S97)*0.0283168)))),\"\")","v":""},{"$f":"IFERROR(IF(D96=\"\",\"\",(IF('Backend Calcs Standard'!$A$12=1,'Backend Calcs Standard'!T97,(('Backend Calcs Standard'!T97)*0.0283168)))),\"\")","v":""},{"$f":"IFERROR(IF(E96=\"\",\"\",(IF('Backend Calcs Standard'!$A$12=1,'Backend Calcs Standard'!U97,(('Backend Calcs Standard'!U97)*0.0283168)))),\"\")","v":""},{"$f":"IFERROR(IF(F96=\"\",\"\",(IF('Backend Calcs Standard'!$A$12=1,'Backend Calcs Standard'!V97,(('Backend Calcs Standard'!V97)*0.0283168)))),\"\")","v":""},{"$f":"IF(I96=\"\",\"\",(IF('Backend Calcs Standard'!$A$12=1,'Backend Calcs Standard'!W97,('Backend Calcs Standard'!W97*0.0283168))))","v":""},"",{"$f":"IF('Backend Calcs Standard'!$A$12=1,'Backend Calcs Standard'!X97,('Backend Calcs Standard'!X97*0.0283168))","v":""},{"$f":"IFERROR(IF(H96=\"\",\"\",(IF('Backend Calcs Standard'!$A$12=1,'Backend Calcs Standard'!Y97,'Backend Calcs Standard'!Y97*0.0283168))),\"\")","v":""},{"$f":"IF(A96=\"\",\"\",IF('Backend Calcs Standard'!$A$12=1,'Backend Calcs Standard'!Z97,'Backend Calcs Standard'!O97))","v":""}]
[{"$f":"IFERROR(IF(B97=\"\",\"\",'Backend Calcs Standard'!P98),\"\")","v":""},{"$f":"IFERROR(IF(C97=\"\",\"\",(IF('Backend Calcs Standard'!$A$12=1,'Backend Calcs Standard'!S98,(('Backend Calcs Standard'!S98)*0.0283168)))),\"\")","v":""},{"$f":"IFERROR(IF(D97=\"\",\"\",(IF('Backend Calcs Standard'!$A$12=1,'Backend Calcs Standard'!T98,(('Backend Calcs Standard'!T98)*0.0283168)))),\"\")","v":""},{"$f":"IFERROR(IF(E97=\"\",\"\",(IF('Backend Calcs Standard'!$A$12=1,'Backend Calcs Standard'!U98,(('Backend Calcs Standard'!U98)*0.0283168)))),\"\")","v":""},{"$f":"IFERROR(IF(F97=\"\",\"\",(IF('Backend Calcs Standard'!$A$12=1,'Backend Calcs Standard'!V98,(('Backend Calcs Standard'!V98)*0.0283168)))),\"\")","v":""},{"$f":"IF(I97=\"\",\"\",(IF('Backend Calcs Standard'!$A$12=1,'Backend Calcs Standard'!W98,('Backend Calcs Standard'!W98*0.0283168))))","v":""},"",{"$f":"IF('Backend Calcs Standard'!$A$12=1,'Backend Calcs Standard'!X98,('Backend Calcs Standard'!X98*0.0283168))","v":""},{"$f":"IFERROR(IF(H97=\"\",\"\",(IF('Backend Calcs Standard'!$A$12=1,'Backend Calcs Standard'!Y98,'Backend Calcs Standard'!Y98*0.0283168))),\"\")","v":""},{"$f":"IF(A97=\"\",\"\",IF('Backend Calcs Standard'!$A$12=1,'Backend Calcs Standard'!Z98,'Backend Calcs Standard'!O98))","v":""}]
[{"$f":"IFERROR(IF(B98=\"\",\"\",'Backend Calcs Standard'!P99),\"\")","v":""},{"$f":"IFERROR(IF(C98=\"\",\"\",(IF('Backend Calcs Standard'!$A$12=1,'Backend Calcs Standard'!S99,(('Backend Calcs Standard'!S99)*0.0283168)))),\"\")","v":""},{"$f":"IFERROR(IF(D98=\"\",\"\",(IF('Backend Calcs Standard'!$A$12=1,'Backend Calcs Standard'!T99,(('Backend Calcs Standard'!T99)*0.0283168)))),\"\")","v":""},{"$f":"IFERROR(IF(E98=\"\",\"\",(IF('Backend Calcs Standard'!$A$12=1,'Backend Calcs Standard'!U99,(('Backend Calcs Standard'!U99)*0.0283168)))),\"\")","v":""},{"$f":"IFERROR(IF(F98=\"\",\"\",(IF('Backend Calcs Standard'!$A$12=1,'Backend Calcs Standard'!V99,(('Backend Calcs Standard'!V99)*0.0283168)))),\"\")","v":""},{"$f":"IF(I98=\"\",\"\",(IF('Backend Calcs Standard'!$A$12=1,'Backend Calcs Standard'!W99,('Backend Calcs Standard'!W99*0.0283168))))","v":""},"",{"$f":"IF('Backend Calcs Standard'!$A$12=1,'Backend Calcs Standard'!X99,('Backend Calcs Standard'!X99*0.0283168))","v":""},{"$f":"IFERROR(IF(H98=\"\",\"\",(IF('Backend Calcs Standard'!$A$12=1,'Backend Calcs Standard'!Y99,'Backend Calcs Standard'!Y99*0.0283168))),\"\")","v":""},{"$f":"IF(A98=\"\",\"\",IF('Backend Calcs Standard'!$A$12=1,'Backend Calcs Standard'!Z99,'Backend Calcs Standard'!O99))","v":""}]
[{"$f":"IFERROR(IF(B99=\"\",\"\",'Backend Calcs Standard'!P100),\"\")","v":""},{"$f":"IFERROR(IF(C99=\"\",\"\",(IF('Backend Calcs Standard'!$A$12=1,'Backend Calcs Standard'!S100,(('Backend Calcs Standard'!S100)*0.0283168)))),\"\")","v":""},{"$f":"IFERROR(IF(D99=\"\",\"\",(IF('Backend Calcs Standard'!$A$12=1,'Backend Calcs Standard'!T100,(('Backend Calcs Standard'!T100)*0.0283168)))),\"\")","v":""},{"$f":"IFERROR(IF(E99=\"\",\"\",(IF('Backend Calcs Standard'!$A$12=1,'Backend Calcs Standard'!U100,(('Backend Calcs Standard'!U100)*0.0283168)))),\"\")","v":""},{"$f":"IFERROR(IF(F99=\"\",\"\",(IF('Backend Calcs Standard'!$A$12=1,'Backend Calcs Standard'!V100,(('Backend Calcs Standard'!V100)*0.0283168)))),\"\")","v":""},{"$f":"IF(I99=\"\",\"\",(IF('Backend Calcs Standard'!$A$12=1,'Backend Calcs Standard'!W100,('Backend Calcs Standard'!W100*0.0283168))))","v":""},"",{"$f":"IF('Backend Calcs Standard'!$A$12=1,'Backend Calcs Standard'!X100,('Backend Calcs Standard'!X100*0.0283168))","v":""},{"$f":"IFERROR(IF(H99=\"\",\"\",(IF('Backend Calcs Standard'!$A$12=1,'Backend Calcs Standard'!Y100,'Backend Calcs Standard'!Y100*0.0283168))),\"\")","v":""},{"$f":"IF(A99=\"\",\"\",IF('Backend Calcs Standard'!$A$12=1,'Backend Calcs Standard'!Z100,'Backend Calcs Standard'!O100))","v":""}]
[{"$f":"IFERROR(IF(B100=\"\",\"\",'Backend Calcs Standard'!P101),\"\")","v":""},{"$f":"IFERROR(IF(C100=\"\",\"\",(IF('Backend Calcs Standard'!$A$12=1,'Backend Calcs Standard'!S101,(('Backend Calcs Standard'!S101)*0.0283168)))),\"\")","v":""},{"$f":"IFERROR(IF(D100=\"\",\"\",(IF('Backend Calcs Standard'!$A$12=1,'Backend Calcs Standard'!T101,(('Backend Calcs Standard'!T101)*0.0283168)))),\"\")","v":""},{"$f":"IFERROR(IF(E100=\"\",\"\",(IF('Backend Calcs Standard'!$A$12=1,'Backend Calcs Standard'!U101,(('Backend Calcs Standard'!U101)*0.0283168)))),\"\")","v":""},{"$f":"IFERROR(IF(F100=\"\",\"\",(IF('Backend Calcs Standard'!$A$12=1,'Backend Calcs Standard'!V101,(('Backend Calcs Standard'!V101)*0.0283168)))),\"\")","v":""},{"$f":"IF(I100=\"\",\"\",(IF('Backend Calcs Standard'!$A$12=1,'Backend Calcs Standard'!W101,('Backend Calcs Standard'!W101*0.0283168))))","v":""},"",{"$f":"IF('Backend Calcs Standard'!$A$12=1,'Backend Calcs Standard'!X101,('Backend Calcs Standard'!X101*0.0283168))","v":""},{"$f":"IFERROR(IF(H100=\"\",\"\",(IF('Backend Calcs Standard'!$A$12=1,'Backend Calcs Standard'!Y101,'Backend Calcs Standard'!Y101*0.0283168))),\"\")","v":""},{"$f":"IF(A100=\"\",\"\",IF('Backend Calcs Standard'!$A$12=1,'Backend Calcs Standard'!Z101,'Backend Calcs Standard'!O101))","v":""}]
[{"$f":"IFERROR(IF(B101=\"\",\"\",'Backend Calcs Standard'!P102),\"\")","v":""},{"$f":"IFERROR(IF(C101=\"\",\"\",(IF('Backend Calcs Standard'!$A$12=1,'Backend Calcs Standard'!S102,(('Backend Calcs Standard'!S102)*0.0283168)))),\"\")","v":""},{"$f":"IFERROR(IF(D101=\"\",\"\",(IF('Backend Calcs Standard'!$A$12=1,'Backend Calcs Standard'!T102,(('Backend Calcs Standard'!T102)*0.0283168)))),\"\")","v":""},{"$f":"IFERROR(IF(E101=\"\",\"\",(IF('Backend Calcs Standard'!$A$12=1,'Backend Calcs Standard'!U102,(('Backend Calcs Standard'!U102)*0.0283168)))),\"\")","v":""},{"$f":"IFERROR(IF(F101=\"\",\"\",(IF('Backend Calcs Standard'!$A$12=1,'Backend Calcs Standard'!V102,(('Backend Calcs Standard'!V102)*0.0283168)))),\"\")","v":""},{"$f":"IF(I101=\"\",\"\",(IF('Backend Calcs Standard'!$A$12=1,'Backend Calcs Standard'!W102,('Backend Calcs Standard'!W102*0.0283168))))","v":""},"",{"$f":"IF('Backend Calcs Standard'!$A$12=1,'Backend Calcs Standard'!X102,('Backend Calcs Standard'!X102*0.0283168))","v":""},{"$f":"IFERROR(IF(H101=\"\",\"\",(IF('Backend Calcs Standard'!$A$12=1,'Backend Calcs Standard'!Y102,'Backend Calcs Standard'!Y102*0.0283168))),\"\")","v":""},{"$f":"IF(A101=\"\",\"\",IF('Backend Calcs Standard'!$A$12=1,'Backend Calcs Standard'!Z102,'Backend Calcs Standard'!O102))","v":""}]
[{"$f":"IFERROR(IF(B102=\"\",\"\",'Backend Calcs Standard'!P103),\"\")","v":""},{"$f":"IFERROR(IF(C102=\"\",\"\",(IF('Backend Calcs Standard'!$A$12=1,'Backend Calcs Standard'!S103,(('Backend Calcs Standard'!S103)*0.0283168)))),\"\")","v":""},{"$f":"IFERROR(IF(D102=\"\",\"\",(IF('Backend Calcs Standard'!$A$12=1,'Backend Calcs Standard'!T103,(('Backend Calcs Standard'!T103)*0.0283168)))),\"\")","v":""},{"$f":"IFERROR(IF(E102=\"\",\"\",(IF('Backend Calcs Standard'!$A$12=1,'Backend Calcs Standard'!U103,(('Backend Calcs Standard'!U103)*0.0283168)))),\"\")","v":""},{"$f":"IFERROR(IF(F102=\"\",\"\",(IF('Backend Calcs Standard'!$A$12=1,'Backend Calcs Standard'!V103,(('Backend Calcs Standard'!V103)*0.0283168)))),\"\")","v":""},{"$f":"IF(I102=\"\",\"\",(IF('Backend Calcs Standard'!$A$12=1,'Backend Calcs Standard'!W103,('Backend Calcs Standard'!W103*0.0283168))))","v":""},"",{"$f":"IF('Backend Calcs Standard'!$A$12=1,'Backend Calcs Standard'!X103,('Backend Calcs Standard'!X103*0.0283168))","v":""},{"$f":"IFERROR(IF(H102=\"\",\"\",(IF('Backend Calcs Standard'!$A$12=1,'Backend Calcs Standard'!Y103,'Backend Calcs Standard'!Y103*0.0283168))),\"\")","v":""},{"$f":"IF(A102=\"\",\"\",IF('Backend Calcs Standard'!$A$12=1,'Backend Calcs Standard'!Z103,'Backend Calcs Standard'!O103))","v":""}]
[{"$f":"IFERROR(IF(B103=\"\",\"\",'Backend Calcs Standard'!P104),\"\")","v":""},{"$f":"IFERROR(IF(C103=\"\",\"\",(IF('Backend Calcs Standard'!$A$12=1,'Backend Calcs Standard'!S104,(('Backend Calcs Standard'!S104)*0.0283168)))),\"\")","v":""},{"$f":"IFERROR(IF(D103=\"\",\"\",(IF('Backend Calcs Standard'!$A$12=1,'Backend Calcs Standard'!T104,(('Backend Calcs Standard'!T104)*0.0283168)))),\"\")","v":""},{"$f":"IFERROR(IF(E103=\"\",\"\",(IF('Backend Calcs Standard'!$A$12=1,'Backend Calcs Standard'!U104,(('Backend Calcs Standard'!U104)*0.0283168)))),\"\")","v":""},{"$f":"IFERROR(IF(F103=\"\",\"\",(IF('Backend Calcs Standard'!$A$12=1,'Backend Calcs Standard'!V104,(('Backend Calcs Standard'!V104)*0.0283168)))),\"\")","v":""},{"$f":"IF(I103=\"\",\"\",(IF('Backend Calcs Standard'!$A$12=1,'Backend Calcs Standard'!W104,('Backend Calcs Standard'!W104*0.0283168))))","v":""},"",{"$f":"IF('Backend Calcs Standard'!$A$12=1,'Backend Calcs Standard'!X104,('Backend Calcs Standard'!X104*0.0283168))","v":""},{"$f":"IFERROR(IF(H103=\"\",\"\",(IF('Backend Calcs Standard'!$A$12=1,'Backend Calcs Standard'!Y104,'Backend Calcs Standard'!Y104*0.0283168))),\"\")","v":""},{"$f":"IF(A103=\"\",\"\",IF('Backend Calcs Standard'!$A$12=1,'Backend Calcs Standard'!Z104,'Backend Calcs Standard'!O104))","v":""}]
[{"$f":"IFERROR(IF(B104=\"\",\"\",'Backend Calcs Standard'!P105),\"\")","v":""},{"$f":"IFERROR(IF(C104=\"\",\"\",(IF('Backend Calcs Standard'!$A$12=1,'Backend Calcs Standard'!S105,(('Backend Calcs Standard'!S105)*0.0283168)))),\"\")","v":""},{"$f":"IFERROR(IF(D104=\"\",\"\",(IF('Backend Calcs Standard'!$A$12=1,'Backend Calcs Standard'!T105,(('Backend Calcs Standard'!T105)*0.0283168)))),\"\")","v":""},{"$f":"IFERROR(IF(E104=\"\",\"\",(IF('Backend Calcs Standard'!$A$12=1,'Backend Calcs Standard'!U105,(('Backend Calcs Standard'!U105)*0.0283168)))),\"\")","v":""},{"$f":"IFERROR(IF(F104=\"\",\"\",(IF('Backend Calcs Standard'!$A$12=1,'Backend Calcs Standard'!V105,(('Backend Calcs Standard'!V105)*0.0283168)))),\"\")","v":""},{"$f":"IF(I104=\"\",\"\",(IF('Backend Calcs Standard'!$A$12=1,'Backend Calcs Standard'!W105,('Backend Calcs Standard'!W105*0.0283168))))","v":""},"",{"$f":"IF('Backend Calcs Standard'!$A$12=1,'Backend Calcs Standard'!X105,('Backend Calcs Standard'!X105*0.0283168))","v":""},{"$f":"IFERROR(IF(H104=\"\",\"\",(IF('Backend Calcs Standard'!$A$12=1,'Backend Calcs Standard'!Y105,'Backend Calcs Standard'!Y105*0.0283168))),\"\")","v":""},{"$f":"IF(A104=\"\",\"\",IF('Backend Calcs Standard'!$A$12=1,'Backend Calcs Standard'!Z105,'Backend Calcs Standard'!O105))","v":""}]
[{"$f":"IFERROR(IF(B105=\"\",\"\",'Backend Calcs Standard'!P106),\"\")","v":""},{"$f":"IFERROR(IF(C105=\"\",\"\",(IF('Backend Calcs Standard'!$A$12=1,'Backend Calcs Standard'!S106,(('Backend Calcs Standard'!S106)*0.0283168)))),\"\")","v":""},{"$f":"IFERROR(IF(D105=\"\",\"\",(IF('Backend Calcs Standard'!$A$12=1,'Backend Calcs Standard'!T106,(('Backend Calcs Standard'!T106)*0.0283168)))),\"\")","v":""},{"$f":"IFERROR(IF(E105=\"\",\"\",(IF('Backend Calcs Standard'!$A$12=1,'Backend Calcs Standard'!U106,(('Backend Calcs Standard'!U106)*0.0283168)))),\"\")","v":""},{"$f":"IFERROR(IF(F105=\"\",\"\",(IF('Backend Calcs Standard'!$A$12=1,'Backend Calcs Standard'!V106,(('Backend Calcs Standard'!V106)*0.0283168)))),\"\")","v":""},{"$f":"IF(I105=\"\",\"\",(IF('Backend Calcs Standard'!$A$12=1,'Backend Calcs Standard'!W106,('Backend Calcs Standard'!W106*0.0283168))))","v":""},"",{"$f":"IF('Backend Calcs Standard'!$A$12=1,'Backend Calcs Standard'!X106,('Backend Calcs Standard'!X106*0.0283168))","v":""},{"$f":"IFERROR(IF(H105=\"\",\"\",(IF('Backend Calcs Standard'!$A$12=1,'Backend Calcs Standard'!Y106,'Backend Calcs Standard'!Y106*0.0283168))),\"\")","v":""},{"$f":"IF(A105=\"\",\"\",IF('Backend Calcs Standard'!$A$12=1,'Backend Calcs Standard'!Z106,'Backend Calcs Standard'!O106))","v":""}]
[{"$f":"IFERROR(IF(B106=\"\",\"\",'Backend Calcs Standard'!P107),\"\")","v":""},{"$f":"IFERROR(IF(C106=\"\",\"\",(IF('Backend Calcs Standard'!$A$12=1,'Backend Calcs Standard'!S107,(('Backend Calcs Standard'!S107)*0.0283168)))),\"\")","v":""},{"$f":"IFERROR(IF(D106=\"\",\"\",(IF('Backend Calcs Standard'!$A$12=1,'Backend Calcs Standard'!T107,(('Backend Calcs Standard'!T107)*0.0283168)))),\"\")","v":""},{"$f":"IFERROR(IF(E106=\"\",\"\",(IF('Backend Calcs Standard'!$A$12=1,'Backend Calcs Standard'!U107,(('Backend Calcs Standard'!U107)*0.0283168)))),\"\")","v":""},{"$f":"IFERROR(IF(F106=\"\",\"\",(IF('Backend Calcs Standard'!$A$12=1,'Backend Calcs Standard'!V107,(('Backend Calcs Standard'!V107)*0.0283168)))),\"\")","v":""},{"$f":"IF(I106=\"\",\"\",(IF('Backend Calcs Standard'!$A$12=1,'Backend Calcs Standard'!W107,('Backend Calcs Standard'!W107*0.0283168))))","v":""},"",{"$f":"IF('Backend Calcs Standard'!$A$12=1,'Backend Calcs Standard'!X107,('Backend Calcs Standard'!X107*0.0283168))","v":""},{"$f":"IFERROR(IF(H106=\"\",\"\",(IF('Backend Calcs Standard'!$A$12=1,'Backend Calcs Standard'!Y107,'Backend Calcs Standard'!Y107*0.0283168))),\"\")","v":""},{"$f":"IF(A106=\"\",\"\",IF('Backend Calcs Standard'!$A$12=1,'Backend Calcs Standard'!Z107,'Backend Calcs Standard'!O107))","v":""}]
[{"$f":"IFERROR(IF(B107=\"\",\"\",'Backend Calcs Standard'!P108),\"\")","v":""},{"$f":"IFERROR(IF(C107=\"\",\"\",(IF('Backend Calcs Standard'!$A$12=1,'Backend Calcs Standard'!S108,(('Backend Calcs Standard'!S108)*0.0283168)))),\"\")","v":""},{"$f":"IFERROR(IF(D107=\"\",\"\",(IF('Backend Calcs Standard'!$A$12=1,'Backend Calcs Standard'!T108,(('Backend Calcs Standard'!T108)*0.0283168)))),\"\")","v":""},{"$f":"IFERROR(IF(E107=\"\",\"\",(IF('Backend Calcs Standard'!$A$12=1,'Backend Calcs Standard'!U108,(('Backend Calcs Standard'!U108)*0.0283168)))),\"\")","v":""},{"$f":"IFERROR(IF(F107=\"\",\"\",(IF('Backend Calcs Standard'!$A$12=1,'Backend Calcs Standard'!V108,(('Backend Calcs Standard'!V108)*0.0283168)))),\"\")","v":""},{"$f":"IF(I107=\"\",\"\",(IF('Backend Calcs Standard'!$A$12=1,'Backend Calcs Standard'!W108,('Backend Calcs Standard'!W108*0.0283168))))","v":""},"",{"$f":"IF('Backend Calcs Standard'!$A$12=1,'Backend Calcs Standard'!X108,('Backend Calcs Standard'!X108*0.0283168))","v":""},{"$f":"IFERROR(IF(H107=\"\",\"\",(IF('Backend Calcs Standard'!$A$12=1,'Backend Calcs Standard'!Y108,'Backend Calcs Standard'!Y108*0.0283168))),\"\")","v":""},{"$f":"IF(A107=\"\",\"\",IF('Backend Calcs Standard'!$A$12=1,'Backend Calcs Standard'!Z108,'Backend Calcs Standard'!O108))","v":""}]
[{"$f":"IFERROR(IF(B108=\"\",\"\",'Backend Calcs Standard'!P109),\"\")","v":""},{"$f":"IFERROR(IF(C108=\"\",\"\",(IF('Backend Calcs Standard'!$A$12=1,'Backend Calcs Standard'!S109,(('Backend Calcs Standard'!S109)*0.0283168)))),\"\")","v":""},{"$f":"IFERROR(IF(D108=\"\",\"\",(IF('Backend Calcs Standard'!$A$12=1,'Backend Calcs Standard'!T109,(('Backend Calcs Standard'!T109)*0.0283168)))),\"\")","v":""},{"$f":"IFERROR(IF(E108=\"\",\"\",(IF('Backend Calcs Standard'!$A$12=1,'Backend Calcs Standard'!U109,(('Backend Calcs Standard'!U109)*0.0283168)))),\"\")","v":""},{"$f":"IFERROR(IF(F108=\"\",\"\",(IF('Backend Calcs Standard'!$A$12=1,'Backend Calcs Standard'!V109,(('Backend Calcs Standard'!V109)*0.0283168)))),\"\")","v":""},{"$f":"IF(I108=\"\",\"\",(IF('Backend Calcs Standard'!$A$12=1,'Backend Calcs Standard'!W109,('Backend Calcs Standard'!W109*0.0283168))))","v":""},"",{"$f":"IF('Backend Calcs Standard'!$A$12=1,'Backend Calcs Standard'!X109,('Backend Calcs Standard'!X109*0.0283168))","v":""},{"$f":"IFERROR(IF(H108=\"\",\"\",(IF('Backend Calcs Standard'!$A$12=1,'Backend Calcs Standard'!Y109,'Backend Calcs Standard'!Y109*0.0283168))),\"\")","v":""},{"$f":"IF(A108=\"\",\"\",IF('Backend Calcs Standard'!$A$12=1,'Backend Calcs Standard'!Z109,'Backend Calcs Standard'!O109))","v":""}]
[{"$f":"IFERROR(IF(B109=\"\",\"\",'Backend Calcs Standard'!P110),\"\")","v":""},{"$f":"IFERROR(IF(C109=\"\",\"\",(IF('Backend Calcs Standard'!$A$12=1,'Backend Calcs Standard'!S110,(('Backend Calcs Standard'!S110)*0.0283168)))),\"\")","v":""},{"$f":"IFERROR(IF(D109=\"\",\"\",(IF('Backend Calcs Standard'!$A$12=1,'Backend Calcs Standard'!T110,(('Backend Calcs Standard'!T110)*0.0283168)))),\"\")","v":""},{"$f":"IFERROR(IF(E109=\"\",\"\",(IF('Backend Calcs Standard'!$A$12=1,'Backend Calcs Standard'!U110,(('Backend Calcs Standard'!U110)*0.0283168)))),\"\")","v":""},{"$f":"IFERROR(IF(F109=\"\",\"\",(IF('Backend Calcs Standard'!$A$12=1,'Backend Calcs Standard'!V110,(('Backend Calcs Standard'!V110)*0.0283168)))),\"\")","v":""},{"$f":"IF(I109=\"\",\"\",(IF('Backend Calcs Standard'!$A$12=1,'Backend Calcs Standard'!W110,('Backend Calcs Standard'!W110*0.0283168))))","v":""},"",{"$f":"IF('Backend Calcs Standard'!$A$12=1,'Backend Calcs Standard'!X110,('Backend Calcs Standard'!X110*0.0283168))","v":""},{"$f":"IFERROR(IF(H109=\"\",\"\",(IF('Backend Calcs Standard'!$A$12=1,'Backend Calcs Standard'!Y110,'Backend Calcs Standard'!Y110*0.0283168))),\"\")","v":""},{"$f":"IF(A109=\"\",\"\",IF('Backend Calcs Standard'!$A$12=1,'Backend Calcs Standard'!Z110,'Backend Calcs Standard'!O110))","v":""}]
[{"$f":"IFERROR(IF(B110=\"\",\"\",'Backend Calcs Standard'!P111),\"\")","v":""},{"$f":"IFERROR(IF(C110=\"\",\"\",(IF('Backend Calcs Standard'!$A$12=1,'Backend Calcs Standard'!S111,(('Backend Calcs Standard'!S111)*0.0283168)))),\"\")","v":""},{"$f":"IFERROR(IF(D110=\"\",\"\",(IF('Backend Calcs Standard'!$A$12=1,'Backend Calcs Standard'!T111,(('Backend Calcs Standard'!T111)*0.0283168)))),\"\")","v":""},{"$f":"IFERROR(IF(E110=\"\",\"\",(IF('Backend Calcs Standard'!$A$12=1,'Backend Calcs Standard'!U111,(('Backend Calcs Standard'!U111)*0.0283168)))),\"\")","v":""},{"$f":"IFERROR(IF(F110=\"\",\"\",(IF('Backend Calcs Standard'!$A$12=1,'Backend Calcs Standard'!V111,(('Backend Calcs Standard'!V111)*0.0283168)))),\"\")","v":""},{"$f":"IF(I110=\"\",\"\",(IF('Backend Calcs Standard'!$A$12=1,'Backend Calcs Standard'!W111,('Backend Calcs Standard'!W111*0.0283168))))","v":""},"",{"$f":"IF('Backend Calcs Standard'!$A$12=1,'Backend Calcs Standard'!X111,('Backend Calcs Standard'!X111*0.0283168))","v":""},{"$f":"IFERROR(IF(H110=\"\",\"\",(IF('Backend Calcs Standard'!$A$12=1,'Backend Calcs Standard'!Y111,'Backend Calcs Standard'!Y111*0.0283168))),\"\")","v":""},{"$f":"IF(A110=\"\",\"\",IF('Backend Calcs Standard'!$A$12=1,'Backend Calcs Standard'!Z111,'Backend Calcs Standard'!O111))","v":""}]
[{"$f":"IFERROR(IF(B111=\"\",\"\",'Backend Calcs Standard'!P112),\"\")","v":""},{"$f":"IFERROR(IF(C111=\"\",\"\",(IF('Backend Calcs Standard'!$A$12=1,'Backend Calcs Standard'!S112,(('Backend Calcs Standard'!S112)*0.0283168)))),\"\")","v":""},{"$f":"IFERROR(IF(D111=\"\",\"\",(IF('Backend Calcs Standard'!$A$12=1,'Backend Calcs Standard'!T112,(('Backend Calcs Standard'!T112)*0.0283168)))),\"\")","v":""},{"$f":"IFERROR(IF(E111=\"\",\"\",(IF('Backend Calcs Standard'!$A$12=1,'Backend Calcs Standard'!U112,(('Backend Calcs Standard'!U112)*0.0283168)))),\"\")","v":""},{"$f":"IFERROR(IF(F111=\"\",\"\",(IF('Backend Calcs Standard'!$A$12=1,'Backend Calcs Standard'!V112,(('Backend Calcs Standard'!V112)*0.0283168)))),\"\")","v":""},{"$f":"IF(I111=\"\",\"\",(IF('Backend Calcs Standard'!$A$12=1,'Backend Calcs Standard'!W112,('Backend Calcs Standard'!W112*0.0283168))))","v":""},"",{"$f":"IF('Backend Calcs Standard'!$A$12=1,'Backend Calcs Standard'!X112,('Backend Calcs Standard'!X112*0.0283168))","v":""},{"$f":"IFERROR(IF(H111=\"\",\"\",(IF('Backend Calcs Standard'!$A$12=1,'Backend Calcs Standard'!Y112,'Backend Calcs Standard'!Y112*0.0283168))),\"\")","v":""},{"$f":"IF(A111=\"\",\"\",IF('Backend Calcs Standard'!$A$12=1,'Backend Calcs Standard'!Z112,'Backend Calcs Standard'!O112))","v":""}]
[{"$f":"IFERROR(IF(B112=\"\",\"\",'Backend Calcs Standard'!P113),\"\")","v":""},{"$f":"IFERROR(IF(C112=\"\",\"\",(IF('Backend Calcs Standard'!$A$12=1,'Backend Calcs Standard'!S113,(('Backend Calcs Standard'!S113)*0.0283168)))),\"\")","v":""},{"$f":"IFERROR(IF(D112=\"\",\"\",(IF('Backend Calcs Standard'!$A$12=1,'Backend Calcs Standard'!T113,(('Backend Calcs Standard'!T113)*0.0283168)))),\"\")","v":""},{"$f":"IFERROR(IF(E112=\"\",\"\",(IF('Backend Calcs Standard'!$A$12=1,'Backend Calcs Standard'!U113,(('Backend Calcs Standard'!U113)*0.0283168)))),\"\")","v":""},{"$f":"IFERROR(IF(F112=\"\",\"\",(IF('Backend Calcs Standard'!$A$12=1,'Backend Calcs Standard'!V113,(('Backend Calcs Standard'!V113)*0.0283168)))),\"\")","v":""},{"$f":"IF(I112=\"\",\"\",(IF('Backend Calcs Standard'!$A$12=1,'Backend Calcs Standard'!W113,('Backend Calcs Standard'!W113*0.0283168))))","v":""},"",{"$f":"IF('Backend Calcs Standard'!$A$12=1,'Backend Calcs Standard'!X113,('Backend Calcs Standard'!X113*0.0283168))","v":""},{"$f":"IFERROR(IF(H112=\"\",\"\",(IF('Backend Calcs Standard'!$A$12=1,'Backend Calcs Standard'!Y113,'Backend Calcs Standard'!Y113*0.0283168))),\"\")","v":""},{"$f":"IF(A112=\"\",\"\",IF('Backend Calcs Standard'!$A$12=1,'Backend Calcs Standard'!Z113,'Backend Calcs Standard'!O113))","v":""}]
[{"$f":"IFERROR(IF(B113=\"\",\"\",'Backend Calcs Standard'!P114),\"\")","v":""},{"$f":"IFERROR(IF(C113=\"\",\"\",(IF('Backend Calcs Standard'!$A$12=1,'Backend Calcs Standard'!S114,(('Backend Calcs Standard'!S114)*0.0283168)))),\"\")","v":""},{"$f":"IFERROR(IF(D113=\"\",\"\",(IF('Backend Calcs Standard'!$A$12=1,'Backend Calcs Standard'!T114,(('Backend Calcs Standard'!T114)*0.0283168)))),\"\")","v":""},{"$f":"IFERROR(IF(E113=\"\",\"\",(IF('Backend Calcs Standard'!$A$12=1,'Backend Calcs Standard'!U114,(('Backend Calcs Standard'!U114)*0.0283168)))),\"\")","v":""},{"$f":"IFERROR(IF(F113=\"\",\"\",(IF('Backend Calcs Standard'!$A$12=1,'Backend Calcs Standard'!V114,(('Backend Calcs Standard'!V114)*0.0283168)))),\"\")","v":""},{"$f":"IF(I113=\"\",\"\",(IF('Backend Calcs Standard'!$A$12=1,'Backend Calcs Standard'!W114,('Backend Calcs Standard'!W114*0.0283168))))","v":""},"",{"$f":"IF('Backend Calcs Standard'!$A$12=1,'Backend Calcs Standard'!X114,('Backend Calcs Standard'!X114*0.0283168))","v":""},{"$f":"IFERROR(IF(H113=\"\",\"\",(IF('Backend Calcs Standard'!$A$12=1,'Backend Calcs Standard'!Y114,'Backend Calcs Standard'!Y114*0.0283168))),\"\")","v":""},{"$f":"IF(A113=\"\",\"\",IF('Backend Calcs Standard'!$A$12=1,'Backend Calcs Standard'!Z114,'Backend Calcs Standard'!O114))","v":""}]
[{"$f":"IFERROR(IF(B114=\"\",\"\",'Backend Calcs Standard'!P115),\"\")","v":""},{"$f":"IFERROR(IF(C114=\"\",\"\",(IF('Backend Calcs Standard'!$A$12=1,'Backend Calcs Standard'!S115,(('Backend Calcs Standard'!S115)*0.0283168)))),\"\")","v":""},{"$f":"IFERROR(IF(D114=\"\",\"\",(IF('Backend Calcs Standard'!$A$12=1,'Backend Calcs Standard'!T115,(('Backend Calcs Standard'!T115)*0.0283168)))),\"\")","v":""},{"$f":"IFERROR(IF(E114=\"\",\"\",(IF('Backend Calcs Standard'!$A$12=1,'Backend Calcs Standard'!U115,(('Backend Calcs Standard'!U115)*0.0283168)))),\"\")","v":""},{"$f":"IFERROR(IF(F114=\"\",\"\",(IF('Backend Calcs Standard'!$A$12=1,'Backend Calcs Standard'!V115,(('Backend Calcs Standard'!V115)*0.0283168)))),\"\")","v":""},{"$f":"IF(I114=\"\",\"\",(IF('Backend Calcs Standard'!$A$12=1,'Backend Calcs Standard'!W115,('Backend Calcs Standard'!W115*0.0283168))))","v":""},"",{"$f":"IF('Backend Calcs Standard'!$A$12=1,'Backend Calcs Standard'!X115,('Backend Calcs Standard'!X115*0.0283168))","v":""},{"$f":"IFERROR(IF(H114=\"\",\"\",(IF('Backend Calcs Standard'!$A$12=1,'Backend Calcs Standard'!Y115,'Backend Calcs Standard'!Y115*0.0283168))),\"\")","v":""},{"$f":"IF(A114=\"\",\"\",IF('Backend Calcs Standard'!$A$12=1,'Backend Calcs Standard'!Z115,'Backend Calcs Standard'!O115))","v":""}]
[{"$f":"IFERROR(IF(B115=\"\",\"\",'Backend Calcs Standard'!P116),\"\")","v":""},{"$f":"IFERROR(IF(C115=\"\",\"\",(IF('Backend Calcs Standard'!$A$12=1,'Backend Calcs Standard'!S116,(('Backend Calcs Standard'!S116)*0.0283168)))),\"\")","v":""},{"$f":"IFERROR(IF(D115=\"\",\"\",(IF('Backend Calcs Standard'!$A$12=1,'Backend Calcs Standard'!T116,(('Backend Calcs Standard'!T116)*0.0283168)))),\"\")","v":""},{"$f":"IFERROR(IF(E115=\"\",\"\",(IF('Backend Calcs Standard'!$A$12=1,'Backend Calcs Standard'!U116,(('Backend Calcs Standard'!U116)*0.0283168)))),\"\")","v":""},{"$f":"IFERROR(IF(F115=\"\",\"\",(IF('Backend Calcs Standard'!$A$12=1,'Backend Calcs Standard'!V116,(('Backend Calcs Standard'!V116)*0.0283168)))),\"\")","v":""},{"$f":"IF(I115=\"\",\"\",(IF('Backend Calcs Standard'!$A$12=1,'Backend Calcs Standard'!W116,('Backend Calcs Standard'!W116*0.0283168))))","v":""},"",{"$f":"IF('Backend Calcs Standard'!$A$12=1,'Backend Calcs Standard'!X116,('Backend Calcs Standard'!X116*0.0283168))","v":""},{"$f":"IFERROR(IF(H115=\"\",\"\",(IF('Backend Calcs Standard'!$A$12=1,'Backend Calcs Standard'!Y116,'Backend Calcs Standard'!Y116*0.0283168))),\"\")","v":""},{"$f":"IF(A115=\"\",\"\",IF('Backend Calcs Standard'!$A$12=1,'Backend Calcs Standard'!Z116,'Backend Calcs Standard'!O116))","v":""}]
[{"$f":"IFERROR(IF(B116=\"\",\"\",'Backend Calcs Standard'!P117),\"\")","v":""},{"$f":"IFERROR(IF(C116=\"\",\"\",(IF('Backend Calcs Standard'!$A$12=1,'Backend Calcs Standard'!S117,(('Backend Calcs Standard'!S117)*0.0283168)))),\"\")","v":""},{"$f":"IFERROR(IF(D116=\"\",\"\",(IF('Backend Calcs Standard'!$A$12=1,'Backend Calcs Standard'!T117,(('Backend Calcs Standard'!T117)*0.0283168)))),\"\")","v":""},{"$f":"IFERROR(IF(E116=\"\",\"\",(IF('Backend Calcs Standard'!$A$12=1,'Backend Calcs Standard'!U117,(('Backend Calcs Standard'!U117)*0.0283168)))),\"\")","v":""},{"$f":"IFERROR(IF(F116=\"\",\"\",(IF('Backend Calcs Standard'!$A$12=1,'Backend Calcs Standard'!V117,(('Backend Calcs Standard'!V117)*0.0283168)))),\"\")","v":""},{"$f":"IF(I116=\"\",\"\",(IF('Backend Calcs Standard'!$A$12=1,'Backend Calcs Standard'!W117,('Backend Calcs Standard'!W117*0.0283168))))","v":""},"",{"$f":"IF('Backend Calcs Standard'!$A$12=1,'Backend Calcs Standard'!X117,('Backend Calcs Standard'!X117*0.0283168))","v":""},{"$f":"IFERROR(IF(H116=\"\",\"\",(IF('Backend Calcs Standard'!$A$12=1,'Backend Calcs Standard'!Y117,'Backend Calcs Standard'!Y117*0.0283168))),\"\")","v":""},{"$f":"IF(A116=\"\",\"\",IF('Backend Calcs Standard'!$A$12=1,'Backend Calcs Standard'!Z117,'Backend Calcs Standard'!O117))","v":""}]
[{"$f":"IFERROR(IF(B117=\"\",\"\",'Backend Calcs Standard'!P118),\"\")","v":""},{"$f":"IFERROR(IF(C117=\"\",\"\",(IF('Backend Calcs Standard'!$A$12=1,'Backend Calcs Standard'!S118,(('Backend Calcs Standard'!S118)*0.0283168)))),\"\")","v":""},{"$f":"IFERROR(IF(D117=\"\",\"\",(IF('Backend Calcs Standard'!$A$12=1,'Backend Calcs Standard'!T118,(('Backend Calcs Standard'!T118)*0.0283168)))),\"\")","v":""},{"$f":"IFERROR(IF(E117=\"\",\"\",(IF('Backend Calcs Standard'!$A$12=1,'Backend Calcs Standard'!U118,(('Backend Calcs Standard'!U118)*0.0283168)))),\"\")","v":""},{"$f":"IFERROR(IF(F117=\"\",\"\",(IF('Backend Calcs Standard'!$A$12=1,'Backend Calcs Standard'!V118,(('Backend Calcs Standard'!V118)*0.0283168)))),\"\")","v":""},{"$f":"IF(I117=\"\",\"\",(IF('Backend Calcs Standard'!$A$12=1,'Backend Calcs Standard'!W118,('Backend Calcs Standard'!W118*0.0283168))))","v":""},"",{"$f":"IF('Backend Calcs Standard'!$A$12=1,'Backend Calcs Standard'!X118,('Backend Calcs Standard'!X118*0.0283168))","v":""},{"$f":"IFERROR(IF(H117=\"\",\"\",(IF('Backend Calcs Standard'!$A$12=1,'Backend Calcs Standard'!Y118,'Backend Calcs Standard'!Y118*0.0283168))),\"\")","v":""},{"$f":"IF(A117=\"\",\"\",IF('Backend Calcs Standard'!$A$12=1,'Backend Calcs Standard'!Z118,'Backend Calcs Standard'!O118))","v":""}]
[{"$f":"IFERROR(IF(B118=\"\",\"\",'Backend Calcs Standard'!P119),\"\")","v":""},{"$f":"IFERROR(IF(C118=\"\",\"\",(IF('Backend Calcs Standard'!$A$12=1,'Backend Calcs Standard'!S119,(('Backend Calcs Standard'!S119)*0.0283168)))),\"\")","v":""},{"$f":"IFERROR(IF(D118=\"\",\"\",(IF('Backend Calcs Standard'!$A$12=1,'Backend Calcs Standard'!T119,(('Backend Calcs Standard'!T119)*0.0283168)))),\"\")","v":""},{"$f":"IFERROR(IF(E118=\"\",\"\",(IF('Backend Calcs Standard'!$A$12=1,'Backend Calcs Standard'!U119,(('Backend Calcs Standard'!U119)*0.0283168)))),\"\")","v":""},{"$f":"IFERROR(IF(F118=\"\",\"\",(IF('Backend Calcs Standard'!$A$12=1,'Backend Calcs Standard'!V119,(('Backend Calcs Standard'!V119)*0.0283168)))),\"\")","v":""},{"$f":"IF(I118=\"\",\"\",(IF('Backend Calcs Standard'!$A$12=1,'Backend Calcs Standard'!W119,('Backend Calcs Standard'!W119*0.0283168))))","v":""},"",{"$f":"IF('Backend Calcs Standard'!$A$12=1,'Backend Calcs Standard'!X119,('Backend Calcs Standard'!X119*0.0283168))","v":""},{"$f":"IFERROR(IF(H118=\"\",\"\",(IF('Backend Calcs Standard'!$A$12=1,'Backend Calcs Standard'!Y119,'Backend Calcs Standard'!Y119*0.0283168))),\"\")","v":""},{"$f":"IF(A118=\"\",\"\",IF('Backend Calcs Standard'!$A$12=1,'Backend Calcs Standard'!Z119,'Backend Calcs Standard'!O119))","v":""}]
[{"$f":"IFERROR(IF(B119=\"\",\"\",'Backend Calcs Standard'!P120),\"\")","v":""},{"$f":"IFERROR(IF(C119=\"\",\"\",(IF('Backend Calcs Standard'!$A$12=1,'Backend Calcs Standard'!S120,(('Backend Calcs Standard'!S120)*0.0283168)))),\"\")","v":""},{"$f":"IFERROR(IF(D119=\"\",\"\",(IF('Backend Calcs Standard'!$A$12=1,'Backend Calcs Standard'!T120,(('Backend Calcs Standard'!T120)*0.0283168)))),\"\")","v":""},{"$f":"IFERROR(IF(E119=\"\",\"\",(IF('Backend Calcs Standard'!$A$12=1,'Backend Calcs Standard'!U120,(('Backend Calcs Standard'!U120)*0.0283168)))),\"\")","v":""},{"$f":"IFERROR(IF(F119=\"\",\"\",(IF('Backend Calcs Standard'!$A$12=1,'Backend Calcs Standard'!V120,(('Backend Calcs Standard'!V120)*0.0283168)))),\"\")","v":""},{"$f":"IF(I119=\"\",\"\",(IF('Backend Calcs Standard'!$A$12=1,'Backend Calcs Standard'!W120,('Backend Calcs Standard'!W120*0.0283168))))","v":""},"",{"$f":"IF('Backend Calcs Standard'!$A$12=1,'Backend Calcs Standard'!X120,('Backend Calcs Standard'!X120*0.0283168))","v":""},{"$f":"IFERROR(IF(H119=\"\",\"\",(IF('Backend Calcs Standard'!$A$12=1,'Backend Calcs Standard'!Y120,'Backend Calcs Standard'!Y120*0.0283168))),\"\")","v":""},{"$f":"IF(A119=\"\",\"\",IF('Backend Calcs Standard'!$A$12=1,'Backend Calcs Standard'!Z120,'Backend Calcs Standard'!O120))","v":""}]
[{"$f":"IFERROR(IF(B120=\"\",\"\",'Backend Calcs Standard'!P121),\"\")","v":""},{"$f":"IFERROR(IF(C120=\"\",\"\",(IF('Backend Calcs Standard'!$A$12=1,'Backend Calcs Standard'!S121,(('Backend Calcs Standard'!S121)*0.0283168)))),\"\")","v":""},{"$f":"IFERROR(IF(D120=\"\",\"\",(IF('Backend Calcs Standard'!$A$12=1,'Backend Calcs Standard'!T121,(('Backend Calcs Standard'!T121)*0.0283168)))),\"\")","v":""},{"$f":"IFERROR(IF(E120=\"\",\"\",(IF('Backend Calcs Standard'!$A$12=1,'Backend Calcs Standard'!U121,(('Backend Calcs Standard'!U121)*0.0283168)))),\"\")","v":""},{"$f":"IFERROR(IF(F120=\"\",\"\",(IF('Backend Calcs Standard'!$A$12=1,'Backend Calcs Standard'!V121,(('Backend Calcs Standard'!V121)*0.0283168)))),\"\")","v":""},{"$f":"IF(I120=\"\",\"\",(IF('Backend Calcs Standard'!$A$12=1,'Backend Calcs Standard'!W121,('Backend Calcs Standard'!W121*0.0283168))))","v":""},"",{"$f":"IF('Backend Calcs Standard'!$A$12=1,'Backend Calcs Standard'!X121,('Backend Calcs Standard'!X121*0.0283168))","v":""},{"$f":"IFERROR(IF(H120=\"\",\"\",(IF('Backend Calcs Standard'!$A$12=1,'Backend Calcs Standard'!Y121,'Backend Calcs Standard'!Y121*0.0283168))),\"\")","v":""},{"$f":"IF(A120=\"\",\"\",IF('Backend Calcs Standard'!$A$12=1,'Backend Calcs Standard'!Z121,'Backend Calcs Standard'!O121))","v":""}]
[{"$f":"IFERROR(IF(B121=\"\",\"\",'Backend Calcs Standard'!P122),\"\")","v":""},{"$f":"IFERROR(IF(C121=\"\",\"\",(IF('Backend Calcs Standard'!$A$12=1,'Backend Calcs Standard'!S122,(('Backend Calcs Standard'!S122)*0.0283168)))),\"\")","v":""},{"$f":"IFERROR(IF(D121=\"\",\"\",(IF('Backend Calcs Standard'!$A$12=1,'Backend Calcs Standard'!T122,(('Backend Calcs Standard'!T122)*0.0283168)))),\"\")","v":""},{"$f":"IFERROR(IF(E121=\"\",\"\",(IF('Backend Calcs Standard'!$A$12=1,'Backend Calcs Standard'!U122,(('Backend Calcs Standard'!U122)*0.0283168)))),\"\")","v":""},{"$f":"IFERROR(IF(F121=\"\",\"\",(IF('Backend Calcs Standard'!$A$12=1,'Backend Calcs Standard'!V122,(('Backend Calcs Standard'!V122)*0.0283168)))),\"\")","v":""},{"$f":"IF(I121=\"\",\"\",(IF('Backend Calcs Standard'!$A$12=1,'Backend Calcs Standard'!W122,('Backend Calcs Standard'!W122*0.0283168))))","v":""},"",{"$f":"IF('Backend Calcs Standard'!$A$12=1,'Backend Calcs Standard'!X122,('Backend Calcs Standard'!X122*0.0283168))","v":""},{"$f":"IFERROR(IF(H121=\"\",\"\",(IF('Backend Calcs Standard'!$A$12=1,'Backend Calcs Standard'!Y122,'Backend Calcs Standard'!Y122*0.0283168))),\"\")","v":""},{"$f":"IF(A121=\"\",\"\",IF('Backend Calcs Standard'!$A$12=1,'Backend Calcs Standard'!Z122,'Backend Calcs Standard'!O122))","v":""}]
[{"$f":"IFERROR(IF(B122=\"\",\"\",'Backend Calcs Standard'!P123),\"\")","v":""},{"$f":"IFERROR(IF(C122=\"\",\"\",(IF('Backend Calcs Standard'!$A$12=1,'Backend Calcs Standard'!S123,(('Backend Calcs Standard'!S123)*0.0283168)))),\"\")","v":""},{"$f":"IFERROR(IF(D122=\"\",\"\",(IF('Backend Calcs Standard'!$A$12=1,'Backend Calcs Standard'!T123,(('Backend Calcs Standard'!T123)*0.0283168)))),\"\")","v":""},{"$f":"IFERROR(IF(E122=\"\",\"\",(IF('Backend Calcs Standard'!$A$12=1,'Backend Calcs Standard'!U123,(('Backend Calcs Standard'!U123)*0.0283168)))),\"\")","v":""},{"$f":"IFERROR(IF(F122=\"\",\"\",(IF('Backend Calcs Standard'!$A$12=1,'Backend Calcs Standard'!V123,(('Backend Calcs Standard'!V123)*0.0283168)))),\"\")","v":""},{"$f":"IF(I122=\"\",\"\",(IF('Backend Calcs Standard'!$A$12=1,'Backend Calcs Standard'!W123,('Backend Calcs Standard'!W123*0.0283168))))","v":""},"",{"$f":"IF('Backend Calcs Standard'!$A$12=1,'Backend Calcs Standard'!X123,('Backend Calcs Standard'!X123*0.0283168))","v":""},{"$f":"IFERROR(IF(H122=\"\",\"\",(IF('Backend Calcs Standard'!$A$12=1,'Backend Calcs Standard'!Y123,'Backend Calcs Standard'!Y123*0.0283168))),\"\")","v":""},{"$f":"IF(A122=\"\",\"\",IF('Backend Calcs Standard'!$A$12=1,'Backend Calcs Standard'!Z123,'Backend Calcs Standard'!O123))","v":""}]
[{"$f":"IFERROR(IF(B123=\"\",\"\",'Backend Calcs Standard'!P124),\"\")","v":""},{"$f":"IFERROR(IF(C123=\"\",\"\",(IF('Backend Calcs Standard'!$A$12=1,'Backend Calcs Standard'!S124,(('Backend Calcs Standard'!S124)*0.0283168)))),\"\")","v":""},{"$f":"IFERROR(IF(D123=\"\",\"\",(IF('Backend Calcs Standard'!$A$12=1,'Backend Calcs Standard'!T124,(('Backend Calcs Standard'!T124)*0.0283168)))),\"\")","v":""},{"$f":"IFERROR(IF(E123=\"\",\"\",(IF('Backend Calcs Standard'!$A$12=1,'Backend Calcs Standard'!U124,(('Backend Calcs Standard'!U124)*0.0283168)))),\"\")","v":""},{"$f":"IFERROR(IF(F123=\"\",\"\",(IF('Backend Calcs Standard'!$A$12=1,'Backend Calcs Standard'!V124,(('Backend Calcs Standard'!V124)*0.0283168)))),\"\")","v":""},{"$f":"IF(I123=\"\",\"\",(IF('Backend Calcs Standard'!$A$12=1,'Backend Calcs Standard'!W124,('Backend Calcs Standard'!W124*0.0283168))))","v":""},"",{"$f":"IF('Backend Calcs Standard'!$A$12=1,'Backend Calcs Standard'!X124,('Backend Calcs Standard'!X124*0.0283168))","v":""},{"$f":"IFERROR(IF(H123=\"\",\"\",(IF('Backend Calcs Standard'!$A$12=1,'Backend Calcs Standard'!Y124,'Backend Calcs Standard'!Y124*0.0283168))),\"\")","v":""},{"$f":"IF(A123=\"\",\"\",IF('Backend Calcs Standard'!$A$12=1,'Backend Calcs Standard'!Z124,'Backend Calcs Standard'!O124))","v":""}]
[{"$f":"IFERROR(IF(B124=\"\",\"\",'Backend Calcs Standard'!P125),\"\")","v":""},{"$f":"IFERROR(IF(C124=\"\",\"\",(IF('Backend Calcs Standard'!$A$12=1,'Backend Calcs Standard'!S125,(('Backend Calcs Standard'!S125)*0.0283168)))),\"\")","v":""},{"$f":"IFERROR(IF(D124=\"\",\"\",(IF('Backend Calcs Standard'!$A$12=1,'Backend Calcs Standard'!T125,(('Backend Calcs Standard'!T125)*0.0283168)))),\"\")","v":""},{"$f":"IFERROR(IF(E124=\"\",\"\",(IF('Backend Calcs Standard'!$A$12=1,'Backend Calcs Standard'!U125,(('Backend Calcs Standard'!U125)*0.0283168)))),\"\")","v":""},{"$f":"IFERROR(IF(F124=\"\",\"\",(IF('Backend Calcs Standard'!$A$12=1,'Backend Calcs Standard'!V125,(('Backend Calcs Standard'!V125)*0.0283168)))),\"\")","v":""},{"$f":"IF(I124=\"\",\"\",(IF('Backend Calcs Standard'!$A$12=1,'Backend Calcs Standard'!W125,('Backend Calcs Standard'!W125*0.0283168))))","v":""},"",{"$f":"IF('Backend Calcs Standard'!$A$12=1,'Backend Calcs Standard'!X125,('Backend Calcs Standard'!X125*0.0283168))","v":""},{"$f":"IFERROR(IF(H124=\"\",\"\",(IF('Backend Calcs Standard'!$A$12=1,'Backend Calcs Standard'!Y125,'Backend Calcs Standard'!Y125*0.0283168))),\"\")","v":""},{"$f":"IF(A124=\"\",\"\",IF('Backend Calcs Standard'!$A$12=1,'Backend Calcs Standard'!Z125,'Backend Calcs Standard'!O125))","v":""}]
[{"$f":"IFERROR(IF(B125=\"\",\"\",'Backend Calcs Standard'!P126),\"\")","v":""},{"$f":"IFERROR(IF(C125=\"\",\"\",(IF('Backend Calcs Standard'!$A$12=1,'Backend Calcs Standard'!S126,(('Backend Calcs Standard'!S126)*0.0283168)))),\"\")","v":""},{"$f":"IFERROR(IF(D125=\"\",\"\",(IF('Backend Calcs Standard'!$A$12=1,'Backend Calcs Standard'!T126,(('Backend Calcs Standard'!T126)*0.0283168)))),\"\")","v":""},{"$f":"IFERROR(IF(E125=\"\",\"\",(IF('Backend Calcs Standard'!$A$12=1,'Backend Calcs Standard'!U126,(('Backend Calcs Standard'!U126)*0.0283168)))),\"\")","v":""},{"$f":"IFERROR(IF(F125=\"\",\"\",(IF('Backend Calcs Standard'!$A$12=1,'Backend Calcs Standard'!V126,(('Backend Calcs Standard'!V126)*0.0283168)))),\"\")","v":""},{"$f":"IF(I125=\"\",\"\",(IF('Backend Calcs Standard'!$A$12=1,'Backend Calcs Standard'!W126,('Backend Calcs Standard'!W126*0.0283168))))","v":""},"",{"$f":"IF('Backend Calcs Standard'!$A$12=1,'Backend Calcs Standard'!X126,('Backend Calcs Standard'!X126*0.0283168))","v":""},{"$f":"IFERROR(IF(H125=\"\",\"\",(IF('Backend Calcs Standard'!$A$12=1,'Backend Calcs Standard'!Y126,'Backend Calcs Standard'!Y126*0.0283168))),\"\")","v":""},{"$f":"IF(A125=\"\",\"\",IF('Backend Calcs Standard'!$A$12=1,'Backend Calcs Standard'!Z126,'Backend Calcs Standard'!O126))","v":""}]
[{"$f":"IFERROR(IF(B126=\"\",\"\",'Backend Calcs Standard'!P127),\"\")","v":""},{"$f":"IFERROR(IF(C126=\"\",\"\",(IF('Backend Calcs Standard'!$A$12=1,'Backend Calcs Standard'!S127,(('Backend Calcs Standard'!S127)*0.0283168)))),\"\")","v":""},{"$f":"IFERROR(IF(D126=\"\",\"\",(IF('Backend Calcs Standard'!$A$12=1,'Backend Calcs Standard'!T127,(('Backend Calcs Standard'!T127)*0.0283168)))),\"\")","v":""},{"$f":"IFERROR(IF(E126=\"\",\"\",(IF('Backend Calcs Standard'!$A$12=1,'Backend Calcs Standard'!U127,(('Backend Calcs Standard'!U127)*0.0283168)))),\"\")","v":""},{"$f":"IFERROR(IF(F126=\"\",\"\",(IF('Backend Calcs Standard'!$A$12=1,'Backend Calcs Standard'!V127,(('Backend Calcs Standard'!V127)*0.0283168)))),\"\")","v":""},{"$f":"IF(I126=\"\",\"\",(IF('Backend Calcs Standard'!$A$12=1,'Backend Calcs Standard'!W127,('Backend Calcs Standard'!W127*0.0283168))))","v":""},"",{"$f":"IF('Backend Calcs Standard'!$A$12=1,'Backend Calcs Standard'!X127,('Backend Calcs Standard'!X127*0.0283168))","v":""},{"$f":"IFERROR(IF(H126=\"\",\"\",(IF('Backend Calcs Standard'!$A$12=1,'Backend Calcs Standard'!Y127,'Backend Calcs Standard'!Y127*0.0283168))),\"\")","v":""},{"$f":"IF(A126=\"\",\"\",IF('Backend Calcs Standard'!$A$12=1,'Backend Calcs Standard'!Z127,'Backend Calcs Standard'!O127))","v":""}]
[{"$f":"IFERROR(IF(B127=\"\",\"\",'Backend Calcs Standard'!P128),\"\")","v":""},{"$f":"IFERROR(IF(C127=\"\",\"\",(IF('Backend Calcs Standard'!$A$12=1,'Backend Calcs Standard'!S128,(('Backend Calcs Standard'!S128)*0.0283168)))),\"\")","v":""},{"$f":"IFERROR(IF(D127=\"\",\"\",(IF('Backend Calcs Standard'!$A$12=1,'Backend Calcs Standard'!T128,(('Backend Calcs Standard'!T128)*0.0283168)))),\"\")","v":""},{"$f":"IFERROR(IF(E127=\"\",\"\",(IF('Backend Calcs Standard'!$A$12=1,'Backend Calcs Standard'!U128,(('Backend Calcs Standard'!U128)*0.0283168)))),\"\")","v":""},{"$f":"IFERROR(IF(F127=\"\",\"\",(IF('Backend Calcs Standard'!$A$12=1,'Backend Calcs Standard'!V128,(('Backend Calcs Standard'!V128)*0.0283168)))),\"\")","v":""},{"$f":"IF(I127=\"\",\"\",(IF('Backend Calcs Standard'!$A$12=1,'Backend Calcs Standard'!W128,('Backend Calcs Standard'!W128*0.0283168))))","v":""},"",{"$f":"IF('Backend Calcs Standard'!$A$12=1,'Backend Calcs Standard'!X128,('Backend Calcs Standard'!X128*0.0283168))","v":""},{"$f":"IFERROR(IF(H127=\"\",\"\",(IF('Backend Calcs Standard'!$A$12=1,'Backend Calcs Standard'!Y128,'Backend Calcs Standard'!Y128*0.0283168))),\"\")","v":""},{"$f":"IF(A127=\"\",\"\",IF('Backend Calcs Standard'!$A$12=1,'Backend Calcs Standard'!Z128,'Backend Calcs Standard'!O128))","v":""}]
[{"$f":"IFERROR(IF(B128=\"\",\"\",'Backend Calcs Standard'!P129),\"\")","v":""},{"$f":"IFERROR(IF(C128=\"\",\"\",(IF('Backend Calcs Standard'!$A$12=1,'Backend Calcs Standard'!S129,(('Backend Calcs Standard'!S129)*0.0283168)))),\"\")","v":""},{"$f":"IFERROR(IF(D128=\"\",\"\",(IF('Backend Calcs Standard'!$A$12=1,'Backend Calcs Standard'!T129,(('Backend Calcs Standard'!T129)*0.0283168)))),\"\")","v":""},{"$f":"IFERROR(IF(E128=\"\",\"\",(IF('Backend Calcs Standard'!$A$12=1,'Backend Calcs Standard'!U129,(('Backend Calcs Standard'!U129)*0.0283168)))),\"\")","v":""},{"$f":"IFERROR(IF(F128=\"\",\"\",(IF('Backend Calcs Standard'!$A$12=1,'Backend Calcs Standard'!V129,(('Backend Calcs Standard'!V129)*0.0283168)))),\"\")","v":""},{"$f":"IF(I128=\"\",\"\",(IF('Backend Calcs Standard'!$A$12=1,'Backend Calcs Standard'!W129,('Backend Calcs Standard'!W129*0.0283168))))","v":""},"",{"$f":"IF('Backend Calcs Standard'!$A$12=1,'Backend Calcs Standard'!X129,('Backend Calcs Standard'!X129*0.0283168))","v":""},{"$f":"IFERROR(IF(H128=\"\",\"\",(IF('Backend Calcs Standard'!$A$12=1,'Backend Calcs Standard'!Y129,'Backend Calcs Standard'!Y129*0.0283168))),\"\")","v":""},{"$f":"IF(A128=\"\",\"\",IF('Backend Calcs Standard'!$A$12=1,'Backend Calcs Standard'!Z129,'Backend Calcs Standard'!O129))","v":""}]
[{"$f":"IFERROR(IF(B129=\"\",\"\",'Backend Calcs Standard'!P130),\"\")","v":""},{"$f":"IFERROR(IF(C129=\"\",\"\",(IF('Backend Calcs Standard'!$A$12=1,'Backend Calcs Standard'!S130,(('Backend Calcs Standard'!S130)*0.0283168)))),\"\")","v":""},{"$f":"IFERROR(IF(D129=\"\",\"\",(IF('Backend Calcs Standard'!$A$12=1,'Backend Calcs Standard'!T130,(('Backend Calcs Standard'!T130)*0.0283168)))),\"\")","v":""},{"$f":"IFERROR(IF(E129=\"\",\"\",(IF('Backend Calcs Standard'!$A$12=1,'Backend Calcs Standard'!U130,(('Backend Calcs Standard'!U130)*0.0283168)))),\"\")","v":""},{"$f":"IFERROR(IF(F129=\"\",\"\",(IF('Backend Calcs Standard'!$A$12=1,'Backend Calcs Standard'!V130,(('Backend Calcs Standard'!V130)*0.0283168)))),\"\")","v":""},{"$f":"IF(I129=\"\",\"\",(IF('Backend Calcs Standard'!$A$12=1,'Backend Calcs Standard'!W130,('Backend Calcs Standard'!W130*0.0283168))))","v":""},"",{"$f":"IF('Backend Calcs Standard'!$A$12=1,'Backend Calcs Standard'!X130,('Backend Calcs Standard'!X130*0.0283168))","v":""},{"$f":"IFERROR(IF(H129=\"\",\"\",(IF('Backend Calcs Standard'!$A$12=1,'Backend Calcs Standard'!Y130,'Backend Calcs Standard'!Y130*0.0283168))),\"\")","v":""},{"$f":"IF(A129=\"\",\"\",IF('Backend Calcs Standard'!$A$12=1,'Backend Calcs Standard'!Z130,'Backend Calcs Standard'!O130))","v":""}]
[{"$f":"IFERROR(IF(B130=\"\",\"\",'Backend Calcs Standard'!P131),\"\")","v":""},{"$f":"IFERROR(IF(C130=\"\",\"\",(IF('Backend Calcs Standard'!$A$12=1,'Backend Calcs Standard'!S131,(('Backend Calcs Standard'!S131)*0.0283168)))),\"\")","v":""},{"$f":"IFERROR(IF(D130=\"\",\"\",(IF('Backend Calcs Standard'!$A$12=1,'Backend Calcs Standard'!T131,(('Backend Calcs Standard'!T131)*0.0283168)))),\"\")","v":""},{"$f":"IFERROR(IF(E130=\"\",\"\",(IF('Backend Calcs Standard'!$A$12=1,'Backend Calcs Standard'!U131,(('Backend Calcs Standard'!U131)*0.0283168)))),\"\")","v":""},{"$f":"IFERROR(IF(F130=\"\",\"\",(IF('Backend Calcs Standard'!$A$12=1,'Backend Calcs Standard'!V131,(('Backend Calcs Standard'!V131)*0.0283168)))),\"\")","v":""},{"$f":"IF(I130=\"\",\"\",(IF('Backend Calcs Standard'!$A$12=1,'Backend Calcs Standard'!W131,('Backend Calcs Standard'!W131*0.0283168))))","v":""},"",{"$f":"IF('Backend Calcs Standard'!$A$12=1,'Backend Calcs Standard'!X131,('Backend Calcs Standard'!X131*0.0283168))","v":""},{"$f":"IFERROR(IF(H130=\"\",\"\",(IF('Backend Calcs Standard'!$A$12=1,'Backend Calcs Standard'!Y131,'Backend Calcs Standard'!Y131*0.0283168))),\"\")","v":""},{"$f":"IF(A130=\"\",\"\",IF('Backend Calcs Standard'!$A$12=1,'Backend Calcs Standard'!Z131,'Backend Calcs Standard'!O131))","v":""}]
[{"$f":"IFERROR(IF(B131=\"\",\"\",'Backend Calcs Standard'!P132),\"\")","v":""},{"$f":"IFERROR(IF(C131=\"\",\"\",(IF('Backend Calcs Standard'!$A$12=1,'Backend Calcs Standard'!S132,(('Backend Calcs Standard'!S132)*0.0283168)))),\"\")","v":""},{"$f":"IFERROR(IF(D131=\"\",\"\",(IF('Backend Calcs Standard'!$A$12=1,'Backend Calcs Standard'!T132,(('Backend Calcs Standard'!T132)*0.0283168)))),\"\")","v":""},{"$f":"IFERROR(IF(E131=\"\",\"\",(IF('Backend Calcs Standard'!$A$12=1,'Backend Calcs Standard'!U132,(('Backend Calcs Standard'!U132)*0.0283168)))),\"\")","v":""},{"$f":"IFERROR(IF(F131=\"\",\"\",(IF('Backend Calcs Standard'!$A$12=1,'Backend Calcs Standard'!V132,(('Backend Calcs Standard'!V132)*0.0283168)))),\"\")","v":""},{"$f":"IF(I131=\"\",\"\",(IF('Backend Calcs Standard'!$A$12=1,'Backend Calcs Standard'!W132,('Backend Calcs Standard'!W132*0.0283168))))","v":""},"",{"$f":"IF('Backend Calcs Standard'!$A$12=1,'Backend Calcs Standard'!X132,('Backend Calcs Standard'!X132*0.0283168))","v":""},{"$f":"IFERROR(IF(H131=\"\",\"\",(IF('Backend Calcs Standard'!$A$12=1,'Backend Calcs Standard'!Y132,'Backend Calcs Standard'!Y132*0.0283168))),\"\")","v":""},{"$f":"IF(A131=\"\",\"\",IF('Backend Calcs Standard'!$A$12=1,'Backend Calcs Standard'!Z132,'Backend Calcs Standard'!O132))","v":""}]
[{"$f":"IFERROR(IF(B132=\"\",\"\",'Backend Calcs Standard'!P133),\"\")","v":""},{"$f":"IFERROR(IF(C132=\"\",\"\",(IF('Backend Calcs Standard'!$A$12=1,'Backend Calcs Standard'!S133,(('Backend Calcs Standard'!S133)*0.0283168)))),\"\")","v":""},{"$f":"IFERROR(IF(D132=\"\",\"\",(IF('Backend Calcs Standard'!$A$12=1,'Backend Calcs Standard'!T133,(('Backend Calcs Standard'!T133)*0.0283168)))),\"\")","v":""},{"$f":"IFERROR(IF(E132=\"\",\"\",(IF('Backend Calcs Standard'!$A$12=1,'Backend Calcs Standard'!U133,(('Backend Calcs Standard'!U133)*0.0283168)))),\"\")","v":""},{"$f":"IFERROR(IF(F132=\"\",\"\",(IF('Backend Calcs Standard'!$A$12=1,'Backend Calcs Standard'!V133,(('Backend Calcs Standard'!V133)*0.0283168)))),\"\")","v":""},{"$f":"IF(I132=\"\",\"\",(IF('Backend Calcs Standard'!$A$12=1,'Backend Calcs Standard'!W133,('Backend Calcs Standard'!W133*0.0283168))))","v":""},"",{"$f":"IF('Backend Calcs Standard'!$A$12=1,'Backend Calcs Standard'!X133,('Backend Calcs Standard'!X133*0.0283168))","v":""},{"$f":"IFERROR(IF(H132=\"\",\"\",(IF('Backend Calcs Standard'!$A$12=1,'Backend Calcs Standard'!Y133,'Backend Calcs Standard'!Y133*0.0283168))),\"\")","v":""},{"$f":"IF(A132=\"\",\"\",IF('Backend Calcs Standard'!$A$12=1,'Backend Calcs Standard'!Z133,'Backend Calcs Standard'!O133))","v":""}]
[{"$f":"IFERROR(IF(B133=\"\",\"\",'Backend Calcs Standard'!P134),\"\")","v":""},{"$f":"IFERROR(IF(C133=\"\",\"\",(IF('Backend Calcs Standard'!$A$12=1,'Backend Calcs Standard'!S134,(('Backend Calcs Standard'!S134)*0.0283168)))),\"\")","v":""},{"$f":"IFERROR(IF(D133=\"\",\"\",(IF('Backend Calcs Standard'!$A$12=1,'Backend Calcs Standard'!T134,(('Backend Calcs Standard'!T134)*0.0283168)))),\"\")","v":""},{"$f":"IFERROR(IF(E133=\"\",\"\",(IF('Backend Calcs Standard'!$A$12=1,'Backend Calcs Standard'!U134,(('Backend Calcs Standard'!U134)*0.0283168)))),\"\")","v":""},{"$f":"IFERROR(IF(F133=\"\",\"\",(IF('Backend Calcs Standard'!$A$12=1,'Backend Calcs Standard'!V134,(('Backend Calcs Standard'!V134)*0.0283168)))),\"\")","v":""},{"$f":"IF(I133=\"\",\"\",(IF('Backend Calcs Standard'!$A$12=1,'Backend Calcs Standard'!W134,('Backend Calcs Standard'!W134*0.0283168))))","v":""},"",{"$f":"IF('Backend Calcs Standard'!$A$12=1,'Backend Calcs Standard'!X134,('Backend Calcs Standard'!X134*0.0283168))","v":""},{"$f":"IFERROR(IF(H133=\"\",\"\",(IF('Backend Calcs Standard'!$A$12=1,'Backend Calcs Standard'!Y134,'Backend Calcs Standard'!Y134*0.0283168))),\"\")","v":""},{"$f":"IF(A133=\"\",\"\",IF('Backend Calcs Standard'!$A$12=1,'Backend Calcs Standard'!Z134,'Backend Calcs Standard'!O134))","v":""}]
[{"$f":"IFERROR(IF(B134=\"\",\"\",'Backend Calcs Standard'!P135),\"\")","v":""},{"$f":"IFERROR(IF(C134=\"\",\"\",(IF('Backend Calcs Standard'!$A$12=1,'Backend Calcs Standard'!S135,(('Backend Calcs Standard'!S135)*0.0283168)))),\"\")","v":""},{"$f":"IFERROR(IF(D134=\"\",\"\",(IF('Backend Calcs Standard'!$A$12=1,'Backend Calcs Standard'!T135,(('Backend Calcs Standard'!T135)*0.0283168)))),\"\")","v":""},{"$f":"IFERROR(IF(E134=\"\",\"\",(IF('Backend Calcs Standard'!$A$12=1,'Backend Calcs Standard'!U135,(('Backend Calcs Standard'!U135)*0.0283168)))),\"\")","v":""},{"$f":"IFERROR(IF(F134=\"\",\"\",(IF('Backend Calcs Standard'!$A$12=1,'Backend Calcs Standard'!V135,(('Backend Calcs Standard'!V135)*0.0283168)))),\"\")","v":""},{"$f":"IF(I134=\"\",\"\",(IF('Backend Calcs Standard'!$A$12=1,'Backend Calcs Standard'!W135,('Backend Calcs Standard'!W135*0.0283168))))","v":""},"",{"$f":"IF('Backend Calcs Standard'!$A$12=1,'Backend Calcs Standard'!X135,('Backend Calcs Standard'!X135*0.0283168))","v":""},{"$f":"IFERROR(IF(H134=\"\",\"\",(IF('Backend Calcs Standard'!$A$12=1,'Backend Calcs Standard'!Y135,'Backend Calcs Standard'!Y135*0.0283168))),\"\")","v":""},{"$f":"IF(A134=\"\",\"\",IF('Backend Calcs Standard'!$A$12=1,'Backend Calcs Standard'!Z135,'Backend Calcs Standard'!O135))","v":""}]
[{"$f":"IFERROR(IF(B135=\"\",\"\",'Backend Calcs Standard'!P136),\"\")","v":""},{"$f":"IFERROR(IF(C135=\"\",\"\",(IF('Backend Calcs Standard'!$A$12=1,'Backend Calcs Standard'!S136,(('Backend Calcs Standard'!S136)*0.0283168)))),\"\")","v":""},{"$f":"IFERROR(IF(D135=\"\",\"\",(IF('Backend Calcs Standard'!$A$12=1,'Backend Calcs Standard'!T136,(('Backend Calcs Standard'!T136)*0.0283168)))),\"\")","v":""},{"$f":"IFERROR(IF(E135=\"\",\"\",(IF('Backend Calcs Standard'!$A$12=1,'Backend Calcs Standard'!U136,(('Backend Calcs Standard'!U136)*0.0283168)))),\"\")","v":""},{"$f":"IFERROR(IF(F135=\"\",\"\",(IF('Backend Calcs Standard'!$A$12=1,'Backend Calcs Standard'!V136,(('Backend Calcs Standard'!V136)*0.0283168)))),\"\")","v":""},{"$f":"IF(I135=\"\",\"\",(IF('Backend Calcs Standard'!$A$12=1,'Backend Calcs Standard'!W136,('Backend Calcs Standard'!W136*0.0283168))))","v":""},"",{"$f":"IF('Backend Calcs Standard'!$A$12=1,'Backend Calcs Standard'!X136,('Backend Calcs Standard'!X136*0.0283168))","v":""},{"$f":"IFERROR(IF(H135=\"\",\"\",(IF('Backend Calcs Standard'!$A$12=1,'Backend Calcs Standard'!Y136,'Backend Calcs Standard'!Y136*0.0283168))),\"\")","v":""},{"$f":"IF(A135=\"\",\"\",IF('Backend Calcs Standard'!$A$12=1,'Backend Calcs Standard'!Z136,'Backend Calcs Standard'!O136))","v":""}]
[{"$f":"IFERROR(IF(B136=\"\",\"\",'Backend Calcs Standard'!P137),\"\")","v":""},{"$f":"IFERROR(IF(C136=\"\",\"\",(IF('Backend Calcs Standard'!$A$12=1,'Backend Calcs Standard'!S137,(('Backend Calcs Standard'!S137)*0.0283168)))),\"\")","v":""},{"$f":"IFERROR(IF(D136=\"\",\"\",(IF('Backend Calcs Standard'!$A$12=1,'Backend Calcs Standard'!T137,(('Backend Calcs Standard'!T137)*0.0283168)))),\"\")","v":""},{"$f":"IFERROR(IF(E136=\"\",\"\",(IF('Backend Calcs Standard'!$A$12=1,'Backend Calcs Standard'!U137,(('Backend Calcs Standard'!U137)*0.0283168)))),\"\")","v":""},{"$f":"IFERROR(IF(F136=\"\",\"\",(IF('Backend Calcs Standard'!$A$12=1,'Backend Calcs Standard'!V137,(('Backend Calcs Standard'!V137)*0.0283168)))),\"\")","v":""},{"$f":"IF(I136=\"\",\"\",(IF('Backend Calcs Standard'!$A$12=1,'Backend Calcs Standard'!W137,('Backend Calcs Standard'!W137*0.0283168))))","v":""},"",{"$f":"IF('Backend Calcs Standard'!$A$12=1,'Backend Calcs Standard'!X137,('Backend Calcs Standard'!X137*0.0283168))","v":""},{"$f":"IFERROR(IF(H136=\"\",\"\",(IF('Backend Calcs Standard'!$A$12=1,'Backend Calcs Standard'!Y137,'Backend Calcs Standard'!Y137*0.0283168))),\"\")","v":""},{"$f":"IF(A136=\"\",\"\",IF('Backend Calcs Standard'!$A$12=1,'Backend Calcs Standard'!Z137,'Backend Calcs Standard'!O137))","v":""}]
[{"$f":"IFERROR(IF(B137=\"\",\"\",'Backend Calcs Standard'!P138),\"\")","v":""},{"$f":"IFERROR(IF(C137=\"\",\"\",(IF('Backend Calcs Standard'!$A$12=1,'Backend Calcs Standard'!S138,(('Backend Calcs Standard'!S138)*0.0283168)))),\"\")","v":""},{"$f":"IFERROR(IF(D137=\"\",\"\",(IF('Backend Calcs Standard'!$A$12=1,'Backend Calcs Standard'!T138,(('Backend Calcs Standard'!T138)*0.0283168)))),\"\")","v":""},{"$f":"IFERROR(IF(E137=\"\",\"\",(IF('Backend Calcs Standard'!$A$12=1,'Backend Calcs Standard'!U138,(('Backend Calcs Standard'!U138)*0.0283168)))),\"\")","v":""},{"$f":"IFERROR(IF(F137=\"\",\"\",(IF('Backend Calcs Standard'!$A$12=1,'Backend Calcs Standard'!V138,(('Backend Calcs Standard'!V138)*0.0283168)))),\"\")","v":""},{"$f":"IF(I137=\"\",\"\",(IF('Backend Calcs Standard'!$A$12=1,'Backend Calcs Standard'!W138,('Backend Calcs Standard'!W138*0.0283168))))","v":""},"",{"$f":"IF('Backend Calcs Standard'!$A$12=1,'Backend Calcs Standard'!X138,('Backend Calcs Standard'!X138*0.0283168))","v":""},{"$f":"IFERROR(IF(H137=\"\",\"\",(IF('Backend Calcs Standard'!$A$12=1,'Backend Calcs Standard'!Y138,'Backend Calcs Standard'!Y138*0.0283168))),\"\")","v":""},{"$f":"IF(A137=\"\",\"\",IF('Backend Calcs Standard'!$A$12=1,'Backend Calcs Standard'!Z138,'Backend Calcs Standard'!O138))","v":""}]
[{"$f":"IFERROR(IF(B138=\"\",\"\",'Backend Calcs Standard'!P139),\"\")","v":""},{"$f":"IFERROR(IF(C138=\"\",\"\",(IF('Backend Calcs Standard'!$A$12=1,'Backend Calcs Standard'!S139,(('Backend Calcs Standard'!S139)*0.0283168)))),\"\")","v":""},{"$f":"IFERROR(IF(D138=\"\",\"\",(IF('Backend Calcs Standard'!$A$12=1,'Backend Calcs Standard'!T139,(('Backend Calcs Standard'!T139)*0.0283168)))),\"\")","v":""},{"$f":"IFERROR(IF(E138=\"\",\"\",(IF('Backend Calcs Standard'!$A$12=1,'Backend Calcs Standard'!U139,(('Backend Calcs Standard'!U139)*0.0283168)))),\"\")","v":""},{"$f":"IFERROR(IF(F138=\"\",\"\",(IF('Backend Calcs Standard'!$A$12=1,'Backend Calcs Standard'!V139,(('Backend Calcs Standard'!V139)*0.0283168)))),\"\")","v":""},{"$f":"IF(I138=\"\",\"\",(IF('Backend Calcs Standard'!$A$12=1,'Backend Calcs Standard'!W139,('Backend Calcs Standard'!W139*0.0283168))))","v":""},"",{"$f":"IF('Backend Calcs Standard'!$A$12=1,'Backend Calcs Standard'!X139,('Backend Calcs Standard'!X139*0.0283168))","v":""},{"$f":"IFERROR(IF(H138=\"\",\"\",(IF('Backend Calcs Standard'!$A$12=1,'Backend Calcs Standard'!Y139,'Backend Calcs Standard'!Y139*0.0283168))),\"\")","v":""},{"$f":"IF(A138=\"\",\"\",IF('Backend Calcs Standard'!$A$12=1,'Backend Calcs Standard'!Z139,'Backend Calcs Standard'!O139))","v":""}]
[{"$f":"IFERROR(IF(B139=\"\",\"\",'Backend Calcs Standard'!P140),\"\")","v":""},{"$f":"IFERROR(IF(C139=\"\",\"\",(IF('Backend Calcs Standard'!$A$12=1,'Backend Calcs Standard'!S140,(('Backend Calcs Standard'!S140)*0.0283168)))),\"\")","v":""},{"$f":"IFERROR(IF(D139=\"\",\"\",(IF('Backend Calcs Standard'!$A$12=1,'Backend Calcs Standard'!T140,(('Backend Calcs Standard'!T140)*0.0283168)))),\"\")","v":""},{"$f":"IFERROR(IF(E139=\"\",\"\",(IF('Backend Calcs Standard'!$A$12=1,'Backend Calcs Standard'!U140,(('Backend Calcs Standard'!U140)*0.0283168)))),\"\")","v":""},{"$f":"IFERROR(IF(F139=\"\",\"\",(IF('Backend Calcs Standard'!$A$12=1,'Backend Calcs Standard'!V140,(('Backend Calcs Standard'!V140)*0.0283168)))),\"\")","v":""},{"$f":"IF(I139=\"\",\"\",(IF('Backend Calcs Standard'!$A$12=1,'Backend Calcs Standard'!W140,('Backend Calcs Standard'!W140*0.0283168))))","v":""},"",{"$f":"IF('Backend Calcs Standard'!$A$12=1,'Backend Calcs Standard'!X140,('Backend Calcs Standard'!X140*0.0283168))","v":""},{"$f":"IFERROR(IF(H139=\"\",\"\",(IF('Backend Calcs Standard'!$A$12=1,'Backend Calcs Standard'!Y140,'Backend Calcs Standard'!Y140*0.0283168))),\"\")","v":""},{"$f":"IF(A139=\"\",\"\",IF('Backend Calcs Standard'!$A$12=1,'Backend Calcs Standard'!Z140,'Backend Calcs Standard'!O140))","v":""}]
[{"$f":"IFERROR(IF(B140=\"\",\"\",'Backend Calcs Standard'!P141),\"\")","v":""},{"$f":"IFERROR(IF(C140=\"\",\"\",(IF('Backend Calcs Standard'!$A$12=1,'Backend Calcs Standard'!S141,(('Backend Calcs Standard'!S141)*0.0283168)))),\"\")","v":""},{"$f":"IFERROR(IF(D140=\"\",\"\",(IF('Backend Calcs Standard'!$A$12=1,'Backend Calcs Standard'!T141,(('Backend Calcs Standard'!T141)*0.0283168)))),\"\")","v":""},{"$f":"IFERROR(IF(E140=\"\",\"\",(IF('Backend Calcs Standard'!$A$12=1,'Backend Calcs Standard'!U141,(('Backend Calcs Standard'!U141)*0.0283168)))),\"\")","v":""},{"$f":"IFERROR(IF(F140=\"\",\"\",(IF('Backend Calcs Standard'!$A$12=1,'Backend Calcs Standard'!V141,(('Backend Calcs Standard'!V141)*0.0283168)))),\"\")","v":""},{"$f":"IF(I140=\"\",\"\",(IF('Backend Calcs Standard'!$A$12=1,'Backend Calcs Standard'!W141,('Backend Calcs Standard'!W141*0.0283168))))","v":""},"",{"$f":"IF('Backend Calcs Standard'!$A$12=1,'Backend Calcs Standard'!X141,('Backend Calcs Standard'!X141*0.0283168))","v":""},{"$f":"IFERROR(IF(H140=\"\",\"\",(IF('Backend Calcs Standard'!$A$12=1,'Backend Calcs Standard'!Y141,'Backend Calcs Standard'!Y141*0.0283168))),\"\")","v":""},{"$f":"IF(A140=\"\",\"\",IF('Backend Calcs Standard'!$A$12=1,'Backend Calcs Standard'!Z141,'Backend Calcs Standard'!O141))","v":""}]
[{"$f":"IFERROR(IF(B141=\"\",\"\",'Backend Calcs Standard'!P142),\"\")","v":""},{"$f":"IFERROR(IF(C141=\"\",\"\",(IF('Backend Calcs Standard'!$A$12=1,'Backend Calcs Standard'!S142,(('Backend Calcs Standard'!S142)*0.0283168)))),\"\")","v":""},{"$f":"IFERROR(IF(D141=\"\",\"\",(IF('Backend Calcs Standard'!$A$12=1,'Backend Calcs Standard'!T142,(('Backend Calcs Standard'!T142)*0.0283168)))),\"\")","v":""},{"$f":"IFERROR(IF(E141=\"\",\"\",(IF('Backend Calcs Standard'!$A$12=1,'Backend Calcs Standard'!U142,(('Backend Calcs Standard'!U142)*0.0283168)))),\"\")","v":""},{"$f":"IFERROR(IF(F141=\"\",\"\",(IF('Backend Calcs Standard'!$A$12=1,'Backend Calcs Standard'!V142,(('Backend Calcs Standard'!V142)*0.0283168)))),\"\")","v":""},{"$f":"IF(I141=\"\",\"\",(IF('Backend Calcs Standard'!$A$12=1,'Backend Calcs Standard'!W142,('Backend Calcs Standard'!W142*0.0283168))))","v":""},"",{"$f":"IF('Backend Calcs Standard'!$A$12=1,'Backend Calcs Standard'!X142,('Backend Calcs Standard'!X142*0.0283168))","v":""},{"$f":"IFERROR(IF(H141=\"\",\"\",(IF('Backend Calcs Standard'!$A$12=1,'Backend Calcs Standard'!Y142,'Backend Calcs Standard'!Y142*0.0283168))),\"\")","v":""},{"$f":"IF(A141=\"\",\"\",IF('Backend Calcs Standard'!$A$12=1,'Backend Calcs Standard'!Z142,'Backend Calcs Standard'!O142))","v":""}]
[{"$f":"IFERROR(IF(B142=\"\",\"\",'Backend Calcs Standard'!P143),\"\")","v":""},{"$f":"IFERROR(IF(C142=\"\",\"\",(IF('Backend Calcs Standard'!$A$12=1,'Backend Calcs Standard'!S143,(('Backend Calcs Standard'!S143)*0.0283168)))),\"\")","v":""},{"$f":"IFERROR(IF(D142=\"\",\"\",(IF('Backend Calcs Standard'!$A$12=1,'Backend Calcs Standard'!T143,(('Backend Calcs Standard'!T143)*0.0283168)))),\"\")","v":""},{"$f":"IFERROR(IF(E142=\"\",\"\",(IF('Backend Calcs Standard'!$A$12=1,'Backend Calcs Standard'!U143,(('Backend Calcs Standard'!U143)*0.0283168)))),\"\")","v":""},{"$f":"IFERROR(IF(F142=\"\",\"\",(IF('Backend Calcs Standard'!$A$12=1,'Backend Calcs Standard'!V143,(('Backend Calcs Standard'!V143)*0.0283168)))),\"\")","v":""},{"$f":"IF(I142=\"\",\"\",(IF('Backend Calcs Standard'!$A$12=1,'Backend Calcs Standard'!W143,('Backend Calcs Standard'!W143*0.0283168))))","v":""},"",{"$f":"IF('Backend Calcs Standard'!$A$12=1,'Backend Calcs Standard'!X143,('Backend Calcs Standard'!X143*0.0283168))","v":""},{"$f":"IFERROR(IF(H142=\"\",\"\",(IF('Backend Calcs Standard'!$A$12=1,'Backend Calcs Standard'!Y143,'Backend Calcs Standard'!Y143*0.0283168))),\"\")","v":""},{"$f":"IF(A142=\"\",\"\",IF('Backend Calcs Standard'!$A$12=1,'Backend Calcs Standard'!Z143,'Backend Calcs Standard'!O143))","v":""}]
[{"$f":"IFERROR(IF(B143=\"\",\"\",'Backend Calcs Standard'!P144),\"\")","v":""},{"$f":"IFERROR(IF(C143=\"\",\"\",(IF('Backend Calcs Standard'!$A$12=1,'Backend Calcs Standard'!S144,(('Backend Calcs Standard'!S144)*0.0283168)))),\"\")","v":""},{"$f":"IFERROR(IF(D143=\"\",\"\",(IF('Backend Calcs Standard'!$A$12=1,'Backend Calcs Standard'!T144,(('Backend Calcs Standard'!T144)*0.0283168)))),\"\")","v":""},{"$f":"IFERROR(IF(E143=\"\",\"\",(IF('Backend Calcs Standard'!$A$12=1,'Backend Calcs Standard'!U144,(('Backend Calcs Standard'!U144)*0.0283168)))),\"\")","v":""},{"$f":"IFERROR(IF(F143=\"\",\"\",(IF('Backend Calcs Standard'!$A$12=1,'Backend Calcs Standard'!V144,(('Backend Calcs Standard'!V144)*0.0283168)))),\"\")","v":""},{"$f":"IF(I143=\"\",\"\",(IF('Backend Calcs Standard'!$A$12=1,'Backend Calcs Standard'!W144,('Backend Calcs Standard'!W144*0.0283168))))","v":""},"",{"$f":"IF('Backend Calcs Standard'!$A$12=1,'Backend Calcs Standard'!X144,('Backend Calcs Standard'!X144*0.0283168))","v":""},{"$f":"IFERROR(IF(H143=\"\",\"\",(IF('Backend Calcs Standard'!$A$12=1,'Backend Calcs Standard'!Y144,'Backend Calcs Standard'!Y144*0.0283168))),\"\")","v":""},{"$f":"IF(A143=\"\",\"\",IF('Backend Calcs Standard'!$A$12=1,'Backend Calcs Standard'!Z144,'Backend Calcs Standard'!O144))","v":""}]
[{"$f":"IFERROR(IF(B144=\"\",\"\",'Backend Calcs Standard'!P145),\"\")","v":""},{"$f":"IFERROR(IF(C144=\"\",\"\",(IF('Backend Calcs Standard'!$A$12=1,'Backend Calcs Standard'!S145,(('Backend Calcs Standard'!S145)*0.0283168)))),\"\")","v":""},{"$f":"IFERROR(IF(D144=\"\",\"\",(IF('Backend Calcs Standard'!$A$12=1,'Backend Calcs Standard'!T145,(('Backend Calcs Standard'!T145)*0.0283168)))),\"\")","v":""},{"$f":"IFERROR(IF(E144=\"\",\"\",(IF('Backend Calcs Standard'!$A$12=1,'Backend Calcs Standard'!U145,(('Backend Calcs Standard'!U145)*0.0283168)))),\"\")","v":""},{"$f":"IFERROR(IF(F144=\"\",\"\",(IF('Backend Calcs Standard'!$A$12=1,'Backend Calcs Standard'!V145,(('Backend Calcs Standard'!V145)*0.0283168)))),\"\")","v":""},{"$f":"IF(I144=\"\",\"\",(IF('Backend Calcs Standard'!$A$12=1,'Backend Calcs Standard'!W145,('Backend Calcs Standard'!W145*0.0283168))))","v":""},"",{"$f":"IF('Backend Calcs Standard'!$A$12=1,'Backend Calcs Standard'!X145,('Backend Calcs Standard'!X145*0.0283168))","v":""},{"$f":"IFERROR(IF(H144=\"\",\"\",(IF('Backend Calcs Standard'!$A$12=1,'Backend Calcs Standard'!Y145,'Backend Calcs Standard'!Y145*0.0283168))),\"\")","v":""},{"$f":"IF(A144=\"\",\"\",IF('Backend Calcs Standard'!$A$12=1,'Backend Calcs Standard'!Z145,'Backend Calcs Standard'!O145))","v":""}]
[{"$f":"IFERROR(IF(B145=\"\",\"\",'Backend Calcs Standard'!P146),\"\")","v":""},{"$f":"IFERROR(IF(C145=\"\",\"\",(IF('Backend Calcs Standard'!$A$12=1,'Backend Calcs Standard'!S146,(('Backend Calcs Standard'!S146)*0.0283168)))),\"\")","v":""},{"$f":"IFERROR(IF(D145=\"\",\"\",(IF('Backend Calcs Standard'!$A$12=1,'Backend Calcs Standard'!T146,(('Backend Calcs Standard'!T146)*0.0283168)))),\"\")","v":""},{"$f":"IFERROR(IF(E145=\"\",\"\",(IF('Backend Calcs Standard'!$A$12=1,'Backend Calcs Standard'!U146,(('Backend Calcs Standard'!U146)*0.0283168)))),\"\")","v":""},{"$f":"IFERROR(IF(F145=\"\",\"\",(IF('Backend Calcs Standard'!$A$12=1,'Backend Calcs Standard'!V146,(('Backend Calcs Standard'!V146)*0.0283168)))),\"\")","v":""},{"$f":"IF(I145=\"\",\"\",(IF('Backend Calcs Standard'!$A$12=1,'Backend Calcs Standard'!W146,('Backend Calcs Standard'!W146*0.0283168))))","v":""},"",{"$f":"IF('Backend Calcs Standard'!$A$12=1,'Backend Calcs Standard'!X146,('Backend Calcs Standard'!X146*0.0283168))","v":""},{"$f":"IFERROR(IF(H145=\"\",\"\",(IF('Backend Calcs Standard'!$A$12=1,'Backend Calcs Standard'!Y146,'Backend Calcs Standard'!Y146*0.0283168))),\"\")","v":""},{"$f":"IF(A145=\"\",\"\",IF('Backend Calcs Standard'!$A$12=1,'Backend Calcs Standard'!Z146,'Backend Calcs Standard'!O146))","v":""}]
[{"$f":"IFERROR(IF(B146=\"\",\"\",'Backend Calcs Standard'!P147),\"\")","v":""},{"$f":"IFERROR(IF(C146=\"\",\"\",(IF('Backend Calcs Standard'!$A$12=1,'Backend Calcs Standard'!S147,(('Backend Calcs Standard'!S147)*0.0283168)))),\"\")","v":""},{"$f":"IFERROR(IF(D146=\"\",\"\",(IF('Backend Calcs Standard'!$A$12=1,'Backend Calcs Standard'!T147,(('Backend Calcs Standard'!T147)*0.0283168)))),\"\")","v":""},{"$f":"IFERROR(IF(E146=\"\",\"\",(IF('Backend Calcs Standard'!$A$12=1,'Backend Calcs Standard'!U147,(('Backend Calcs Standard'!U147)*0.0283168)))),\"\")","v":""},{"$f":"IFERROR(IF(F146=\"\",\"\",(IF('Backend Calcs Standard'!$A$12=1,'Backend Calcs Standard'!V147,(('Backend Calcs Standard'!V147)*0.0283168)))),\"\")","v":""},{"$f":"IF(I146=\"\",\"\",(IF('Backend Calcs Standard'!$A$12=1,'Backend Calcs Standard'!W147,('Backend Calcs Standard'!W147*0.0283168))))","v":""},"",{"$f":"IF('Backend Calcs Standard'!$A$12=1,'Backend Calcs Standard'!X147,('Backend Calcs Standard'!X147*0.0283168))","v":""},{"$f":"IFERROR(IF(H146=\"\",\"\",(IF('Backend Calcs Standard'!$A$12=1,'Backend Calcs Standard'!Y147,'Backend Calcs Standard'!Y147*0.0283168))),\"\")","v":""},{"$f":"IF(A146=\"\",\"\",IF('Backend Calcs Standard'!$A$12=1,'Backend Calcs Standard'!Z147,'Backend Calcs Standard'!O147))","v":""}]
[{"$f":"IFERROR(IF(B147=\"\",\"\",'Backend Calcs Standard'!P148),\"\")","v":""},{"$f":"IFERROR(IF(C147=\"\",\"\",(IF('Backend Calcs Standard'!$A$12=1,'Backend Calcs Standard'!S148,(('Backend Calcs Standard'!S148)*0.0283168)))),\"\")","v":""},{"$f":"IFERROR(IF(D147=\"\",\"\",(IF('Backend Calcs Standard'!$A$12=1,'Backend Calcs Standard'!T148,(('Backend Calcs Standard'!T148)*0.0283168)))),\"\")","v":""},{"$f":"IFERROR(IF(E147=\"\",\"\",(IF('Backend Calcs Standard'!$A$12=1,'Backend Calcs Standard'!U148,(('Backend Calcs Standard'!U148)*0.0283168)))),\"\")","v":""},{"$f":"IFERROR(IF(F147=\"\",\"\",(IF('Backend Calcs Standard'!$A$12=1,'Backend Calcs Standard'!V148,(('Backend Calcs Standard'!V148)*0.0283168)))),\"\")","v":""},{"$f":"IF(I147=\"\",\"\",(IF('Backend Calcs Standard'!$A$12=1,'Backend Calcs Standard'!W148,('Backend Calcs Standard'!W148*0.0283168))))","v":""},{"$f":"IFERROR(IF(F147=\"\",\"\",(F147+E147+D147)),\"\")","v":""},{"$f":"IF('Backend Calcs Standard'!$A$12=1,'Backend Calcs Standard'!X148,('Backend Calcs Standard'!X148*0.0283168))","v":""},{"$f":"IFERROR(IF(H147=\"\",\"\",(IF('Backend Calcs Standard'!$A$12=1,'Backend Calcs Standard'!Y148,'Backend Calcs Standard'!Y148*0.0283168))),\"\")","v":""},{"$f":"IF(A147=\"\",\"\",IF('Backend Calcs Standard'!$A$12=1,'Backend Calcs Standard'!Z148,'Backend Calcs Standard'!O148))","v":""}]
[{"$f":"IFERROR(IF(B148=\"\",\"\",'Backend Calcs Standard'!P149),\"\")","v":""},{"$f":"IFERROR(IF(C148=\"\",\"\",(IF('Backend Calcs Standard'!$A$12=1,'Backend Calcs Standard'!S149,(('Backend Calcs Standard'!S149)*0.0283168)))),\"\")","v":""},{"$f":"IFERROR(IF(D148=\"\",\"\",(IF('Backend Calcs Standard'!$A$12=1,'Backend Calcs Standard'!T149,(('Backend Calcs Standard'!T149)*0.0283168)))),\"\")","v":""},{"$f":"IFERROR(IF(E148=\"\",\"\",(IF('Backend Calcs Standard'!$A$12=1,'Backend Calcs Standard'!U149,(('Backend Calcs Standard'!U149)*0.0283168)))),\"\")","v":""},{"$f":"IFERROR(IF(F148=\"\",\"\",(IF('Backend Calcs Standard'!$A$12=1,'Backend Calcs Standard'!V149,(('Backend Calcs Standard'!V149)*0.0283168)))),\"\")","v":""},{"$f":"IF(I148=\"\",\"\",(IF('Backend Calcs Standard'!$A$12=1,'Backend Calcs Standard'!W149,('Backend Calcs Standard'!W149*0.0283168))))","v":""},"",{"$f":"IF('Backend Calcs Standard'!$A$12=1,'Backend Calcs Standard'!X149,('Backend Calcs Standard'!X149*0.0283168))","v":""},{"$f":"IFERROR(IF(H148=\"\",\"\",(IF('Backend Calcs Standard'!$A$12=1,'Backend Calcs Standard'!Y149,'Backend Calcs Standard'!Y149*0.0283168))),\"\")","v":""},{"$f":"IF(A148=\"\",\"\",IF('Backend Calcs Standard'!$A$12=1,'Backend Calcs Standard'!Z149,'Backend Calcs Standard'!O149))","v":""}]
[{"$f":"IFERROR(IF(B149=\"\",\"\",'Backend Calcs Standard'!P150),\"\")","v":""},{"$f":"IFERROR(IF(C149=\"\",\"\",(IF('Backend Calcs Standard'!$A$12=1,'Backend Calcs Standard'!S150,(('Backend Calcs Standard'!S150)*0.0283168)))),\"\")","v":""},{"$f":"IFERROR(IF(D149=\"\",\"\",(IF('Backend Calcs Standard'!$A$12=1,'Backend Calcs Standard'!T150,(('Backend Calcs Standard'!T150)*0.0283168)))),\"\")","v":""},{"$f":"IFERROR(IF(E149=\"\",\"\",(IF('Backend Calcs Standard'!$A$12=1,'Backend Calcs Standard'!U150,(('Backend Calcs Standard'!U150)*0.0283168)))),\"\")","v":""},{"$f":"IFERROR(IF(F149=\"\",\"\",(IF('Backend Calcs Standard'!$A$12=1,'Backend Calcs Standard'!V150,(('Backend Calcs Standard'!V150)*0.0283168)))),\"\")","v":""},{"$f":"IF(I149=\"\",\"\",(IF('Backend Calcs Standard'!$A$12=1,'Backend Calcs Standard'!W150,('Backend Calcs Standard'!W150*0.0283168))))","v":""},"",{"$f":"IF('Backend Calcs Standard'!$A$12=1,'Backend Calcs Standard'!X150,('Backend Calcs Standard'!X150*0.0283168))","v":""},{"$f":"IFERROR(IF(H149=\"\",\"\",(IF('Backend Calcs Standard'!$A$12=1,'Backend Calcs Standard'!Y150,'Backend Calcs Standard'!Y150*0.0283168))),\"\")","v":""},{"$f":"IF(A149=\"\",\"\",IF('Backend Calcs Standard'!$A$12=1,'Backend Calcs Standard'!Z150,'Backend Calcs Standard'!O150))","v":""}]
[{"$f":"IFERROR(IF(B150=\"\",\"\",'Backend Calcs Standard'!P151),\"\")","v":""},{"$f":"IFERROR(IF(C150=\"\",\"\",(IF('Backend Calcs Standard'!$A$12=1,'Backend Calcs Standard'!S151,(('Backend Calcs Standard'!S151)*0.0283168)))),\"\")","v":""},{"$f":"IFERROR(IF(D150=\"\",\"\",(IF('Backend Calcs Standard'!$A$12=1,'Backend Calcs Standard'!T151,(('Backend Calcs Standard'!T151)*0.0283168)))),\"\")","v":""},{"$f":"IFERROR(IF(E150=\"\",\"\",(IF('Backend Calcs Standard'!$A$12=1,'Backend Calcs Standard'!U151,(('Backend Calcs Standard'!U151)*0.0283168)))),\"\")","v":""},{"$f":"IFERROR(IF(F150=\"\",\"\",(IF('Backend Calcs Standard'!$A$12=1,'Backend Calcs Standard'!V151,(('Backend Calcs Standard'!V151)*0.0283168)))),\"\")","v":""},{"$f":"IF(I150=\"\",\"\",(IF('Backend Calcs Standard'!$A$12=1,'Backend Calcs Standard'!W151,('Backend Calcs Standard'!W151*0.0283168))))","v":""},"",{"$f":"IF('Backend Calcs Standard'!$A$12=1,'Backend Calcs Standard'!X151,('Backend Calcs Standard'!X151*0.0283168))","v":""},{"$f":"IFERROR(IF(H150=\"\",\"\",(IF('Backend Calcs Standard'!$A$12=1,'Backend Calcs Standard'!Y151,'Backend Calcs Standard'!Y151*0.0283168))),\"\")","v":""},{"$f":"IF(A150=\"\",\"\",IF('Backend Calcs Standard'!$A$12=1,'Backend Calcs Standard'!Z151,'Backend Calcs Standard'!O151))","v":""}]
[{"$f":"IFERROR(IF(B151=\"\",\"\",'Backend Calcs Standard'!P152),\"\")","v":""},{"$f":"IFERROR(IF(C151=\"\",\"\",(IF('Backend Calcs Standard'!$A$12=1,'Backend Calcs Standard'!S152,(('Backend Calcs Standard'!S152)*0.0283168)))),\"\")","v":""},{"$f":"IFERROR(IF(D151=\"\",\"\",(IF('Backend Calcs Standard'!$A$12=1,'Backend Calcs Standard'!T152,(('Backend Calcs Standard'!T152)*0.0283168)))),\"\")","v":""},{"$f":"IFERROR(IF(E151=\"\",\"\",(IF('Backend Calcs Standard'!$A$12=1,'Backend Calcs Standard'!U152,(('Backend Calcs Standard'!U152)*0.0283168)))),\"\")","v":""},{"$f":"IFERROR(IF(F151=\"\",\"\",(IF('Backend Calcs Standard'!$A$12=1,'Backend Calcs Standard'!V152,(('Backend Calcs Standard'!V152)*0.0283168)))),\"\")","v":""},{"$f":"IF(I151=\"\",\"\",(IF('Backend Calcs Standard'!$A$12=1,'Backend Calcs Standard'!W152,('Backend Calcs Standard'!W152*0.0283168))))","v":""},"",{"$f":"IF('Backend Calcs Standard'!$A$12=1,'Backend Calcs Standard'!X152,('Backend Calcs Standard'!X152*0.0283168))","v":""},{"$f":"IFERROR(IF(H151=\"\",\"\",(IF('Backend Calcs Standard'!$A$12=1,'Backend Calcs Standard'!Y152,'Backend Calcs Standard'!Y152*0.0283168))),\"\")","v":""},{"$f":"IF(A151=\"\",\"\",IF('Backend Calcs Standard'!$A$12=1,'Backend Calcs Standard'!Z152,'Backend Calcs Standard'!O152))","v":""}]
[{"$f":"IFERROR(IF(B152=\"\",\"\",'Backend Calcs Standard'!P153),\"\")","v":""},{"$f":"IFERROR(IF(C152=\"\",\"\",(IF('Backend Calcs Standard'!$A$12=1,'Backend Calcs Standard'!S153,(('Backend Calcs Standard'!S153)*0.0283168)))),\"\")","v":""},{"$f":"IFERROR(IF(D152=\"\",\"\",(IF('Backend Calcs Standard'!$A$12=1,'Backend Calcs Standard'!T153,(('Backend Calcs Standard'!T153)*0.0283168)))),\"\")","v":""},{"$f":"IFERROR(IF(E152=\"\",\"\",(IF('Backend Calcs Standard'!$A$12=1,'Backend Calcs Standard'!U153,(('Backend Calcs Standard'!U153)*0.0283168)))),\"\")","v":""},{"$f":"IFERROR(IF(F152=\"\",\"\",(IF('Backend Calcs Standard'!$A$12=1,'Backend Calcs Standard'!V153,(('Backend Calcs Standard'!V153)*0.0283168)))),\"\")","v":""},{"$f":"IF(I152=\"\",\"\",(IF('Backend Calcs Standard'!$A$12=1,'Backend Calcs Standard'!W153,('Backend Calcs Standard'!W153*0.0283168))))","v":""},"",{"$f":"IF('Backend Calcs Standard'!$A$12=1,'Backend Calcs Standard'!X153,('Backend Calcs Standard'!X153*0.0283168))","v":""},{"$f":"IFERROR(IF(H152=\"\",\"\",(IF('Backend Calcs Standard'!$A$12=1,'Backend Calcs Standard'!Y153,'Backend Calcs Standard'!Y153*0.0283168))),\"\")","v":""},{"$f":"IF(A152=\"\",\"\",IF('Backend Calcs Standard'!$A$12=1,'Backend Calcs Standard'!Z153,'Backend Calcs Standard'!O153))","v":""}]
[{"$f":"IFERROR(IF(B153=\"\",\"\",'Backend Calcs Standard'!P154),\"\")","v":""},{"$f":"IFERROR(IF(C153=\"\",\"\",(IF('Backend Calcs Standard'!$A$12=1,'Backend Calcs Standard'!S154,(('Backend Calcs Standard'!S154)*0.0283168)))),\"\")","v":""},{"$f":"IFERROR(IF(D153=\"\",\"\",(IF('Backend Calcs Standard'!$A$12=1,'Backend Calcs Standard'!T154,(('Backend Calcs Standard'!T154)*0.0283168)))),\"\")","v":""},{"$f":"IFERROR(IF(E153=\"\",\"\",(IF('Backend Calcs Standard'!$A$12=1,'Backend Calcs Standard'!U154,(('Backend Calcs Standard'!U154)*0.0283168)))),\"\")","v":""},{"$f":"IFERROR(IF(F153=\"\",\"\",(IF('Backend Calcs Standard'!$A$12=1,'Backend Calcs Standard'!V154,(('Backend Calcs Standard'!V154)*0.0283168)))),\"\")","v":""},{"$f":"IF(I153=\"\",\"\",(IF('Backend Calcs Standard'!$A$12=1,'Backend Calcs Standard'!W154,('Backend Calcs Standard'!W154*0.0283168))))","v":""},"",{"$f":"IF('Backend Calcs Standard'!$A$12=1,'Backend Calcs Standard'!X154,('Backend Calcs Standard'!X154*0.0283168))","v":""},{"$f":"IFERROR(IF(H153=\"\",\"\",(IF('Backend Calcs Standard'!$A$12=1,'Backend Calcs Standard'!Y154,'Backend Calcs Standard'!Y154*0.0283168))),\"\")","v":""},{"$f":"IF(A153=\"\",\"\",IF('Backend Calcs Standard'!$A$12=1,'Backend Calcs Standard'!Z154,'Backend Calcs Standard'!O154))","v":""}]
[{"$f":"IFERROR(IF(B154=\"\",\"\",'Backend Calcs Standard'!P155),\"\")","v":""},{"$f":"IFERROR(IF(C154=\"\",\"\",(IF('Backend Calcs Standard'!$A$12=1,'Backend Calcs Standard'!S155,(('Backend Calcs Standard'!S155)*0.0283168)))),\"\")","v":""},{"$f":"IFERROR(IF(D154=\"\",\"\",(IF('Backend Calcs Standard'!$A$12=1,'Backend Calcs Standard'!T155,(('Backend Calcs Standard'!T155)*0.0283168)))),\"\")","v":""},{"$f":"IFERROR(IF(E154=\"\",\"\",(IF('Backend Calcs Standard'!$A$12=1,'Backend Calcs Standard'!U155,(('Backend Calcs Standard'!U155)*0.0283168)))),\"\")","v":""},{"$f":"IFERROR(IF(F154=\"\",\"\",(IF('Backend Calcs Standard'!$A$12=1,'Backend Calcs Standard'!V155,(('Backend Calcs Standard'!V155)*0.0283168)))),\"\")","v":""},{"$f":"IF(I154=\"\",\"\",(IF('Backend Calcs Standard'!$A$12=1,'Backend Calcs Standard'!W155,('Backend Calcs Standard'!W155*0.0283168))))","v":""},"",{"$f":"IF('Backend Calcs Standard'!$A$12=1,'Backend Calcs Standard'!X155,('Backend Calcs Standard'!X155*0.0283168))","v":""},{"$f":"IFERROR(IF(H154=\"\",\"\",(IF('Backend Calcs Standard'!$A$12=1,'Backend Calcs Standard'!Y155,'Backend Calcs Standard'!Y155*0.0283168))),\"\")","v":""},{"$f":"IF(A154=\"\",\"\",IF('Backend Calcs Standard'!$A$12=1,'Backend Calcs Standard'!Z155,'Backend Calcs Standard'!O155))","v":""}]
[{"$f":"IFERROR(IF(B155=\"\",\"\",'Backend Calcs Standard'!P156),\"\")","v":""},{"$f":"IFERROR(IF(C155=\"\",\"\",(IF('Backend Calcs Standard'!$A$12=1,'Backend Calcs Standard'!S156,(('Backend Calcs Standard'!S156)*0.0283168)))),\"\")","v":""},{"$f":"IFERROR(IF(D155=\"\",\"\",(IF('Backend Calcs Standard'!$A$12=1,'Backend Calcs Standard'!T156,(('Backend Calcs Standard'!T156)*0.0283168)))),\"\")","v":""},{"$f":"IFERROR(IF(E155=\"\",\"\",(IF('Backend Calcs Standard'!$A$12=1,'Backend Calcs Standard'!U156,(('Backend Calcs Standard'!U156)*0.0283168)))),\"\")","v":""},{"$f":"IFERROR(IF(F155=\"\",\"\",(IF('Backend Calcs Standard'!$A$12=1,'Backend Calcs Standard'!V156,(('Backend Calcs Standard'!V156)*0.0283168)))),\"\")","v":""},{"$f":"IF(I155=\"\",\"\",(IF('Backend Calcs Standard'!$A$12=1,'Backend Calcs Standard'!W156,('Backend Calcs Standard'!W156*0.0283168))))","v":""},"",{"$f":"IF('Backend Calcs Standard'!$A$12=1,'Backend Calcs Standard'!X156,('Backend Calcs Standard'!X156*0.0283168))","v":""},{"$f":"IFERROR(IF(H155=\"\",\"\",(IF('Backend Calcs Standard'!$A$12=1,'Backend Calcs Standard'!Y156,'Backend Calcs Standard'!Y156*0.0283168))),\"\")","v":""},{"$f":"IF(A155=\"\",\"\",IF('Backend Calcs Standard'!$A$12=1,'Backend Calcs Standard'!Z156,'Backend Calcs Standard'!O156))","v":""}]
[{"$f":"IFERROR(IF(B156=\"\",\"\",'Backend Calcs Standard'!P157),\"\")","v":""},{"$f":"IFERROR(IF(C156=\"\",\"\",(IF('Backend Calcs Standard'!$A$12=1,'Backend Calcs Standard'!S157,(('Backend Calcs Standard'!S157)*0.0283168)))),\"\")","v":""},{"$f":"IFERROR(IF(D156=\"\",\"\",(IF('Backend Calcs Standard'!$A$12=1,'Backend Calcs Standard'!T157,(('Backend Calcs Standard'!T157)*0.0283168)))),\"\")","v":""},{"$f":"IFERROR(IF(E156=\"\",\"\",(IF('Backend Calcs Standard'!$A$12=1,'Backend Calcs Standard'!U157,(('Backend Calcs Standard'!U157)*0.0283168)))),\"\")","v":""},{"$f":"IFERROR(IF(F156=\"\",\"\",(IF('Backend Calcs Standard'!$A$12=1,'Backend Calcs Standard'!V157,(('Backend Calcs Standard'!V157)*0.0283168)))),\"\")","v":""},{"$f":"IF(I156=\"\",\"\",(IF('Backend Calcs Standard'!$A$12=1,'Backend Calcs Standard'!W157,('Backend Calcs Standard'!W157*0.0283168))))","v":""},"",{"$f":"IF('Backend Calcs Standard'!$A$12=1,'Backend Calcs Standard'!X157,('Backend Calcs Standard'!X157*0.0283168))","v":""},{"$f":"IFERROR(IF(H156=\"\",\"\",(IF('Backend Calcs Standard'!$A$12=1,'Backend Calcs Standard'!Y157,'Backend Calcs Standard'!Y157*0.0283168))),\"\")","v":""},{"$f":"IF(A156=\"\",\"\",IF('Backend Calcs Standard'!$A$12=1,'Backend Calcs Standard'!Z157,'Backend Calcs Standard'!O157))","v":""}]
[{"$f":"IFERROR(IF(B157=\"\",\"\",'Backend Calcs Standard'!P158),\"\")","v":""},{"$f":"IFERROR(IF(C157=\"\",\"\",(IF('Backend Calcs Standard'!$A$12=1,'Backend Calcs Standard'!S158,(('Backend Calcs Standard'!S158)*0.0283168)))),\"\")","v":""},{"$f":"IFERROR(IF(D157=\"\",\"\",(IF('Backend Calcs Standard'!$A$12=1,'Backend Calcs Standard'!T158,(('Backend Calcs Standard'!T158)*0.0283168)))),\"\")","v":""},{"$f":"IFERROR(IF(E157=\"\",\"\",(IF('Backend Calcs Standard'!$A$12=1,'Backend Calcs Standard'!U158,(('Backend Calcs Standard'!U158)*0.0283168)))),\"\")","v":""},{"$f":"IFERROR(IF(F157=\"\",\"\",(IF('Backend Calcs Standard'!$A$12=1,'Backend Calcs Standard'!V158,(('Backend Calcs Standard'!V158)*0.0283168)))),\"\")","v":""},{"$f":"IF(I157=\"\",\"\",(IF('Backend Calcs Standard'!$A$12=1,'Backend Calcs Standard'!W158,('Backend Calcs Standard'!W158*0.0283168))))","v":""},"",{"$f":"IF('Backend Calcs Standard'!$A$12=1,'Backend Calcs Standard'!X158,('Backend Calcs Standard'!X158*0.0283168))","v":""},{"$f":"IFERROR(IF(H157=\"\",\"\",(IF('Backend Calcs Standard'!$A$12=1,'Backend Calcs Standard'!Y158,'Backend Calcs Standard'!Y158*0.0283168))),\"\")","v":""},{"$f":"IF(A157=\"\",\"\",IF('Backend Calcs Standard'!$A$12=1,'Backend Calcs Standard'!Z158,'Backend Calcs Standard'!O158))","v":""}]
[{"$f":"IFERROR(IF(B158=\"\",\"\",'Backend Calcs Standard'!P159),\"\")","v":""},{"$f":"IFERROR(IF(C158=\"\",\"\",(IF('Backend Calcs Standard'!$A$12=1,'Backend Calcs Standard'!S159,(('Backend Calcs Standard'!S159)*0.0283168)))),\"\")","v":""},{"$f":"IFERROR(IF(D158=\"\",\"\",(IF('Backend Calcs Standard'!$A$12=1,'Backend Calcs Standard'!T159,(('Backend Calcs Standard'!T159)*0.0283168)))),\"\")","v":""},{"$f":"IFERROR(IF(E158=\"\",\"\",(IF('Backend Calcs Standard'!$A$12=1,'Backend Calcs Standard'!U159,(('Backend Calcs Standard'!U159)*0.0283168)))),\"\")","v":""},{"$f":"IFERROR(IF(F158=\"\",\"\",(IF('Backend Calcs Standard'!$A$12=1,'Backend Calcs Standard'!V159,(('Backend Calcs Standard'!V159)*0.0283168)))),\"\")","v":""},{"$f":"IF(I158=\"\",\"\",(IF('Backend Calcs Standard'!$A$12=1,'Backend Calcs Standard'!W159,('Backend Calcs Standard'!W159*0.0283168))))","v":""},"",{"$f":"IF('Backend Calcs Standard'!$A$12=1,'Backend Calcs Standard'!X159,('Backend Calcs Standard'!X159*0.0283168))","v":""},{"$f":"IFERROR(IF(H158=\"\",\"\",(IF('Backend Calcs Standard'!$A$12=1,'Backend Calcs Standard'!Y159,'Backend Calcs Standard'!Y159*0.0283168))),\"\")","v":""},{"$f":"IF(A158=\"\",\"\",IF('Backend Calcs Standard'!$A$12=1,'Backend Calcs Standard'!Z159,'Backend Calcs Standard'!O159))","v":""}]
[{"$f":"IFERROR(IF(B159=\"\",\"\",'Backend Calcs Standard'!P160),\"\")","v":""},{"$f":"IFERROR(IF(C159=\"\",\"\",(IF('Backend Calcs Standard'!$A$12=1,'Backend Calcs Standard'!S160,(('Backend Calcs Standard'!S160)*0.0283168)))),\"\")","v":""},{"$f":"IFERROR(IF(D159=\"\",\"\",(IF('Backend Calcs Standard'!$A$12=1,'Backend Calcs Standard'!T160,(('Backend Calcs Standard'!T160)*0.0283168)))),\"\")","v":""},{"$f":"IFERROR(IF(E159=\"\",\"\",(IF('Backend Calcs Standard'!$A$12=1,'Backend Calcs Standard'!U160,(('Backend Calcs Standard'!U160)*0.0283168)))),\"\")","v":""},{"$f":"IFERROR(IF(F159=\"\",\"\",(IF('Backend Calcs Standard'!$A$12=1,'Backend Calcs Standard'!V160,(('Backend Calcs Standard'!V160)*0.0283168)))),\"\")","v":""},{"$f":"IF(I159=\"\",\"\",(IF('Backend Calcs Standard'!$A$12=1,'Backend Calcs Standard'!W160,('Backend Calcs Standard'!W160*0.0283168))))","v":""},"",{"$f":"IF('Backend Calcs Standard'!$A$12=1,'Backend Calcs Standard'!X160,('Backend Calcs Standard'!X160*0.0283168))","v":""},{"$f":"IFERROR(IF(H159=\"\",\"\",(IF('Backend Calcs Standard'!$A$12=1,'Backend Calcs Standard'!Y160,'Backend Calcs Standard'!Y160*0.0283168))),\"\")","v":""},{"$f":"IF(A159=\"\",\"\",IF('Backend Calcs Standard'!$A$12=1,'Backend Calcs Standard'!Z160,'Backend Calcs Standard'!O160))","v":""}]
[{"$f":"IFERROR(IF(B160=\"\",\"\",'Backend Calcs Standard'!P161),\"\")","v":""},{"$f":"IFERROR(IF(C160=\"\",\"\",(IF('Backend Calcs Standard'!$A$12=1,'Backend Calcs Standard'!S161,(('Backend Calcs Standard'!S161)*0.0283168)))),\"\")","v":""},{"$f":"IFERROR(IF(D160=\"\",\"\",(IF('Backend Calcs Standard'!$A$12=1,'Backend Calcs Standard'!T161,(('Backend Calcs Standard'!T161)*0.0283168)))),\"\")","v":""},{"$f":"IFERROR(IF(E160=\"\",\"\",(IF('Backend Calcs Standard'!$A$12=1,'Backend Calcs Standard'!U161,(('Backend Calcs Standard'!U161)*0.0283168)))),\"\")","v":""},{"$f":"IFERROR(IF(F160=\"\",\"\",(IF('Backend Calcs Standard'!$A$12=1,'Backend Calcs Standard'!V161,(('Backend Calcs Standard'!V161)*0.0283168)))),\"\")","v":""},{"$f":"IF(I160=\"\",\"\",(IF('Backend Calcs Standard'!$A$12=1,'Backend Calcs Standard'!W161,('Backend Calcs Standard'!W161*0.0283168))))","v":""},"",{"$f":"IF('Backend Calcs Standard'!$A$12=1,'Backend Calcs Standard'!X161,('Backend Calcs Standard'!X161*0.0283168))","v":""},{"$f":"IFERROR(IF(H160=\"\",\"\",(IF('Backend Calcs Standard'!$A$12=1,'Backend Calcs Standard'!Y161,'Backend Calcs Standard'!Y161*0.0283168))),\"\")","v":""},{"$f":"IF(A160=\"\",\"\",IF('Backend Calcs Standard'!$A$12=1,'Backend Calcs Standard'!Z161,'Backend Calcs Standard'!O161))","v":""}]
[{"$f":"IFERROR(IF(B161=\"\",\"\",'Backend Calcs Standard'!P162),\"\")","v":""},{"$f":"IFERROR(IF(C161=\"\",\"\",(IF('Backend Calcs Standard'!$A$12=1,'Backend Calcs Standard'!S162,(('Backend Calcs Standard'!S162)*0.0283168)))),\"\")","v":""},{"$f":"IFERROR(IF(D161=\"\",\"\",(IF('Backend Calcs Standard'!$A$12=1,'Backend Calcs Standard'!T162,(('Backend Calcs Standard'!T162)*0.0283168)))),\"\")","v":""},{"$f":"IFERROR(IF(E161=\"\",\"\",(IF('Backend Calcs Standard'!$A$12=1,'Backend Calcs Standard'!U162,(('Backend Calcs Standard'!U162)*0.0283168)))),\"\")","v":""},{"$f":"IFERROR(IF(F161=\"\",\"\",(IF('Backend Calcs Standard'!$A$12=1,'Backend Calcs Standard'!V162,(('Backend Calcs Standard'!V162)*0.0283168)))),\"\")","v":""},{"$f":"IF(I161=\"\",\"\",(IF('Backend Calcs Standard'!$A$12=1,'Backend Calcs Standard'!W162,('Backend Calcs Standard'!W162*0.0283168))))","v":""},"",{"$f":"IF('Backend Calcs Standard'!$A$12=1,'Backend Calcs Standard'!X162,('Backend Calcs Standard'!X162*0.0283168))","v":""},{"$f":"IFERROR(IF(H161=\"\",\"\",(IF('Backend Calcs Standard'!$A$12=1,'Backend Calcs Standard'!Y162,'Backend Calcs Standard'!Y162*0.0283168))),\"\")","v":""},{"$f":"IF(A161=\"\",\"\",IF('Backend Calcs Standard'!$A$12=1,'Backend Calcs Standard'!Z162,'Backend Calcs Standard'!O162))","v":""}]
[{"$f":"IFERROR(IF(B162=\"\",\"\",'Backend Calcs Standard'!P163),\"\")","v":""},{"$f":"IFERROR(IF(C162=\"\",\"\",(IF('Backend Calcs Standard'!$A$12=1,'Backend Calcs Standard'!S163,(('Backend Calcs Standard'!S163)*0.0283168)))),\"\")","v":""},{"$f":"IFERROR(IF(D162=\"\",\"\",(IF('Backend Calcs Standard'!$A$12=1,'Backend Calcs Standard'!T163,(('Backend Calcs Standard'!T163)*0.0283168)))),\"\")","v":""},{"$f":"IFERROR(IF(E162=\"\",\"\",(IF('Backend Calcs Standard'!$A$12=1,'Backend Calcs Standard'!U163,(('Backend Calcs Standard'!U163)*0.0283168)))),\"\")","v":""},{"$f":"IFERROR(IF(F162=\"\",\"\",(IF('Backend Calcs Standard'!$A$12=1,'Backend Calcs Standard'!V163,(('Backend Calcs Standard'!V163)*0.0283168)))),\"\")","v":""},{"$f":"IF(I162=\"\",\"\",(IF('Backend Calcs Standard'!$A$12=1,'Backend Calcs Standard'!W163,('Backend Calcs Standard'!W163*0.0283168))))","v":""},"",{"$f":"IF('Backend Calcs Standard'!$A$12=1,'Backend Calcs Standard'!X163,('Backend Calcs Standard'!X163*0.0283168))","v":""},{"$f":"IFERROR(IF(H162=\"\",\"\",(IF('Backend Calcs Standard'!$A$12=1,'Backend Calcs Standard'!Y163,'Backend Calcs Standard'!Y163*0.0283168))),\"\")","v":""},{"$f":"IF(A162=\"\",\"\",IF('Backend Calcs Standard'!$A$12=1,'Backend Calcs Standard'!Z163,'Backend Calcs Standard'!O163))","v":""}]
[{"$f":"IFERROR(IF(B163=\"\",\"\",'Backend Calcs Standard'!P164),\"\")","v":""},{"$f":"IFERROR(IF(C163=\"\",\"\",(IF('Backend Calcs Standard'!$A$12=1,'Backend Calcs Standard'!S164,(('Backend Calcs Standard'!S164)*0.0283168)))),\"\")","v":""},{"$f":"IFERROR(IF(D163=\"\",\"\",(IF('Backend Calcs Standard'!$A$12=1,'Backend Calcs Standard'!T164,(('Backend Calcs Standard'!T164)*0.0283168)))),\"\")","v":""},{"$f":"IFERROR(IF(E163=\"\",\"\",(IF('Backend Calcs Standard'!$A$12=1,'Backend Calcs Standard'!U164,(('Backend Calcs Standard'!U164)*0.0283168)))),\"\")","v":""},{"$f":"IFERROR(IF(F163=\"\",\"\",(IF('Backend Calcs Standard'!$A$12=1,'Backend Calcs Standard'!V164,(('Backend Calcs Standard'!V164)*0.0283168)))),\"\")","v":""},{"$f":"IF(I163=\"\",\"\",(IF('Backend Calcs Standard'!$A$12=1,'Backend Calcs Standard'!W164,('Backend Calcs Standard'!W164*0.0283168))))","v":""},"",{"$f":"IF('Backend Calcs Standard'!$A$12=1,'Backend Calcs Standard'!X164,('Backend Calcs Standard'!X164*0.0283168))","v":""},{"$f":"IFERROR(IF(H163=\"\",\"\",(IF('Backend Calcs Standard'!$A$12=1,'Backend Calcs Standard'!Y164,'Backend Calcs Standard'!Y164*0.0283168))),\"\")","v":""},{"$f":"IF(A163=\"\",\"\",IF('Backend Calcs Standard'!$A$12=1,'Backend Calcs Standard'!Z164,'Backend Calcs Standard'!O164))","v":""}]
[{"$f":"IFERROR(IF(B164=\"\",\"\",'Backend Calcs Standard'!P165),\"\")","v":""},{"$f":"IFERROR(IF(C164=\"\",\"\",(IF('Backend Calcs Standard'!$A$12=1,'Backend Calcs Standard'!S165,(('Backend Calcs Standard'!S165)*0.0283168)))),\"\")","v":""},{"$f":"IFERROR(IF(D164=\"\",\"\",(IF('Backend Calcs Standard'!$A$12=1,'Backend Calcs Standard'!T165,(('Backend Calcs Standard'!T165)*0.0283168)))),\"\")","v":""},{"$f":"IFERROR(IF(E164=\"\",\"\",(IF('Backend Calcs Standard'!$A$12=1,'Backend Calcs Standard'!U165,(('Backend Calcs Standard'!U165)*0.0283168)))),\"\")","v":""},{"$f":"IFERROR(IF(F164=\"\",\"\",(IF('Backend Calcs Standard'!$A$12=1,'Backend Calcs Standard'!V165,(('Backend Calcs Standard'!V165)*0.0283168)))),\"\")","v":""},{"$f":"IF(I164=\"\",\"\",(IF('Backend Calcs Standard'!$A$12=1,'Backend Calcs Standard'!W165,('Backend Calcs Standard'!W165*0.0283168))))","v":""},"",{"$f":"IF('Backend Calcs Standard'!$A$12=1,'Backend Calcs Standard'!X165,('Backend Calcs Standard'!X165*0.0283168))","v":""},{"$f":"IFERROR(IF(H164=\"\",\"\",(IF('Backend Calcs Standard'!$A$12=1,'Backend Calcs Standard'!Y165,'Backend Calcs Standard'!Y165*0.0283168))),\"\")","v":""},{"$f":"IF(A164=\"\",\"\",IF('Backend Calcs Standard'!$A$12=1,'Backend Calcs Standard'!Z165,'Backend Calcs Standard'!O165))","v":""}]
[{"$f":"IFERROR(IF(B165=\"\",\"\",'Backend Calcs Standard'!P166),\"\")","v":""},{"$f":"IFERROR(IF(C165=\"\",\"\",(IF('Backend Calcs Standard'!$A$12=1,'Backend Calcs Standard'!S166,(('Backend Calcs Standard'!S166)*0.0283168)))),\"\")","v":""},{"$f":"IFERROR(IF(D165=\"\",\"\",(IF('Backend Calcs Standard'!$A$12=1,'Backend Calcs Standard'!T166,(('Backend Calcs Standard'!T166)*0.0283168)))),\"\")","v":""},{"$f":"IFERROR(IF(E165=\"\",\"\",(IF('Backend Calcs Standard'!$A$12=1,'Backend Calcs Standard'!U166,(('Backend Calcs Standard'!U166)*0.0283168)))),\"\")","v":""},{"$f":"IFERROR(IF(F165=\"\",\"\",(IF('Backend Calcs Standard'!$A$12=1,'Backend Calcs Standard'!V166,(('Backend Calcs Standard'!V166)*0.0283168)))),\"\")","v":""},{"$f":"IF(I165=\"\",\"\",(IF('Backend Calcs Standard'!$A$12=1,'Backend Calcs Standard'!W166,('Backend Calcs Standard'!W166*0.0283168))))","v":""},"",{"$f":"IF('Backend Calcs Standard'!$A$12=1,'Backend Calcs Standard'!X166,('Backend Calcs Standard'!X166*0.0283168))","v":""},{"$f":"IFERROR(IF(H165=\"\",\"\",(IF('Backend Calcs Standard'!$A$12=1,'Backend Calcs Standard'!Y166,'Backend Calcs Standard'!Y166*0.0283168))),\"\")","v":""},{"$f":"IF(A165=\"\",\"\",IF('Backend Calcs Standard'!$A$12=1,'Backend Calcs Standard'!Z166,'Backend Calcs Standard'!O166))","v":""}]
[{"$f":"IFERROR(IF(B166=\"\",\"\",'Backend Calcs Standard'!P167),\"\")","v":""},{"$f":"IFERROR(IF(C166=\"\",\"\",(IF('Backend Calcs Standard'!$A$12=1,'Backend Calcs Standard'!S167,(('Backend Calcs Standard'!S167)*0.0283168)))),\"\")","v":""},{"$f":"IFERROR(IF(D166=\"\",\"\",(IF('Backend Calcs Standard'!$A$12=1,'Backend Calcs Standard'!T167,(('Backend Calcs Standard'!T167)*0.0283168)))),\"\")","v":""},{"$f":"IFERROR(IF(E166=\"\",\"\",(IF('Backend Calcs Standard'!$A$12=1,'Backend Calcs Standard'!U167,(('Backend Calcs Standard'!U167)*0.0283168)))),\"\")","v":""},{"$f":"IFERROR(IF(F166=\"\",\"\",(IF('Backend Calcs Standard'!$A$12=1,'Backend Calcs Standard'!V167,(('Backend Calcs Standard'!V167)*0.0283168)))),\"\")","v":""},{"$f":"IF(I166=\"\",\"\",(IF('Backend Calcs Standard'!$A$12=1,'Backend Calcs Standard'!W167,('Backend Calcs Standard'!W167*0.0283168))))","v":""},"",{"$f":"IF('Backend Calcs Standard'!$A$12=1,'Backend Calcs Standard'!X167,('Backend Calcs Standard'!X167*0.0283168))","v":""},{"$f":"IFERROR(IF(H166=\"\",\"\",(IF('Backend Calcs Standard'!$A$12=1,'Backend Calcs Standard'!Y167,'Backend Calcs Standard'!Y167*0.0283168))),\"\")","v":""},{"$f":"IF(A166=\"\",\"\",IF('Backend Calcs Standard'!$A$12=1,'Backend Calcs Standard'!Z167,'Backend Calcs Standard'!O167))","v":""}]
[{"$f":"IFERROR(IF(B167=\"\",\"\",'Backend Calcs Standard'!P168),\"\")","v":""},{"$f":"IFERROR(IF(C167=\"\",\"\",(IF('Backend Calcs Standard'!$A$12=1,'Backend Calcs Standard'!S168,(('Backend Calcs Standard'!S168)*0.0283168)))),\"\")","v":""},{"$f":"IFERROR(IF(D167=\"\",\"\",(IF('Backend Calcs Standard'!$A$12=1,'Backend Calcs Standard'!T168,(('Backend Calcs Standard'!T168)*0.0283168)))),\"\")","v":""},{"$f":"IFERROR(IF(E167=\"\",\"\",(IF('Backend Calcs Standard'!$A$12=1,'Backend Calcs Standard'!U168,(('Backend Calcs Standard'!U168)*0.0283168)))),\"\")","v":""},{"$f":"IFERROR(IF(F167=\"\",\"\",(IF('Backend Calcs Standard'!$A$12=1,'Backend Calcs Standard'!V168,(('Backend Calcs Standard'!V168)*0.0283168)))),\"\")","v":""},{"$f":"IF(I167=\"\",\"\",(IF('Backend Calcs Standard'!$A$12=1,'Backend Calcs Standard'!W168,('Backend Calcs Standard'!W168*0.0283168))))","v":""},"",{"$f":"IF('Backend Calcs Standard'!$A$12=1,'Backend Calcs Standard'!X168,('Backend Calcs Standard'!X168*0.0283168))","v":""},{"$f":"IFERROR(IF(H167=\"\",\"\",(IF('Backend Calcs Standard'!$A$12=1,'Backend Calcs Standard'!Y168,'Backend Calcs Standard'!Y168*0.0283168))),\"\")","v":""},{"$f":"IF(A167=\"\",\"\",IF('Backend Calcs Standard'!$A$12=1,'Backend Calcs Standard'!Z168,'Backend Calcs Standard'!O168))","v":""}]
[{"$f":"IFERROR(IF(B168=\"\",\"\",'Backend Calcs Standard'!P169),\"\")","v":""},{"$f":"IFERROR(IF(C168=\"\",\"\",(IF('Backend Calcs Standard'!$A$12=1,'Backend Calcs Standard'!S169,(('Backend Calcs Standard'!S169)*0.0283168)))),\"\")","v":""},{"$f":"IFERROR(IF(D168=\"\",\"\",(IF('Backend Calcs Standard'!$A$12=1,'Backend Calcs Standard'!T169,(('Backend Calcs Standard'!T169)*0.0283168)))),\"\")","v":""},{"$f":"IFERROR(IF(E168=\"\",\"\",(IF('Backend Calcs Standard'!$A$12=1,'Backend Calcs Standard'!U169,(('Backend Calcs Standard'!U169)*0.0283168)))),\"\")","v":""},{"$f":"IFERROR(IF(F168=\"\",\"\",(IF('Backend Calcs Standard'!$A$12=1,'Backend Calcs Standard'!V169,(('Backend Calcs Standard'!V169)*0.0283168)))),\"\")","v":""},{"$f":"IF(I168=\"\",\"\",(IF('Backend Calcs Standard'!$A$12=1,'Backend Calcs Standard'!W169,('Backend Calcs Standard'!W169*0.0283168))))","v":""},"",{"$f":"IF('Backend Calcs Standard'!$A$12=1,'Backend Calcs Standard'!X169,('Backend Calcs Standard'!X169*0.0283168))","v":""},{"$f":"IFERROR(IF(H168=\"\",\"\",(IF('Backend Calcs Standard'!$A$12=1,'Backend Calcs Standard'!Y169,'Backend Calcs Standard'!Y169*0.0283168))),\"\")","v":""},{"$f":"IF(A168=\"\",\"\",IF('Backend Calcs Standard'!$A$12=1,'Backend Calcs Standard'!Z169,'Backend Calcs Standard'!O169))","v":""}]
[{"$f":"IFERROR(IF(B169=\"\",\"\",'Backend Calcs Standard'!P170),\"\")","v":""},{"$f":"IFERROR(IF(C169=\"\",\"\",(IF('Backend Calcs Standard'!$A$12=1,'Backend Calcs Standard'!S170,(('Backend Calcs Standard'!S170)*0.0283168)))),\"\")","v":""},{"$f":"IFERROR(IF(D169=\"\",\"\",(IF('Backend Calcs Standard'!$A$12=1,'Backend Calcs Standard'!T170,(('Backend Calcs Standard'!T170)*0.0283168)))),\"\")","v":""},{"$f":"IFERROR(IF(E169=\"\",\"\",(IF('Backend Calcs Standard'!$A$12=1,'Backend Calcs Standard'!U170,(('Backend Calcs Standard'!U170)*0.0283168)))),\"\")","v":""},{"$f":"IFERROR(IF(F169=\"\",\"\",(IF('Backend Calcs Standard'!$A$12=1,'Backend Calcs Standard'!V170,(('Backend Calcs Standard'!V170)*0.0283168)))),\"\")","v":""},{"$f":"IF(I169=\"\",\"\",(IF('Backend Calcs Standard'!$A$12=1,'Backend Calcs Standard'!W170,('Backend Calcs Standard'!W170*0.0283168))))","v":""},"",{"$f":"IF('Backend Calcs Standard'!$A$12=1,'Backend Calcs Standard'!X170,('Backend Calcs Standard'!X170*0.0283168))","v":""},{"$f":"IFERROR(IF(H169=\"\",\"\",(IF('Backend Calcs Standard'!$A$12=1,'Backend Calcs Standard'!Y170,'Backend Calcs Standard'!Y170*0.0283168))),\"\")","v":""},{"$f":"IF(A169=\"\",\"\",IF('Backend Calcs Standard'!$A$12=1,'Backend Calcs Standard'!Z170,'Backend Calcs Standard'!O170))","v":""}]
[{"$f":"IFERROR(IF(B170=\"\",\"\",'Backend Calcs Standard'!P171),\"\")","v":""},{"$f":"IFERROR(IF(C170=\"\",\"\",(IF('Backend Calcs Standard'!$A$12=1,'Backend Calcs Standard'!S171,(('Backend Calcs Standard'!S171)*0.0283168)))),\"\")","v":""},{"$f":"IFERROR(IF(D170=\"\",\"\",(IF('Backend Calcs Standard'!$A$12=1,'Backend Calcs Standard'!T171,(('Backend Calcs Standard'!T171)*0.0283168)))),\"\")","v":""},{"$f":"IFERROR(IF(E170=\"\",\"\",(IF('Backend Calcs Standard'!$A$12=1,'Backend Calcs Standard'!U171,(('Backend Calcs Standard'!U171)*0.0283168)))),\"\")","v":""},{"$f":"IFERROR(IF(F170=\"\",\"\",(IF('Backend Calcs Standard'!$A$12=1,'Backend Calcs Standard'!V171,(('Backend Calcs Standard'!V171)*0.0283168)))),\"\")","v":""},{"$f":"IF(I170=\"\",\"\",(IF('Backend Calcs Standard'!$A$12=1,'Backend Calcs Standard'!W171,('Backend Calcs Standard'!W171*0.0283168))))","v":""},"",{"$f":"IF('Backend Calcs Standard'!$A$12=1,'Backend Calcs Standard'!X171,('Backend Calcs Standard'!X171*0.0283168))","v":""},{"$f":"IFERROR(IF(H170=\"\",\"\",(IF('Backend Calcs Standard'!$A$12=1,'Backend Calcs Standard'!Y171,'Backend Calcs Standard'!Y171*0.0283168))),\"\")","v":""},{"$f":"IF(A170=\"\",\"\",IF('Backend Calcs Standard'!$A$12=1,'Backend Calcs Standard'!Z171,'Backend Calcs Standard'!O171))","v":""}]
[{"$f":"IFERROR(IF(B171=\"\",\"\",'Backend Calcs Standard'!P172),\"\")","v":""},{"$f":"IFERROR(IF(C171=\"\",\"\",(IF('Backend Calcs Standard'!$A$12=1,'Backend Calcs Standard'!S172,(('Backend Calcs Standard'!S172)*0.0283168)))),\"\")","v":""},{"$f":"IFERROR(IF(D171=\"\",\"\",(IF('Backend Calcs Standard'!$A$12=1,'Backend Calcs Standard'!T172,(('Backend Calcs Standard'!T172)*0.0283168)))),\"\")","v":""},{"$f":"IFERROR(IF(E171=\"\",\"\",(IF('Backend Calcs Standard'!$A$12=1,'Backend Calcs Standard'!U172,(('Backend Calcs Standard'!U172)*0.0283168)))),\"\")","v":""},{"$f":"IFERROR(IF(F171=\"\",\"\",(IF('Backend Calcs Standard'!$A$12=1,'Backend Calcs Standard'!V172,(('Backend Calcs Standard'!V172)*0.0283168)))),\"\")","v":""},{"$f":"IF(I171=\"\",\"\",(IF('Backend Calcs Standard'!$A$12=1,'Backend Calcs Standard'!W172,('Backend Calcs Standard'!W172*0.0283168))))","v":""},"",{"$f":"IF('Backend Calcs Standard'!$A$12=1,'Backend Calcs Standard'!X172,('Backend Calcs Standard'!X172*0.0283168))","v":""},{"$f":"IFERROR(IF(H171=\"\",\"\",(IF('Backend Calcs Standard'!$A$12=1,'Backend Calcs Standard'!Y172,'Backend Calcs Standard'!Y172*0.0283168))),\"\")","v":""},{"$f":"IF(A171=\"\",\"\",IF('Backend Calcs Standard'!$A$12=1,'Backend Calcs Standard'!Z172,'Backend Calcs Standard'!O172))","v":""}]
[{"$f":"IFERROR(IF(B172=\"\",\"\",'Backend Calcs Standard'!P173),\"\")","v":""},{"$f":"IFERROR(IF(C172=\"\",\"\",(IF('Backend Calcs Standard'!$A$12=1,'Backend Calcs Standard'!S173,(('Backend Calcs Standard'!S173)*0.0283168)))),\"\")","v":""},{"$f":"IFERROR(IF(D172=\"\",\"\",(IF('Backend Calcs Standard'!$A$12=1,'Backend Calcs Standard'!T173,(('Backend Calcs Standard'!T173)*0.0283168)))),\"\")","v":""},{"$f":"IFERROR(IF(E172=\"\",\"\",(IF('Backend Calcs Standard'!$A$12=1,'Backend Calcs Standard'!U173,(('Backend Calcs Standard'!U173)*0.0283168)))),\"\")","v":""},{"$f":"IFERROR(IF(F172=\"\",\"\",(IF('Backend Calcs Standard'!$A$12=1,'Backend Calcs Standard'!V173,(('Backend Calcs Standard'!V173)*0.0283168)))),\"\")","v":""},{"$f":"IF(I172=\"\",\"\",(IF('Backend Calcs Standard'!$A$12=1,'Backend Calcs Standard'!W173,('Backend Calcs Standard'!W173*0.0283168))))","v":""},"",{"$f":"IF('Backend Calcs Standard'!$A$12=1,'Backend Calcs Standard'!X173,('Backend Calcs Standard'!X173*0.0283168))","v":""},{"$f":"IFERROR(IF(H172=\"\",\"\",(IF('Backend Calcs Standard'!$A$12=1,'Backend Calcs Standard'!Y173,'Backend Calcs Standard'!Y173*0.0283168))),\"\")","v":""},{"$f":"IF(A172=\"\",\"\",IF('Backend Calcs Standard'!$A$12=1,'Backend Calcs Standard'!Z173,'Backend Calcs Standard'!O173))","v":""}]
[{"$f":"IFERROR(IF(B173=\"\",\"\",'Backend Calcs Standard'!P174),\"\")","v":""},{"$f":"IFERROR(IF(C173=\"\",\"\",(IF('Backend Calcs Standard'!$A$12=1,'Backend Calcs Standard'!S174,(('Backend Calcs Standard'!S174)*0.0283168)))),\"\")","v":""},{"$f":"IFERROR(IF(D173=\"\",\"\",(IF('Backend Calcs Standard'!$A$12=1,'Backend Calcs Standard'!T174,(('Backend Calcs Standard'!T174)*0.0283168)))),\"\")","v":""},{"$f":"IFERROR(IF(E173=\"\",\"\",(IF('Backend Calcs Standard'!$A$12=1,'Backend Calcs Standard'!U174,(('Backend Calcs Standard'!U174)*0.0283168)))),\"\")","v":""},{"$f":"IFERROR(IF(F173=\"\",\"\",(IF('Backend Calcs Standard'!$A$12=1,'Backend Calcs Standard'!V174,(('Backend Calcs Standard'!V174)*0.0283168)))),\"\")","v":""},{"$f":"IF(I173=\"\",\"\",(IF('Backend Calcs Standard'!$A$12=1,'Backend Calcs Standard'!W174,('Backend Calcs Standard'!W174*0.0283168))))","v":""},"",{"$f":"IF('Backend Calcs Standard'!$A$12=1,'Backend Calcs Standard'!X174,('Backend Calcs Standard'!X174*0.0283168))","v":""},{"$f":"IFERROR(IF(H173=\"\",\"\",(IF('Backend Calcs Standard'!$A$12=1,'Backend Calcs Standard'!Y174,'Backend Calcs Standard'!Y174*0.0283168))),\"\")","v":""},{"$f":"IF(A173=\"\",\"\",IF('Backend Calcs Standard'!$A$12=1,'Backend Calcs Standard'!Z174,'Backend Calcs Standard'!O174))","v":""}]
[{"$f":"IFERROR(IF(B174=\"\",\"\",'Backend Calcs Standard'!P175),\"\")","v":""},{"$f":"IFERROR(IF(C174=\"\",\"\",(IF('Backend Calcs Standard'!$A$12=1,'Backend Calcs Standard'!S175,(('Backend Calcs Standard'!S175)*0.0283168)))),\"\")","v":""},{"$f":"IFERROR(IF(D174=\"\",\"\",(IF('Backend Calcs Standard'!$A$12=1,'Backend Calcs Standard'!T175,(('Backend Calcs Standard'!T175)*0.0283168)))),\"\")","v":""},{"$f":"IFERROR(IF(E174=\"\",\"\",(IF('Backend Calcs Standard'!$A$12=1,'Backend Calcs Standard'!U175,(('Backend Calcs Standard'!U175)*0.0283168)))),\"\")","v":""},{"$f":"IFERROR(IF(F174=\"\",\"\",(IF('Backend Calcs Standard'!$A$12=1,'Backend Calcs Standard'!V175,(('Backend Calcs Standard'!V175)*0.0283168)))),\"\")","v":""},{"$f":"IF(I174=\"\",\"\",(IF('Backend Calcs Standard'!$A$12=1,'Backend Calcs Standard'!W175,('Backend Calcs Standard'!W175*0.0283168))))","v":""},"",{"$f":"IF('Backend Calcs Standard'!$A$12=1,'Backend Calcs Standard'!X175,('Backend Calcs Standard'!X175*0.0283168))","v":""},{"$f":"IFERROR(IF(H174=\"\",\"\",(IF('Backend Calcs Standard'!$A$12=1,'Backend Calcs Standard'!Y175,'Backend Calcs Standard'!Y175*0.0283168))),\"\")","v":""},{"$f":"IF(A174=\"\",\"\",IF('Backend Calcs Standard'!$A$12=1,'Backend Calcs Standard'!Z175,'Backend Calcs Standard'!O175))","v":""}]
[{"$f":"IFERROR(IF(B175=\"\",\"\",'Backend Calcs Standard'!P176),\"\")","v":""},{"$f":"IFERROR(IF(C175=\"\",\"\",(IF('Backend Calcs Standard'!$A$12=1,'Backend Calcs Standard'!S176,(('Backend Calcs Standard'!S176)*0.0283168)))),\"\")","v":""},{"$f":"IFERROR(IF(D175=\"\",\"\",(IF('Backend Calcs Standard'!$A$12=1,'Backend Calcs Standard'!T176,(('Backend Calcs Standard'!T176)*0.0283168)))),\"\")","v":""},{"$f":"IFERROR(IF(E175=\"\",\"\",(IF('Backend Calcs Standard'!$A$12=1,'Backend Calcs Standard'!U176,(('Backend Calcs Standard'!U176)*0.0283168)))),\"\")","v":""},{"$f":"IFERROR(IF(F175=\"\",\"\",(IF('Backend Calcs Standard'!$A$12=1,'Backend Calcs Standard'!V176,(('Backend Calcs Standard'!V176)*0.0283168)))),\"\")","v":""},{"$f":"IF(I175=\"\",\"\",(IF('Backend Calcs Standard'!$A$12=1,'Backend Calcs Standard'!W176,('Backend Calcs Standard'!W176*0.0283168))))","v":""},"",{"$f":"IF('Backend Calcs Standard'!$A$12=1,'Backend Calcs Standard'!X176,('Backend Calcs Standard'!X176*0.0283168))","v":""},{"$f":"IFERROR(IF(H175=\"\",\"\",(IF('Backend Calcs Standard'!$A$12=1,'Backend Calcs Standard'!Y176,'Backend Calcs Standard'!Y176*0.0283168))),\"\")","v":""},{"$f":"IF(A175=\"\",\"\",IF('Backend Calcs Standard'!$A$12=1,'Backend Calcs Standard'!Z176,'Backend Calcs Standard'!O176))","v":""}]
[{"$f":"IFERROR(IF(B176=\"\",\"\",'Backend Calcs Standard'!P177),\"\")","v":""},{"$f":"IFERROR(IF(C176=\"\",\"\",(IF('Backend Calcs Standard'!$A$12=1,'Backend Calcs Standard'!S177,(('Backend Calcs Standard'!S177)*0.0283168)))),\"\")","v":""},{"$f":"IFERROR(IF(D176=\"\",\"\",(IF('Backend Calcs Standard'!$A$12=1,'Backend Calcs Standard'!T177,(('Backend Calcs Standard'!T177)*0.0283168)))),\"\")","v":""},{"$f":"IFERROR(IF(E176=\"\",\"\",(IF('Backend Calcs Standard'!$A$12=1,'Backend Calcs Standard'!U177,(('Backend Calcs Standard'!U177)*0.0283168)))),\"\")","v":""},{"$f":"IFERROR(IF(F176=\"\",\"\",(IF('Backend Calcs Standard'!$A$12=1,'Backend Calcs Standard'!V177,(('Backend Calcs Standard'!V177)*0.0283168)))),\"\")","v":""},{"$f":"IF(I176=\"\",\"\",(IF('Backend Calcs Standard'!$A$12=1,'Backend Calcs Standard'!W177,('Backend Calcs Standard'!W177*0.0283168))))","v":""},"",{"$f":"IF('Backend Calcs Standard'!$A$12=1,'Backend Calcs Standard'!X177,('Backend Calcs Standard'!X177*0.0283168))","v":""},{"$f":"IFERROR(IF(H176=\"\",\"\",(IF('Backend Calcs Standard'!$A$12=1,'Backend Calcs Standard'!Y177,'Backend Calcs Standard'!Y177*0.0283168))),\"\")","v":""},{"$f":"IF(A176=\"\",\"\",IF('Backend Calcs Standard'!$A$12=1,'Backend Calcs Standard'!Z177,'Backend Calcs Standard'!O177))","v":""}]
[{"$f":"IFERROR(IF(B177=\"\",\"\",'Backend Calcs Standard'!P178),\"\")","v":""},{"$f":"IFERROR(IF(C177=\"\",\"\",(IF('Backend Calcs Standard'!$A$12=1,'Backend Calcs Standard'!S178,(('Backend Calcs Standard'!S178)*0.0283168)))),\"\")","v":""},{"$f":"IFERROR(IF(D177=\"\",\"\",(IF('Backend Calcs Standard'!$A$12=1,'Backend Calcs Standard'!T178,(('Backend Calcs Standard'!T178)*0.0283168)))),\"\")","v":""},{"$f":"IFERROR(IF(E177=\"\",\"\",(IF('Backend Calcs Standard'!$A$12=1,'Backend Calcs Standard'!U178,(('Backend Calcs Standard'!U178)*0.0283168)))),\"\")","v":""},{"$f":"IFERROR(IF(F177=\"\",\"\",(IF('Backend Calcs Standard'!$A$12=1,'Backend Calcs Standard'!V178,(('Backend Calcs Standard'!V178)*0.0283168)))),\"\")","v":""},{"$f":"IF(I177=\"\",\"\",(IF('Backend Calcs Standard'!$A$12=1,'Backend Calcs Standard'!W178,('Backend Calcs Standard'!W178*0.0283168))))","v":""},"",{"$f":"IF('Backend Calcs Standard'!$A$12=1,'Backend Calcs Standard'!X178,('Backend Calcs Standard'!X178*0.0283168))","v":""},{"$f":"IFERROR(IF(H177=\"\",\"\",(IF('Backend Calcs Standard'!$A$12=1,'Backend Calcs Standard'!Y178,'Backend Calcs Standard'!Y178*0.0283168))),\"\")","v":""},{"$f":"IF(A177=\"\",\"\",IF('Backend Calcs Standard'!$A$12=1,'Backend Calcs Standard'!Z178,'Backend Calcs Standard'!O178))","v":""}]
[{"$f":"IFERROR(IF(B178=\"\",\"\",'Backend Calcs Standard'!P179),\"\")","v":""},{"$f":"IFERROR(IF(C178=\"\",\"\",(IF('Backend Calcs Standard'!$A$12=1,'Backend Calcs Standard'!S179,(('Backend Calcs Standard'!S179)*0.0283168)))),\"\")","v":""},{"$f":"IFERROR(IF(D178=\"\",\"\",(IF('Backend Calcs Standard'!$A$12=1,'Backend Calcs Standard'!T179,(('Backend Calcs Standard'!T179)*0.0283168)))),\"\")","v":""},{"$f":"IFERROR(IF(E178=\"\",\"\",(IF('Backend Calcs Standard'!$A$12=1,'Backend Calcs Standard'!U179,(('Backend Calcs Standard'!U179)*0.0283168)))),\"\")","v":""},{"$f":"IFERROR(IF(F178=\"\",\"\",(IF('Backend Calcs Standard'!$A$12=1,'Backend Calcs Standard'!V179,(('Backend Calcs Standard'!V179)*0.0283168)))),\"\")","v":""},{"$f":"IF(I178=\"\",\"\",(IF('Backend Calcs Standard'!$A$12=1,'Backend Calcs Standard'!W179,('Backend Calcs Standard'!W179*0.0283168))))","v":""},"",{"$f":"IF('Backend Calcs Standard'!$A$12=1,'Backend Calcs Standard'!X179,('Backend Calcs Standard'!X179*0.0283168))","v":""},{"$f":"IFERROR(IF(H178=\"\",\"\",(IF('Backend Calcs Standard'!$A$12=1,'Backend Calcs Standard'!Y179,'Backend Calcs Standard'!Y179*0.0283168))),\"\")","v":""},{"$f":"IF(A178=\"\",\"\",IF('Backend Calcs Standard'!$A$12=1,'Backend Calcs Standard'!Z179,'Backend Calcs Standard'!O179))","v":""}]
[{"$f":"IFERROR(IF(B179=\"\",\"\",'Backend Calcs Standard'!P180),\"\")","v":""},{"$f":"IFERROR(IF(C179=\"\",\"\",(IF('Backend Calcs Standard'!$A$12=1,'Backend Calcs Standard'!S180,(('Backend Calcs Standard'!S180)*0.0283168)))),\"\")","v":""},{"$f":"IFERROR(IF(D179=\"\",\"\",(IF('Backend Calcs Standard'!$A$12=1,'Backend Calcs Standard'!T180,(('Backend Calcs Standard'!T180)*0.0283168)))),\"\")","v":""},{"$f":"IFERROR(IF(E179=\"\",\"\",(IF('Backend Calcs Standard'!$A$12=1,'Backend Calcs Standard'!U180,(('Backend Calcs Standard'!U180)*0.0283168)))),\"\")","v":""},{"$f":"IFERROR(IF(F179=\"\",\"\",(IF('Backend Calcs Standard'!$A$12=1,'Backend Calcs Standard'!V180,(('Backend Calcs Standard'!V180)*0.0283168)))),\"\")","v":""},{"$f":"IF(I179=\"\",\"\",(IF('Backend Calcs Standard'!$A$12=1,'Backend Calcs Standard'!W180,('Backend Calcs Standard'!W180*0.0283168))))","v":""},"",{"$f":"IF('Backend Calcs Standard'!$A$12=1,'Backend Calcs Standard'!X180,('Backend Calcs Standard'!X180*0.0283168))","v":""},{"$f":"IFERROR(IF(H179=\"\",\"\",(IF('Backend Calcs Standard'!$A$12=1,'Backend Calcs Standard'!Y180,'Backend Calcs Standard'!Y180*0.0283168))),\"\")","v":""},{"$f":"IF(A179=\"\",\"\",IF('Backend Calcs Standard'!$A$12=1,'Backend Calcs Standard'!Z180,'Backend Calcs Standard'!O180))","v":""}]
[{"$f":"IFERROR(IF(B180=\"\",\"\",'Backend Calcs Standard'!P181),\"\")","v":""},{"$f":"IFERROR(IF(C180=\"\",\"\",(IF('Backend Calcs Standard'!$A$12=1,'Backend Calcs Standard'!S181,(('Backend Calcs Standard'!S181)*0.0283168)))),\"\")","v":""},{"$f":"IFERROR(IF(D180=\"\",\"\",(IF('Backend Calcs Standard'!$A$12=1,'Backend Calcs Standard'!T181,(('Backend Calcs Standard'!T181)*0.0283168)))),\"\")","v":""},{"$f":"IFERROR(IF(E180=\"\",\"\",(IF('Backend Calcs Standard'!$A$12=1,'Backend Calcs Standard'!U181,(('Backend Calcs Standard'!U181)*0.0283168)))),\"\")","v":""},{"$f":"IFERROR(IF(F180=\"\",\"\",(IF('Backend Calcs Standard'!$A$12=1,'Backend Calcs Standard'!V181,(('Backend Calcs Standard'!V181)*0.0283168)))),\"\")","v":""},{"$f":"IF(I180=\"\",\"\",(IF('Backend Calcs Standard'!$A$12=1,'Backend Calcs Standard'!W181,('Backend Calcs Standard'!W181*0.0283168))))","v":""},"",{"$f":"IF('Backend Calcs Standard'!$A$12=1,'Backend Calcs Standard'!X181,('Backend Calcs Standard'!X181*0.0283168))","v":""},{"$f":"IFERROR(IF(H180=\"\",\"\",(IF('Backend Calcs Standard'!$A$12=1,'Backend Calcs Standard'!Y181,'Backend Calcs Standard'!Y181*0.0283168))),\"\")","v":""},{"$f":"IF(A180=\"\",\"\",IF('Backend Calcs Standard'!$A$12=1,'Backend Calcs Standard'!Z181,'Backend Calcs Standard'!O181))","v":""}]
[{"$f":"IFERROR(IF(B181=\"\",\"\",'Backend Calcs Standard'!P182),\"\")","v":""},{"$f":"IFERROR(IF(C181=\"\",\"\",(IF('Backend Calcs Standard'!$A$12=1,'Backend Calcs Standard'!S182,(('Backend Calcs Standard'!S182)*0.0283168)))),\"\")","v":""},{"$f":"IFERROR(IF(D181=\"\",\"\",(IF('Backend Calcs Standard'!$A$12=1,'Backend Calcs Standard'!T182,(('Backend Calcs Standard'!T182)*0.0283168)))),\"\")","v":""},{"$f":"IFERROR(IF(E181=\"\",\"\",(IF('Backend Calcs Standard'!$A$12=1,'Backend Calcs Standard'!U182,(('Backend Calcs Standard'!U182)*0.0283168)))),\"\")","v":""},{"$f":"IFERROR(IF(F181=\"\",\"\",(IF('Backend Calcs Standard'!$A$12=1,'Backend Calcs Standard'!V182,(('Backend Calcs Standard'!V182)*0.0283168)))),\"\")","v":""},{"$f":"IF(I181=\"\",\"\",(IF('Backend Calcs Standard'!$A$12=1,'Backend Calcs Standard'!W182,('Backend Calcs Standard'!W182*0.0283168))))","v":""},"",{"$f":"IF('Backend Calcs Standard'!$A$12=1,'Backend Calcs Standard'!X182,('Backend Calcs Standard'!X182*0.0283168))","v":""},{"$f":"IFERROR(IF(H181=\"\",\"\",(IF('Backend Calcs Standard'!$A$12=1,'Backend Calcs Standard'!Y182,'Backend Calcs Standard'!Y182*0.0283168))),\"\")","v":""},{"$f":"IF(A181=\"\",\"\",IF('Backend Calcs Standard'!$A$12=1,'Backend Calcs Standard'!Z182,'Backend Calcs Standard'!O182))","v":""}]
[{"$f":"IFERROR(IF(B182=\"\",\"\",'Backend Calcs Standard'!P183),\"\")","v":""},{"$f":"IFERROR(IF(C182=\"\",\"\",(IF('Backend Calcs Standard'!$A$12=1,'Backend Calcs Standard'!S183,(('Backend Calcs Standard'!S183)*0.0283168)))),\"\")","v":""},{"$f":"IFERROR(IF(D182=\"\",\"\",(IF('Backend Calcs Standard'!$A$12=1,'Backend Calcs Standard'!T183,(('Backend Calcs Standard'!T183)*0.0283168)))),\"\")","v":""},{"$f":"IFERROR(IF(E182=\"\",\"\",(IF('Backend Calcs Standard'!$A$12=1,'Backend Calcs Standard'!U183,(('Backend Calcs Standard'!U183)*0.0283168)))),\"\")","v":""},{"$f":"IFERROR(IF(F182=\"\",\"\",(IF('Backend Calcs Standard'!$A$12=1,'Backend Calcs Standard'!V183,(('Backend Calcs Standard'!V183)*0.0283168)))),\"\")","v":""},{"$f":"IF(I182=\"\",\"\",(IF('Backend Calcs Standard'!$A$12=1,'Backend Calcs Standard'!W183,('Backend Calcs Standard'!W183*0.0283168))))","v":""},"",{"$f":"IF('Backend Calcs Standard'!$A$12=1,'Backend Calcs Standard'!X183,('Backend Calcs Standard'!X183*0.0283168))","v":""},{"$f":"IFERROR(IF(H182=\"\",\"\",(IF('Backend Calcs Standard'!$A$12=1,'Backend Calcs Standard'!Y183,'Backend Calcs Standard'!Y183*0.0283168))),\"\")","v":""},{"$f":"IF(A182=\"\",\"\",IF('Backend Calcs Standard'!$A$12=1,'Backend Calcs Standard'!Z183,'Backend Calcs Standard'!O183))","v":""}]
[{"$f":"IFERROR(IF(B183=\"\",\"\",'Backend Calcs Standard'!P184),\"\")","v":""},{"$f":"IFERROR(IF(C183=\"\",\"\",(IF('Backend Calcs Standard'!$A$12=1,'Backend Calcs Standard'!S184,(('Backend Calcs Standard'!S184)*0.0283168)))),\"\")","v":""},{"$f":"IFERROR(IF(D183=\"\",\"\",(IF('Backend Calcs Standard'!$A$12=1,'Backend Calcs Standard'!T184,(('Backend Calcs Standard'!T184)*0.0283168)))),\"\")","v":""},{"$f":"IFERROR(IF(E183=\"\",\"\",(IF('Backend Calcs Standard'!$A$12=1,'Backend Calcs Standard'!U184,(('Backend Calcs Standard'!U184)*0.0283168)))),\"\")","v":""},{"$f":"IFERROR(IF(F183=\"\",\"\",(IF('Backend Calcs Standard'!$A$12=1,'Backend Calcs Standard'!V184,(('Backend Calcs Standard'!V184)*0.0283168)))),\"\")","v":""},{"$f":"IF(I183=\"\",\"\",(IF('Backend Calcs Standard'!$A$12=1,'Backend Calcs Standard'!W184,('Backend Calcs Standard'!W184*0.0283168))))","v":""},"",{"$f":"IF('Backend Calcs Standard'!$A$12=1,'Backend Calcs Standard'!X184,('Backend Calcs Standard'!X184*0.0283168))","v":""},{"$f":"IFERROR(IF(H183=\"\",\"\",(IF('Backend Calcs Standard'!$A$12=1,'Backend Calcs Standard'!Y184,'Backend Calcs Standard'!Y184*0.0283168))),\"\")","v":""},{"$f":"IF(A183=\"\",\"\",IF('Backend Calcs Standard'!$A$12=1,'Backend Calcs Standard'!Z184,'Backend Calcs Standard'!O184))","v":""}]
[{"$f":"IFERROR(IF(B184=\"\",\"\",'Backend Calcs Standard'!P185),\"\")","v":""},{"$f":"IFERROR(IF(C184=\"\",\"\",(IF('Backend Calcs Standard'!$A$12=1,'Backend Calcs Standard'!S185,(('Backend Calcs Standard'!S185)*0.0283168)))),\"\")","v":""},{"$f":"IFERROR(IF(D184=\"\",\"\",(IF('Backend Calcs Standard'!$A$12=1,'Backend Calcs Standard'!T185,(('Backend Calcs Standard'!T185)*0.0283168)))),\"\")","v":""},{"$f":"IFERROR(IF(E184=\"\",\"\",(IF('Backend Calcs Standard'!$A$12=1,'Backend Calcs Standard'!U185,(('Backend Calcs Standard'!U185)*0.0283168)))),\"\")","v":""},{"$f":"IFERROR(IF(F184=\"\",\"\",(IF('Backend Calcs Standard'!$A$12=1,'Backend Calcs Standard'!V185,(('Backend Calcs Standard'!V185)*0.0283168)))),\"\")","v":""},{"$f":"IF(I184=\"\",\"\",(IF('Backend Calcs Standard'!$A$12=1,'Backend Calcs Standard'!W185,('Backend Calcs Standard'!W185*0.0283168))))","v":""},"",{"$f":"IF('Backend Calcs Standard'!$A$12=1,'Backend Calcs Standard'!X185,('Backend Calcs Standard'!X185*0.0283168))","v":""},{"$f":"IFERROR(IF(H184=\"\",\"\",(IF('Backend Calcs Standard'!$A$12=1,'Backend Calcs Standard'!Y185,'Backend Calcs Standard'!Y185*0.0283168))),\"\")","v":""},{"$f":"IF(A184=\"\",\"\",IF('Backend Calcs Standard'!$A$12=1,'Backend Calcs Standard'!Z185,'Backend Calcs Standard'!O185))","v":""}]
[{"$f":"IFERROR(IF(B185=\"\",\"\",'Backend Calcs Standard'!P186),\"\")","v":""},{"$f":"IFERROR(IF(C185=\"\",\"\",(IF('Backend Calcs Standard'!$A$12=1,'Backend Calcs Standard'!S186,(('Backend Calcs Standard'!S186)*0.0283168)))),\"\")","v":""},{"$f":"IFERROR(IF(D185=\"\",\"\",(IF('Backend Calcs Standard'!$A$12=1,'Backend Calcs Standard'!T186,(('Backend Calcs Standard'!T186)*0.0283168)))),\"\")","v":""},{"$f":"IFERROR(IF(E185=\"\",\"\",(IF('Backend Calcs Standard'!$A$12=1,'Backend Calcs Standard'!U186,(('Backend Calcs Standard'!U186)*0.0283168)))),\"\")","v":""},{"$f":"IFERROR(IF(F185=\"\",\"\",(IF('Backend Calcs Standard'!$A$12=1,'Backend Calcs Standard'!V186,(('Backend Calcs Standard'!V186)*0.0283168)))),\"\")","v":""},{"$f":"IF(I185=\"\",\"\",(IF('Backend Calcs Standard'!$A$12=1,'Backend Calcs Standard'!W186,('Backend Calcs Standard'!W186*0.0283168))))","v":""},"",{"$f":"IF('Backend Calcs Standard'!$A$12=1,'Backend Calcs Standard'!X186,('Backend Calcs Standard'!X186*0.0283168))","v":""},{"$f":"IFERROR(IF(H185=\"\",\"\",(IF('Backend Calcs Standard'!$A$12=1,'Backend Calcs Standard'!Y186,'Backend Calcs Standard'!Y186*0.0283168))),\"\")","v":""},{"$f":"IF(A185=\"\",\"\",IF('Backend Calcs Standard'!$A$12=1,'Backend Calcs Standard'!Z186,'Backend Calcs Standard'!O186))","v":""}]
[{"$f":"IFERROR(IF(B186=\"\",\"\",'Backend Calcs Standard'!P187),\"\")","v":""},{"$f":"IFERROR(IF(C186=\"\",\"\",(IF('Backend Calcs Standard'!$A$12=1,'Backend Calcs Standard'!S187,(('Backend Calcs Standard'!S187)*0.0283168)))),\"\")","v":""},{"$f":"IFERROR(IF(D186=\"\",\"\",(IF('Backend Calcs Standard'!$A$12=1,'Backend Calcs Standard'!T187,(('Backend Calcs Standard'!T187)*0.0283168)))),\"\")","v":""},{"$f":"IFERROR(IF(E186=\"\",\"\",(IF('Backend Calcs Standard'!$A$12=1,'Backend Calcs Standard'!U187,(('Backend Calcs Standard'!U187)*0.0283168)))),\"\")","v":""},{"$f":"IFERROR(IF(F186=\"\",\"\",(IF('Backend Calcs Standard'!$A$12=1,'Backend Calcs Standard'!V187,(('Backend Calcs Standard'!V187)*0.0283168)))),\"\")","v":""},{"$f":"IF(I186=\"\",\"\",(IF('Backend Calcs Standard'!$A$12=1,'Backend Calcs Standard'!W187,('Backend Calcs Standard'!W187*0.0283168))))","v":""},"",{"$f":"IF('Backend Calcs Standard'!$A$12=1,'Backend Calcs Standard'!X187,('Backend Calcs Standard'!X187*0.0283168))","v":""},{"$f":"IFERROR(IF(H186=\"\",\"\",(IF('Backend Calcs Standard'!$A$12=1,'Backend Calcs Standard'!Y187,'Backend Calcs Standard'!Y187*0.0283168))),\"\")","v":""},{"$f":"IF(A186=\"\",\"\",IF('Backend Calcs Standard'!$A$12=1,'Backend Calcs Standard'!Z187,'Backend Calcs Standard'!O187))","v":""}]
[{"$f":"IFERROR(IF(B187=\"\",\"\",'Backend Calcs Standard'!P188),\"\")","v":""},{"$f":"IFERROR(IF(C187=\"\",\"\",(IF('Backend Calcs Standard'!$A$12=1,'Backend Calcs Standard'!S188,(('Backend Calcs Standard'!S188)*0.0283168)))),\"\")","v":""},{"$f":"IFERROR(IF(D187=\"\",\"\",(IF('Backend Calcs Standard'!$A$12=1,'Backend Calcs Standard'!T188,(('Backend Calcs Standard'!T188)*0.0283168)))),\"\")","v":""},{"$f":"IFERROR(IF(E187=\"\",\"\",(IF('Backend Calcs Standard'!$A$12=1,'Backend Calcs Standard'!U188,(('Backend Calcs Standard'!U188)*0.0283168)))),\"\")","v":""},{"$f":"IFERROR(IF(F187=\"\",\"\",(IF('Backend Calcs Standard'!$A$12=1,'Backend Calcs Standard'!V188,(('Backend Calcs Standard'!V188)*0.0283168)))),\"\")","v":""},{"$f":"IF(I187=\"\",\"\",(IF('Backend Calcs Standard'!$A$12=1,'Backend Calcs Standard'!W188,('Backend Calcs Standard'!W188*0.0283168))))","v":""},"",{"$f":"IF('Backend Calcs Standard'!$A$12=1,'Backend Calcs Standard'!X188,('Backend Calcs Standard'!X188*0.0283168))","v":""},{"$f":"IFERROR(IF(H187=\"\",\"\",(IF('Backend Calcs Standard'!$A$12=1,'Backend Calcs Standard'!Y188,'Backend Calcs Standard'!Y188*0.0283168))),\"\")","v":""},{"$f":"IF(A187=\"\",\"\",IF('Backend Calcs Standard'!$A$12=1,'Backend Calcs Standard'!Z188,'Backend Calcs Standard'!O188))","v":""}]
[{"$f":"IFERROR(IF(B188=\"\",\"\",'Backend Calcs Standard'!P189),\"\")","v":""},{"$f":"IFERROR(IF(C188=\"\",\"\",(IF('Backend Calcs Standard'!$A$12=1,'Backend Calcs Standard'!S189,(('Backend Calcs Standard'!S189)*0.0283168)))),\"\")","v":""},{"$f":"IFERROR(IF(D188=\"\",\"\",(IF('Backend Calcs Standard'!$A$12=1,'Backend Calcs Standard'!T189,(('Backend Calcs Standard'!T189)*0.0283168)))),\"\")","v":""},{"$f":"IFERROR(IF(E188=\"\",\"\",(IF('Backend Calcs Standard'!$A$12=1,'Backend Calcs Standard'!U189,(('Backend Calcs Standard'!U189)*0.0283168)))),\"\")","v":""},{"$f":"IFERROR(IF(F188=\"\",\"\",(IF('Backend Calcs Standard'!$A$12=1,'Backend Calcs Standard'!V189,(('Backend Calcs Standard'!V189)*0.0283168)))),\"\")","v":""},{"$f":"IF(I188=\"\",\"\",(IF('Backend Calcs Standard'!$A$12=1,'Backend Calcs Standard'!W189,('Backend Calcs Standard'!W189*0.0283168))))","v":""},"",{"$f":"IF('Backend Calcs Standard'!$A$12=1,'Backend Calcs Standard'!X189,('Backend Calcs Standard'!X189*0.0283168))","v":""},{"$f":"IFERROR(IF(H188=\"\",\"\",(IF('Backend Calcs Standard'!$A$12=1,'Backend Calcs Standard'!Y189,'Backend Calcs Standard'!Y189*0.0283168))),\"\")","v":""},{"$f":"IF(A188=\"\",\"\",IF('Backend Calcs Standard'!$A$12=1,'Backend Calcs Standard'!Z189,'Backend Calcs Standard'!O189))","v":""}]
[{"$f":"IFERROR(IF(B189=\"\",\"\",'Backend Calcs Standard'!P190),\"\")","v":""},{"$f":"IFERROR(IF(C189=\"\",\"\",(IF('Backend Calcs Standard'!$A$12=1,'Backend Calcs Standard'!S190,(('Backend Calcs Standard'!S190)*0.0283168)))),\"\")","v":""},{"$f":"IFERROR(IF(D189=\"\",\"\",(IF('Backend Calcs Standard'!$A$12=1,'Backend Calcs Standard'!T190,(('Backend Calcs Standard'!T190)*0.0283168)))),\"\")","v":""},{"$f":"IFERROR(IF(E189=\"\",\"\",(IF('Backend Calcs Standard'!$A$12=1,'Backend Calcs Standard'!U190,(('Backend Calcs Standard'!U190)*0.0283168)))),\"\")","v":""},{"$f":"IFERROR(IF(F189=\"\",\"\",(IF('Backend Calcs Standard'!$A$12=1,'Backend Calcs Standard'!V190,(('Backend Calcs Standard'!V190)*0.0283168)))),\"\")","v":""},{"$f":"IF(I189=\"\",\"\",(IF('Backend Calcs Standard'!$A$12=1,'Backend Calcs Standard'!W190,('Backend Calcs Standard'!W190*0.0283168))))","v":""},"",{"$f":"IF('Backend Calcs Standard'!$A$12=1,'Backend Calcs Standard'!X190,('Backend Calcs Standard'!X190*0.0283168))","v":""},{"$f":"IFERROR(IF(H189=\"\",\"\",(IF('Backend Calcs Standard'!$A$12=1,'Backend Calcs Standard'!Y190,'Backend Calcs Standard'!Y190*0.0283168))),\"\")","v":""},{"$f":"IF(A189=\"\",\"\",IF('Backend Calcs Standard'!$A$12=1,'Backend Calcs Standard'!Z190,'Backend Calcs Standard'!O190))","v":""}]
[{"$f":"IFERROR(IF(B190=\"\",\"\",'Backend Calcs Standard'!P191),\"\")","v":""},{"$f":"IFERROR(IF(C190=\"\",\"\",(IF('Backend Calcs Standard'!$A$12=1,'Backend Calcs Standard'!S191,(('Backend Calcs Standard'!S191)*0.0283168)))),\"\")","v":""},{"$f":"IFERROR(IF(D190=\"\",\"\",(IF('Backend Calcs Standard'!$A$12=1,'Backend Calcs Standard'!T191,(('Backend Calcs Standard'!T191)*0.0283168)))),\"\")","v":""},{"$f":"IFERROR(IF(E190=\"\",\"\",(IF('Backend Calcs Standard'!$A$12=1,'Backend Calcs Standard'!U191,(('Backend Calcs Standard'!U191)*0.0283168)))),\"\")","v":""},{"$f":"IFERROR(IF(F190=\"\",\"\",(IF('Backend Calcs Standard'!$A$12=1,'Backend Calcs Standard'!V191,(('Backend Calcs Standard'!V191)*0.0283168)))),\"\")","v":""},{"$f":"IF(I190=\"\",\"\",(IF('Backend Calcs Standard'!$A$12=1,'Backend Calcs Standard'!W191,('Backend Calcs Standard'!W191*0.0283168))))","v":""},"",{"$f":"IF('Backend Calcs Standard'!$A$12=1,'Backend Calcs Standard'!X191,('Backend Calcs Standard'!X191*0.0283168))","v":""},{"$f":"IFERROR(IF(H190=\"\",\"\",(IF('Backend Calcs Standard'!$A$12=1,'Backend Calcs Standard'!Y191,'Backend Calcs Standard'!Y191*0.0283168))),\"\")","v":""},{"$f":"IF(A190=\"\",\"\",IF('Backend Calcs Standard'!$A$12=1,'Backend Calcs Standard'!Z191,'Backend Calcs Standard'!O191))","v":""}]
[{"$f":"IFERROR(IF(B191=\"\",\"\",'Backend Calcs Standard'!P192),\"\")","v":""},{"$f":"IFERROR(IF(C191=\"\",\"\",(IF('Backend Calcs Standard'!$A$12=1,'Backend Calcs Standard'!S192,(('Backend Calcs Standard'!S192)*0.0283168)))),\"\")","v":""},{"$f":"IFERROR(IF(D191=\"\",\"\",(IF('Backend Calcs Standard'!$A$12=1,'Backend Calcs Standard'!T192,(('Backend Calcs Standard'!T192)*0.0283168)))),\"\")","v":""},{"$f":"IFERROR(IF(E191=\"\",\"\",(IF('Backend Calcs Standard'!$A$12=1,'Backend Calcs Standard'!U192,(('Backend Calcs Standard'!U192)*0.0283168)))),\"\")","v":""},{"$f":"IFERROR(IF(F191=\"\",\"\",(IF('Backend Calcs Standard'!$A$12=1,'Backend Calcs Standard'!V192,(('Backend Calcs Standard'!V192)*0.0283168)))),\"\")","v":""},{"$f":"IF(I191=\"\",\"\",(IF('Backend Calcs Standard'!$A$12=1,'Backend Calcs Standard'!W192,('Backend Calcs Standard'!W192*0.0283168))))","v":""},"",{"$f":"IF('Backend Calcs Standard'!$A$12=1,'Backend Calcs Standard'!X192,('Backend Calcs Standard'!X192*0.0283168))","v":""},{"$f":"IFERROR(IF(H191=\"\",\"\",(IF('Backend Calcs Standard'!$A$12=1,'Backend Calcs Standard'!Y192,'Backend Calcs Standard'!Y192*0.0283168))),\"\")","v":""},{"$f":"IF(A191=\"\",\"\",IF('Backend Calcs Standard'!$A$12=1,'Backend Calcs Standard'!Z192,'Backend Calcs Standard'!O192))","v":""}]
[{"$f":"IFERROR(IF(B192=\"\",\"\",'Backend Calcs Standard'!P193),\"\")","v":""},{"$f":"IFERROR(IF(C192=\"\",\"\",(IF('Backend Calcs Standard'!$A$12=1,'Backend Calcs Standard'!S193,(('Backend Calcs Standard'!S193)*0.0283168)))),\"\")","v":""},{"$f":"IFERROR(IF(D192=\"\",\"\",(IF('Backend Calcs Standard'!$A$12=1,'Backend Calcs Standard'!T193,(('Backend Calcs Standard'!T193)*0.0283168)))),\"\")","v":""},{"$f":"IFERROR(IF(E192=\"\",\"\",(IF('Backend Calcs Standard'!$A$12=1,'Backend Calcs Standard'!U193,(('Backend Calcs Standard'!U193)*0.0283168)))),\"\")","v":""},{"$f":"IFERROR(IF(F192=\"\",\"\",(IF('Backend Calcs Standard'!$A$12=1,'Backend Calcs Standard'!V193,(('Backend Calcs Standard'!V193)*0.0283168)))),\"\")","v":""},{"$f":"IF(I192=\"\",\"\",(IF('Backend Calcs Standard'!$A$12=1,'Backend Calcs Standard'!W193,('Backend Calcs Standard'!W193*0.0283168))))","v":""},"",{"$f":"IF('Backend Calcs Standard'!$A$12=1,'Backend Calcs Standard'!X193,('Backend Calcs Standard'!X193*0.0283168))","v":""},{"$f":"IFERROR(IF(H192=\"\",\"\",(IF('Backend Calcs Standard'!$A$12=1,'Backend Calcs Standard'!Y193,'Backend Calcs Standard'!Y193*0.0283168))),\"\")","v":""},{"$f":"IF(A192=\"\",\"\",IF('Backend Calcs Standard'!$A$12=1,'Backend Calcs Standard'!Z193,'Backend Calcs Standard'!O193))","v":""}]
[{"$f":"IFERROR(IF(B193=\"\",\"\",'Backend Calcs Standard'!P194),\"\")","v":""},{"$f":"IFERROR(IF(C193=\"\",\"\",(IF('Backend Calcs Standard'!$A$12=1,'Backend Calcs Standard'!S194,(('Backend Calcs Standard'!S194)*0.0283168)))),\"\")","v":""},{"$f":"IFERROR(IF(D193=\"\",\"\",(IF('Backend Calcs Standard'!$A$12=1,'Backend Calcs Standard'!T194,(('Backend Calcs Standard'!T194)*0.0283168)))),\"\")","v":""},{"$f":"IFERROR(IF(E193=\"\",\"\",(IF('Backend Calcs Standard'!$A$12=1,'Backend Calcs Standard'!U194,(('Backend Calcs Standard'!U194)*0.0283168)))),\"\")","v":""},{"$f":"IFERROR(IF(F193=\"\",\"\",(IF('Backend Calcs Standard'!$A$12=1,'Backend Calcs Standard'!V194,(('Backend Calcs Standard'!V194)*0.0283168)))),\"\")","v":""},{"$f":"IF(I193=\"\",\"\",(IF('Backend Calcs Standard'!$A$12=1,'Backend Calcs Standard'!W194,('Backend Calcs Standard'!W194*0.0283168))))","v":""},"",{"$f":"IF('Backend Calcs Standard'!$A$12=1,'Backend Calcs Standard'!X194,('Backend Calcs Standard'!X194*0.0283168))","v":""},{"$f":"IFERROR(IF(H193=\"\",\"\",(IF('Backend Calcs Standard'!$A$12=1,'Backend Calcs Standard'!Y194,'Backend Calcs Standard'!Y194*0.0283168))),\"\")","v":""},{"$f":"IF(A193=\"\",\"\",IF('Backend Calcs Standard'!$A$12=1,'Backend Calcs Standard'!Z194,'Backend Calcs Standard'!O194))","v":""}]
[{"$f":"IFERROR(IF(B194=\"\",\"\",'Backend Calcs Standard'!P195),\"\")","v":""},{"$f":"IFERROR(IF(C194=\"\",\"\",(IF('Backend Calcs Standard'!$A$12=1,'Backend Calcs Standard'!S195,(('Backend Calcs Standard'!S195)*0.0283168)))),\"\")","v":""},{"$f":"IFERROR(IF(D194=\"\",\"\",(IF('Backend Calcs Standard'!$A$12=1,'Backend Calcs Standard'!T195,(('Backend Calcs Standard'!T195)*0.0283168)))),\"\")","v":""},{"$f":"IFERROR(IF(E194=\"\",\"\",(IF('Backend Calcs Standard'!$A$12=1,'Backend Calcs Standard'!U195,(('Backend Calcs Standard'!U195)*0.0283168)))),\"\")","v":""},{"$f":"IFERROR(IF(F194=\"\",\"\",(IF('Backend Calcs Standard'!$A$12=1,'Backend Calcs Standard'!V195,(('Backend Calcs Standard'!V195)*0.0283168)))),\"\")","v":""},{"$f":"IF(I194=\"\",\"\",(IF('Backend Calcs Standard'!$A$12=1,'Backend Calcs Standard'!W195,('Backend Calcs Standard'!W195*0.0283168))))","v":""},"",{"$f":"IF('Backend Calcs Standard'!$A$12=1,'Backend Calcs Standard'!X195,('Backend Calcs Standard'!X195*0.0283168))","v":""},{"$f":"IFERROR(IF(H194=\"\",\"\",(IF('Backend Calcs Standard'!$A$12=1,'Backend Calcs Standard'!Y195,'Backend Calcs Standard'!Y195*0.0283168))),\"\")","v":""},{"$f":"IF(A194=\"\",\"\",IF('Backend Calcs Standard'!$A$12=1,'Backend Calcs Standard'!Z195,'Backend Calcs Standard'!O195))","v":""}]
[{"$f":"IFERROR(IF(B195=\"\",\"\",'Backend Calcs Standard'!P196),\"\")","v":""},{"$f":"IFERROR(IF(C195=\"\",\"\",(IF('Backend Calcs Standard'!$A$12=1,'Backend Calcs Standard'!S196,(('Backend Calcs Standard'!S196)*0.0283168)))),\"\")","v":""},{"$f":"IFERROR(IF(D195=\"\",\"\",(IF('Backend Calcs Standard'!$A$12=1,'Backend Calcs Standard'!T196,(('Backend Calcs Standard'!T196)*0.0283168)))),\"\")","v":""},{"$f":"IFERROR(IF(E195=\"\",\"\",(IF('Backend Calcs Standard'!$A$12=1,'Backend Calcs Standard'!U196,(('Backend Calcs Standard'!U196)*0.0283168)))),\"\")","v":""},{"$f":"IFERROR(IF(F195=\"\",\"\",(IF('Backend Calcs Standard'!$A$12=1,'Backend Calcs Standard'!V196,(('Backend Calcs Standard'!V196)*0.0283168)))),\"\")","v":""},{"$f":"IF(I195=\"\",\"\",(IF('Backend Calcs Standard'!$A$12=1,'Backend Calcs Standard'!W196,('Backend Calcs Standard'!W196*0.0283168))))","v":""},"",{"$f":"IF('Backend Calcs Standard'!$A$12=1,'Backend Calcs Standard'!X196,('Backend Calcs Standard'!X196*0.0283168))","v":""},{"$f":"IFERROR(IF(H195=\"\",\"\",(IF('Backend Calcs Standard'!$A$12=1,'Backend Calcs Standard'!Y196,'Backend Calcs Standard'!Y196*0.0283168))),\"\")","v":""},{"$f":"IF(A195=\"\",\"\",IF('Backend Calcs Standard'!$A$12=1,'Backend Calcs Standard'!Z196,'Backend Calcs Standard'!O196))","v":""}]
[{"$f":"IFERROR(IF(B196=\"\",\"\",'Backend Calcs Standard'!P197),\"\")","v":""},{"$f":"IFERROR(IF(C196=\"\",\"\",(IF('Backend Calcs Standard'!$A$12=1,'Backend Calcs Standard'!S197,(('Backend Calcs Standard'!S197)*0.0283168)))),\"\")","v":""},{"$f":"IFERROR(IF(D196=\"\",\"\",(IF('Backend Calcs Standard'!$A$12=1,'Backend Calcs Standard'!T197,(('Backend Calcs Standard'!T197)*0.0283168)))),\"\")","v":""},{"$f":"IFERROR(IF(E196=\"\",\"\",(IF('Backend Calcs Standard'!$A$12=1,'Backend Calcs Standard'!U197,(('Backend Calcs Standard'!U197)*0.0283168)))),\"\")","v":""},{"$f":"IFERROR(IF(F196=\"\",\"\",(IF('Backend Calcs Standard'!$A$12=1,'Backend Calcs Standard'!V197,(('Backend Calcs Standard'!V197)*0.0283168)))),\"\")","v":""},{"$f":"IF(I196=\"\",\"\",(IF('Backend Calcs Standard'!$A$12=1,'Backend Calcs Standard'!W197,('Backend Calcs Standard'!W197*0.0283168))))","v":""},"",{"$f":"IF('Backend Calcs Standard'!$A$12=1,'Backend Calcs Standard'!X197,('Backend Calcs Standard'!X197*0.0283168))","v":""},{"$f":"IFERROR(IF(H196=\"\",\"\",(IF('Backend Calcs Standard'!$A$12=1,'Backend Calcs Standard'!Y197,'Backend Calcs Standard'!Y197*0.0283168))),\"\")","v":""},{"$f":"IF(A196=\"\",\"\",IF('Backend Calcs Standard'!$A$12=1,'Backend Calcs Standard'!Z197,'Backend Calcs Standard'!O197))","v":""}]
[{"$f":"IFERROR(IF(B197=\"\",\"\",'Backend Calcs Standard'!P198),\"\")","v":""},{"$f":"IFERROR(IF(C197=\"\",\"\",(IF('Backend Calcs Standard'!$A$12=1,'Backend Calcs Standard'!S198,(('Backend Calcs Standard'!S198)*0.0283168)))),\"\")","v":""},{"$f":"IFERROR(IF(D197=\"\",\"\",(IF('Backend Calcs Standard'!$A$12=1,'Backend Calcs Standard'!T198,(('Backend Calcs Standard'!T198)*0.0283168)))),\"\")","v":""},{"$f":"IFERROR(IF(E197=\"\",\"\",(IF('Backend Calcs Standard'!$A$12=1,'Backend Calcs Standard'!U198,(('Backend Calcs Standard'!U198)*0.0283168)))),\"\")","v":""},{"$f":"IFERROR(IF(F197=\"\",\"\",(IF('Backend Calcs Standard'!$A$12=1,'Backend Calcs Standard'!V198,(('Backend Calcs Standard'!V198)*0.0283168)))),\"\")","v":""},{"$f":"IF(I197=\"\",\"\",(IF('Backend Calcs Standard'!$A$12=1,'Backend Calcs Standard'!W198,('Backend Calcs Standard'!W198*0.0283168))))","v":""},"",{"$f":"IF('Backend Calcs Standard'!$A$12=1,'Backend Calcs Standard'!X198,('Backend Calcs Standard'!X198*0.0283168))","v":""},{"$f":"IFERROR(IF(H197=\"\",\"\",(IF('Backend Calcs Standard'!$A$12=1,'Backend Calcs Standard'!Y198,'Backend Calcs Standard'!Y198*0.0283168))),\"\")","v":""},{"$f":"IF(A197=\"\",\"\",IF('Backend Calcs Standard'!$A$12=1,'Backend Calcs Standard'!Z198,'Backend Calcs Standard'!O198))","v":""}]
[{"$f":"IFERROR(IF(B198=\"\",\"\",'Backend Calcs Standard'!P199),\"\")","v":""},{"$f":"IFERROR(IF(C198=\"\",\"\",(IF('Backend Calcs Standard'!$A$12=1,'Backend Calcs Standard'!S199,(('Backend Calcs Standard'!S199)*0.0283168)))),\"\")","v":""},{"$f":"IFERROR(IF(D198=\"\",\"\",(IF('Backend Calcs Standard'!$A$12=1,'Backend Calcs Standard'!T199,(('Backend Calcs Standard'!T199)*0.0283168)))),\"\")","v":""},{"$f":"IFERROR(IF(E198=\"\",\"\",(IF('Backend Calcs Standard'!$A$12=1,'Backend Calcs Standard'!U199,(('Backend Calcs Standard'!U199)*0.0283168)))),\"\")","v":""},{"$f":"IFERROR(IF(F198=\"\",\"\",(IF('Backend Calcs Standard'!$A$12=1,'Backend Calcs Standard'!V199,(('Backend Calcs Standard'!V199)*0.0283168)))),\"\")","v":""},{"$f":"IF(I198=\"\",\"\",(IF('Backend Calcs Standard'!$A$12=1,'Backend Calcs Standard'!W199,('Backend Calcs Standard'!W199*0.0283168))))","v":""},"",{"$f":"IF('Backend Calcs Standard'!$A$12=1,'Backend Calcs Standard'!X199,('Backend Calcs Standard'!X199*0.0283168))","v":""},{"$f":"IFERROR(IF(H198=\"\",\"\",(IF('Backend Calcs Standard'!$A$12=1,'Backend Calcs Standard'!Y199,'Backend Calcs Standard'!Y199*0.0283168))),\"\")","v":""},{"$f":"IF(A198=\"\",\"\",IF('Backend Calcs Standard'!$A$12=1,'Backend Calcs Standard'!Z199,'Backend Calcs Standard'!O199))","v":""}]
[{"$f":"IFERROR(IF(B199=\"\",\"\",'Backend Calcs Standard'!P200),\"\")","v":""},{"$f":"IFERROR(IF(C199=\"\",\"\",(IF('Backend Calcs Standard'!$A$12=1,'Backend Calcs Standard'!S200,(('Backend Calcs Standard'!S200)*0.0283168)))),\"\")","v":""},{"$f":"IFERROR(IF(D199=\"\",\"\",(IF('Backend Calcs Standard'!$A$12=1,'Backend Calcs Standard'!T200,(('Backend Calcs Standard'!T200)*0.0283168)))),\"\")","v":""},{"$f":"IFERROR(IF(E199=\"\",\"\",(IF('Backend Calcs Standard'!$A$12=1,'Backend Calcs Standard'!U200,(('Backend Calcs Standard'!U200)*0.0283168)))),\"\")","v":""},{"$f":"IFERROR(IF(F199=\"\",\"\",(IF('Backend Calcs Standard'!$A$12=1,'Backend Calcs Standard'!V200,(('Backend Calcs Standard'!V200)*0.0283168)))),\"\")","v":""},{"$f":"IF(I199=\"\",\"\",(IF('Backend Calcs Standard'!$A$12=1,'Backend Calcs Standard'!W200,('Backend Calcs Standard'!W200*0.0283168))))","v":""},"",{"$f":"IF('Backend Calcs Standard'!$A$12=1,'Backend Calcs Standard'!X200,('Backend Calcs Standard'!X200*0.0283168))","v":""},{"$f":"IFERROR(IF(H199=\"\",\"\",(IF('Backend Calcs Standard'!$A$12=1,'Backend Calcs Standard'!Y200,'Backend Calcs Standard'!Y200*0.0283168))),\"\")","v":""},{"$f":"IF(A199=\"\",\"\",IF('Backend Calcs Standard'!$A$12=1,'Backend Calcs Standard'!Z200,'Backend Calcs Standard'!O200))","v":""}]
[{"$f":"IFERROR(IF(B200=\"\",\"\",'Backend Calcs Standard'!P201),\"\")","v":""},{"$f":"IFERROR(IF(C200=\"\",\"\",(IF('Backend Calcs Standard'!$A$12=1,'Backend Calcs Standard'!S201,(('Backend Calcs Standard'!S201)*0.0283168)))),\"\")","v":""},{"$f":"IFERROR(IF(D200=\"\",\"\",(IF('Backend Calcs Standard'!$A$12=1,'Backend Calcs Standard'!T201,(('Backend Calcs Standard'!T201)*0.0283168)))),\"\")","v":""},{"$f":"IFERROR(IF(E200=\"\",\"\",(IF('Backend Calcs Standard'!$A$12=1,'Backend Calcs Standard'!U201,(('Backend Calcs Standard'!U201)*0.0283168)))),\"\")","v":""},{"$f":"IFERROR(IF(F200=\"\",\"\",(IF('Backend Calcs Standard'!$A$12=1,'Backend Calcs Standard'!V201,(('Backend Calcs Standard'!V201)*0.0283168)))),\"\")","v":""},{"$f":"IF(I200=\"\",\"\",(IF('Backend Calcs Standard'!$A$12=1,'Backend Calcs Standard'!W201,('Backend Calcs Standard'!W201*0.0283168))))","v":""},"",{"$f":"IF('Backend Calcs Standard'!$A$12=1,'Backend Calcs Standard'!X201,('Backend Calcs Standard'!X201*0.0283168))","v":""},{"$f":"IFERROR(IF(H200=\"\",\"\",(IF('Backend Calcs Standard'!$A$12=1,'Backend Calcs Standard'!Y201,'Backend Calcs Standard'!Y201*0.0283168))),\"\")","v":""},{"$f":"IF(A200=\"\",\"\",IF('Backend Calcs Standard'!$A$12=1,'Backend Calcs Standard'!Z201,'Backend Calcs Standard'!O201))","v":""}]
[{"$f":"IFERROR(IF(B201=\"\",\"\",'Backend Calcs Standard'!P202),\"\")","v":""},{"$f":"IFERROR(IF(C201=\"\",\"\",(IF('Backend Calcs Standard'!$A$12=1,'Backend Calcs Standard'!S202,(('Backend Calcs Standard'!S202)*0.0283168)))),\"\")","v":""},{"$f":"IFERROR(IF(D201=\"\",\"\",(IF('Backend Calcs Standard'!$A$12=1,'Backend Calcs Standard'!T202,(('Backend Calcs Standard'!T202)*0.0283168)))),\"\")","v":""},{"$f":"IFERROR(IF(E201=\"\",\"\",(IF('Backend Calcs Standard'!$A$12=1,'Backend Calcs Standard'!U202,(('Backend Calcs Standard'!U202)*0.0283168)))),\"\")","v":""},{"$f":"IFERROR(IF(F201=\"\",\"\",(IF('Backend Calcs Standard'!$A$12=1,'Backend Calcs Standard'!V202,(('Backend Calcs Standard'!V202)*0.0283168)))),\"\")","v":""},{"$f":"IF(I201=\"\",\"\",(IF('Backend Calcs Standard'!$A$12=1,'Backend Calcs Standard'!W202,('Backend Calcs Standard'!W202*0.0283168))))","v":""},"",{"$f":"IF('Backend Calcs Standard'!$A$12=1,'Backend Calcs Standard'!X202,('Backend Calcs Standard'!X202*0.0283168))","v":""},{"$f":"IFERROR(IF(H201=\"\",\"\",(IF('Backend Calcs Standard'!$A$12=1,'Backend Calcs Standard'!Y202,'Backend Calcs Standard'!Y202*0.0283168))),\"\")","v":""},{"$f":"IF(A201=\"\",\"\",IF('Backend Calcs Standard'!$A$12=1,'Backend Calcs Standard'!Z202,'Backend Calcs Standard'!O202))","v":""}]
[{"$f":"IFERROR(IF(B202=\"\",\"\",'Backend Calcs Standard'!P203),\"\")","v":""},{"$f":"IFERROR(IF(C202=\"\",\"\",(IF('Backend Calcs Standard'!$A$12=1,'Backend Calcs Standard'!S203,(('Backend Calcs Standard'!S203)*0.0283168)))),\"\")","v":""},{"$f":"IFERROR(IF(D202=\"\",\"\",(IF('Backend Calcs Standard'!$A$12=1,'Backend Calcs Standard'!T203,(('Backend Calcs Standard'!T203)*0.0283168)))),\"\")","v":""},{"$f":"IFERROR(IF(E202=\"\",\"\",(IF('Backend Calcs Standard'!$A$12=1,'Backend Calcs Standard'!U203,(('Backend Calcs Standard'!U203)*0.0283168)))),\"\")","v":""},{"$f":"IFERROR(IF(F202=\"\",\"\",(IF('Backend Calcs Standard'!$A$12=1,'Backend Calcs Standard'!V203,(('Backend Calcs Standard'!V203)*0.0283168)))),\"\")","v":""},{"$f":"IF(I202=\"\",\"\",(IF('Backend Calcs Standard'!$A$12=1,'Backend Calcs Standard'!W203,('Backend Calcs Standard'!W203*0.0283168))))","v":""},"",{"$f":"IF('Backend Calcs Standard'!$A$12=1,'Backend Calcs Standard'!X203,('Backend Calcs Standard'!X203*0.0283168))","v":""},{"$f":"IFERROR(IF(H202=\"\",\"\",(IF('Backend Calcs Standard'!$A$12=1,'Backend Calcs Standard'!Y203,'Backend Calcs Standard'!Y203*0.0283168))),\"\")","v":""},{"$f":"IF(A202=\"\",\"\",IF('Backend Calcs Standard'!$A$12=1,'Backend Calcs Standard'!Z203,'Backend Calcs Standard'!O203))","v":""}]
[{"$f":"IFERROR(IF(B203=\"\",\"\",'Backend Calcs Standard'!P204),\"\")","v":""},{"$f":"IFERROR(IF(C203=\"\",\"\",(IF('Backend Calcs Standard'!$A$12=1,'Backend Calcs Standard'!S204,(('Backend Calcs Standard'!S204)*0.0283168)))),\"\")","v":""},{"$f":"IFERROR(IF(D203=\"\",\"\",(IF('Backend Calcs Standard'!$A$12=1,'Backend Calcs Standard'!T204,(('Backend Calcs Standard'!T204)*0.0283168)))),\"\")","v":""},{"$f":"IFERROR(IF(E203=\"\",\"\",(IF('Backend Calcs Standard'!$A$12=1,'Backend Calcs Standard'!U204,(('Backend Calcs Standard'!U204)*0.0283168)))),\"\")","v":""},{"$f":"IFERROR(IF(F203=\"\",\"\",(IF('Backend Calcs Standard'!$A$12=1,'Backend Calcs Standard'!V204,(('Backend Calcs Standard'!V204)*0.0283168)))),\"\")","v":""},{"$f":"IF(I203=\"\",\"\",(IF('Backend Calcs Standard'!$A$12=1,'Backend Calcs Standard'!W204,('Backend Calcs Standard'!W204*0.0283168))))","v":""},"",{"$f":"IF('Backend Calcs Standard'!$A$12=1,'Backend Calcs Standard'!X204,('Backend Calcs Standard'!X204*0.0283168))","v":""},{"$f":"IFERROR(IF(H203=\"\",\"\",(IF('Backend Calcs Standard'!$A$12=1,'Backend Calcs Standard'!Y204,'Backend Calcs Standard'!Y204*0.0283168))),\"\")","v":""},{"$f":"IF(A203=\"\",\"\",IF('Backend Calcs Standard'!$A$12=1,'Backend Calcs Standard'!Z204,'Backend Calcs Standard'!O204))","v":""}]
[{"$f":"IFERROR(IF(B204=\"\",\"\",'Backend Calcs Standard'!P205),\"\")","v":""},{"$f":"IFERROR(IF(C204=\"\",\"\",(IF('Backend Calcs Standard'!$A$12=1,'Backend Calcs Standard'!S205,(('Backend Calcs Standard'!S205)*0.0283168)))),\"\")","v":""},{"$f":"IFERROR(IF(D204=\"\",\"\",(IF('Backend Calcs Standard'!$A$12=1,'Backend Calcs Standard'!T205,(('Backend Calcs Standard'!T205)*0.0283168)))),\"\")","v":""},{"$f":"IFERROR(IF(E204=\"\",\"\",(IF('Backend Calcs Standard'!$A$12=1,'Backend Calcs Standard'!U205,(('Backend Calcs Standard'!U205)*0.0283168)))),\"\")","v":""},{"$f":"IFERROR(IF(F204=\"\",\"\",(IF('Backend Calcs Standard'!$A$12=1,'Backend Calcs Standard'!V205,(('Backend Calcs Standard'!V205)*0.0283168)))),\"\")","v":""},{"$f":"IF(I204=\"\",\"\",(IF('Backend Calcs Standard'!$A$12=1,'Backend Calcs Standard'!W205,('Backend Calcs Standard'!W205*0.0283168))))","v":""},"",{"$f":"IF('Backend Calcs Standard'!$A$12=1,'Backend Calcs Standard'!X205,('Backend Calcs Standard'!X205*0.0283168))","v":""},{"$f":"IFERROR(IF(H204=\"\",\"\",(IF('Backend Calcs Standard'!$A$12=1,'Backend Calcs Standard'!Y205,'Backend Calcs Standard'!Y205*0.0283168))),\"\")","v":""},{"$f":"IF(A204=\"\",\"\",IF('Backend Calcs Standard'!$A$12=1,'Backend Calcs Standard'!Z205,'Backend Calcs Standard'!O205))","v":""}]
[{"$f":"IFERROR(IF(B205=\"\",\"\",'Backend Calcs Standard'!P206),\"\")","v":""},{"$f":"IFERROR(IF(C205=\"\",\"\",(IF('Backend Calcs Standard'!$A$12=1,'Backend Calcs Standard'!S206,(('Backend Calcs Standard'!S206)*0.0283168)))),\"\")","v":""},{"$f":"IFERROR(IF(D205=\"\",\"\",(IF('Backend Calcs Standard'!$A$12=1,'Backend Calcs Standard'!T206,(('Backend Calcs Standard'!T206)*0.0283168)))),\"\")","v":""},{"$f":"IFERROR(IF(E205=\"\",\"\",(IF('Backend Calcs Standard'!$A$12=1,'Backend Calcs Standard'!U206,(('Backend Calcs Standard'!U206)*0.0283168)))),\"\")","v":""},{"$f":"IFERROR(IF(F205=\"\",\"\",(IF('Backend Calcs Standard'!$A$12=1,'Backend Calcs Standard'!V206,(('Backend Calcs Standard'!V206)*0.0283168)))),\"\")","v":""},{"$f":"IF(I205=\"\",\"\",(IF('Backend Calcs Standard'!$A$12=1,'Backend Calcs Standard'!W206,('Backend Calcs Standard'!W206*0.0283168))))","v":""},"",{"$f":"IF('Backend Calcs Standard'!$A$12=1,'Backend Calcs Standard'!X206,('Backend Calcs Standard'!X206*0.0283168))","v":""},{"$f":"IFERROR(IF(H205=\"\",\"\",(IF('Backend Calcs Standard'!$A$12=1,'Backend Calcs Standard'!Y206,'Backend Calcs Standard'!Y206*0.0283168))),\"\")","v":""},{"$f":"IF(A205=\"\",\"\",IF('Backend Calcs Standard'!$A$12=1,'Backend Calcs Standard'!Z206,'Backend Calcs Standard'!O206))","v":""}]
[{"$f":"IFERROR(IF(B206=\"\",\"\",'Backend Calcs Standard'!P207),\"\")","v":""},{"$f":"IFERROR(IF(C206=\"\",\"\",(IF('Backend Calcs Standard'!$A$12=1,'Backend Calcs Standard'!S207,(('Backend Calcs Standard'!S207)*0.0283168)))),\"\")","v":""},{"$f":"IFERROR(IF(D206=\"\",\"\",(IF('Backend Calcs Standard'!$A$12=1,'Backend Calcs Standard'!T207,(('Backend Calcs Standard'!T207)*0.0283168)))),\"\")","v":""},{"$f":"IFERROR(IF(E206=\"\",\"\",(IF('Backend Calcs Standard'!$A$12=1,'Backend Calcs Standard'!U207,(('Backend Calcs Standard'!U207)*0.0283168)))),\"\")","v":""},{"$f":"IFERROR(IF(F206=\"\",\"\",(IF('Backend Calcs Standard'!$A$12=1,'Backend Calcs Standard'!V207,(('Backend Calcs Standard'!V207)*0.0283168)))),\"\")","v":""},{"$f":"IF(I206=\"\",\"\",(IF('Backend Calcs Standard'!$A$12=1,'Backend Calcs Standard'!W207,('Backend Calcs Standard'!W207*0.0283168))))","v":""},"",{"$f":"IF('Backend Calcs Standard'!$A$12=1,'Backend Calcs Standard'!X207,('Backend Calcs Standard'!X207*0.0283168))","v":""},{"$f":"IFERROR(IF(H206=\"\",\"\",(IF('Backend Calcs Standard'!$A$12=1,'Backend Calcs Standard'!Y207,'Backend Calcs Standard'!Y207*0.0283168))),\"\")","v":""},{"$f":"IF(A206=\"\",\"\",IF('Backend Calcs Standard'!$A$12=1,'Backend Calcs Standard'!Z207,'Backend Calcs Standard'!O207))","v":""}]
[{"$f":"IFERROR(IF(B207=\"\",\"\",'Backend Calcs Standard'!P208),\"\")","v":""},{"$f":"IFERROR(IF(C207=\"\",\"\",(IF('Backend Calcs Standard'!$A$12=1,'Backend Calcs Standard'!S208,(('Backend Calcs Standard'!S208)*0.0283168)))),\"\")","v":""},{"$f":"IFERROR(IF(D207=\"\",\"\",(IF('Backend Calcs Standard'!$A$12=1,'Backend Calcs Standard'!T208,(('Backend Calcs Standard'!T208)*0.0283168)))),\"\")","v":""},{"$f":"IFERROR(IF(E207=\"\",\"\",(IF('Backend Calcs Standard'!$A$12=1,'Backend Calcs Standard'!U208,(('Backend Calcs Standard'!U208)*0.0283168)))),\"\")","v":""},{"$f":"IFERROR(IF(F207=\"\",\"\",(IF('Backend Calcs Standard'!$A$12=1,'Backend Calcs Standard'!V208,(('Backend Calcs Standard'!V208)*0.0283168)))),\"\")","v":""},{"$f":"IF(I207=\"\",\"\",(IF('Backend Calcs Standard'!$A$12=1,'Backend Calcs Standard'!W208,('Backend Calcs Standard'!W208*0.0283168))))","v":""},"",{"$f":"IF('Backend Calcs Standard'!$A$12=1,'Backend Calcs Standard'!X208,('Backend Calcs Standard'!X208*0.0283168))","v":""},{"$f":"IFERROR(IF(H207=\"\",\"\",(IF('Backend Calcs Standard'!$A$12=1,'Backend Calcs Standard'!Y208,'Backend Calcs Standard'!Y208*0.0283168))),\"\")","v":""},{"$f":"IF(A207=\"\",\"\",IF('Backend Calcs Standard'!$A$12=1,'Backend Calcs Standard'!Z208,'Backend Calcs Standard'!O208))","v":""}]
[{"$f":"IFERROR(IF(B208=\"\",\"\",'Backend Calcs Standard'!P209),\"\")","v":""},{"$f":"IFERROR(IF(C208=\"\",\"\",(IF('Backend Calcs Standard'!$A$12=1,'Backend Calcs Standard'!S209,(('Backend Calcs Standard'!S209)*0.0283168)))),\"\")","v":""},{"$f":"IFERROR(IF(D208=\"\",\"\",(IF('Backend Calcs Standard'!$A$12=1,'Backend Calcs Standard'!T209,(('Backend Calcs Standard'!T209)*0.0283168)))),\"\")","v":""},{"$f":"IFERROR(IF(E208=\"\",\"\",(IF('Backend Calcs Standard'!$A$12=1,'Backend Calcs Standard'!U209,(('Backend Calcs Standard'!U209)*0.0283168)))),\"\")","v":""},{"$f":"IFERROR(IF(F208=\"\",\"\",(IF('Backend Calcs Standard'!$A$12=1,'Backend Calcs Standard'!V209,(('Backend Calcs Standard'!V209)*0.0283168)))),\"\")","v":""},{"$f":"IF(I208=\"\",\"\",(IF('Backend Calcs Standard'!$A$12=1,'Backend Calcs Standard'!W209,('Backend Calcs Standard'!W209*0.0283168))))","v":""},"",{"$f":"IF('Backend Calcs Standard'!$A$12=1,'Backend Calcs Standard'!X209,('Backend Calcs Standard'!X209*0.0283168))","v":""},{"$f":"IFERROR(IF(H208=\"\",\"\",(IF('Backend Calcs Standard'!$A$12=1,'Backend Calcs Standard'!Y209,'Backend Calcs Standard'!Y209*0.0283168))),\"\")","v":""},{"$f":"IF(A208=\"\",\"\",IF('Backend Calcs Standard'!$A$12=1,'Backend Calcs Standard'!Z209,'Backend Calcs Standard'!O209))","v":""}]
[{"$f":"IFERROR(IF(B209=\"\",\"\",'Backend Calcs Standard'!P210),\"\")","v":""},{"$f":"IFERROR(IF(C209=\"\",\"\",(IF('Backend Calcs Standard'!$A$12=1,'Backend Calcs Standard'!S210,(('Backend Calcs Standard'!S210)*0.0283168)))),\"\")","v":""},{"$f":"IFERROR(IF(D209=\"\",\"\",(IF('Backend Calcs Standard'!$A$12=1,'Backend Calcs Standard'!T210,(('Backend Calcs Standard'!T210)*0.0283168)))),\"\")","v":""},{"$f":"IFERROR(IF(E209=\"\",\"\",(IF('Backend Calcs Standard'!$A$12=1,'Backend Calcs Standard'!U210,(('Backend Calcs Standard'!U210)*0.0283168)))),\"\")","v":""},{"$f":"IFERROR(IF(F209=\"\",\"\",(IF('Backend Calcs Standard'!$A$12=1,'Backend Calcs Standard'!V210,(('Backend Calcs Standard'!V210)*0.0283168)))),\"\")","v":""},{"$f":"IF(I209=\"\",\"\",(IF('Backend Calcs Standard'!$A$12=1,'Backend Calcs Standard'!W210,('Backend Calcs Standard'!W210*0.0283168))))","v":""},"",{"$f":"IF('Backend Calcs Standard'!$A$12=1,'Backend Calcs Standard'!X210,('Backend Calcs Standard'!X210*0.0283168))","v":""},{"$f":"IFERROR(IF(H209=\"\",\"\",(IF('Backend Calcs Standard'!$A$12=1,'Backend Calcs Standard'!Y210,'Backend Calcs Standard'!Y210*0.0283168))),\"\")","v":""},{"$f":"IF(A209=\"\",\"\",IF('Backend Calcs Standard'!$A$12=1,'Backend Calcs Standard'!Z210,'Backend Calcs Standard'!O210))","v":""}]
[{"$f":"IFERROR(IF(B210=\"\",\"\",'Backend Calcs Standard'!P211),\"\")","v":""},{"$f":"IFERROR(IF(C210=\"\",\"\",(IF('Backend Calcs Standard'!$A$12=1,'Backend Calcs Standard'!S211,(('Backend Calcs Standard'!S211)*0.0283168)))),\"\")","v":""},{"$f":"IFERROR(IF(D210=\"\",\"\",(IF('Backend Calcs Standard'!$A$12=1,'Backend Calcs Standard'!T211,(('Backend Calcs Standard'!T211)*0.0283168)))),\"\")","v":""},{"$f":"IFERROR(IF(E210=\"\",\"\",(IF('Backend Calcs Standard'!$A$12=1,'Backend Calcs Standard'!U211,(('Backend Calcs Standard'!U211)*0.0283168)))),\"\")","v":""},{"$f":"IFERROR(IF(F210=\"\",\"\",(IF('Backend Calcs Standard'!$A$12=1,'Backend Calcs Standard'!V211,(('Backend Calcs Standard'!V211)*0.0283168)))),\"\")","v":""},{"$f":"IF(I210=\"\",\"\",(IF('Backend Calcs Standard'!$A$12=1,'Backend Calcs Standard'!W211,('Backend Calcs Standard'!W211*0.0283168))))","v":""},"",{"$f":"IF('Backend Calcs Standard'!$A$12=1,'Backend Calcs Standard'!X211,('Backend Calcs Standard'!X211*0.0283168))","v":""},{"$f":"IFERROR(IF(H210=\"\",\"\",(IF('Backend Calcs Standard'!$A$12=1,'Backend Calcs Standard'!Y211,'Backend Calcs Standard'!Y211*0.0283168))),\"\")","v":""},{"$f":"IF(A210=\"\",\"\",IF('Backend Calcs Standard'!$A$12=1,'Backend Calcs Standard'!Z211,'Backend Calcs Standard'!O211))","v":""}]
[{"$f":"IFERROR(IF(B211=\"\",\"\",'Backend Calcs Standard'!P212),\"\")","v":""},{"$f":"IFERROR(IF(C211=\"\",\"\",(IF('Backend Calcs Standard'!$A$12=1,'Backend Calcs Standard'!S212,(('Backend Calcs Standard'!S212)*0.0283168)))),\"\")","v":""},{"$f":"IFERROR(IF(D211=\"\",\"\",(IF('Backend Calcs Standard'!$A$12=1,'Backend Calcs Standard'!T212,(('Backend Calcs Standard'!T212)*0.0283168)))),\"\")","v":""},{"$f":"IFERROR(IF(E211=\"\",\"\",(IF('Backend Calcs Standard'!$A$12=1,'Backend Calcs Standard'!U212,(('Backend Calcs Standard'!U212)*0.0283168)))),\"\")","v":""},{"$f":"IFERROR(IF(F211=\"\",\"\",(IF('Backend Calcs Standard'!$A$12=1,'Backend Calcs Standard'!V212,(('Backend Calcs Standard'!V212)*0.0283168)))),\"\")","v":""},{"$f":"IF(I211=\"\",\"\",(IF('Backend Calcs Standard'!$A$12=1,'Backend Calcs Standard'!W212,('Backend Calcs Standard'!W212*0.0283168))))","v":""},{"$f":"IFERROR(IF(F211=\"\",\"\",(F211+E211+D211)),\"\")","v":""},{"$f":"IF('Backend Calcs Standard'!$A$12=1,'Backend Calcs Standard'!X212,('Backend Calcs Standard'!X212*0.0283168))","v":""},{"$f":"IFERROR(IF(H211=\"\",\"\",(IF('Backend Calcs Standard'!$A$12=1,'Backend Calcs Standard'!Y212,'Backend Calcs Standard'!Y212*0.0283168))),\"\")","v":""},{"$f":"IF(A211=\"\",\"\",IF('Backend Calcs Standard'!$A$12=1,'Backend Calcs Standard'!Z212,'Backend Calcs Standard'!O212))","v":""}]
[{"$f":"IFERROR(IF(B212=\"\",\"\",'Backend Calcs Standard'!P213),\"\")","v":""},{"$f":"IFERROR(IF(C212=\"\",\"\",(IF('Backend Calcs Standard'!$A$12=1,'Backend Calcs Standard'!S213,(('Backend Calcs Standard'!S213)*0.0283168)))),\"\")","v":""},{"$f":"IFERROR(IF(D212=\"\",\"\",(IF('Backend Calcs Standard'!$A$12=1,'Backend Calcs Standard'!T213,(('Backend Calcs Standard'!T213)*0.0283168)))),\"\")","v":""},{"$f":"IFERROR(IF(E212=\"\",\"\",(IF('Backend Calcs Standard'!$A$12=1,'Backend Calcs Standard'!U213,(('Backend Calcs Standard'!U213)*0.0283168)))),\"\")","v":""},{"$f":"IFERROR(IF(F212=\"\",\"\",(IF('Backend Calcs Standard'!$A$12=1,'Backend Calcs Standard'!V213,(('Backend Calcs Standard'!V213)*0.0283168)))),\"\")","v":""},{"$f":"IF(I212=\"\",\"\",(IF('Backend Calcs Standard'!$A$12=1,'Backend Calcs Standard'!W213,('Backend Calcs Standard'!W213*0.0283168))))","v":""},"",{"$f":"IF('Backend Calcs Standard'!$A$12=1,'Backend Calcs Standard'!X213,('Backend Calcs Standard'!X213*0.0283168))","v":""},{"$f":"IFERROR(IF(H212=\"\",\"\",(IF('Backend Calcs Standard'!$A$12=1,'Backend Calcs Standard'!Y213,'Backend Calcs Standard'!Y213*0.0283168))),\"\")","v":""},{"$f":"IF(A212=\"\",\"\",IF('Backend Calcs Standard'!$A$12=1,'Backend Calcs Standard'!Z213,'Backend Calcs Standard'!O213))","v":""}]
[{"$f":"IFERROR(IF(B213=\"\",\"\",'Backend Calcs Standard'!P214),\"\")","v":""},{"$f":"IFERROR(IF(C213=\"\",\"\",(IF('Backend Calcs Standard'!$A$12=1,'Backend Calcs Standard'!S214,(('Backend Calcs Standard'!S214)*0.0283168)))),\"\")","v":""},{"$f":"IFERROR(IF(D213=\"\",\"\",(IF('Backend Calcs Standard'!$A$12=1,'Backend Calcs Standard'!T214,(('Backend Calcs Standard'!T214)*0.0283168)))),\"\")","v":""},{"$f":"IFERROR(IF(E213=\"\",\"\",(IF('Backend Calcs Standard'!$A$12=1,'Backend Calcs Standard'!U214,(('Backend Calcs Standard'!U214)*0.0283168)))),\"\")","v":""},{"$f":"IFERROR(IF(F213=\"\",\"\",(IF('Backend Calcs Standard'!$A$12=1,'Backend Calcs Standard'!V214,(('Backend Calcs Standard'!V214)*0.0283168)))),\"\")","v":""},{"$f":"IF(I213=\"\",\"\",(IF('Backend Calcs Standard'!$A$12=1,'Backend Calcs Standard'!W214,('Backend Calcs Standard'!W214*0.0283168))))","v":""},"",{"$f":"IF('Backend Calcs Standard'!$A$12=1,'Backend Calcs Standard'!X214,('Backend Calcs Standard'!X214*0.0283168))","v":""},{"$f":"IFERROR(IF(H213=\"\",\"\",(IF('Backend Calcs Standard'!$A$12=1,'Backend Calcs Standard'!Y214,'Backend Calcs Standard'!Y214*0.0283168))),\"\")","v":""},{"$f":"IF(A213=\"\",\"\",IF('Backend Calcs Standard'!$A$12=1,'Backend Calcs Standard'!Z214,'Backend Calcs Standard'!O214))","v":""}]
[{"$f":"IFERROR(IF(B214=\"\",\"\",'Backend Calcs Standard'!P215),\"\")","v":""},{"$f":"IFERROR(IF(C214=\"\",\"\",(IF('Backend Calcs Standard'!$A$12=1,'Backend Calcs Standard'!S215,(('Backend Calcs Standard'!S215)*0.0283168)))),\"\")","v":""},{"$f":"IFERROR(IF(D214=\"\",\"\",(IF('Backend Calcs Standard'!$A$12=1,'Backend Calcs Standard'!T215,(('Backend Calcs Standard'!T215)*0.0283168)))),\"\")","v":""},{"$f":"IFERROR(IF(E214=\"\",\"\",(IF('Backend Calcs Standard'!$A$12=1,'Backend Calcs Standard'!U215,(('Backend Calcs Standard'!U215)*0.0283168)))),\"\")","v":""},{"$f":"IFERROR(IF(F214=\"\",\"\",(IF('Backend Calcs Standard'!$A$12=1,'Backend Calcs Standard'!V215,(('Backend Calcs Standard'!V215)*0.0283168)))),\"\")","v":""},{"$f":"IF(I214=\"\",\"\",(IF('Backend Calcs Standard'!$A$12=1,'Backend Calcs Standard'!W215,('Backend Calcs Standard'!W215*0.0283168))))","v":""},"",{"$f":"IF('Backend Calcs Standard'!$A$12=1,'Backend Calcs Standard'!X215,('Backend Calcs Standard'!X215*0.0283168))","v":""},{"$f":"IFERROR(IF(H214=\"\",\"\",(IF('Backend Calcs Standard'!$A$12=1,'Backend Calcs Standard'!Y215,'Backend Calcs Standard'!Y215*0.0283168))),\"\")","v":""},{"$f":"IF(A214=\"\",\"\",IF('Backend Calcs Standard'!$A$12=1,'Backend Calcs Standard'!Z215,'Backend Calcs Standard'!O215))","v":""}]
[{"$f":"IFERROR(IF(B215=\"\",\"\",'Backend Calcs Standard'!P216),\"\")","v":""},{"$f":"IFERROR(IF(C215=\"\",\"\",(IF('Backend Calcs Standard'!$A$12=1,'Backend Calcs Standard'!S216,(('Backend Calcs Standard'!S216)*0.0283168)))),\"\")","v":""},{"$f":"IFERROR(IF(D215=\"\",\"\",(IF('Backend Calcs Standard'!$A$12=1,'Backend Calcs Standard'!T216,(('Backend Calcs Standard'!T216)*0.0283168)))),\"\")","v":""},{"$f":"IFERROR(IF(E215=\"\",\"\",(IF('Backend Calcs Standard'!$A$12=1,'Backend Calcs Standard'!U216,(('Backend Calcs Standard'!U216)*0.0283168)))),\"\")","v":""},{"$f":"IFERROR(IF(F215=\"\",\"\",(IF('Backend Calcs Standard'!$A$12=1,'Backend Calcs Standard'!V216,(('Backend Calcs Standard'!V216)*0.0283168)))),\"\")","v":""},{"$f":"IF(I215=\"\",\"\",(IF('Backend Calcs Standard'!$A$12=1,'Backend Calcs Standard'!W216,('Backend Calcs Standard'!W216*0.0283168))))","v":""},"",{"$f":"IF('Backend Calcs Standard'!$A$12=1,'Backend Calcs Standard'!X216,('Backend Calcs Standard'!X216*0.0283168))","v":""},{"$f":"IFERROR(IF(H215=\"\",\"\",(IF('Backend Calcs Standard'!$A$12=1,'Backend Calcs Standard'!Y216,'Backend Calcs Standard'!Y216*0.0283168))),\"\")","v":""},{"$f":"IF(A215=\"\",\"\",IF('Backend Calcs Standard'!$A$12=1,'Backend Calcs Standard'!Z216,'Backend Calcs Standard'!O216))","v":""}]
[{"$f":"IFERROR(IF(B216=\"\",\"\",'Backend Calcs Standard'!P217),\"\")","v":""},{"$f":"IFERROR(IF(C216=\"\",\"\",(IF('Backend Calcs Standard'!$A$12=1,'Backend Calcs Standard'!S217,(('Backend Calcs Standard'!S217)*0.0283168)))),\"\")","v":""},{"$f":"IFERROR(IF(D216=\"\",\"\",(IF('Backend Calcs Standard'!$A$12=1,'Backend Calcs Standard'!T217,(('Backend Calcs Standard'!T217)*0.0283168)))),\"\")","v":""},{"$f":"IFERROR(IF(E216=\"\",\"\",(IF('Backend Calcs Standard'!$A$12=1,'Backend Calcs Standard'!U217,(('Backend Calcs Standard'!U217)*0.0283168)))),\"\")","v":""},{"$f":"IFERROR(IF(F216=\"\",\"\",(IF('Backend Calcs Standard'!$A$12=1,'Backend Calcs Standard'!V217,(('Backend Calcs Standard'!V217)*0.0283168)))),\"\")","v":""},{"$f":"IF(I216=\"\",\"\",(IF('Backend Calcs Standard'!$A$12=1,'Backend Calcs Standard'!W217,('Backend Calcs Standard'!W217*0.0283168))))","v":""},"",{"$f":"IF('Backend Calcs Standard'!$A$12=1,'Backend Calcs Standard'!X217,('Backend Calcs Standard'!X217*0.0283168))","v":""},{"$f":"IFERROR(IF(H216=\"\",\"\",(IF('Backend Calcs Standard'!$A$12=1,'Backend Calcs Standard'!Y217,'Backend Calcs Standard'!Y217*0.0283168))),\"\")","v":""},{"$f":"IF(A216=\"\",\"\",IF('Backend Calcs Standard'!$A$12=1,'Backend Calcs Standard'!Z217,'Backend Calcs Standard'!O217))","v":""}]
[{"$f":"IFERROR(IF(B217=\"\",\"\",'Backend Calcs Standard'!P218),\"\")","v":""},{"$f":"IFERROR(IF(C217=\"\",\"\",(IF('Backend Calcs Standard'!$A$12=1,'Backend Calcs Standard'!S218,(('Backend Calcs Standard'!S218)*0.0283168)))),\"\")","v":""},{"$f":"IFERROR(IF(D217=\"\",\"\",(IF('Backend Calcs Standard'!$A$12=1,'Backend Calcs Standard'!T218,(('Backend Calcs Standard'!T218)*0.0283168)))),\"\")","v":""},{"$f":"IFERROR(IF(E217=\"\",\"\",(IF('Backend Calcs Standard'!$A$12=1,'Backend Calcs Standard'!U218,(('Backend Calcs Standard'!U218)*0.0283168)))),\"\")","v":""},{"$f":"IFERROR(IF(F217=\"\",\"\",(IF('Backend Calcs Standard'!$A$12=1,'Backend Calcs Standard'!V218,(('Backend Calcs Standard'!V218)*0.0283168)))),\"\")","v":""},{"$f":"IF(I217=\"\",\"\",(IF('Backend Calcs Standard'!$A$12=1,'Backend Calcs Standard'!W218,('Backend Calcs Standard'!W218*0.0283168))))","v":""},"",{"$f":"IF('Backend Calcs Standard'!$A$12=1,'Backend Calcs Standard'!X218,('Backend Calcs Standard'!X218*0.0283168))","v":""},{"$f":"IFERROR(IF(H217=\"\",\"\",(IF('Backend Calcs Standard'!$A$12=1,'Backend Calcs Standard'!Y218,'Backend Calcs Standard'!Y218*0.0283168))),\"\")","v":""},{"$f":"IF(A217=\"\",\"\",IF('Backend Calcs Standard'!$A$12=1,'Backend Calcs Standard'!Z218,'Backend Calcs Standard'!O218))","v":""}]
[{"$f":"IFERROR(IF(B218=\"\",\"\",'Backend Calcs Standard'!P219),\"\")","v":""},{"$f":"IFERROR(IF(C218=\"\",\"\",(IF('Backend Calcs Standard'!$A$12=1,'Backend Calcs Standard'!S219,(('Backend Calcs Standard'!S219)*0.0283168)))),\"\")","v":""},{"$f":"IFERROR(IF(D218=\"\",\"\",(IF('Backend Calcs Standard'!$A$12=1,'Backend Calcs Standard'!T219,(('Backend Calcs Standard'!T219)*0.0283168)))),\"\")","v":""},{"$f":"IFERROR(IF(E218=\"\",\"\",(IF('Backend Calcs Standard'!$A$12=1,'Backend Calcs Standard'!U219,(('Backend Calcs Standard'!U219)*0.0283168)))),\"\")","v":""},{"$f":"IFERROR(IF(F218=\"\",\"\",(IF('Backend Calcs Standard'!$A$12=1,'Backend Calcs Standard'!V219,(('Backend Calcs Standard'!V219)*0.0283168)))),\"\")","v":""},{"$f":"IF(I218=\"\",\"\",(IF('Backend Calcs Standard'!$A$12=1,'Backend Calcs Standard'!W219,('Backend Calcs Standard'!W219*0.0283168))))","v":""},"",{"$f":"IF('Backend Calcs Standard'!$A$12=1,'Backend Calcs Standard'!X219,('Backend Calcs Standard'!X219*0.0283168))","v":""},{"$f":"IFERROR(IF(H218=\"\",\"\",(IF('Backend Calcs Standard'!$A$12=1,'Backend Calcs Standard'!Y219,'Backend Calcs Standard'!Y219*0.0283168))),\"\")","v":""},{"$f":"IF(A218=\"\",\"\",IF('Backend Calcs Standard'!$A$12=1,'Backend Calcs Standard'!Z219,'Backend Calcs Standard'!O219))","v":""}]
[{"$f":"IFERROR(IF(B219=\"\",\"\",'Backend Calcs Standard'!P220),\"\")","v":""},{"$f":"IFERROR(IF(C219=\"\",\"\",(IF('Backend Calcs Standard'!$A$12=1,'Backend Calcs Standard'!S220,(('Backend Calcs Standard'!S220)*0.0283168)))),\"\")","v":""},{"$f":"IFERROR(IF(D219=\"\",\"\",(IF('Backend Calcs Standard'!$A$12=1,'Backend Calcs Standard'!T220,(('Backend Calcs Standard'!T220)*0.0283168)))),\"\")","v":""},{"$f":"IFERROR(IF(E219=\"\",\"\",(IF('Backend Calcs Standard'!$A$12=1,'Backend Calcs Standard'!U220,(('Backend Calcs Standard'!U220)*0.0283168)))),\"\")","v":""},{"$f":"IFERROR(IF(F219=\"\",\"\",(IF('Backend Calcs Standard'!$A$12=1,'Backend Calcs Standard'!V220,(('Backend Calcs Standard'!V220)*0.0283168)))),\"\")","v":""},{"$f":"IF(I219=\"\",\"\",(IF('Backend Calcs Standard'!$A$12=1,'Backend Calcs Standard'!W220,('Backend Calcs Standard'!W220*0.0283168))))","v":""},"",{"$f":"IF('Backend Calcs Standard'!$A$12=1,'Backend Calcs Standard'!X220,('Backend Calcs Standard'!X220*0.0283168))","v":""},{"$f":"IFERROR(IF(H219=\"\",\"\",(IF('Backend Calcs Standard'!$A$12=1,'Backend Calcs Standard'!Y220,'Backend Calcs Standard'!Y220*0.0283168))),\"\")","v":""},{"$f":"IF(A219=\"\",\"\",IF('Backend Calcs Standard'!$A$12=1,'Backend Calcs Standard'!Z220,'Backend Calcs Standard'!O220))","v":""}]
[{"$f":"IFERROR(IF(B220=\"\",\"\",'Backend Calcs Standard'!P221),\"\")","v":""},{"$f":"IFERROR(IF(C220=\"\",\"\",(IF('Backend Calcs Standard'!$A$12=1,'Backend Calcs Standard'!S221,(('Backend Calcs Standard'!S221)*0.0283168)))),\"\")","v":""},{"$f":"IFERROR(IF(D220=\"\",\"\",(IF('Backend Calcs Standard'!$A$12=1,'Backend Calcs Standard'!T221,(('Backend Calcs Standard'!T221)*0.0283168)))),\"\")","v":""},{"$f":"IFERROR(IF(E220=\"\",\"\",(IF('Backend Calcs Standard'!$A$12=1,'Backend Calcs Standard'!U221,(('Backend Calcs Standard'!U221)*0.0283168)))),\"\")","v":""},{"$f":"IFERROR(IF(F220=\"\",\"\",(IF('Backend Calcs Standard'!$A$12=1,'Backend Calcs Standard'!V221,(('Backend Calcs Standard'!V221)*0.0283168)))),\"\")","v":""},{"$f":"IF(I220=\"\",\"\",(IF('Backend Calcs Standard'!$A$12=1,'Backend Calcs Standard'!W221,('Backend Calcs Standard'!W221*0.0283168))))","v":""},"",{"$f":"IF('Backend Calcs Standard'!$A$12=1,'Backend Calcs Standard'!X221,('Backend Calcs Standard'!X221*0.0283168))","v":""},{"$f":"IFERROR(IF(H220=\"\",\"\",(IF('Backend Calcs Standard'!$A$12=1,'Backend Calcs Standard'!Y221,'Backend Calcs Standard'!Y221*0.0283168))),\"\")","v":""},{"$f":"IF(A220=\"\",\"\",IF('Backend Calcs Standard'!$A$12=1,'Backend Calcs Standard'!Z221,'Backend Calcs Standard'!O221))","v":""}]
[{"$f":"IFERROR(IF(B221=\"\",\"\",'Backend Calcs Standard'!P222),\"\")","v":""},{"$f":"IFERROR(IF(C221=\"\",\"\",(IF('Backend Calcs Standard'!$A$12=1,'Backend Calcs Standard'!S222,(('Backend Calcs Standard'!S222)*0.0283168)))),\"\")","v":""},{"$f":"IFERROR(IF(D221=\"\",\"\",(IF('Backend Calcs Standard'!$A$12=1,'Backend Calcs Standard'!T222,(('Backend Calcs Standard'!T222)*0.0283168)))),\"\")","v":""},{"$f":"IFERROR(IF(E221=\"\",\"\",(IF('Backend Calcs Standard'!$A$12=1,'Backend Calcs Standard'!U222,(('Backend Calcs Standard'!U222)*0.0283168)))),\"\")","v":""},{"$f":"IFERROR(IF(F221=\"\",\"\",(IF('Backend Calcs Standard'!$A$12=1,'Backend Calcs Standard'!V222,(('Backend Calcs Standard'!V222)*0.0283168)))),\"\")","v":""},{"$f":"IF(I221=\"\",\"\",(IF('Backend Calcs Standard'!$A$12=1,'Backend Calcs Standard'!W222,('Backend Calcs Standard'!W222*0.0283168))))","v":""},"",{"$f":"IF('Backend Calcs Standard'!$A$12=1,'Backend Calcs Standard'!X222,('Backend Calcs Standard'!X222*0.0283168))","v":""},{"$f":"IFERROR(IF(H221=\"\",\"\",(IF('Backend Calcs Standard'!$A$12=1,'Backend Calcs Standard'!Y222,'Backend Calcs Standard'!Y222*0.0283168))),\"\")","v":""},{"$f":"IF(A221=\"\",\"\",IF('Backend Calcs Standard'!$A$12=1,'Backend Calcs Standard'!Z222,'Backend Calcs Standard'!O222))","v":""}]
[{"$f":"IFERROR(IF(B222=\"\",\"\",'Backend Calcs Standard'!P223),\"\")","v":""},{"$f":"IFERROR(IF(C222=\"\",\"\",(IF('Backend Calcs Standard'!$A$12=1,'Backend Calcs Standard'!S223,(('Backend Calcs Standard'!S223)*0.0283168)))),\"\")","v":""},{"$f":"IFERROR(IF(D222=\"\",\"\",(IF('Backend Calcs Standard'!$A$12=1,'Backend Calcs Standard'!T223,(('Backend Calcs Standard'!T223)*0.0283168)))),\"\")","v":""},{"$f":"IFERROR(IF(E222=\"\",\"\",(IF('Backend Calcs Standard'!$A$12=1,'Backend Calcs Standard'!U223,(('Backend Calcs Standard'!U223)*0.0283168)))),\"\")","v":""},{"$f":"IFERROR(IF(F222=\"\",\"\",(IF('Backend Calcs Standard'!$A$12=1,'Backend Calcs Standard'!V223,(('Backend Calcs Standard'!V223)*0.0283168)))),\"\")","v":""},{"$f":"IF(I222=\"\",\"\",(IF('Backend Calcs Standard'!$A$12=1,'Backend Calcs Standard'!W223,('Backend Calcs Standard'!W223*0.0283168))))","v":""},"",{"$f":"IF('Backend Calcs Standard'!$A$12=1,'Backend Calcs Standard'!X223,('Backend Calcs Standard'!X223*0.0283168))","v":""},{"$f":"IFERROR(IF(H222=\"\",\"\",(IF('Backend Calcs Standard'!$A$12=1,'Backend Calcs Standard'!Y223,'Backend Calcs Standard'!Y223*0.0283168))),\"\")","v":""},{"$f":"IF(A222=\"\",\"\",IF('Backend Calcs Standard'!$A$12=1,'Backend Calcs Standard'!Z223,'Backend Calcs Standard'!O223))","v":""}]
[{"$f":"IFERROR(IF(B223=\"\",\"\",'Backend Calcs Standard'!P224),\"\")","v":""},{"$f":"IFERROR(IF(C223=\"\",\"\",(IF('Backend Calcs Standard'!$A$12=1,'Backend Calcs Standard'!S224,(('Backend Calcs Standard'!S224)*0.0283168)))),\"\")","v":""},{"$f":"IFERROR(IF(D223=\"\",\"\",(IF('Backend Calcs Standard'!$A$12=1,'Backend Calcs Standard'!T224,(('Backend Calcs Standard'!T224)*0.0283168)))),\"\")","v":""},{"$f":"IFERROR(IF(E223=\"\",\"\",(IF('Backend Calcs Standard'!$A$12=1,'Backend Calcs Standard'!U224,(('Backend Calcs Standard'!U224)*0.0283168)))),\"\")","v":""},{"$f":"IFERROR(IF(F223=\"\",\"\",(IF('Backend Calcs Standard'!$A$12=1,'Backend Calcs Standard'!V224,(('Backend Calcs Standard'!V224)*0.0283168)))),\"\")","v":""},{"$f":"IF(I223=\"\",\"\",(IF('Backend Calcs Standard'!$A$12=1,'Backend Calcs Standard'!W224,('Backend Calcs Standard'!W224*0.0283168))))","v":""},"",{"$f":"IF('Backend Calcs Standard'!$A$12=1,'Backend Calcs Standard'!X224,('Backend Calcs Standard'!X224*0.0283168))","v":""},{"$f":"IFERROR(IF(H223=\"\",\"\",(IF('Backend Calcs Standard'!$A$12=1,'Backend Calcs Standard'!Y224,'Backend Calcs Standard'!Y224*0.0283168))),\"\")","v":""},{"$f":"IF(A223=\"\",\"\",IF('Backend Calcs Standard'!$A$12=1,'Backend Calcs Standard'!Z224,'Backend Calcs Standard'!O224))","v":""}]
[{"$f":"IFERROR(IF(B224=\"\",\"\",'Backend Calcs Standard'!P225),\"\")","v":""},{"$f":"IFERROR(IF(C224=\"\",\"\",(IF('Backend Calcs Standard'!$A$12=1,'Backend Calcs Standard'!S225,(('Backend Calcs Standard'!S225)*0.0283168)))),\"\")","v":""},{"$f":"IFERROR(IF(D224=\"\",\"\",(IF('Backend Calcs Standard'!$A$12=1,'Backend Calcs Standard'!T225,(('Backend Calcs Standard'!T225)*0.0283168)))),\"\")","v":""},{"$f":"IFERROR(IF(E224=\"\",\"\",(IF('Backend Calcs Standard'!$A$12=1,'Backend Calcs Standard'!U225,(('Backend Calcs Standard'!U225)*0.0283168)))),\"\")","v":""},{"$f":"IFERROR(IF(F224=\"\",\"\",(IF('Backend Calcs Standard'!$A$12=1,'Backend Calcs Standard'!V225,(('Backend Calcs Standard'!V225)*0.0283168)))),\"\")","v":""},{"$f":"IF(I224=\"\",\"\",(IF('Backend Calcs Standard'!$A$12=1,'Backend Calcs Standard'!W225,('Backend Calcs Standard'!W225*0.0283168))))","v":""},"",{"$f":"IF('Backend Calcs Standard'!$A$12=1,'Backend Calcs Standard'!X225,('Backend Calcs Standard'!X225*0.0283168))","v":""},{"$f":"IFERROR(IF(H224=\"\",\"\",(IF('Backend Calcs Standard'!$A$12=1,'Backend Calcs Standard'!Y225,'Backend Calcs Standard'!Y225*0.0283168))),\"\")","v":""},{"$f":"IF(A224=\"\",\"\",IF('Backend Calcs Standard'!$A$12=1,'Backend Calcs Standard'!Z225,'Backend Calcs Standard'!O225))","v":""}]
[{"$f":"IFERROR(IF(B225=\"\",\"\",'Backend Calcs Standard'!P226),\"\")","v":""},{"$f":"IFERROR(IF(C225=\"\",\"\",(IF('Backend Calcs Standard'!$A$12=1,'Backend Calcs Standard'!S226,(('Backend Calcs Standard'!S226)*0.0283168)))),\"\")","v":""},{"$f":"IFERROR(IF(D225=\"\",\"\",(IF('Backend Calcs Standard'!$A$12=1,'Backend Calcs Standard'!T226,(('Backend Calcs Standard'!T226)*0.0283168)))),\"\")","v":""},{"$f":"IFERROR(IF(E225=\"\",\"\",(IF('Backend Calcs Standard'!$A$12=1,'Backend Calcs Standard'!U226,(('Backend Calcs Standard'!U226)*0.0283168)))),\"\")","v":""},{"$f":"IFERROR(IF(F225=\"\",\"\",(IF('Backend Calcs Standard'!$A$12=1,'Backend Calcs Standard'!V226,(('Backend Calcs Standard'!V226)*0.0283168)))),\"\")","v":""},{"$f":"IF(I225=\"\",\"\",(IF('Backend Calcs Standard'!$A$12=1,'Backend Calcs Standard'!W226,('Backend Calcs Standard'!W226*0.0283168))))","v":""},"",{"$f":"IF('Backend Calcs Standard'!$A$12=1,'Backend Calcs Standard'!X226,('Backend Calcs Standard'!X226*0.0283168))","v":""},{"$f":"IFERROR(IF(H225=\"\",\"\",(IF('Backend Calcs Standard'!$A$12=1,'Backend Calcs Standard'!Y226,'Backend Calcs Standard'!Y226*0.0283168))),\"\")","v":""},{"$f":"IF(A225=\"\",\"\",IF('Backend Calcs Standard'!$A$12=1,'Backend Calcs Standard'!Z226,'Backend Calcs Standard'!O226))","v":""}]
[{"$f":"IFERROR(IF(B226=\"\",\"\",'Backend Calcs Standard'!P227),\"\")","v":""},{"$f":"IFERROR(IF(C226=\"\",\"\",(IF('Backend Calcs Standard'!$A$12=1,'Backend Calcs Standard'!S227,(('Backend Calcs Standard'!S227)*0.0283168)))),\"\")","v":""},{"$f":"IFERROR(IF(D226=\"\",\"\",(IF('Backend Calcs Standard'!$A$12=1,'Backend Calcs Standard'!T227,(('Backend Calcs Standard'!T227)*0.0283168)))),\"\")","v":""},{"$f":"IFERROR(IF(E226=\"\",\"\",(IF('Backend Calcs Standard'!$A$12=1,'Backend Calcs Standard'!U227,(('Backend Calcs Standard'!U227)*0.0283168)))),\"\")","v":""},{"$f":"IFERROR(IF(F226=\"\",\"\",(IF('Backend Calcs Standard'!$A$12=1,'Backend Calcs Standard'!V227,(('Backend Calcs Standard'!V227)*0.0283168)))),\"\")","v":""},{"$f":"IF(I226=\"\",\"\",(IF('Backend Calcs Standard'!$A$12=1,'Backend Calcs Standard'!W227,('Backend Calcs Standard'!W227*0.0283168))))","v":""},"",{"$f":"IF('Backend Calcs Standard'!$A$12=1,'Backend Calcs Standard'!X227,('Backend Calcs Standard'!X227*0.0283168))","v":""},{"$f":"IFERROR(IF(H226=\"\",\"\",(IF('Backend Calcs Standard'!$A$12=1,'Backend Calcs Standard'!Y227,'Backend Calcs Standard'!Y227*0.0283168))),\"\")","v":""},{"$f":"IF(A226=\"\",\"\",IF('Backend Calcs Standard'!$A$12=1,'Backend Calcs Standard'!Z227,'Backend Calcs Standard'!O227))","v":""}]
[{"$f":"IFERROR(IF(B227=\"\",\"\",'Backend Calcs Standard'!P228),\"\")","v":""},{"$f":"IFERROR(IF(C227=\"\",\"\",(IF('Backend Calcs Standard'!$A$12=1,'Backend Calcs Standard'!S228,(('Backend Calcs Standard'!S228)*0.0283168)))),\"\")","v":""},{"$f":"IFERROR(IF(D227=\"\",\"\",(IF('Backend Calcs Standard'!$A$12=1,'Backend Calcs Standard'!T228,(('Backend Calcs Standard'!T228)*0.0283168)))),\"\")","v":""},{"$f":"IFERROR(IF(E227=\"\",\"\",(IF('Backend Calcs Standard'!$A$12=1,'Backend Calcs Standard'!U228,(('Backend Calcs Standard'!U228)*0.0283168)))),\"\")","v":""},{"$f":"IFERROR(IF(F227=\"\",\"\",(IF('Backend Calcs Standard'!$A$12=1,'Backend Calcs Standard'!V228,(('Backend Calcs Standard'!V228)*0.0283168)))),\"\")","v":""},{"$f":"IF(I227=\"\",\"\",(IF('Backend Calcs Standard'!$A$12=1,'Backend Calcs Standard'!W228,('Backend Calcs Standard'!W228*0.0283168))))","v":""},"",{"$f":"IF('Backend Calcs Standard'!$A$12=1,'Backend Calcs Standard'!X228,('Backend Calcs Standard'!X228*0.0283168))","v":""},{"$f":"IFERROR(IF(H227=\"\",\"\",(IF('Backend Calcs Standard'!$A$12=1,'Backend Calcs Standard'!Y228,'Backend Calcs Standard'!Y228*0.0283168))),\"\")","v":""},{"$f":"IF(A227=\"\",\"\",IF('Backend Calcs Standard'!$A$12=1,'Backend Calcs Standard'!Z228,'Backend Calcs Standard'!O228))","v":""}]
[{"$f":"IFERROR(IF(B228=\"\",\"\",'Backend Calcs Standard'!P229),\"\")","v":""},{"$f":"IFERROR(IF(C228=\"\",\"\",(IF('Backend Calcs Standard'!$A$12=1,'Backend Calcs Standard'!S229,(('Backend Calcs Standard'!S229)*0.0283168)))),\"\")","v":""},{"$f":"IFERROR(IF(D228=\"\",\"\",(IF('Backend Calcs Standard'!$A$12=1,'Backend Calcs Standard'!T229,(('Backend Calcs Standard'!T229)*0.0283168)))),\"\")","v":""},{"$f":"IFERROR(IF(E228=\"\",\"\",(IF('Backend Calcs Standard'!$A$12=1,'Backend Calcs Standard'!U229,(('Backend Calcs Standard'!U229)*0.0283168)))),\"\")","v":""},{"$f":"IFERROR(IF(F228=\"\",\"\",(IF('Backend Calcs Standard'!$A$12=1,'Backend Calcs Standard'!V229,(('Backend Calcs Standard'!V229)*0.0283168)))),\"\")","v":""},{"$f":"IF(I228=\"\",\"\",(IF('Backend Calcs Standard'!$A$12=1,'Backend Calcs Standard'!W229,('Backend Calcs Standard'!W229*0.0283168))))","v":""},"",{"$f":"IF('Backend Calcs Standard'!$A$12=1,'Backend Calcs Standard'!X229,('Backend Calcs Standard'!X229*0.0283168))","v":""},{"$f":"IFERROR(IF(H228=\"\",\"\",(IF('Backend Calcs Standard'!$A$12=1,'Backend Calcs Standard'!Y229,'Backend Calcs Standard'!Y229*0.0283168))),\"\")","v":""},{"$f":"IF(A228=\"\",\"\",IF('Backend Calcs Standard'!$A$12=1,'Backend Calcs Standard'!Z229,'Backend Calcs Standard'!O229))","v":""}]
[{"$f":"IFERROR(IF(B229=\"\",\"\",'Backend Calcs Standard'!P230),\"\")","v":""},{"$f":"IFERROR(IF(C229=\"\",\"\",(IF('Backend Calcs Standard'!$A$12=1,'Backend Calcs Standard'!S230,(('Backend Calcs Standard'!S230)*0.0283168)))),\"\")","v":""},{"$f":"IFERROR(IF(D229=\"\",\"\",(IF('Backend Calcs Standard'!$A$12=1,'Backend Calcs Standard'!T230,(('Backend Calcs Standard'!T230)*0.0283168)))),\"\")","v":""},{"$f":"IFERROR(IF(E229=\"\",\"\",(IF('Backend Calcs Standard'!$A$12=1,'Backend Calcs Standard'!U230,(('Backend Calcs Standard'!U230)*0.0283168)))),\"\")","v":""},{"$f":"IFERROR(IF(F229=\"\",\"\",(IF('Backend Calcs Standard'!$A$12=1,'Backend Calcs Standard'!V230,(('Backend Calcs Standard'!V230)*0.0283168)))),\"\")","v":""},{"$f":"IF(I229=\"\",\"\",(IF('Backend Calcs Standard'!$A$12=1,'Backend Calcs Standard'!W230,('Backend Calcs Standard'!W230*0.0283168))))","v":""},"",{"$f":"IF('Backend Calcs Standard'!$A$12=1,'Backend Calcs Standard'!X230,('Backend Calcs Standard'!X230*0.0283168))","v":""},{"$f":"IFERROR(IF(H229=\"\",\"\",(IF('Backend Calcs Standard'!$A$12=1,'Backend Calcs Standard'!Y230,'Backend Calcs Standard'!Y230*0.0283168))),\"\")","v":""},{"$f":"IF(A229=\"\",\"\",IF('Backend Calcs Standard'!$A$12=1,'Backend Calcs Standard'!Z230,'Backend Calcs Standard'!O230))","v":""}]
[{"$f":"IFERROR(IF(B230=\"\",\"\",'Backend Calcs Standard'!P231),\"\")","v":""},{"$f":"IFERROR(IF(C230=\"\",\"\",(IF('Backend Calcs Standard'!$A$12=1,'Backend Calcs Standard'!S231,(('Backend Calcs Standard'!S231)*0.0283168)))),\"\")","v":""},{"$f":"IFERROR(IF(D230=\"\",\"\",(IF('Backend Calcs Standard'!$A$12=1,'Backend Calcs Standard'!T231,(('Backend Calcs Standard'!T231)*0.0283168)))),\"\")","v":""},{"$f":"IFERROR(IF(E230=\"\",\"\",(IF('Backend Calcs Standard'!$A$12=1,'Backend Calcs Standard'!U231,(('Backend Calcs Standard'!U231)*0.0283168)))),\"\")","v":""},{"$f":"IFERROR(IF(F230=\"\",\"\",(IF('Backend Calcs Standard'!$A$12=1,'Backend Calcs Standard'!V231,(('Backend Calcs Standard'!V231)*0.0283168)))),\"\")","v":""},{"$f":"IF(I230=\"\",\"\",(IF('Backend Calcs Standard'!$A$12=1,'Backend Calcs Standard'!W231,('Backend Calcs Standard'!W231*0.0283168))))","v":""},"",{"$f":"IF('Backend Calcs Standard'!$A$12=1,'Backend Calcs Standard'!X231,('Backend Calcs Standard'!X231*0.0283168))","v":""},{"$f":"IFERROR(IF(H230=\"\",\"\",(IF('Backend Calcs Standard'!$A$12=1,'Backend Calcs Standard'!Y231,'Backend Calcs Standard'!Y231*0.0283168))),\"\")","v":""},{"$f":"IF(A230=\"\",\"\",IF('Backend Calcs Standard'!$A$12=1,'Backend Calcs Standard'!Z231,'Backend Calcs Standard'!O231))","v":""}]
[{"$f":"IFERROR(IF(B231=\"\",\"\",'Backend Calcs Standard'!P232),\"\")","v":""},{"$f":"IFERROR(IF(C231=\"\",\"\",(IF('Backend Calcs Standard'!$A$12=1,'Backend Calcs Standard'!S232,(('Backend Calcs Standard'!S232)*0.0283168)))),\"\")","v":""},{"$f":"IFERROR(IF(D231=\"\",\"\",(IF('Backend Calcs Standard'!$A$12=1,'Backend Calcs Standard'!T232,(('Backend Calcs Standard'!T232)*0.0283168)))),\"\")","v":""},{"$f":"IFERROR(IF(E231=\"\",\"\",(IF('Backend Calcs Standard'!$A$12=1,'Backend Calcs Standard'!U232,(('Backend Calcs Standard'!U232)*0.0283168)))),\"\")","v":""},{"$f":"IFERROR(IF(F231=\"\",\"\",(IF('Backend Calcs Standard'!$A$12=1,'Backend Calcs Standard'!V232,(('Backend Calcs Standard'!V232)*0.0283168)))),\"\")","v":""},{"$f":"IF(I231=\"\",\"\",(IF('Backend Calcs Standard'!$A$12=1,'Backend Calcs Standard'!W232,('Backend Calcs Standard'!W232*0.0283168))))","v":""},"",{"$f":"IF('Backend Calcs Standard'!$A$12=1,'Backend Calcs Standard'!X232,('Backend Calcs Standard'!X232*0.0283168))","v":""},{"$f":"IFERROR(IF(H231=\"\",\"\",(IF('Backend Calcs Standard'!$A$12=1,'Backend Calcs Standard'!Y232,'Backend Calcs Standard'!Y232*0.0283168))),\"\")","v":""},{"$f":"IF(A231=\"\",\"\",IF('Backend Calcs Standard'!$A$12=1,'Backend Calcs Standard'!Z232,'Backend Calcs Standard'!O232))","v":""}]
[{"$f":"IFERROR(IF(B232=\"\",\"\",'Backend Calcs Standard'!P233),\"\")","v":""},{"$f":"IFERROR(IF(C232=\"\",\"\",(IF('Backend Calcs Standard'!$A$12=1,'Backend Calcs Standard'!S233,(('Backend Calcs Standard'!S233)*0.0283168)))),\"\")","v":""},{"$f":"IFERROR(IF(D232=\"\",\"\",(IF('Backend Calcs Standard'!$A$12=1,'Backend Calcs Standard'!T233,(('Backend Calcs Standard'!T233)*0.0283168)))),\"\")","v":""},{"$f":"IFERROR(IF(E232=\"\",\"\",(IF('Backend Calcs Standard'!$A$12=1,'Backend Calcs Standard'!U233,(('Backend Calcs Standard'!U233)*0.0283168)))),\"\")","v":""},{"$f":"IFERROR(IF(F232=\"\",\"\",(IF('Backend Calcs Standard'!$A$12=1,'Backend Calcs Standard'!V233,(('Backend Calcs Standard'!V233)*0.0283168)))),\"\")","v":""},{"$f":"IF(I232=\"\",\"\",(IF('Backend Calcs Standard'!$A$12=1,'Backend Calcs Standard'!W233,('Backend Calcs Standard'!W233*0.0283168))))","v":""},"",{"$f":"IF('Backend Calcs Standard'!$A$12=1,'Backend Calcs Standard'!X233,('Backend Calcs Standard'!X233*0.0283168))","v":""},{"$f":"IFERROR(IF(H232=\"\",\"\",(IF('Backend Calcs Standard'!$A$12=1,'Backend Calcs Standard'!Y233,'Backend Calcs Standard'!Y233*0.0283168))),\"\")","v":""},{"$f":"IF(A232=\"\",\"\",IF('Backend Calcs Standard'!$A$12=1,'Backend Calcs Standard'!Z233,'Backend Calcs Standard'!O233))","v":""}]
[{"$f":"IFERROR(IF(B233=\"\",\"\",'Backend Calcs Standard'!P234),\"\")","v":""},{"$f":"IFERROR(IF(C233=\"\",\"\",(IF('Backend Calcs Standard'!$A$12=1,'Backend Calcs Standard'!S234,(('Backend Calcs Standard'!S234)*0.0283168)))),\"\")","v":""},{"$f":"IFERROR(IF(D233=\"\",\"\",(IF('Backend Calcs Standard'!$A$12=1,'Backend Calcs Standard'!T234,(('Backend Calcs Standard'!T234)*0.0283168)))),\"\")","v":""},{"$f":"IFERROR(IF(E233=\"\",\"\",(IF('Backend Calcs Standard'!$A$12=1,'Backend Calcs Standard'!U234,(('Backend Calcs Standard'!U234)*0.0283168)))),\"\")","v":""},{"$f":"IFERROR(IF(F233=\"\",\"\",(IF('Backend Calcs Standard'!$A$12=1,'Backend Calcs Standard'!V234,(('Backend Calcs Standard'!V234)*0.0283168)))),\"\")","v":""},{"$f":"IF(I233=\"\",\"\",(IF('Backend Calcs Standard'!$A$12=1,'Backend Calcs Standard'!W234,('Backend Calcs Standard'!W234*0.0283168))))","v":""},"",{"$f":"IF('Backend Calcs Standard'!$A$12=1,'Backend Calcs Standard'!X234,('Backend Calcs Standard'!X234*0.0283168))","v":""},{"$f":"IFERROR(IF(H233=\"\",\"\",(IF('Backend Calcs Standard'!$A$12=1,'Backend Calcs Standard'!Y234,'Backend Calcs Standard'!Y234*0.0283168))),\"\")","v":""},{"$f":"IF(A233=\"\",\"\",IF('Backend Calcs Standard'!$A$12=1,'Backend Calcs Standard'!Z234,'Backend Calcs Standard'!O234))","v":""}]
[{"$f":"IFERROR(IF(B234=\"\",\"\",'Backend Calcs Standard'!P235),\"\")","v":""},{"$f":"IFERROR(IF(C234=\"\",\"\",(IF('Backend Calcs Standard'!$A$12=1,'Backend Calcs Standard'!S235,(('Backend Calcs Standard'!S235)*0.0283168)))),\"\")","v":""},{"$f":"IFERROR(IF(D234=\"\",\"\",(IF('Backend Calcs Standard'!$A$12=1,'Backend Calcs Standard'!T235,(('Backend Calcs Standard'!T235)*0.0283168)))),\"\")","v":""},{"$f":"IFERROR(IF(E234=\"\",\"\",(IF('Backend Calcs Standard'!$A$12=1,'Backend Calcs Standard'!U235,(('Backend Calcs Standard'!U235)*0.0283168)))),\"\")","v":""},{"$f":"IFERROR(IF(F234=\"\",\"\",(IF('Backend Calcs Standard'!$A$12=1,'Backend Calcs Standard'!V235,(('Backend Calcs Standard'!V235)*0.0283168)))),\"\")","v":""},{"$f":"IF(I234=\"\",\"\",(IF('Backend Calcs Standard'!$A$12=1,'Backend Calcs Standard'!W235,('Backend Calcs Standard'!W235*0.0283168))))","v":""},"",{"$f":"IF('Backend Calcs Standard'!$A$12=1,'Backend Calcs Standard'!X235,('Backend Calcs Standard'!X235*0.0283168))","v":""},{"$f":"IFERROR(IF(H234=\"\",\"\",(IF('Backend Calcs Standard'!$A$12=1,'Backend Calcs Standard'!Y235,'Backend Calcs Standard'!Y235*0.0283168))),\"\")","v":""},{"$f":"IF(A234=\"\",\"\",IF('Backend Calcs Standard'!$A$12=1,'Backend Calcs Standard'!Z235,'Backend Calcs Standard'!O235))","v":""}]
[{"$f":"IFERROR(IF(B235=\"\",\"\",'Backend Calcs Standard'!P236),\"\")","v":""},{"$f":"IFERROR(IF(C235=\"\",\"\",(IF('Backend Calcs Standard'!$A$12=1,'Backend Calcs Standard'!S236,(('Backend Calcs Standard'!S236)*0.0283168)))),\"\")","v":""},{"$f":"IFERROR(IF(D235=\"\",\"\",(IF('Backend Calcs Standard'!$A$12=1,'Backend Calcs Standard'!T236,(('Backend Calcs Standard'!T236)*0.0283168)))),\"\")","v":""},{"$f":"IFERROR(IF(E235=\"\",\"\",(IF('Backend Calcs Standard'!$A$12=1,'Backend Calcs Standard'!U236,(('Backend Calcs Standard'!U236)*0.0283168)))),\"\")","v":""},{"$f":"IFERROR(IF(F235=\"\",\"\",(IF('Backend Calcs Standard'!$A$12=1,'Backend Calcs Standard'!V236,(('Backend Calcs Standard'!V236)*0.0283168)))),\"\")","v":""},{"$f":"IF(I235=\"\",\"\",(IF('Backend Calcs Standard'!$A$12=1,'Backend Calcs Standard'!W236,('Backend Calcs Standard'!W236*0.0283168))))","v":""},"",{"$f":"IF('Backend Calcs Standard'!$A$12=1,'Backend Calcs Standard'!X236,('Backend Calcs Standard'!X236*0.0283168))","v":""},{"$f":"IFERROR(IF(H235=\"\",\"\",(IF('Backend Calcs Standard'!$A$12=1,'Backend Calcs Standard'!Y236,'Backend Calcs Standard'!Y236*0.0283168))),\"\")","v":""},{"$f":"IF(A235=\"\",\"\",IF('Backend Calcs Standard'!$A$12=1,'Backend Calcs Standard'!Z236,'Backend Calcs Standard'!O236))","v":""}]
[{"$f":"IFERROR(IF(B236=\"\",\"\",'Backend Calcs Standard'!P237),\"\")","v":""},{"$f":"IFERROR(IF(C236=\"\",\"\",(IF('Backend Calcs Standard'!$A$12=1,'Backend Calcs Standard'!S237,(('Backend Calcs Standard'!S237)*0.0283168)))),\"\")","v":""},{"$f":"IFERROR(IF(D236=\"\",\"\",(IF('Backend Calcs Standard'!$A$12=1,'Backend Calcs Standard'!T237,(('Backend Calcs Standard'!T237)*0.0283168)))),\"\")","v":""},{"$f":"IFERROR(IF(E236=\"\",\"\",(IF('Backend Calcs Standard'!$A$12=1,'Backend Calcs Standard'!U237,(('Backend Calcs Standard'!U237)*0.0283168)))),\"\")","v":""},{"$f":"IFERROR(IF(F236=\"\",\"\",(IF('Backend Calcs Standard'!$A$12=1,'Backend Calcs Standard'!V237,(('Backend Calcs Standard'!V237)*0.0283168)))),\"\")","v":""},{"$f":"IF(I236=\"\",\"\",(IF('Backend Calcs Standard'!$A$12=1,'Backend Calcs Standard'!W237,('Backend Calcs Standard'!W237*0.0283168))))","v":""},"",{"$f":"IF('Backend Calcs Standard'!$A$12=1,'Backend Calcs Standard'!X237,('Backend Calcs Standard'!X237*0.0283168))","v":""},{"$f":"IFERROR(IF(H236=\"\",\"\",(IF('Backend Calcs Standard'!$A$12=1,'Backend Calcs Standard'!Y237,'Backend Calcs Standard'!Y237*0.0283168))),\"\")","v":""},{"$f":"IF(A236=\"\",\"\",IF('Backend Calcs Standard'!$A$12=1,'Backend Calcs Standard'!Z237,'Backend Calcs Standard'!O237))","v":""}]
[{"$f":"IFERROR(IF(B237=\"\",\"\",'Backend Calcs Standard'!P238),\"\")","v":""},{"$f":"IFERROR(IF(C237=\"\",\"\",(IF('Backend Calcs Standard'!$A$12=1,'Backend Calcs Standard'!S238,(('Backend Calcs Standard'!S238)*0.0283168)))),\"\")","v":""},{"$f":"IFERROR(IF(D237=\"\",\"\",(IF('Backend Calcs Standard'!$A$12=1,'Backend Calcs Standard'!T238,(('Backend Calcs Standard'!T238)*0.0283168)))),\"\")","v":""},{"$f":"IFERROR(IF(E237=\"\",\"\",(IF('Backend Calcs Standard'!$A$12=1,'Backend Calcs Standard'!U238,(('Backend Calcs Standard'!U238)*0.0283168)))),\"\")","v":""},{"$f":"IFERROR(IF(F237=\"\",\"\",(IF('Backend Calcs Standard'!$A$12=1,'Backend Calcs Standard'!V238,(('Backend Calcs Standard'!V238)*0.0283168)))),\"\")","v":""},{"$f":"IF(I237=\"\",\"\",(IF('Backend Calcs Standard'!$A$12=1,'Backend Calcs Standard'!W238,('Backend Calcs Standard'!W238*0.0283168))))","v":""},"",{"$f":"IF('Backend Calcs Standard'!$A$12=1,'Backend Calcs Standard'!X238,('Backend Calcs Standard'!X238*0.0283168))","v":""},{"$f":"IFERROR(IF(H237=\"\",\"\",(IF('Backend Calcs Standard'!$A$12=1,'Backend Calcs Standard'!Y238,'Backend Calcs Standard'!Y238*0.0283168))),\"\")","v":""},{"$f":"IF(A237=\"\",\"\",IF('Backend Calcs Standard'!$A$12=1,'Backend Calcs Standard'!Z238,'Backend Calcs Standard'!O238))","v":""}]
[{"$f":"IFERROR(IF(B238=\"\",\"\",'Backend Calcs Standard'!P239),\"\")","v":""},{"$f":"IFERROR(IF(C238=\"\",\"\",(IF('Backend Calcs Standard'!$A$12=1,'Backend Calcs Standard'!S239,(('Backend Calcs Standard'!S239)*0.0283168)))),\"\")","v":""},{"$f":"IFERROR(IF(D238=\"\",\"\",(IF('Backend Calcs Standard'!$A$12=1,'Backend Calcs Standard'!T239,(('Backend Calcs Standard'!T239)*0.0283168)))),\"\")","v":""},{"$f":"IFERROR(IF(E238=\"\",\"\",(IF('Backend Calcs Standard'!$A$12=1,'Backend Calcs Standard'!U239,(('Backend Calcs Standard'!U239)*0.0283168)))),\"\")","v":""},{"$f":"IFERROR(IF(F238=\"\",\"\",(IF('Backend Calcs Standard'!$A$12=1,'Backend Calcs Standard'!V239,(('Backend Calcs Standard'!V239)*0.0283168)))),\"\")","v":""},{"$f":"IF(I238=\"\",\"\",(IF('Backend Calcs Standard'!$A$12=1,'Backend Calcs Standard'!W239,('Backend Calcs Standard'!W239*0.0283168))))","v":""},"",{"$f":"IF('Backend Calcs Standard'!$A$12=1,'Backend Calcs Standard'!X239,('Backend Calcs Standard'!X239*0.0283168))","v":""},{"$f":"IFERROR(IF(H238=\"\",\"\",(IF('Backend Calcs Standard'!$A$12=1,'Backend Calcs Standard'!Y239,'Backend Calcs Standard'!Y239*0.0283168))),\"\")","v":""},{"$f":"IF(A238=\"\",\"\",IF('Backend Calcs Standard'!$A$12=1,'Backend Calcs Standard'!Z239,'Backend Calcs Standard'!O239))","v":""}]
[{"$f":"IFERROR(IF(B239=\"\",\"\",'Backend Calcs Standard'!P240),\"\")","v":""},{"$f":"IFERROR(IF(C239=\"\",\"\",(IF('Backend Calcs Standard'!$A$12=1,'Backend Calcs Standard'!S240,(('Backend Calcs Standard'!S240)*0.0283168)))),\"\")","v":""},{"$f":"IFERROR(IF(D239=\"\",\"\",(IF('Backend Calcs Standard'!$A$12=1,'Backend Calcs Standard'!T240,(('Backend Calcs Standard'!T240)*0.0283168)))),\"\")","v":""},{"$f":"IFERROR(IF(E239=\"\",\"\",(IF('Backend Calcs Standard'!$A$12=1,'Backend Calcs Standard'!U240,(('Backend Calcs Standard'!U240)*0.0283168)))),\"\")","v":""},{"$f":"IFERROR(IF(F239=\"\",\"\",(IF('Backend Calcs Standard'!$A$12=1,'Backend Calcs Standard'!V240,(('Backend Calcs Standard'!V240)*0.0283168)))),\"\")","v":""},{"$f":"IF(I239=\"\",\"\",(IF('Backend Calcs Standard'!$A$12=1,'Backend Calcs Standard'!W240,('Backend Calcs Standard'!W240*0.0283168))))","v":""},"",{"$f":"IF('Backend Calcs Standard'!$A$12=1,'Backend Calcs Standard'!X240,('Backend Calcs Standard'!X240*0.0283168))","v":""},{"$f":"IFERROR(IF(H239=\"\",\"\",(IF('Backend Calcs Standard'!$A$12=1,'Backend Calcs Standard'!Y240,'Backend Calcs Standard'!Y240*0.0283168))),\"\")","v":""},{"$f":"IF(A239=\"\",\"\",IF('Backend Calcs Standard'!$A$12=1,'Backend Calcs Standard'!Z240,'Backend Calcs Standard'!O240))","v":""}]
[{"$f":"IFERROR(IF(B240=\"\",\"\",'Backend Calcs Standard'!P241),\"\")","v":""},{"$f":"IFERROR(IF(C240=\"\",\"\",(IF('Backend Calcs Standard'!$A$12=1,'Backend Calcs Standard'!S241,(('Backend Calcs Standard'!S241)*0.0283168)))),\"\")","v":""},{"$f":"IFERROR(IF(D240=\"\",\"\",(IF('Backend Calcs Standard'!$A$12=1,'Backend Calcs Standard'!T241,(('Backend Calcs Standard'!T241)*0.0283168)))),\"\")","v":""},{"$f":"IFERROR(IF(E240=\"\",\"\",(IF('Backend Calcs Standard'!$A$12=1,'Backend Calcs Standard'!U241,(('Backend Calcs Standard'!U241)*0.0283168)))),\"\")","v":""},{"$f":"IFERROR(IF(F240=\"\",\"\",(IF('Backend Calcs Standard'!$A$12=1,'Backend Calcs Standard'!V241,(('Backend Calcs Standard'!V241)*0.0283168)))),\"\")","v":""},{"$f":"IF(I240=\"\",\"\",(IF('Backend Calcs Standard'!$A$12=1,'Backend Calcs Standard'!W241,('Backend Calcs Standard'!W241*0.0283168))))","v":""},"",{"$f":"IF('Backend Calcs Standard'!$A$12=1,'Backend Calcs Standard'!X241,('Backend Calcs Standard'!X241*0.0283168))","v":""},{"$f":"IFERROR(IF(H240=\"\",\"\",(IF('Backend Calcs Standard'!$A$12=1,'Backend Calcs Standard'!Y241,'Backend Calcs Standard'!Y241*0.0283168))),\"\")","v":""},{"$f":"IF(A240=\"\",\"\",IF('Backend Calcs Standard'!$A$12=1,'Backend Calcs Standard'!Z241,'Backend Calcs Standard'!O241))","v":""}]
[{"$f":"IFERROR(IF(B241=\"\",\"\",'Backend Calcs Standard'!P242),\"\")","v":""},{"$f":"IFERROR(IF(C241=\"\",\"\",(IF('Backend Calcs Standard'!$A$12=1,'Backend Calcs Standard'!S242,(('Backend Calcs Standard'!S242)*0.0283168)))),\"\")","v":""},{"$f":"IFERROR(IF(D241=\"\",\"\",(IF('Backend Calcs Standard'!$A$12=1,'Backend Calcs Standard'!T242,(('Backend Calcs Standard'!T242)*0.0283168)))),\"\")","v":""},{"$f":"IFERROR(IF(E241=\"\",\"\",(IF('Backend Calcs Standard'!$A$12=1,'Backend Calcs Standard'!U242,(('Backend Calcs Standard'!U242)*0.0283168)))),\"\")","v":""},{"$f":"IFERROR(IF(F241=\"\",\"\",(IF('Backend Calcs Standard'!$A$12=1,'Backend Calcs Standard'!V242,(('Backend Calcs Standard'!V242)*0.0283168)))),\"\")","v":""},{"$f":"IF(I241=\"\",\"\",(IF('Backend Calcs Standard'!$A$12=1,'Backend Calcs Standard'!W242,('Backend Calcs Standard'!W242*0.0283168))))","v":""},"",{"$f":"IF('Backend Calcs Standard'!$A$12=1,'Backend Calcs Standard'!X242,('Backend Calcs Standard'!X242*0.0283168))","v":""},{"$f":"IFERROR(IF(H241=\"\",\"\",(IF('Backend Calcs Standard'!$A$12=1,'Backend Calcs Standard'!Y242,'Backend Calcs Standard'!Y242*0.0283168))),\"\")","v":""},{"$f":"IF(A241=\"\",\"\",IF('Backend Calcs Standard'!$A$12=1,'Backend Calcs Standard'!Z242,'Backend Calcs Standard'!O242))","v":""}]
[{"$f":"IFERROR(IF(B242=\"\",\"\",'Backend Calcs Standard'!P243),\"\")","v":""},{"$f":"IFERROR(IF(C242=\"\",\"\",(IF('Backend Calcs Standard'!$A$12=1,'Backend Calcs Standard'!S243,(('Backend Calcs Standard'!S243)*0.0283168)))),\"\")","v":""},{"$f":"IFERROR(IF(D242=\"\",\"\",(IF('Backend Calcs Standard'!$A$12=1,'Backend Calcs Standard'!T243,(('Backend Calcs Standard'!T243)*0.0283168)))),\"\")","v":""},{"$f":"IFERROR(IF(E242=\"\",\"\",(IF('Backend Calcs Standard'!$A$12=1,'Backend Calcs Standard'!U243,(('Backend Calcs Standard'!U243)*0.0283168)))),\"\")","v":""},{"$f":"IFERROR(IF(F242=\"\",\"\",(IF('Backend Calcs Standard'!$A$12=1,'Backend Calcs Standard'!V243,(('Backend Calcs Standard'!V243)*0.0283168)))),\"\")","v":""},{"$f":"IF(I242=\"\",\"\",(IF('Backend Calcs Standard'!$A$12=1,'Backend Calcs Standard'!W243,('Backend Calcs Standard'!W243*0.0283168))))","v":""},"",{"$f":"IF('Backend Calcs Standard'!$A$12=1,'Backend Calcs Standard'!X243,('Backend Calcs Standard'!X243*0.0283168))","v":""},{"$f":"IFERROR(IF(H242=\"\",\"\",(IF('Backend Calcs Standard'!$A$12=1,'Backend Calcs Standard'!Y243,'Backend Calcs Standard'!Y243*0.0283168))),\"\")","v":""},{"$f":"IF(A242=\"\",\"\",IF('Backend Calcs Standard'!$A$12=1,'Backend Calcs Standard'!Z243,'Backend Calcs Standard'!O243))","v":""}]
[{"$f":"IFERROR(IF(B243=\"\",\"\",'Backend Calcs Standard'!P244),\"\")","v":""},{"$f":"IFERROR(IF(C243=\"\",\"\",(IF('Backend Calcs Standard'!$A$12=1,'Backend Calcs Standard'!S244,(('Backend Calcs Standard'!S244)*0.0283168)))),\"\")","v":""},{"$f":"IFERROR(IF(D243=\"\",\"\",(IF('Backend Calcs Standard'!$A$12=1,'Backend Calcs Standard'!T244,(('Backend Calcs Standard'!T244)*0.0283168)))),\"\")","v":""},{"$f":"IFERROR(IF(E243=\"\",\"\",(IF('Backend Calcs Standard'!$A$12=1,'Backend Calcs Standard'!U244,(('Backend Calcs Standard'!U244)*0.0283168)))),\"\")","v":""},{"$f":"IFERROR(IF(F243=\"\",\"\",(IF('Backend Calcs Standard'!$A$12=1,'Backend Calcs Standard'!V244,(('Backend Calcs Standard'!V244)*0.0283168)))),\"\")","v":""},{"$f":"IF(I243=\"\",\"\",(IF('Backend Calcs Standard'!$A$12=1,'Backend Calcs Standard'!W244,('Backend Calcs Standard'!W244*0.0283168))))","v":""},"",{"$f":"IF('Backend Calcs Standard'!$A$12=1,'Backend Calcs Standard'!X244,('Backend Calcs Standard'!X244*0.0283168))","v":""},{"$f":"IFERROR(IF(H243=\"\",\"\",(IF('Backend Calcs Standard'!$A$12=1,'Backend Calcs Standard'!Y244,'Backend Calcs Standard'!Y244*0.0283168))),\"\")","v":""},{"$f":"IF(A243=\"\",\"\",IF('Backend Calcs Standard'!$A$12=1,'Backend Calcs Standard'!Z244,'Backend Calcs Standard'!O244))","v":""}]
[{"$f":"IFERROR(IF(B244=\"\",\"\",'Backend Calcs Standard'!P245),\"\")","v":""},{"$f":"IFERROR(IF(C244=\"\",\"\",(IF('Backend Calcs Standard'!$A$12=1,'Backend Calcs Standard'!S245,(('Backend Calcs Standard'!S245)*0.0283168)))),\"\")","v":""},{"$f":"IFERROR(IF(D244=\"\",\"\",(IF('Backend Calcs Standard'!$A$12=1,'Backend Calcs Standard'!T245,(('Backend Calcs Standard'!T245)*0.0283168)))),\"\")","v":""},{"$f":"IFERROR(IF(E244=\"\",\"\",(IF('Backend Calcs Standard'!$A$12=1,'Backend Calcs Standard'!U245,(('Backend Calcs Standard'!U245)*0.0283168)))),\"\")","v":""},{"$f":"IFERROR(IF(F244=\"\",\"\",(IF('Backend Calcs Standard'!$A$12=1,'Backend Calcs Standard'!V245,(('Backend Calcs Standard'!V245)*0.0283168)))),\"\")","v":""},{"$f":"IF(I244=\"\",\"\",(IF('Backend Calcs Standard'!$A$12=1,'Backend Calcs Standard'!W245,('Backend Calcs Standard'!W245*0.0283168))))","v":""},"",{"$f":"IF('Backend Calcs Standard'!$A$12=1,'Backend Calcs Standard'!X245,('Backend Calcs Standard'!X245*0.0283168))","v":""},{"$f":"IFERROR(IF(H244=\"\",\"\",(IF('Backend Calcs Standard'!$A$12=1,'Backend Calcs Standard'!Y245,'Backend Calcs Standard'!Y245*0.0283168))),\"\")","v":""},{"$f":"IF(A244=\"\",\"\",IF('Backend Calcs Standard'!$A$12=1,'Backend Calcs Standard'!Z245,'Backend Calcs Standard'!O245))","v":""}]
[{"$f":"IFERROR(IF(B245=\"\",\"\",'Backend Calcs Standard'!P246),\"\")","v":""},{"$f":"IFERROR(IF(C245=\"\",\"\",(IF('Backend Calcs Standard'!$A$12=1,'Backend Calcs Standard'!S246,(('Backend Calcs Standard'!S246)*0.0283168)))),\"\")","v":""},{"$f":"IFERROR(IF(D245=\"\",\"\",(IF('Backend Calcs Standard'!$A$12=1,'Backend Calcs Standard'!T246,(('Backend Calcs Standard'!T246)*0.0283168)))),\"\")","v":""},{"$f":"IFERROR(IF(E245=\"\",\"\",(IF('Backend Calcs Standard'!$A$12=1,'Backend Calcs Standard'!U246,(('Backend Calcs Standard'!U246)*0.0283168)))),\"\")","v":""},{"$f":"IFERROR(IF(F245=\"\",\"\",(IF('Backend Calcs Standard'!$A$12=1,'Backend Calcs Standard'!V246,(('Backend Calcs Standard'!V246)*0.0283168)))),\"\")","v":""},{"$f":"IF(I245=\"\",\"\",(IF('Backend Calcs Standard'!$A$12=1,'Backend Calcs Standard'!W246,('Backend Calcs Standard'!W246*0.0283168))))","v":""},"",{"$f":"IF('Backend Calcs Standard'!$A$12=1,'Backend Calcs Standard'!X246,('Backend Calcs Standard'!X246*0.0283168))","v":""},{"$f":"IFERROR(IF(H245=\"\",\"\",(IF('Backend Calcs Standard'!$A$12=1,'Backend Calcs Standard'!Y246,'Backend Calcs Standard'!Y246*0.0283168))),\"\")","v":""},{"$f":"IF(A245=\"\",\"\",IF('Backend Calcs Standard'!$A$12=1,'Backend Calcs Standard'!Z246,'Backend Calcs Standard'!O246))","v":""}]
[{"$f":"IFERROR(IF(B246=\"\",\"\",'Backend Calcs Standard'!P247),\"\")","v":""},{"$f":"IFERROR(IF(C246=\"\",\"\",(IF('Backend Calcs Standard'!$A$12=1,'Backend Calcs Standard'!S247,(('Backend Calcs Standard'!S247)*0.0283168)))),\"\")","v":""},{"$f":"IFERROR(IF(D246=\"\",\"\",(IF('Backend Calcs Standard'!$A$12=1,'Backend Calcs Standard'!T247,(('Backend Calcs Standard'!T247)*0.0283168)))),\"\")","v":""},{"$f":"IFERROR(IF(E246=\"\",\"\",(IF('Backend Calcs Standard'!$A$12=1,'Backend Calcs Standard'!U247,(('Backend Calcs Standard'!U247)*0.0283168)))),\"\")","v":""},{"$f":"IFERROR(IF(F246=\"\",\"\",(IF('Backend Calcs Standard'!$A$12=1,'Backend Calcs Standard'!V247,(('Backend Calcs Standard'!V247)*0.0283168)))),\"\")","v":""},{"$f":"IF(I246=\"\",\"\",(IF('Backend Calcs Standard'!$A$12=1,'Backend Calcs Standard'!W247,('Backend Calcs Standard'!W247*0.0283168))))","v":""},"",{"$f":"IF('Backend Calcs Standard'!$A$12=1,'Backend Calcs Standard'!X247,('Backend Calcs Standard'!X247*0.0283168))","v":""},{"$f":"IFERROR(IF(H246=\"\",\"\",(IF('Backend Calcs Standard'!$A$12=1,'Backend Calcs Standard'!Y247,'Backend Calcs Standard'!Y247*0.0283168))),\"\")","v":""},{"$f":"IF(A246=\"\",\"\",IF('Backend Calcs Standard'!$A$12=1,'Backend Calcs Standard'!Z247,'Backend Calcs Standard'!O247))","v":""}]
[{"$f":"IFERROR(IF(B247=\"\",\"\",'Backend Calcs Standard'!P248),\"\")","v":""},{"$f":"IFERROR(IF(C247=\"\",\"\",(IF('Backend Calcs Standard'!$A$12=1,'Backend Calcs Standard'!S248,(('Backend Calcs Standard'!S248)*0.0283168)))),\"\")","v":""},{"$f":"IFERROR(IF(D247=\"\",\"\",(IF('Backend Calcs Standard'!$A$12=1,'Backend Calcs Standard'!T248,(('Backend Calcs Standard'!T248)*0.0283168)))),\"\")","v":""},{"$f":"IFERROR(IF(E247=\"\",\"\",(IF('Backend Calcs Standard'!$A$12=1,'Backend Calcs Standard'!U248,(('Backend Calcs Standard'!U248)*0.0283168)))),\"\")","v":""},{"$f":"IFERROR(IF(F247=\"\",\"\",(IF('Backend Calcs Standard'!$A$12=1,'Backend Calcs Standard'!V248,(('Backend Calcs Standard'!V248)*0.0283168)))),\"\")","v":""},{"$f":"IF(I247=\"\",\"\",(IF('Backend Calcs Standard'!$A$12=1,'Backend Calcs Standard'!W248,('Backend Calcs Standard'!W248*0.0283168))))","v":""},"",{"$f":"IF('Backend Calcs Standard'!$A$12=1,'Backend Calcs Standard'!X248,('Backend Calcs Standard'!X248*0.0283168))","v":""},{"$f":"IFERROR(IF(H247=\"\",\"\",(IF('Backend Calcs Standard'!$A$12=1,'Backend Calcs Standard'!Y248,'Backend Calcs Standard'!Y248*0.0283168))),\"\")","v":""},{"$f":"IF(A247=\"\",\"\",IF('Backend Calcs Standard'!$A$12=1,'Backend Calcs Standard'!Z248,'Backend Calcs Standard'!O248))","v":""}]
[{"$f":"IFERROR(IF(B248=\"\",\"\",'Backend Calcs Standard'!P249),\"\")","v":""},{"$f":"IFERROR(IF(C248=\"\",\"\",(IF('Backend Calcs Standard'!$A$12=1,'Backend Calcs Standard'!S249,(('Backend Calcs Standard'!S249)*0.0283168)))),\"\")","v":""},{"$f":"IFERROR(IF(D248=\"\",\"\",(IF('Backend Calcs Standard'!$A$12=1,'Backend Calcs Standard'!T249,(('Backend Calcs Standard'!T249)*0.0283168)))),\"\")","v":""},{"$f":"IFERROR(IF(E248=\"\",\"\",(IF('Backend Calcs Standard'!$A$12=1,'Backend Calcs Standard'!U249,(('Backend Calcs Standard'!U249)*0.0283168)))),\"\")","v":""},{"$f":"IFERROR(IF(F248=\"\",\"\",(IF('Backend Calcs Standard'!$A$12=1,'Backend Calcs Standard'!V249,(('Backend Calcs Standard'!V249)*0.0283168)))),\"\")","v":""},{"$f":"IF(I248=\"\",\"\",(IF('Backend Calcs Standard'!$A$12=1,'Backend Calcs Standard'!W249,('Backend Calcs Standard'!W249*0.0283168))))","v":""},"",{"$f":"IF('Backend Calcs Standard'!$A$12=1,'Backend Calcs Standard'!X249,('Backend Calcs Standard'!X249*0.0283168))","v":""},{"$f":"IFERROR(IF(H248=\"\",\"\",(IF('Backend Calcs Standard'!$A$12=1,'Backend Calcs Standard'!Y249,'Backend Calcs Standard'!Y249*0.0283168))),\"\")","v":""},{"$f":"IF(A248=\"\",\"\",IF('Backend Calcs Standard'!$A$12=1,'Backend Calcs Standard'!Z249,'Backend Calcs Standard'!O249))","v":""}]
[{"$f":"IFERROR(IF(B249=\"\",\"\",'Backend Calcs Standard'!P250),\"\")","v":""},{"$f":"IFERROR(IF(C249=\"\",\"\",(IF('Backend Calcs Standard'!$A$12=1,'Backend Calcs Standard'!S250,(('Backend Calcs Standard'!S250)*0.0283168)))),\"\")","v":""},{"$f":"IFERROR(IF(D249=\"\",\"\",(IF('Backend Calcs Standard'!$A$12=1,'Backend Calcs Standard'!T250,(('Backend Calcs Standard'!T250)*0.0283168)))),\"\")","v":""},{"$f":"IFERROR(IF(E249=\"\",\"\",(IF('Backend Calcs Standard'!$A$12=1,'Backend Calcs Standard'!U250,(('Backend Calcs Standard'!U250)*0.0283168)))),\"\")","v":""},{"$f":"IFERROR(IF(F249=\"\",\"\",(IF('Backend Calcs Standard'!$A$12=1,'Backend Calcs Standard'!V250,(('Backend Calcs Standard'!V250)*0.0283168)))),\"\")","v":""},{"$f":"IF(I249=\"\",\"\",(IF('Backend Calcs Standard'!$A$12=1,'Backend Calcs Standard'!W250,('Backend Calcs Standard'!W250*0.0283168))))","v":""},"",{"$f":"IF('Backend Calcs Standard'!$A$12=1,'Backend Calcs Standard'!X250,('Backend Calcs Standard'!X250*0.0283168))","v":""},{"$f":"IFERROR(IF(H249=\"\",\"\",(IF('Backend Calcs Standard'!$A$12=1,'Backend Calcs Standard'!Y250,'Backend Calcs Standard'!Y250*0.0283168))),\"\")","v":""},{"$f":"IF(A249=\"\",\"\",IF('Backend Calcs Standard'!$A$12=1,'Backend Calcs Standard'!Z250,'Backend Calcs Standard'!O250))","v":""}]
[{"$f":"IFERROR(IF(B250=\"\",\"\",'Backend Calcs Standard'!P251),\"\")","v":""},{"$f":"IFERROR(IF(C250=\"\",\"\",(IF('Backend Calcs Standard'!$A$12=1,'Backend Calcs Standard'!S251,(('Backend Calcs Standard'!S251)*0.0283168)))),\"\")","v":""},{"$f":"IFERROR(IF(D250=\"\",\"\",(IF('Backend Calcs Standard'!$A$12=1,'Backend Calcs Standard'!T251,(('Backend Calcs Standard'!T251)*0.0283168)))),\"\")","v":""},{"$f":"IFERROR(IF(E250=\"\",\"\",(IF('Backend Calcs Standard'!$A$12=1,'Backend Calcs Standard'!U251,(('Backend Calcs Standard'!U251)*0.0283168)))),\"\")","v":""},{"$f":"IFERROR(IF(F250=\"\",\"\",(IF('Backend Calcs Standard'!$A$12=1,'Backend Calcs Standard'!V251,(('Backend Calcs Standard'!V251)*0.0283168)))),\"\")","v":""},{"$f":"IF(I250=\"\",\"\",(IF('Backend Calcs Standard'!$A$12=1,'Backend Calcs Standard'!W251,('Backend Calcs Standard'!W251*0.0283168))))","v":""},"",{"$f":"IF('Backend Calcs Standard'!$A$12=1,'Backend Calcs Standard'!X251,('Backend Calcs Standard'!X251*0.0283168))","v":""},{"$f":"IFERROR(IF(H250=\"\",\"\",(IF('Backend Calcs Standard'!$A$12=1,'Backend Calcs Standard'!Y251,'Backend Calcs Standard'!Y251*0.0283168))),\"\")","v":""},{"$f":"IF(A250=\"\",\"\",IF('Backend Calcs Standard'!$A$12=1,'Backend Calcs Standard'!Z251,'Backend Calcs Standard'!O251))","v":""}]
[{"$f":"IFERROR(IF(B251=\"\",\"\",'Backend Calcs Standard'!P252),\"\")","v":""},{"$f":"IFERROR(IF(C251=\"\",\"\",(IF('Backend Calcs Standard'!$A$12=1,'Backend Calcs Standard'!S252,(('Backend Calcs Standard'!S252)*0.0283168)))),\"\")","v":""},{"$f":"IFERROR(IF(D251=\"\",\"\",(IF('Backend Calcs Standard'!$A$12=1,'Backend Calcs Standard'!T252,(('Backend Calcs Standard'!T252)*0.0283168)))),\"\")","v":""},{"$f":"IFERROR(IF(E251=\"\",\"\",(IF('Backend Calcs Standard'!$A$12=1,'Backend Calcs Standard'!U252,(('Backend Calcs Standard'!U252)*0.0283168)))),\"\")","v":""},{"$f":"IFERROR(IF(F251=\"\",\"\",(IF('Backend Calcs Standard'!$A$12=1,'Backend Calcs Standard'!V252,(('Backend Calcs Standard'!V252)*0.0283168)))),\"\")","v":""},{"$f":"IF(I251=\"\",\"\",(IF('Backend Calcs Standard'!$A$12=1,'Backend Calcs Standard'!W252,('Backend Calcs Standard'!W252*0.0283168))))","v":""},"",{"$f":"IF('Backend Calcs Standard'!$A$12=1,'Backend Calcs Standard'!X252,('Backend Calcs Standard'!X252*0.0283168))","v":""},{"$f":"IFERROR(IF(H251=\"\",\"\",(IF('Backend Calcs Standard'!$A$12=1,'Backend Calcs Standard'!Y252,'Backend Calcs Standard'!Y252*0.0283168))),\"\")","v":""},{"$f":"IF(A251=\"\",\"\",IF('Backend Calcs Standard'!$A$12=1,'Backend Calcs Standard'!Z252,'Backend Calcs Standard'!O252))","v":""}]
[{"$f":"IFERROR(IF(B252=\"\",\"\",'Backend Calcs Standard'!P253),\"\")","v":""},{"$f":"IFERROR(IF(C252=\"\",\"\",(IF('Backend Calcs Standard'!$A$12=1,'Backend Calcs Standard'!S253,(('Backend Calcs Standard'!S253)*0.0283168)))),\"\")","v":""},{"$f":"IFERROR(IF(D252=\"\",\"\",(IF('Backend Calcs Standard'!$A$12=1,'Backend Calcs Standard'!T253,(('Backend Calcs Standard'!T253)*0.0283168)))),\"\")","v":""},{"$f":"IFERROR(IF(E252=\"\",\"\",(IF('Backend Calcs Standard'!$A$12=1,'Backend Calcs Standard'!U253,(('Backend Calcs Standard'!U253)*0.0283168)))),\"\")","v":""},{"$f":"IFERROR(IF(F252=\"\",\"\",(IF('Backend Calcs Standard'!$A$12=1,'Backend Calcs Standard'!V253,(('Backend Calcs Standard'!V253)*0.0283168)))),\"\")","v":""},{"$f":"IF(I252=\"\",\"\",(IF('Backend Calcs Standard'!$A$12=1,'Backend Calcs Standard'!W253,('Backend Calcs Standard'!W253*0.0283168))))","v":""},"",{"$f":"IF('Backend Calcs Standard'!$A$12=1,'Backend Calcs Standard'!X253,('Backend Calcs Standard'!X253*0.0283168))","v":""},{"$f":"IFERROR(IF(H252=\"\",\"\",(IF('Backend Calcs Standard'!$A$12=1,'Backend Calcs Standard'!Y253,'Backend Calcs Standard'!Y253*0.0283168))),\"\")","v":""},{"$f":"IF(A252=\"\",\"\",IF('Backend Calcs Standard'!$A$12=1,'Backend Calcs Standard'!Z253,'Backend Calcs Standard'!O253))","v":""}]
[{"$f":"IFERROR(IF(B253=\"\",\"\",'Backend Calcs Standard'!P254),\"\")","v":""},{"$f":"IFERROR(IF(C253=\"\",\"\",(IF('Backend Calcs Standard'!$A$12=1,'Backend Calcs Standard'!S254,(('Backend Calcs Standard'!S254)*0.0283168)))),\"\")","v":""},{"$f":"IFERROR(IF(D253=\"\",\"\",(IF('Backend Calcs Standard'!$A$12=1,'Backend Calcs Standard'!T254,(('Backend Calcs Standard'!T254)*0.0283168)))),\"\")","v":""},{"$f":"IFERROR(IF(E253=\"\",\"\",(IF('Backend Calcs Standard'!$A$12=1,'Backend Calcs Standard'!U254,(('Backend Calcs Standard'!U254)*0.0283168)))),\"\")","v":""},{"$f":"IFERROR(IF(F253=\"\",\"\",(IF('Backend Calcs Standard'!$A$12=1,'Backend Calcs Standard'!V254,(('Backend Calcs Standard'!V254)*0.0283168)))),\"\")","v":""},{"$f":"IF(I253=\"\",\"\",(IF('Backend Calcs Standard'!$A$12=1,'Backend Calcs Standard'!W254,('Backend Calcs Standard'!W254*0.0283168))))","v":""},"",{"$f":"IF('Backend Calcs Standard'!$A$12=1,'Backend Calcs Standard'!X254,('Backend Calcs Standard'!X254*0.0283168))","v":""},{"$f":"IFERROR(IF(H253=\"\",\"\",(IF('Backend Calcs Standard'!$A$12=1,'Backend Calcs Standard'!Y254,'Backend Calcs Standard'!Y254*0.0283168))),\"\")","v":""},{"$f":"IF(A253=\"\",\"\",IF('Backend Calcs Standard'!$A$12=1,'Backend Calcs Standard'!Z254,'Backend Calcs Standard'!O254))","v":""}]
[{"$f":"IFERROR(IF(B254=\"\",\"\",'Backend Calcs Standard'!P255),\"\")","v":""},{"$f":"IFERROR(IF(C254=\"\",\"\",(IF('Backend Calcs Standard'!$A$12=1,'Backend Calcs Standard'!S255,(('Backend Calcs Standard'!S255)*0.0283168)))),\"\")","v":""},{"$f":"IFERROR(IF(D254=\"\",\"\",(IF('Backend Calcs Standard'!$A$12=1,'Backend Calcs Standard'!T255,(('Backend Calcs Standard'!T255)*0.0283168)))),\"\")","v":""},{"$f":"IFERROR(IF(E254=\"\",\"\",(IF('Backend Calcs Standard'!$A$12=1,'Backend Calcs Standard'!U255,(('Backend Calcs Standard'!U255)*0.0283168)))),\"\")","v":""},{"$f":"IFERROR(IF(F254=\"\",\"\",(IF('Backend Calcs Standard'!$A$12=1,'Backend Calcs Standard'!V255,(('Backend Calcs Standard'!V255)*0.0283168)))),\"\")","v":""},{"$f":"IF(I254=\"\",\"\",(IF('Backend Calcs Standard'!$A$12=1,'Backend Calcs Standard'!W255,('Backend Calcs Standard'!W255*0.0283168))))","v":""},"",{"$f":"IF('Backend Calcs Standard'!$A$12=1,'Backend Calcs Standard'!X255,('Backend Calcs Standard'!X255*0.0283168))","v":""},{"$f":"IFERROR(IF(H254=\"\",\"\",(IF('Backend Calcs Standard'!$A$12=1,'Backend Calcs Standard'!Y255,'Backend Calcs Standard'!Y255*0.0283168))),\"\")","v":""},{"$f":"IF(A254=\"\",\"\",IF('Backend Calcs Standard'!$A$12=1,'Backend Calcs Standard'!Z255,'Backend Calcs Standard'!O255))","v":""}]
[{"$f":"IFERROR(IF(B255=\"\",\"\",'Backend Calcs Standard'!P256),\"\")","v":""},{"$f":"IFERROR(IF(C255=\"\",\"\",(IF('Backend Calcs Standard'!$A$12=1,'Backend Calcs Standard'!S256,(('Backend Calcs Standard'!S256)*0.0283168)))),\"\")","v":""},{"$f":"IFERROR(IF(D255=\"\",\"\",(IF('Backend Calcs Standard'!$A$12=1,'Backend Calcs Standard'!T256,(('Backend Calcs Standard'!T256)*0.0283168)))),\"\")","v":""},{"$f":"IFERROR(IF(E255=\"\",\"\",(IF('Backend Calcs Standard'!$A$12=1,'Backend Calcs Standard'!U256,(('Backend Calcs Standard'!U256)*0.0283168)))),\"\")","v":""},{"$f":"IFERROR(IF(F255=\"\",\"\",(IF('Backend Calcs Standard'!$A$12=1,'Backend Calcs Standard'!V256,(('Backend Calcs Standard'!V256)*0.0283168)))),\"\")","v":""},{"$f":"IF(I255=\"\",\"\",(IF('Backend Calcs Standard'!$A$12=1,'Backend Calcs Standard'!W256,('Backend Calcs Standard'!W256*0.0283168))))","v":""},"",{"$f":"IF('Backend Calcs Standard'!$A$12=1,'Backend Calcs Standard'!X256,('Backend Calcs Standard'!X256*0.0283168))","v":""},{"$f":"IFERROR(IF(H255=\"\",\"\",(IF('Backend Calcs Standard'!$A$12=1,'Backend Calcs Standard'!Y256,'Backend Calcs Standard'!Y256*0.0283168))),\"\")","v":""},{"$f":"IF(A255=\"\",\"\",IF('Backend Calcs Standard'!$A$12=1,'Backend Calcs Standard'!Z256,'Backend Calcs Standard'!O256))","v":""}]
[{"$f":"IFERROR(IF(B256=\"\",\"\",'Backend Calcs Standard'!P257),\"\")","v":""},{"$f":"IFERROR(IF(C256=\"\",\"\",(IF('Backend Calcs Standard'!$A$12=1,'Backend Calcs Standard'!S257,(('Backend Calcs Standard'!S257)*0.0283168)))),\"\")","v":""},{"$f":"IFERROR(IF(D256=\"\",\"\",(IF('Backend Calcs Standard'!$A$12=1,'Backend Calcs Standard'!T257,(('Backend Calcs Standard'!T257)*0.0283168)))),\"\")","v":""},{"$f":"IFERROR(IF(E256=\"\",\"\",(IF('Backend Calcs Standard'!$A$12=1,'Backend Calcs Standard'!U257,(('Backend Calcs Standard'!U257)*0.0283168)))),\"\")","v":""},{"$f":"IFERROR(IF(F256=\"\",\"\",(IF('Backend Calcs Standard'!$A$12=1,'Backend Calcs Standard'!V257,(('Backend Calcs Standard'!V257)*0.0283168)))),\"\")","v":""},{"$f":"IF(I256=\"\",\"\",(IF('Backend Calcs Standard'!$A$12=1,'Backend Calcs Standard'!W257,('Backend Calcs Standard'!W257*0.0283168))))","v":""},"",{"$f":"IF('Backend Calcs Standard'!$A$12=1,'Backend Calcs Standard'!X257,('Backend Calcs Standard'!X257*0.0283168))","v":""},{"$f":"IFERROR(IF(H256=\"\",\"\",(IF('Backend Calcs Standard'!$A$12=1,'Backend Calcs Standard'!Y257,'Backend Calcs Standard'!Y257*0.0283168))),\"\")","v":""},{"$f":"IF(A256=\"\",\"\",IF('Backend Calcs Standard'!$A$12=1,'Backend Calcs Standard'!Z257,'Backend Calcs Standard'!O257))","v":""}]
[{"$f":"IFERROR(IF(B257=\"\",\"\",'Backend Calcs Standard'!P258),\"\")","v":""},{"$f":"IFERROR(IF(C257=\"\",\"\",(IF('Backend Calcs Standard'!$A$12=1,'Backend Calcs Standard'!S258,(('Backend Calcs Standard'!S258)*0.0283168)))),\"\")","v":""},{"$f":"IFERROR(IF(D257=\"\",\"\",(IF('Backend Calcs Standard'!$A$12=1,'Backend Calcs Standard'!T258,(('Backend Calcs Standard'!T258)*0.0283168)))),\"\")","v":""},{"$f":"IFERROR(IF(E257=\"\",\"\",(IF('Backend Calcs Standard'!$A$12=1,'Backend Calcs Standard'!U258,(('Backend Calcs Standard'!U258)*0.0283168)))),\"\")","v":""},{"$f":"IFERROR(IF(F257=\"\",\"\",(IF('Backend Calcs Standard'!$A$12=1,'Backend Calcs Standard'!V258,(('Backend Calcs Standard'!V258)*0.0283168)))),\"\")","v":""},{"$f":"IF(I257=\"\",\"\",(IF('Backend Calcs Standard'!$A$12=1,'Backend Calcs Standard'!W258,('Backend Calcs Standard'!W258*0.0283168))))","v":""},"",{"$f":"IF('Backend Calcs Standard'!$A$12=1,'Backend Calcs Standard'!X258,('Backend Calcs Standard'!X258*0.0283168))","v":""},{"$f":"IFERROR(IF(H257=\"\",\"\",(IF('Backend Calcs Standard'!$A$12=1,'Backend Calcs Standard'!Y258,'Backend Calcs Standard'!Y258*0.0283168))),\"\")","v":""},{"$f":"IF(A257=\"\",\"\",IF('Backend Calcs Standard'!$A$12=1,'Backend Calcs Standard'!Z258,'Backend Calcs Standard'!O258))","v":""}]
[{"$f":"IFERROR(IF(B258=\"\",\"\",'Backend Calcs Standard'!P259),\"\")","v":""},{"$f":"IFERROR(IF(C258=\"\",\"\",(IF('Backend Calcs Standard'!$A$12=1,'Backend Calcs Standard'!S259,(('Backend Calcs Standard'!S259)*0.0283168)))),\"\")","v":""},{"$f":"IFERROR(IF(D258=\"\",\"\",(IF('Backend Calcs Standard'!$A$12=1,'Backend Calcs Standard'!T259,(('Backend Calcs Standard'!T259)*0.0283168)))),\"\")","v":""},{"$f":"IFERROR(IF(E258=\"\",\"\",(IF('Backend Calcs Standard'!$A$12=1,'Backend Calcs Standard'!U259,(('Backend Calcs Standard'!U259)*0.0283168)))),\"\")","v":""},{"$f":"IFERROR(IF(F258=\"\",\"\",(IF('Backend Calcs Standard'!$A$12=1,'Backend Calcs Standard'!V259,(('Backend Calcs Standard'!V259)*0.0283168)))),\"\")","v":""},{"$f":"IF(I258=\"\",\"\",(IF('Backend Calcs Standard'!$A$12=1,'Backend Calcs Standard'!W259,('Backend Calcs Standard'!W259*0.0283168))))","v":""},"",{"$f":"IF('Backend Calcs Standard'!$A$12=1,'Backend Calcs Standard'!X259,('Backend Calcs Standard'!X259*0.0283168))","v":""},{"$f":"IFERROR(IF(H258=\"\",\"\",(IF('Backend Calcs Standard'!$A$12=1,'Backend Calcs Standard'!Y259,'Backend Calcs Standard'!Y259*0.0283168))),\"\")","v":""},{"$f":"IF(A258=\"\",\"\",IF('Backend Calcs Standard'!$A$12=1,'Backend Calcs Standard'!Z259,'Backend Calcs Standard'!O259))","v":""}]
[{"$f":"IFERROR(IF(B259=\"\",\"\",'Backend Calcs Standard'!P260),\"\")","v":""},{"$f":"IFERROR(IF(C259=\"\",\"\",(IF('Backend Calcs Standard'!$A$12=1,'Backend Calcs Standard'!S260,(('Backend Calcs Standard'!S260)*0.0283168)))),\"\")","v":""},{"$f":"IFERROR(IF(D259=\"\",\"\",(IF('Backend Calcs Standard'!$A$12=1,'Backend Calcs Standard'!T260,(('Backend Calcs Standard'!T260)*0.0283168)))),\"\")","v":""},{"$f":"IFERROR(IF(E259=\"\",\"\",(IF('Backend Calcs Standard'!$A$12=1,'Backend Calcs Standard'!U260,(('Backend Calcs Standard'!U260)*0.0283168)))),\"\")","v":""},{"$f":"IFERROR(IF(F259=\"\",\"\",(IF('Backend Calcs Standard'!$A$12=1,'Backend Calcs Standard'!V260,(('Backend Calcs Standard'!V260)*0.0283168)))),\"\")","v":""},{"$f":"IF(I259=\"\",\"\",(IF('Backend Calcs Standard'!$A$12=1,'Backend Calcs Standard'!W260,('Backend Calcs Standard'!W260*0.0283168))))","v":""},"",{"$f":"IF('Backend Calcs Standard'!$A$12=1,'Backend Calcs Standard'!X260,('Backend Calcs Standard'!X260*0.0283168))","v":""},{"$f":"IFERROR(IF(H259=\"\",\"\",(IF('Backend Calcs Standard'!$A$12=1,'Backend Calcs Standard'!Y260,'Backend Calcs Standard'!Y260*0.0283168))),\"\")","v":""},{"$f":"IF(A259=\"\",\"\",IF('Backend Calcs Standard'!$A$12=1,'Backend Calcs Standard'!Z260,'Backend Calcs Standard'!O260))","v":""}]
[{"$f":"IFERROR(IF(B260=\"\",\"\",'Backend Calcs Standard'!P261),\"\")","v":""},{"$f":"IFERROR(IF(C260=\"\",\"\",(IF('Backend Calcs Standard'!$A$12=1,'Backend Calcs Standard'!S261,(('Backend Calcs Standard'!S261)*0.0283168)))),\"\")","v":""},{"$f":"IFERROR(IF(D260=\"\",\"\",(IF('Backend Calcs Standard'!$A$12=1,'Backend Calcs Standard'!T261,(('Backend Calcs Standard'!T261)*0.0283168)))),\"\")","v":""},{"$f":"IFERROR(IF(E260=\"\",\"\",(IF('Backend Calcs Standard'!$A$12=1,'Backend Calcs Standard'!U261,(('Backend Calcs Standard'!U261)*0.0283168)))),\"\")","v":""},{"$f":"IFERROR(IF(F260=\"\",\"\",(IF('Backend Calcs Standard'!$A$12=1,'Backend Calcs Standard'!V261,(('Backend Calcs Standard'!V261)*0.0283168)))),\"\")","v":""},{"$f":"IF(I260=\"\",\"\",(IF('Backend Calcs Standard'!$A$12=1,'Backend Calcs Standard'!W261,('Backend Calcs Standard'!W261*0.0283168))))","v":""},"",{"$f":"IF('Backend Calcs Standard'!$A$12=1,'Backend Calcs Standard'!X261,('Backend Calcs Standard'!X261*0.0283168))","v":""},{"$f":"IFERROR(IF(H260=\"\",\"\",(IF('Backend Calcs Standard'!$A$12=1,'Backend Calcs Standard'!Y261,'Backend Calcs Standard'!Y261*0.0283168))),\"\")","v":""},{"$f":"IF(A260=\"\",\"\",IF('Backend Calcs Standard'!$A$12=1,'Backend Calcs Standard'!Z261,'Backend Calcs Standard'!O261))","v":""}]
[{"$f":"IFERROR(IF(B261=\"\",\"\",'Backend Calcs Standard'!P262),\"\")","v":""},{"$f":"IFERROR(IF(C261=\"\",\"\",(IF('Backend Calcs Standard'!$A$12=1,'Backend Calcs Standard'!S262,(('Backend Calcs Standard'!S262)*0.0283168)))),\"\")","v":""},{"$f":"IFERROR(IF(D261=\"\",\"\",(IF('Backend Calcs Standard'!$A$12=1,'Backend Calcs Standard'!T262,(('Backend Calcs Standard'!T262)*0.0283168)))),\"\")","v":""},{"$f":"IFERROR(IF(E261=\"\",\"\",(IF('Backend Calcs Standard'!$A$12=1,'Backend Calcs Standard'!U262,(('Backend Calcs Standard'!U262)*0.0283168)))),\"\")","v":""},{"$f":"IFERROR(IF(F261=\"\",\"\",(IF('Backend Calcs Standard'!$A$12=1,'Backend Calcs Standard'!V262,(('Backend Calcs Standard'!V262)*0.0283168)))),\"\")","v":""},{"$f":"IF(I261=\"\",\"\",(IF('Backend Calcs Standard'!$A$12=1,'Backend Calcs Standard'!W262,('Backend Calcs Standard'!W262*0.0283168))))","v":""},"",{"$f":"IF('Backend Calcs Standard'!$A$12=1,'Backend Calcs Standard'!X262,('Backend Calcs Standard'!X262*0.0283168))","v":""},{"$f":"IFERROR(IF(H261=\"\",\"\",(IF('Backend Calcs Standard'!$A$12=1,'Backend Calcs Standard'!Y262,'Backend Calcs Standard'!Y262*0.0283168))),\"\")","v":""},{"$f":"IF(A261=\"\",\"\",IF('Backend Calcs Standard'!$A$12=1,'Backend Calcs Standard'!Z262,'Backend Calcs Standard'!O262))","v":""}]
[{"$f":"IFERROR(IF(B262=\"\",\"\",'Backend Calcs Standard'!P263),\"\")","v":""},{"$f":"IFERROR(IF(C262=\"\",\"\",(IF('Backend Calcs Standard'!$A$12=1,'Backend Calcs Standard'!S263,(('Backend Calcs Standard'!S263)*0.0283168)))),\"\")","v":""},{"$f":"IFERROR(IF(D262=\"\",\"\",(IF('Backend Calcs Standard'!$A$12=1,'Backend Calcs Standard'!T263,(('Backend Calcs Standard'!T263)*0.0283168)))),\"\")","v":""},{"$f":"IFERROR(IF(E262=\"\",\"\",(IF('Backend Calcs Standard'!$A$12=1,'Backend Calcs Standard'!U263,(('Backend Calcs Standard'!U263)*0.0283168)))),\"\")","v":""},{"$f":"IFERROR(IF(F262=\"\",\"\",(IF('Backend Calcs Standard'!$A$12=1,'Backend Calcs Standard'!V263,(('Backend Calcs Standard'!V263)*0.0283168)))),\"\")","v":""},{"$f":"IF(I262=\"\",\"\",(IF('Backend Calcs Standard'!$A$12=1,'Backend Calcs Standard'!W263,('Backend Calcs Standard'!W263*0.0283168))))","v":""},"",{"$f":"IF('Backend Calcs Standard'!$A$12=1,'Backend Calcs Standard'!X263,('Backend Calcs Standard'!X263*0.0283168))","v":""},{"$f":"IFERROR(IF(H262=\"\",\"\",(IF('Backend Calcs Standard'!$A$12=1,'Backend Calcs Standard'!Y263,'Backend Calcs Standard'!Y263*0.0283168))),\"\")","v":""},{"$f":"IF(A262=\"\",\"\",IF('Backend Calcs Standard'!$A$12=1,'Backend Calcs Standard'!Z263,'Backend Calcs Standard'!O263))","v":""}]
[{"$f":"IFERROR(IF(B263=\"\",\"\",'Backend Calcs Standard'!P264),\"\")","v":""},{"$f":"IFERROR(IF(C263=\"\",\"\",(IF('Backend Calcs Standard'!$A$12=1,'Backend Calcs Standard'!S264,(('Backend Calcs Standard'!S264)*0.0283168)))),\"\")","v":""},{"$f":"IFERROR(IF(D263=\"\",\"\",(IF('Backend Calcs Standard'!$A$12=1,'Backend Calcs Standard'!T264,(('Backend Calcs Standard'!T264)*0.0283168)))),\"\")","v":""},{"$f":"IFERROR(IF(E263=\"\",\"\",(IF('Backend Calcs Standard'!$A$12=1,'Backend Calcs Standard'!U264,(('Backend Calcs Standard'!U264)*0.0283168)))),\"\")","v":""},{"$f":"IFERROR(IF(F263=\"\",\"\",(IF('Backend Calcs Standard'!$A$12=1,'Backend Calcs Standard'!V264,(('Backend Calcs Standard'!V264)*0.0283168)))),\"\")","v":""},{"$f":"IF(I263=\"\",\"\",(IF('Backend Calcs Standard'!$A$12=1,'Backend Calcs Standard'!W264,('Backend Calcs Standard'!W264*0.0283168))))","v":""},"",{"$f":"IF('Backend Calcs Standard'!$A$12=1,'Backend Calcs Standard'!X264,('Backend Calcs Standard'!X264*0.0283168))","v":""},{"$f":"IFERROR(IF(H263=\"\",\"\",(IF('Backend Calcs Standard'!$A$12=1,'Backend Calcs Standard'!Y264,'Backend Calcs Standard'!Y264*0.0283168))),\"\")","v":""},{"$f":"IF(A263=\"\",\"\",IF('Backend Calcs Standard'!$A$12=1,'Backend Calcs Standard'!Z264,'Backend Calcs Standard'!O264))","v":""}]
[{"$f":"IFERROR(IF(B264=\"\",\"\",'Backend Calcs Standard'!P265),\"\")","v":""},{"$f":"IFERROR(IF(C264=\"\",\"\",(IF('Backend Calcs Standard'!$A$12=1,'Backend Calcs Standard'!S265,(('Backend Calcs Standard'!S265)*0.0283168)))),\"\")","v":""},{"$f":"IFERROR(IF(D264=\"\",\"\",(IF('Backend Calcs Standard'!$A$12=1,'Backend Calcs Standard'!T265,(('Backend Calcs Standard'!T265)*0.0283168)))),\"\")","v":""},{"$f":"IFERROR(IF(E264=\"\",\"\",(IF('Backend Calcs Standard'!$A$12=1,'Backend Calcs Standard'!U265,(('Backend Calcs Standard'!U265)*0.0283168)))),\"\")","v":""},{"$f":"IFERROR(IF(F264=\"\",\"\",(IF('Backend Calcs Standard'!$A$12=1,'Backend Calcs Standard'!V265,(('Backend Calcs Standard'!V265)*0.0283168)))),\"\")","v":""},{"$f":"IF(I264=\"\",\"\",(IF('Backend Calcs Standard'!$A$12=1,'Backend Calcs Standard'!W265,('Backend Calcs Standard'!W265*0.0283168))))","v":""},"",{"$f":"IF('Backend Calcs Standard'!$A$12=1,'Backend Calcs Standard'!X265,('Backend Calcs Standard'!X265*0.0283168))","v":""},{"$f":"IFERROR(IF(H264=\"\",\"\",(IF('Backend Calcs Standard'!$A$12=1,'Backend Calcs Standard'!Y265,'Backend Calcs Standard'!Y265*0.0283168))),\"\")","v":""},{"$f":"IF(A264=\"\",\"\",IF('Backend Calcs Standard'!$A$12=1,'Backend Calcs Standard'!Z265,'Backend Calcs Standard'!O265))","v":""}]
[{"$f":"IFERROR(IF(B265=\"\",\"\",'Backend Calcs Standard'!P266),\"\")","v":""},{"$f":"IFERROR(IF(C265=\"\",\"\",(IF('Backend Calcs Standard'!$A$12=1,'Backend Calcs Standard'!S266,(('Backend Calcs Standard'!S266)*0.0283168)))),\"\")","v":""},{"$f":"IFERROR(IF(D265=\"\",\"\",(IF('Backend Calcs Standard'!$A$12=1,'Backend Calcs Standard'!T266,(('Backend Calcs Standard'!T266)*0.0283168)))),\"\")","v":""},{"$f":"IFERROR(IF(E265=\"\",\"\",(IF('Backend Calcs Standard'!$A$12=1,'Backend Calcs Standard'!U266,(('Backend Calcs Standard'!U266)*0.0283168)))),\"\")","v":""},{"$f":"IFERROR(IF(F265=\"\",\"\",(IF('Backend Calcs Standard'!$A$12=1,'Backend Calcs Standard'!V266,(('Backend Calcs Standard'!V266)*0.0283168)))),\"\")","v":""},{"$f":"IF(I265=\"\",\"\",(IF('Backend Calcs Standard'!$A$12=1,'Backend Calcs Standard'!W266,('Backend Calcs Standard'!W266*0.0283168))))","v":""},"",{"$f":"IF('Backend Calcs Standard'!$A$12=1,'Backend Calcs Standard'!X266,('Backend Calcs Standard'!X266*0.0283168))","v":""},{"$f":"IFERROR(IF(H265=\"\",\"\",(IF('Backend Calcs Standard'!$A$12=1,'Backend Calcs Standard'!Y266,'Backend Calcs Standard'!Y266*0.0283168))),\"\")","v":""},{"$f":"IF(A265=\"\",\"\",IF('Backend Calcs Standard'!$A$12=1,'Backend Calcs Standard'!Z266,'Backend Calcs Standard'!O266))","v":""}]
[{"$f":"IFERROR(IF(B266=\"\",\"\",'Backend Calcs Standard'!P267),\"\")","v":""},{"$f":"IFERROR(IF(C266=\"\",\"\",(IF('Backend Calcs Standard'!$A$12=1,'Backend Calcs Standard'!S267,(('Backend Calcs Standard'!S267)*0.0283168)))),\"\")","v":""},{"$f":"IFERROR(IF(D266=\"\",\"\",(IF('Backend Calcs Standard'!$A$12=1,'Backend Calcs Standard'!T267,(('Backend Calcs Standard'!T267)*0.0283168)))),\"\")","v":""},{"$f":"IFERROR(IF(E266=\"\",\"\",(IF('Backend Calcs Standard'!$A$12=1,'Backend Calcs Standard'!U267,(('Backend Calcs Standard'!U267)*0.0283168)))),\"\")","v":""},{"$f":"IFERROR(IF(F266=\"\",\"\",(IF('Backend Calcs Standard'!$A$12=1,'Backend Calcs Standard'!V267,(('Backend Calcs Standard'!V267)*0.0283168)))),\"\")","v":""},{"$f":"IF(I266=\"\",\"\",(IF('Backend Calcs Standard'!$A$12=1,'Backend Calcs Standard'!W267,('Backend Calcs Standard'!W267*0.0283168))))","v":""},"",{"$f":"IF('Backend Calcs Standard'!$A$12=1,'Backend Calcs Standard'!X267,('Backend Calcs Standard'!X267*0.0283168))","v":""},{"$f":"IFERROR(IF(H266=\"\",\"\",(IF('Backend Calcs Standard'!$A$12=1,'Backend Calcs Standard'!Y267,'Backend Calcs Standard'!Y267*0.0283168))),\"\")","v":""},{"$f":"IF(A266=\"\",\"\",IF('Backend Calcs Standard'!$A$12=1,'Backend Calcs Standard'!Z267,'Backend Calcs Standard'!O267))","v":""}]
[{"$f":"IFERROR(IF(B267=\"\",\"\",'Backend Calcs Standard'!P268),\"\")","v":""},{"$f":"IFERROR(IF(C267=\"\",\"\",(IF('Backend Calcs Standard'!$A$12=1,'Backend Calcs Standard'!S268,(('Backend Calcs Standard'!S268)*0.0283168)))),\"\")","v":""},{"$f":"IFERROR(IF(D267=\"\",\"\",(IF('Backend Calcs Standard'!$A$12=1,'Backend Calcs Standard'!T268,(('Backend Calcs Standard'!T268)*0.0283168)))),\"\")","v":""},{"$f":"IFERROR(IF(E267=\"\",\"\",(IF('Backend Calcs Standard'!$A$12=1,'Backend Calcs Standard'!U268,(('Backend Calcs Standard'!U268)*0.0283168)))),\"\")","v":""},{"$f":"IFERROR(IF(F267=\"\",\"\",(IF('Backend Calcs Standard'!$A$12=1,'Backend Calcs Standard'!V268,(('Backend Calcs Standard'!V268)*0.0283168)))),\"\")","v":""},{"$f":"IF(I267=\"\",\"\",(IF('Backend Calcs Standard'!$A$12=1,'Backend Calcs Standard'!W268,('Backend Calcs Standard'!W268*0.0283168))))","v":""},"",{"$f":"IF('Backend Calcs Standard'!$A$12=1,'Backend Calcs Standard'!X268,('Backend Calcs Standard'!X268*0.0283168))","v":""},{"$f":"IFERROR(IF(H267=\"\",\"\",(IF('Backend Calcs Standard'!$A$12=1,'Backend Calcs Standard'!Y268,'Backend Calcs Standard'!Y268*0.0283168))),\"\")","v":""},{"$f":"IF(A267=\"\",\"\",IF('Backend Calcs Standard'!$A$12=1,'Backend Calcs Standard'!Z268,'Backend Calcs Standard'!O268))","v":""}]
[{"$f":"IFERROR(IF(B268=\"\",\"\",'Backend Calcs Standard'!P269),\"\")","v":""},{"$f":"IFERROR(IF(C268=\"\",\"\",(IF('Backend Calcs Standard'!$A$12=1,'Backend Calcs Standard'!S269,(('Backend Calcs Standard'!S269)*0.0283168)))),\"\")","v":""},{"$f":"IFERROR(IF(D268=\"\",\"\",(IF('Backend Calcs Standard'!$A$12=1,'Backend Calcs Standard'!T269,(('Backend Calcs Standard'!T269)*0.0283168)))),\"\")","v":""},{"$f":"IFERROR(IF(E268=\"\",\"\",(IF('Backend Calcs Standard'!$A$12=1,'Backend Calcs Standard'!U269,(('Backend Calcs Standard'!U269)*0.0283168)))),\"\")","v":""},{"$f":"IFERROR(IF(F268=\"\",\"\",(IF('Backend Calcs Standard'!$A$12=1,'Backend Calcs Standard'!V269,(('Backend Calcs Standard'!V269)*0.0283168)))),\"\")","v":""},{"$f":"IF(I268=\"\",\"\",(IF('Backend Calcs Standard'!$A$12=1,'Backend Calcs Standard'!W269,('Backend Calcs Standard'!W269*0.0283168))))","v":""},"",{"$f":"IF('Backend Calcs Standard'!$A$12=1,'Backend Calcs Standard'!X269,('Backend Calcs Standard'!X269*0.0283168))","v":""},{"$f":"IFERROR(IF(H268=\"\",\"\",(IF('Backend Calcs Standard'!$A$12=1,'Backend Calcs Standard'!Y269,'Backend Calcs Standard'!Y269*0.0283168))),\"\")","v":""},{"$f":"IF(A268=\"\",\"\",IF('Backend Calcs Standard'!$A$12=1,'Backend Calcs Standard'!Z269,'Backend Calcs Standard'!O269))","v":""}]
[{"$f":"IFERROR(IF(B269=\"\",\"\",'Backend Calcs Standard'!P270),\"\")","v":""},{"$f":"IFERROR(IF(C269=\"\",\"\",(IF('Backend Calcs Standard'!$A$12=1,'Backend Calcs Standard'!S270,(('Backend Calcs Standard'!S270)*0.0283168)))),\"\")","v":""},{"$f":"IFERROR(IF(D269=\"\",\"\",(IF('Backend Calcs Standard'!$A$12=1,'Backend Calcs Standard'!T270,(('Backend Calcs Standard'!T270)*0.0283168)))),\"\")","v":""},{"$f":"IFERROR(IF(E269=\"\",\"\",(IF('Backend Calcs Standard'!$A$12=1,'Backend Calcs Standard'!U270,(('Backend Calcs Standard'!U270)*0.0283168)))),\"\")","v":""},{"$f":"IFERROR(IF(F269=\"\",\"\",(IF('Backend Calcs Standard'!$A$12=1,'Backend Calcs Standard'!V270,(('Backend Calcs Standard'!V270)*0.0283168)))),\"\")","v":""},{"$f":"IF(I269=\"\",\"\",(IF('Backend Calcs Standard'!$A$12=1,'Backend Calcs Standard'!W270,('Backend Calcs Standard'!W270*0.0283168))))","v":""},"",{"$f":"IF('Backend Calcs Standard'!$A$12=1,'Backend Calcs Standard'!X270,('Backend Calcs Standard'!X270*0.0283168))","v":""},{"$f":"IFERROR(IF(H269=\"\",\"\",(IF('Backend Calcs Standard'!$A$12=1,'Backend Calcs Standard'!Y270,'Backend Calcs Standard'!Y270*0.0283168))),\"\")","v":""},{"$f":"IF(A269=\"\",\"\",IF('Backend Calcs Standard'!$A$12=1,'Backend Calcs Standard'!Z270,'Backend Calcs Standard'!O270))","v":""}]
[{"$f":"IFERROR(IF(B270=\"\",\"\",'Backend Calcs Standard'!P271),\"\")","v":""},{"$f":"IFERROR(IF(C270=\"\",\"\",(IF('Backend Calcs Standard'!$A$12=1,'Backend Calcs Standard'!S271,(('Backend Calcs Standard'!S271)*0.0283168)))),\"\")","v":""},{"$f":"IFERROR(IF(D270=\"\",\"\",(IF('Backend Calcs Standard'!$A$12=1,'Backend Calcs Standard'!T271,(('Backend Calcs Standard'!T271)*0.0283168)))),\"\")","v":""},{"$f":"IFERROR(IF(E270=\"\",\"\",(IF('Backend Calcs Standard'!$A$12=1,'Backend Calcs Standard'!U271,(('Backend Calcs Standard'!U271)*0.0283168)))),\"\")","v":""},{"$f":"IFERROR(IF(F270=\"\",\"\",(IF('Backend Calcs Standard'!$A$12=1,'Backend Calcs Standard'!V271,(('Backend Calcs Standard'!V271)*0.0283168)))),\"\")","v":""},{"$f":"IF(I270=\"\",\"\",(IF('Backend Calcs Standard'!$A$12=1,'Backend Calcs Standard'!W271,('Backend Calcs Standard'!W271*0.0283168))))","v":""},"",{"$f":"IF('Backend Calcs Standard'!$A$12=1,'Backend Calcs Standard'!X271,('Backend Calcs Standard'!X271*0.0283168))","v":""},{"$f":"IFERROR(IF(H270=\"\",\"\",(IF('Backend Calcs Standard'!$A$12=1,'Backend Calcs Standard'!Y271,'Backend Calcs Standard'!Y271*0.0283168))),\"\")","v":""},{"$f":"IF(A270=\"\",\"\",IF('Backend Calcs Standard'!$A$12=1,'Backend Calcs Standard'!Z271,'Backend Calcs Standard'!O271))","v":""}]
[{"$f":"IFERROR(IF(B271=\"\",\"\",'Backend Calcs Standard'!P272),\"\")","v":""},{"$f":"IFERROR(IF(C271=\"\",\"\",(IF('Backend Calcs Standard'!$A$12=1,'Backend Calcs Standard'!S272,(('Backend Calcs Standard'!S272)*0.0283168)))),\"\")","v":""},{"$f":"IFERROR(IF(D271=\"\",\"\",(IF('Backend Calcs Standard'!$A$12=1,'Backend Calcs Standard'!T272,(('Backend Calcs Standard'!T272)*0.0283168)))),\"\")","v":""},{"$f":"IFERROR(IF(E271=\"\",\"\",(IF('Backend Calcs Standard'!$A$12=1,'Backend Calcs Standard'!U272,(('Backend Calcs Standard'!U272)*0.0283168)))),\"\")","v":""},{"$f":"IFERROR(IF(F271=\"\",\"\",(IF('Backend Calcs Standard'!$A$12=1,'Backend Calcs Standard'!V272,(('Backend Calcs Standard'!V272)*0.0283168)))),\"\")","v":""},{"$f":"IF(I271=\"\",\"\",(IF('Backend Calcs Standard'!$A$12=1,'Backend Calcs Standard'!W272,('Backend Calcs Standard'!W272*0.0283168))))","v":""},"",{"$f":"IF('Backend Calcs Standard'!$A$12=1,'Backend Calcs Standard'!X272,('Backend Calcs Standard'!X272*0.0283168))","v":""},{"$f":"IFERROR(IF(H271=\"\",\"\",(IF('Backend Calcs Standard'!$A$12=1,'Backend Calcs Standard'!Y272,'Backend Calcs Standard'!Y272*0.0283168))),\"\")","v":""},{"$f":"IF(A271=\"\",\"\",IF('Backend Calcs Standard'!$A$12=1,'Backend Calcs Standard'!Z272,'Backend Calcs Standard'!O272))","v":""}]
[{"$f":"IFERROR(IF(B272=\"\",\"\",'Backend Calcs Standard'!P273),\"\")","v":""},{"$f":"IFERROR(IF(C272=\"\",\"\",(IF('Backend Calcs Standard'!$A$12=1,'Backend Calcs Standard'!S273,(('Backend Calcs Standard'!S273)*0.0283168)))),\"\")","v":""},{"$f":"IFERROR(IF(D272=\"\",\"\",(IF('Backend Calcs Standard'!$A$12=1,'Backend Calcs Standard'!T273,(('Backend Calcs Standard'!T273)*0.0283168)))),\"\")","v":""},{"$f":"IFERROR(IF(E272=\"\",\"\",(IF('Backend Calcs Standard'!$A$12=1,'Backend Calcs Standard'!U273,(('Backend Calcs Standard'!U273)*0.0283168)))),\"\")","v":""},{"$f":"IFERROR(IF(F272=\"\",\"\",(IF('Backend Calcs Standard'!$A$12=1,'Backend Calcs Standard'!V273,(('Backend Calcs Standard'!V273)*0.0283168)))),\"\")","v":""},{"$f":"IF(I272=\"\",\"\",(IF('Backend Calcs Standard'!$A$12=1,'Backend Calcs Standard'!W273,('Backend Calcs Standard'!W273*0.0283168))))","v":""},"",{"$f":"IF('Backend Calcs Standard'!$A$12=1,'Backend Calcs Standard'!X273,('Backend Calcs Standard'!X273*0.0283168))","v":""},{"$f":"IFERROR(IF(H272=\"\",\"\",(IF('Backend Calcs Standard'!$A$12=1,'Backend Calcs Standard'!Y273,'Backend Calcs Standard'!Y273*0.0283168))),\"\")","v":""},{"$f":"IF(A272=\"\",\"\",IF('Backend Calcs Standard'!$A$12=1,'Backend Calcs Standard'!Z273,'Backend Calcs Standard'!O273))","v":""}]
[{"$f":"IFERROR(IF(B273=\"\",\"\",'Backend Calcs Standard'!P274),\"\")","v":""},{"$f":"IFERROR(IF(C273=\"\",\"\",(IF('Backend Calcs Standard'!$A$12=1,'Backend Calcs Standard'!S274,(('Backend Calcs Standard'!S274)*0.0283168)))),\"\")","v":""},{"$f":"IFERROR(IF(D273=\"\",\"\",(IF('Backend Calcs Standard'!$A$12=1,'Backend Calcs Standard'!T274,(('Backend Calcs Standard'!T274)*0.0283168)))),\"\")","v":""},{"$f":"IFERROR(IF(E273=\"\",\"\",(IF('Backend Calcs Standard'!$A$12=1,'Backend Calcs Standard'!U274,(('Backend Calcs Standard'!U274)*0.0283168)))),\"\")","v":""},{"$f":"IFERROR(IF(F273=\"\",\"\",(IF('Backend Calcs Standard'!$A$12=1,'Backend Calcs Standard'!V274,(('Backend Calcs Standard'!V274)*0.0283168)))),\"\")","v":""},{"$f":"IF(I273=\"\",\"\",(IF('Backend Calcs Standard'!$A$12=1,'Backend Calcs Standard'!W274,('Backend Calcs Standard'!W274*0.0283168))))","v":""},"",{"$f":"IF('Backend Calcs Standard'!$A$12=1,'Backend Calcs Standard'!X274,('Backend Calcs Standard'!X274*0.0283168))","v":""},{"$f":"IFERROR(IF(H273=\"\",\"\",(IF('Backend Calcs Standard'!$A$12=1,'Backend Calcs Standard'!Y274,'Backend Calcs Standard'!Y274*0.0283168))),\"\")","v":""},{"$f":"IF(A273=\"\",\"\",IF('Backend Calcs Standard'!$A$12=1,'Backend Calcs Standard'!Z274,'Backend Calcs Standard'!O274))","v":""}]
[{"$f":"IFERROR(IF(B274=\"\",\"\",'Backend Calcs Standard'!P275),\"\")","v":""},{"$f":"IFERROR(IF(C274=\"\",\"\",(IF('Backend Calcs Standard'!$A$12=1,'Backend Calcs Standard'!S275,(('Backend Calcs Standard'!S275)*0.0283168)))),\"\")","v":""},{"$f":"IFERROR(IF(D274=\"\",\"\",(IF('Backend Calcs Standard'!$A$12=1,'Backend Calcs Standard'!T275,(('Backend Calcs Standard'!T275)*0.0283168)))),\"\")","v":""},{"$f":"IFERROR(IF(E274=\"\",\"\",(IF('Backend Calcs Standard'!$A$12=1,'Backend Calcs Standard'!U275,(('Backend Calcs Standard'!U275)*0.0283168)))),\"\")","v":""},{"$f":"IFERROR(IF(F274=\"\",\"\",(IF('Backend Calcs Standard'!$A$12=1,'Backend Calcs Standard'!V275,(('Backend Calcs Standard'!V275)*0.0283168)))),\"\")","v":""},{"$f":"IF(I274=\"\",\"\",(IF('Backend Calcs Standard'!$A$12=1,'Backend Calcs Standard'!W275,('Backend Calcs Standard'!W275*0.0283168))))","v":""},"",{"$f":"IF('Backend Calcs Standard'!$A$12=1,'Backend Calcs Standard'!X275,('Backend Calcs Standard'!X275*0.0283168))","v":""},{"$f":"IFERROR(IF(H274=\"\",\"\",(IF('Backend Calcs Standard'!$A$12=1,'Backend Calcs Standard'!Y275,'Backend Calcs Standard'!Y275*0.0283168))),\"\")","v":""},{"$f":"IF(A274=\"\",\"\",IF('Backend Calcs Standard'!$A$12=1,'Backend Calcs Standard'!Z275,'Backend Calcs Standard'!O275))","v":""}]
[{"$f":"IFERROR(IF(B275=\"\",\"\",'Backend Calcs Standard'!P276),\"\")","v":""},{"$f":"IFERROR(IF(C275=\"\",\"\",(IF('Backend Calcs Standard'!$A$12=1,'Backend Calcs Standard'!S276,(('Backend Calcs Standard'!S276)*0.0283168)))),\"\")","v":""},{"$f":"IFERROR(IF(D275=\"\",\"\",(IF('Backend Calcs Standard'!$A$12=1,'Backend Calcs Standard'!T276,(('Backend Calcs Standard'!T276)*0.0283168)))),\"\")","v":""},{"$f":"IFERROR(IF(E275=\"\",\"\",(IF('Backend Calcs Standard'!$A$12=1,'Backend Calcs Standard'!U276,(('Backend Calcs Standard'!U276)*0.0283168)))),\"\")","v":""},{"$f":"IFERROR(IF(F275=\"\",\"\",(IF('Backend Calcs Standard'!$A$12=1,'Backend Calcs Standard'!V276,(('Backend Calcs Standard'!V276)*0.0283168)))),\"\")","v":""},{"$f":"IF(I275=\"\",\"\",(IF('Backend Calcs Standard'!$A$12=1,'Backend Calcs Standard'!W276,('Backend Calcs Standard'!W276*0.0283168))))","v":""},{"$f":"IFERROR(IF(F275=\"\",\"\",(F275+E275+D275)),\"\")","v":""},{"$f":"IF('Backend Calcs Standard'!$A$12=1,'Backend Calcs Standard'!X276,('Backend Calcs Standard'!X276*0.0283168))","v":""},{"$f":"IFERROR(IF(H275=\"\",\"\",(IF('Backend Calcs Standard'!$A$12=1,'Backend Calcs Standard'!Y276,'Backend Calcs Standard'!Y276*0.0283168))),\"\")","v":""},{"$f":"IF(A275=\"\",\"\",IF('Backend Calcs Standard'!$A$12=1,'Backend Calcs Standard'!Z276,'Backend Calcs Standard'!O276))","v":""}]
[{"$f":"IFERROR(IF(B276=\"\",\"\",'Backend Calcs Standard'!P277),\"\")","v":""},{"$f":"IFERROR(IF(C276=\"\",\"\",(IF('Backend Calcs Standard'!$A$12=1,'Backend Calcs Standard'!S277,(('Backend Calcs Standard'!S277)*0.0283168)))),\"\")","v":""},{"$f":"IFERROR(IF(D276=\"\",\"\",(IF('Backend Calcs Standard'!$A$12=1,'Backend Calcs Standard'!T277,(('Backend Calcs Standard'!T277)*0.0283168)))),\"\")","v":""},{"$f":"IFERROR(IF(E276=\"\",\"\",(IF('Backend Calcs Standard'!$A$12=1,'Backend Calcs Standard'!U277,(('Backend Calcs Standard'!U277)*0.0283168)))),\"\")","v":""},{"$f":"IFERROR(IF(F276=\"\",\"\",(IF('Backend Calcs Standard'!$A$12=1,'Backend Calcs Standard'!V277,(('Backend Calcs Standard'!V277)*0.0283168)))),\"\")","v":""},{"$f":"IF(I276=\"\",\"\",(IF('Backend Calcs Standard'!$A$12=1,'Backend Calcs Standard'!W277,('Backend Calcs Standard'!W277*0.0283168))))","v":""},"",{"$f":"IF('Backend Calcs Standard'!$A$12=1,'Backend Calcs Standard'!X277,('Backend Calcs Standard'!X277*0.0283168))","v":""},{"$f":"IFERROR(IF(H276=\"\",\"\",(IF('Backend Calcs Standard'!$A$12=1,'Backend Calcs Standard'!Y277,'Backend Calcs Standard'!Y277*0.0283168))),\"\")","v":""},{"$f":"IF(A276=\"\",\"\",IF('Backend Calcs Standard'!$A$12=1,'Backend Calcs Standard'!Z277,'Backend Calcs Standard'!O277))","v":""}]
[{"$f":"IFERROR(IF(B277=\"\",\"\",'Backend Calcs Standard'!P278),\"\")","v":""},{"$f":"IFERROR(IF(C277=\"\",\"\",(IF('Backend Calcs Standard'!$A$12=1,'Backend Calcs Standard'!S278,(('Backend Calcs Standard'!S278)*0.0283168)))),\"\")","v":""},{"$f":"IFERROR(IF(D277=\"\",\"\",(IF('Backend Calcs Standard'!$A$12=1,'Backend Calcs Standard'!T278,(('Backend Calcs Standard'!T278)*0.0283168)))),\"\")","v":""},{"$f":"IFERROR(IF(E277=\"\",\"\",(IF('Backend Calcs Standard'!$A$12=1,'Backend Calcs Standard'!U278,(('Backend Calcs Standard'!U278)*0.0283168)))),\"\")","v":""},{"$f":"IFERROR(IF(F277=\"\",\"\",(IF('Backend Calcs Standard'!$A$12=1,'Backend Calcs Standard'!V278,(('Backend Calcs Standard'!V278)*0.0283168)))),\"\")","v":""},{"$f":"IF(I277=\"\",\"\",(IF('Backend Calcs Standard'!$A$12=1,'Backend Calcs Standard'!W278,('Backend Calcs Standard'!W278*0.0283168))))","v":""},"",{"$f":"IF('Backend Calcs Standard'!$A$12=1,'Backend Calcs Standard'!X278,('Backend Calcs Standard'!X278*0.0283168))","v":""},{"$f":"IFERROR(IF(H277=\"\",\"\",(IF('Backend Calcs Standard'!$A$12=1,'Backend Calcs Standard'!Y278,'Backend Calcs Standard'!Y278*0.0283168))),\"\")","v":""},{"$f":"IF(A277=\"\",\"\",IF('Backend Calcs Standard'!$A$12=1,'Backend Calcs Standard'!Z278,'Backend Calcs Standard'!O278))","v":""}]
[{"$f":"IFERROR(IF(B278=\"\",\"\",'Backend Calcs Standard'!P279),\"\")","v":""},{"$f":"IFERROR(IF(C278=\"\",\"\",(IF('Backend Calcs Standard'!$A$12=1,'Backend Calcs Standard'!S279,(('Backend Calcs Standard'!S279)*0.0283168)))),\"\")","v":""},{"$f":"IFERROR(IF(D278=\"\",\"\",(IF('Backend Calcs Standard'!$A$12=1,'Backend Calcs Standard'!T279,(('Backend Calcs Standard'!T279)*0.0283168)))),\"\")","v":""},{"$f":"IFERROR(IF(E278=\"\",\"\",(IF('Backend Calcs Standard'!$A$12=1,'Backend Calcs Standard'!U279,(('Backend Calcs Standard'!U279)*0.0283168)))),\"\")","v":""},{"$f":"IFERROR(IF(F278=\"\",\"\",(IF('Backend Calcs Standard'!$A$12=1,'Backend Calcs Standard'!V279,(('Backend Calcs Standard'!V279)*0.0283168)))),\"\")","v":""},{"$f":"IF(I278=\"\",\"\",(IF('Backend Calcs Standard'!$A$12=1,'Backend Calcs Standard'!W279,('Backend Calcs Standard'!W279*0.0283168))))","v":""},"",{"$f":"IF('Backend Calcs Standard'!$A$12=1,'Backend Calcs Standard'!X279,('Backend Calcs Standard'!X279*0.0283168))","v":""},{"$f":"IFERROR(IF(H278=\"\",\"\",(IF('Backend Calcs Standard'!$A$12=1,'Backend Calcs Standard'!Y279,'Backend Calcs Standard'!Y279*0.0283168))),\"\")","v":""},{"$f":"IF(A278=\"\",\"\",IF('Backend Calcs Standard'!$A$12=1,'Backend Calcs Standard'!Z279,'Backend Calcs Standard'!O279))","v":""}]
[{"$f":"IFERROR(IF(B279=\"\",\"\",'Backend Calcs Standard'!P280),\"\")","v":""},{"$f":"IFERROR(IF(C279=\"\",\"\",(IF('Backend Calcs Standard'!$A$12=1,'Backend Calcs Standard'!S280,(('Backend Calcs Standard'!S280)*0.0283168)))),\"\")","v":""},{"$f":"IFERROR(IF(D279=\"\",\"\",(IF('Backend Calcs Standard'!$A$12=1,'Backend Calcs Standard'!T280,(('Backend Calcs Standard'!T280)*0.0283168)))),\"\")","v":""},{"$f":"IFERROR(IF(E279=\"\",\"\",(IF('Backend Calcs Standard'!$A$12=1,'Backend Calcs Standard'!U280,(('Backend Calcs Standard'!U280)*0.0283168)))),\"\")","v":""},{"$f":"IFERROR(IF(F279=\"\",\"\",(IF('Backend Calcs Standard'!$A$12=1,'Backend Calcs Standard'!V280,(('Backend Calcs Standard'!V280)*0.0283168)))),\"\")","v":""},{"$f":"IF(I279=\"\",\"\",(IF('Backend Calcs Standard'!$A$12=1,'Backend Calcs Standard'!W280,('Backend Calcs Standard'!W280*0.0283168))))","v":""},"",{"$f":"IF('Backend Calcs Standard'!$A$12=1,'Backend Calcs Standard'!X280,('Backend Calcs Standard'!X280*0.0283168))","v":""},{"$f":"IFERROR(IF(H279=\"\",\"\",(IF('Backend Calcs Standard'!$A$12=1,'Backend Calcs Standard'!Y280,'Backend Calcs Standard'!Y280*0.0283168))),\"\")","v":""},{"$f":"IF(A279=\"\",\"\",IF('Backend Calcs Standard'!$A$12=1,'Backend Calcs Standard'!Z280,'Backend Calcs Standard'!O280))","v":""}]
[{"$f":"IFERROR(IF(B280=\"\",\"\",'Backend Calcs Standard'!P281),\"\")","v":""},{"$f":"IFERROR(IF(C280=\"\",\"\",(IF('Backend Calcs Standard'!$A$12=1,'Backend Calcs Standard'!S281,(('Backend Calcs Standard'!S281)*0.0283168)))),\"\")","v":""},{"$f":"IFERROR(IF(D280=\"\",\"\",(IF('Backend Calcs Standard'!$A$12=1,'Backend Calcs Standard'!T281,(('Backend Calcs Standard'!T281)*0.0283168)))),\"\")","v":""},{"$f":"IFERROR(IF(E280=\"\",\"\",(IF('Backend Calcs Standard'!$A$12=1,'Backend Calcs Standard'!U281,(('Backend Calcs Standard'!U281)*0.0283168)))),\"\")","v":""},{"$f":"IFERROR(IF(F280=\"\",\"\",(IF('Backend Calcs Standard'!$A$12=1,'Backend Calcs Standard'!V281,(('Backend Calcs Standard'!V281)*0.0283168)))),\"\")","v":""},{"$f":"IF(I280=\"\",\"\",(IF('Backend Calcs Standard'!$A$12=1,'Backend Calcs Standard'!W281,('Backend Calcs Standard'!W281*0.0283168))))","v":""},"",{"$f":"IF('Backend Calcs Standard'!$A$12=1,'Backend Calcs Standard'!X281,('Backend Calcs Standard'!X281*0.0283168))","v":""},{"$f":"IFERROR(IF(H280=\"\",\"\",(IF('Backend Calcs Standard'!$A$12=1,'Backend Calcs Standard'!Y281,'Backend Calcs Standard'!Y281*0.0283168))),\"\")","v":""},{"$f":"IF(A280=\"\",\"\",IF('Backend Calcs Standard'!$A$12=1,'Backend Calcs Standard'!Z281,'Backend Calcs Standard'!O281))","v":""}]
[{"$f":"IFERROR(IF(B281=\"\",\"\",'Backend Calcs Standard'!P282),\"\")","v":""},{"$f":"IFERROR(IF(C281=\"\",\"\",(IF('Backend Calcs Standard'!$A$12=1,'Backend Calcs Standard'!S282,(('Backend Calcs Standard'!S282)*0.0283168)))),\"\")","v":""},{"$f":"IFERROR(IF(D281=\"\",\"\",(IF('Backend Calcs Standard'!$A$12=1,'Backend Calcs Standard'!T282,(('Backend Calcs Standard'!T282)*0.0283168)))),\"\")","v":""},{"$f":"IFERROR(IF(E281=\"\",\"\",(IF('Backend Calcs Standard'!$A$12=1,'Backend Calcs Standard'!U282,(('Backend Calcs Standard'!U282)*0.0283168)))),\"\")","v":""},{"$f":"IFERROR(IF(F281=\"\",\"\",(IF('Backend Calcs Standard'!$A$12=1,'Backend Calcs Standard'!V282,(('Backend Calcs Standard'!V282)*0.0283168)))),\"\")","v":""},{"$f":"IF(I281=\"\",\"\",(IF('Backend Calcs Standard'!$A$12=1,'Backend Calcs Standard'!W282,('Backend Calcs Standard'!W282*0.0283168))))","v":""},"",{"$f":"IF('Backend Calcs Standard'!$A$12=1,'Backend Calcs Standard'!X282,('Backend Calcs Standard'!X282*0.0283168))","v":""},{"$f":"IFERROR(IF(H281=\"\",\"\",(IF('Backend Calcs Standard'!$A$12=1,'Backend Calcs Standard'!Y282,'Backend Calcs Standard'!Y282*0.0283168))),\"\")","v":""},{"$f":"IF(A281=\"\",\"\",IF('Backend Calcs Standard'!$A$12=1,'Backend Calcs Standard'!Z282,'Backend Calcs Standard'!O282))","v":""}]
[{"$f":"IFERROR(IF(B282=\"\",\"\",'Backend Calcs Standard'!P283),\"\")","v":""},{"$f":"IFERROR(IF(C282=\"\",\"\",(IF('Backend Calcs Standard'!$A$12=1,'Backend Calcs Standard'!S283,(('Backend Calcs Standard'!S283)*0.0283168)))),\"\")","v":""},{"$f":"IFERROR(IF(D282=\"\",\"\",(IF('Backend Calcs Standard'!$A$12=1,'Backend Calcs Standard'!T283,(('Backend Calcs Standard'!T283)*0.0283168)))),\"\")","v":""},{"$f":"IFERROR(IF(E282=\"\",\"\",(IF('Backend Calcs Standard'!$A$12=1,'Backend Calcs Standard'!U283,(('Backend Calcs Standard'!U283)*0.0283168)))),\"\")","v":""},{"$f":"IFERROR(IF(F282=\"\",\"\",(IF('Backend Calcs Standard'!$A$12=1,'Backend Calcs Standard'!V283,(('Backend Calcs Standard'!V283)*0.0283168)))),\"\")","v":""},{"$f":"IF(I282=\"\",\"\",(IF('Backend Calcs Standard'!$A$12=1,'Backend Calcs Standard'!W283,('Backend Calcs Standard'!W283*0.0283168))))","v":""},"",{"$f":"IF('Backend Calcs Standard'!$A$12=1,'Backend Calcs Standard'!X283,('Backend Calcs Standard'!X283*0.0283168))","v":""},{"$f":"IFERROR(IF(H282=\"\",\"\",(IF('Backend Calcs Standard'!$A$12=1,'Backend Calcs Standard'!Y283,'Backend Calcs Standard'!Y283*0.0283168))),\"\")","v":""},{"$f":"IF(A282=\"\",\"\",IF('Backend Calcs Standard'!$A$12=1,'Backend Calcs Standard'!Z283,'Backend Calcs Standard'!O283))","v":""}]
[{"$f":"IFERROR(IF(B283=\"\",\"\",'Backend Calcs Standard'!P284),\"\")","v":""},{"$f":"IFERROR(IF(C283=\"\",\"\",(IF('Backend Calcs Standard'!$A$12=1,'Backend Calcs Standard'!S284,(('Backend Calcs Standard'!S284)*0.0283168)))),\"\")","v":""},{"$f":"IFERROR(IF(D283=\"\",\"\",(IF('Backend Calcs Standard'!$A$12=1,'Backend Calcs Standard'!T284,(('Backend Calcs Standard'!T284)*0.0283168)))),\"\")","v":""},{"$f":"IFERROR(IF(E283=\"\",\"\",(IF('Backend Calcs Standard'!$A$12=1,'Backend Calcs Standard'!U284,(('Backend Calcs Standard'!U284)*0.0283168)))),\"\")","v":""},{"$f":"IFERROR(IF(F283=\"\",\"\",(IF('Backend Calcs Standard'!$A$12=1,'Backend Calcs Standard'!V284,(('Backend Calcs Standard'!V284)*0.0283168)))),\"\")","v":""},{"$f":"IF(I283=\"\",\"\",(IF('Backend Calcs Standard'!$A$12=1,'Backend Calcs Standard'!W284,('Backend Calcs Standard'!W284*0.0283168))))","v":""},"",{"$f":"IF('Backend Calcs Standard'!$A$12=1,'Backend Calcs Standard'!X284,('Backend Calcs Standard'!X284*0.0283168))","v":""},{"$f":"IFERROR(IF(H283=\"\",\"\",(IF('Backend Calcs Standard'!$A$12=1,'Backend Calcs Standard'!Y284,'Backend Calcs Standard'!Y284*0.0283168))),\"\")","v":""},{"$f":"IF(A283=\"\",\"\",IF('Backend Calcs Standard'!$A$12=1,'Backend Calcs Standard'!Z284,'Backend Calcs Standard'!O284))","v":""}]
[{"$f":"IFERROR(IF(B284=\"\",\"\",'Backend Calcs Standard'!P285),\"\")","v":""},{"$f":"IFERROR(IF(C284=\"\",\"\",(IF('Backend Calcs Standard'!$A$12=1,'Backend Calcs Standard'!S285,(('Backend Calcs Standard'!S285)*0.0283168)))),\"\")","v":""},{"$f":"IFERROR(IF(D284=\"\",\"\",(IF('Backend Calcs Standard'!$A$12=1,'Backend Calcs Standard'!T285,(('Backend Calcs Standard'!T285)*0.0283168)))),\"\")","v":""},{"$f":"IFERROR(IF(E284=\"\",\"\",(IF('Backend Calcs Standard'!$A$12=1,'Backend Calcs Standard'!U285,(('Backend Calcs Standard'!U285)*0.0283168)))),\"\")","v":""},{"$f":"IFERROR(IF(F284=\"\",\"\",(IF('Backend Calcs Standard'!$A$12=1,'Backend Calcs Standard'!V285,(('Backend Calcs Standard'!V285)*0.0283168)))),\"\")","v":""},{"$f":"IF(I284=\"\",\"\",(IF('Backend Calcs Standard'!$A$12=1,'Backend Calcs Standard'!W285,('Backend Calcs Standard'!W285*0.0283168))))","v":""},"",{"$f":"IF('Backend Calcs Standard'!$A$12=1,'Backend Calcs Standard'!X285,('Backend Calcs Standard'!X285*0.0283168))","v":""},{"$f":"IFERROR(IF(H284=\"\",\"\",(IF('Backend Calcs Standard'!$A$12=1,'Backend Calcs Standard'!Y285,'Backend Calcs Standard'!Y285*0.0283168))),\"\")","v":""},{"$f":"IF(A284=\"\",\"\",IF('Backend Calcs Standard'!$A$12=1,'Backend Calcs Standard'!Z285,'Backend Calcs Standard'!O285))","v":""}]
[{"$f":"IFERROR(IF(B285=\"\",\"\",'Backend Calcs Standard'!P286),\"\")","v":""},{"$f":"IFERROR(IF(C285=\"\",\"\",(IF('Backend Calcs Standard'!$A$12=1,'Backend Calcs Standard'!S286,(('Backend Calcs Standard'!S286)*0.0283168)))),\"\")","v":""},{"$f":"IFERROR(IF(D285=\"\",\"\",(IF('Backend Calcs Standard'!$A$12=1,'Backend Calcs Standard'!T286,(('Backend Calcs Standard'!T286)*0.0283168)))),\"\")","v":""},{"$f":"IFERROR(IF(E285=\"\",\"\",(IF('Backend Calcs Standard'!$A$12=1,'Backend Calcs Standard'!U286,(('Backend Calcs Standard'!U286)*0.0283168)))),\"\")","v":""},{"$f":"IFERROR(IF(F285=\"\",\"\",(IF('Backend Calcs Standard'!$A$12=1,'Backend Calcs Standard'!V286,(('Backend Calcs Standard'!V286)*0.0283168)))),\"\")","v":""},{"$f":"IF(I285=\"\",\"\",(IF('Backend Calcs Standard'!$A$12=1,'Backend Calcs Standard'!W286,('Backend Calcs Standard'!W286*0.0283168))))","v":""},"",{"$f":"IF('Backend Calcs Standard'!$A$12=1,'Backend Calcs Standard'!X286,('Backend Calcs Standard'!X286*0.0283168))","v":""},{"$f":"IFERROR(IF(H285=\"\",\"\",(IF('Backend Calcs Standard'!$A$12=1,'Backend Calcs Standard'!Y286,'Backend Calcs Standard'!Y286*0.0283168))),\"\")","v":""},{"$f":"IF(A285=\"\",\"\",IF('Backend Calcs Standard'!$A$12=1,'Backend Calcs Standard'!Z286,'Backend Calcs Standard'!O286))","v":""}]
[{"$f":"IFERROR(IF(B286=\"\",\"\",'Backend Calcs Standard'!P287),\"\")","v":""},{"$f":"IFERROR(IF(C286=\"\",\"\",(IF('Backend Calcs Standard'!$A$12=1,'Backend Calcs Standard'!S287,(('Backend Calcs Standard'!S287)*0.0283168)))),\"\")","v":""},{"$f":"IFERROR(IF(D286=\"\",\"\",(IF('Backend Calcs Standard'!$A$12=1,'Backend Calcs Standard'!T287,(('Backend Calcs Standard'!T287)*0.0283168)))),\"\")","v":""},{"$f":"IFERROR(IF(E286=\"\",\"\",(IF('Backend Calcs Standard'!$A$12=1,'Backend Calcs Standard'!U287,(('Backend Calcs Standard'!U287)*0.0283168)))),\"\")","v":""},{"$f":"IFERROR(IF(F286=\"\",\"\",(IF('Backend Calcs Standard'!$A$12=1,'Backend Calcs Standard'!V287,(('Backend Calcs Standard'!V287)*0.0283168)))),\"\")","v":""},{"$f":"IF(I286=\"\",\"\",(IF('Backend Calcs Standard'!$A$12=1,'Backend Calcs Standard'!W287,('Backend Calcs Standard'!W287*0.0283168))))","v":""},"",{"$f":"IF('Backend Calcs Standard'!$A$12=1,'Backend Calcs Standard'!X287,('Backend Calcs Standard'!X287*0.0283168))","v":""},{"$f":"IFERROR(IF(H286=\"\",\"\",(IF('Backend Calcs Standard'!$A$12=1,'Backend Calcs Standard'!Y287,'Backend Calcs Standard'!Y287*0.0283168))),\"\")","v":""},{"$f":"IF(A286=\"\",\"\",IF('Backend Calcs Standard'!$A$12=1,'Backend Calcs Standard'!Z287,'Backend Calcs Standard'!O287))","v":""}]
[{"$f":"IFERROR(IF(B287=\"\",\"\",'Backend Calcs Standard'!P288),\"\")","v":""},{"$f":"IFERROR(IF(C287=\"\",\"\",(IF('Backend Calcs Standard'!$A$12=1,'Backend Calcs Standard'!S288,(('Backend Calcs Standard'!S288)*0.0283168)))),\"\")","v":""},{"$f":"IFERROR(IF(D287=\"\",\"\",(IF('Backend Calcs Standard'!$A$12=1,'Backend Calcs Standard'!T288,(('Backend Calcs Standard'!T288)*0.0283168)))),\"\")","v":""},{"$f":"IFERROR(IF(E287=\"\",\"\",(IF('Backend Calcs Standard'!$A$12=1,'Backend Calcs Standard'!U288,(('Backend Calcs Standard'!U288)*0.0283168)))),\"\")","v":""},{"$f":"IFERROR(IF(F287=\"\",\"\",(IF('Backend Calcs Standard'!$A$12=1,'Backend Calcs Standard'!V288,(('Backend Calcs Standard'!V288)*0.0283168)))),\"\")","v":""},{"$f":"IF(I287=\"\",\"\",(IF('Backend Calcs Standard'!$A$12=1,'Backend Calcs Standard'!W288,('Backend Calcs Standard'!W288*0.0283168))))","v":""},"",{"$f":"IF('Backend Calcs Standard'!$A$12=1,'Backend Calcs Standard'!X288,('Backend Calcs Standard'!X288*0.0283168))","v":""},{"$f":"IFERROR(IF(H287=\"\",\"\",(IF('Backend Calcs Standard'!$A$12=1,'Backend Calcs Standard'!Y288,'Backend Calcs Standard'!Y288*0.0283168))),\"\")","v":""},{"$f":"IF(A287=\"\",\"\",IF('Backend Calcs Standard'!$A$12=1,'Backend Calcs Standard'!Z288,'Backend Calcs Standard'!O288))","v":""}]
[{"$f":"IFERROR(IF(B288=\"\",\"\",'Backend Calcs Standard'!P289),\"\")","v":""},{"$f":"IFERROR(IF(C288=\"\",\"\",(IF('Backend Calcs Standard'!$A$12=1,'Backend Calcs Standard'!S289,(('Backend Calcs Standard'!S289)*0.0283168)))),\"\")","v":""},{"$f":"IFERROR(IF(D288=\"\",\"\",(IF('Backend Calcs Standard'!$A$12=1,'Backend Calcs Standard'!T289,(('Backend Calcs Standard'!T289)*0.0283168)))),\"\")","v":""},{"$f":"IFERROR(IF(E288=\"\",\"\",(IF('Backend Calcs Standard'!$A$12=1,'Backend Calcs Standard'!U289,(('Backend Calcs Standard'!U289)*0.0283168)))),\"\")","v":""},{"$f":"IFERROR(IF(F288=\"\",\"\",(IF('Backend Calcs Standard'!$A$12=1,'Backend Calcs Standard'!V289,(('Backend Calcs Standard'!V289)*0.0283168)))),\"\")","v":""},{"$f":"IF(I288=\"\",\"\",(IF('Backend Calcs Standard'!$A$12=1,'Backend Calcs Standard'!W289,('Backend Calcs Standard'!W289*0.0283168))))","v":""},"",{"$f":"IF('Backend Calcs Standard'!$A$12=1,'Backend Calcs Standard'!X289,('Backend Calcs Standard'!X289*0.0283168))","v":""},{"$f":"IFERROR(IF(H288=\"\",\"\",(IF('Backend Calcs Standard'!$A$12=1,'Backend Calcs Standard'!Y289,'Backend Calcs Standard'!Y289*0.0283168))),\"\")","v":""},{"$f":"IF(A288=\"\",\"\",IF('Backend Calcs Standard'!$A$12=1,'Backend Calcs Standard'!Z289,'Backend Calcs Standard'!O289))","v":""}]
[{"$f":"IFERROR(IF(B289=\"\",\"\",'Backend Calcs Standard'!P290),\"\")","v":""},{"$f":"IFERROR(IF(C289=\"\",\"\",(IF('Backend Calcs Standard'!$A$12=1,'Backend Calcs Standard'!S290,(('Backend Calcs Standard'!S290)*0.0283168)))),\"\")","v":""},{"$f":"IFERROR(IF(D289=\"\",\"\",(IF('Backend Calcs Standard'!$A$12=1,'Backend Calcs Standard'!T290,(('Backend Calcs Standard'!T290)*0.0283168)))),\"\")","v":""},{"$f":"IFERROR(IF(E289=\"\",\"\",(IF('Backend Calcs Standard'!$A$12=1,'Backend Calcs Standard'!U290,(('Backend Calcs Standard'!U290)*0.0283168)))),\"\")","v":""},{"$f":"IFERROR(IF(F289=\"\",\"\",(IF('Backend Calcs Standard'!$A$12=1,'Backend Calcs Standard'!V290,(('Backend Calcs Standard'!V290)*0.0283168)))),\"\")","v":""},{"$f":"IF(I289=\"\",\"\",(IF('Backend Calcs Standard'!$A$12=1,'Backend Calcs Standard'!W290,('Backend Calcs Standard'!W290*0.0283168))))","v":""},"",{"$f":"IF('Backend Calcs Standard'!$A$12=1,'Backend Calcs Standard'!X290,('Backend Calcs Standard'!X290*0.0283168))","v":""},{"$f":"IFERROR(IF(H289=\"\",\"\",(IF('Backend Calcs Standard'!$A$12=1,'Backend Calcs Standard'!Y290,'Backend Calcs Standard'!Y290*0.0283168))),\"\")","v":""},{"$f":"IF(A289=\"\",\"\",IF('Backend Calcs Standard'!$A$12=1,'Backend Calcs Standard'!Z290,'Backend Calcs Standard'!O290))","v":""}]
[{"$f":"IFERROR(IF(B290=\"\",\"\",'Backend Calcs Standard'!P291),\"\")","v":""},{"$f":"IFERROR(IF(C290=\"\",\"\",(IF('Backend Calcs Standard'!$A$12=1,'Backend Calcs Standard'!S291,(('Backend Calcs Standard'!S291)*0.0283168)))),\"\")","v":""},{"$f":"IFERROR(IF(D290=\"\",\"\",(IF('Backend Calcs Standard'!$A$12=1,'Backend Calcs Standard'!T291,(('Backend Calcs Standard'!T291)*0.0283168)))),\"\")","v":""},{"$f":"IFERROR(IF(E290=\"\",\"\",(IF('Backend Calcs Standard'!$A$12=1,'Backend Calcs Standard'!U291,(('Backend Calcs Standard'!U291)*0.0283168)))),\"\")","v":""},{"$f":"IFERROR(IF(F290=\"\",\"\",(IF('Backend Calcs Standard'!$A$12=1,'Backend Calcs Standard'!V291,(('Backend Calcs Standard'!V291)*0.0283168)))),\"\")","v":""},{"$f":"IF(I290=\"\",\"\",(IF('Backend Calcs Standard'!$A$12=1,'Backend Calcs Standard'!W291,('Backend Calcs Standard'!W291*0.0283168))))","v":""},"",{"$f":"IF('Backend Calcs Standard'!$A$12=1,'Backend Calcs Standard'!X291,('Backend Calcs Standard'!X291*0.0283168))","v":""},{"$f":"IFERROR(IF(H290=\"\",\"\",(IF('Backend Calcs Standard'!$A$12=1,'Backend Calcs Standard'!Y291,'Backend Calcs Standard'!Y291*0.0283168))),\"\")","v":""},{"$f":"IF(A290=\"\",\"\",IF('Backend Calcs Standard'!$A$12=1,'Backend Calcs Standard'!Z291,'Backend Calcs Standard'!O291))","v":""}]
[{"$f":"IFERROR(IF(B291=\"\",\"\",'Backend Calcs Standard'!P292),\"\")","v":""},{"$f":"IFERROR(IF(C291=\"\",\"\",(IF('Backend Calcs Standard'!$A$12=1,'Backend Calcs Standard'!S292,(('Backend Calcs Standard'!S292)*0.0283168)))),\"\")","v":""},{"$f":"IFERROR(IF(D291=\"\",\"\",(IF('Backend Calcs Standard'!$A$12=1,'Backend Calcs Standard'!T292,(('Backend Calcs Standard'!T292)*0.0283168)))),\"\")","v":""},{"$f":"IFERROR(IF(E291=\"\",\"\",(IF('Backend Calcs Standard'!$A$12=1,'Backend Calcs Standard'!U292,(('Backend Calcs Standard'!U292)*0.0283168)))),\"\")","v":""},{"$f":"IFERROR(IF(F291=\"\",\"\",(IF('Backend Calcs Standard'!$A$12=1,'Backend Calcs Standard'!V292,(('Backend Calcs Standard'!V292)*0.0283168)))),\"\")","v":""},{"$f":"IF(I291=\"\",\"\",(IF('Backend Calcs Standard'!$A$12=1,'Backend Calcs Standard'!W292,('Backend Calcs Standard'!W292*0.0283168))))","v":""},"",{"$f":"IF('Backend Calcs Standard'!$A$12=1,'Backend Calcs Standard'!X292,('Backend Calcs Standard'!X292*0.0283168))","v":""},{"$f":"IFERROR(IF(H291=\"\",\"\",(IF('Backend Calcs Standard'!$A$12=1,'Backend Calcs Standard'!Y292,'Backend Calcs Standard'!Y292*0.0283168))),\"\")","v":""},{"$f":"IF(A291=\"\",\"\",IF('Backend Calcs Standard'!$A$12=1,'Backend Calcs Standard'!Z292,'Backend Calcs Standard'!O292))","v":""}]
[{"$f":"IFERROR(IF(B292=\"\",\"\",'Backend Calcs Standard'!P293),\"\")","v":""},{"$f":"IFERROR(IF(C292=\"\",\"\",(IF('Backend Calcs Standard'!$A$12=1,'Backend Calcs Standard'!S293,(('Backend Calcs Standard'!S293)*0.0283168)))),\"\")","v":""},{"$f":"IFERROR(IF(D292=\"\",\"\",(IF('Backend Calcs Standard'!$A$12=1,'Backend Calcs Standard'!T293,(('Backend Calcs Standard'!T293)*0.0283168)))),\"\")","v":""},{"$f":"IFERROR(IF(E292=\"\",\"\",(IF('Backend Calcs Standard'!$A$12=1,'Backend Calcs Standard'!U293,(('Backend Calcs Standard'!U293)*0.0283168)))),\"\")","v":""},{"$f":"IFERROR(IF(F292=\"\",\"\",(IF('Backend Calcs Standard'!$A$12=1,'Backend Calcs Standard'!V293,(('Backend Calcs Standard'!V293)*0.0283168)))),\"\")","v":""},{"$f":"IF(I292=\"\",\"\",(IF('Backend Calcs Standard'!$A$12=1,'Backend Calcs Standard'!W293,('Backend Calcs Standard'!W293*0.0283168))))","v":""},"",{"$f":"IF('Backend Calcs Standard'!$A$12=1,'Backend Calcs Standard'!X293,('Backend Calcs Standard'!X293*0.0283168))","v":""},{"$f":"IFERROR(IF(H292=\"\",\"\",(IF('Backend Calcs Standard'!$A$12=1,'Backend Calcs Standard'!Y293,'Backend Calcs Standard'!Y293*0.0283168))),\"\")","v":""},{"$f":"IF(A292=\"\",\"\",IF('Backend Calcs Standard'!$A$12=1,'Backend Calcs Standard'!Z293,'Backend Calcs Standard'!O293))","v":""}]
[{"$f":"IFERROR(IF(B293=\"\",\"\",'Backend Calcs Standard'!P294),\"\")","v":""},{"$f":"IFERROR(IF(C293=\"\",\"\",(IF('Backend Calcs Standard'!$A$12=1,'Backend Calcs Standard'!S294,(('Backend Calcs Standard'!S294)*0.0283168)))),\"\")","v":""},{"$f":"IFERROR(IF(D293=\"\",\"\",(IF('Backend Calcs Standard'!$A$12=1,'Backend Calcs Standard'!T294,(('Backend Calcs Standard'!T294)*0.0283168)))),\"\")","v":""},{"$f":"IFERROR(IF(E293=\"\",\"\",(IF('Backend Calcs Standard'!$A$12=1,'Backend Calcs Standard'!U294,(('Backend Calcs Standard'!U294)*0.0283168)))),\"\")","v":""},{"$f":"IFERROR(IF(F293=\"\",\"\",(IF('Backend Calcs Standard'!$A$12=1,'Backend Calcs Standard'!V294,(('Backend Calcs Standard'!V294)*0.0283168)))),\"\")","v":""},{"$f":"IF(I293=\"\",\"\",(IF('Backend Calcs Standard'!$A$12=1,'Backend Calcs Standard'!W294,('Backend Calcs Standard'!W294*0.0283168))))","v":""},"",{"$f":"IF('Backend Calcs Standard'!$A$12=1,'Backend Calcs Standard'!X294,('Backend Calcs Standard'!X294*0.0283168))","v":""},{"$f":"IFERROR(IF(H293=\"\",\"\",(IF('Backend Calcs Standard'!$A$12=1,'Backend Calcs Standard'!Y294,'Backend Calcs Standard'!Y294*0.0283168))),\"\")","v":""},{"$f":"IF(A293=\"\",\"\",IF('Backend Calcs Standard'!$A$12=1,'Backend Calcs Standard'!Z294,'Backend Calcs Standard'!O294))","v":""}]
[{"$f":"IFERROR(IF(B294=\"\",\"\",'Backend Calcs Standard'!P295),\"\")","v":""},{"$f":"IFERROR(IF(C294=\"\",\"\",(IF('Backend Calcs Standard'!$A$12=1,'Backend Calcs Standard'!S295,(('Backend Calcs Standard'!S295)*0.0283168)))),\"\")","v":""},{"$f":"IFERROR(IF(D294=\"\",\"\",(IF('Backend Calcs Standard'!$A$12=1,'Backend Calcs Standard'!T295,(('Backend Calcs Standard'!T295)*0.0283168)))),\"\")","v":""},{"$f":"IFERROR(IF(E294=\"\",\"\",(IF('Backend Calcs Standard'!$A$12=1,'Backend Calcs Standard'!U295,(('Backend Calcs Standard'!U295)*0.0283168)))),\"\")","v":""},{"$f":"IFERROR(IF(F294=\"\",\"\",(IF('Backend Calcs Standard'!$A$12=1,'Backend Calcs Standard'!V295,(('Backend Calcs Standard'!V295)*0.0283168)))),\"\")","v":""},{"$f":"IF(I294=\"\",\"\",(IF('Backend Calcs Standard'!$A$12=1,'Backend Calcs Standard'!W295,('Backend Calcs Standard'!W295*0.0283168))))","v":""},"",{"$f":"IF('Backend Calcs Standard'!$A$12=1,'Backend Calcs Standard'!X295,('Backend Calcs Standard'!X295*0.0283168))","v":""},{"$f":"IFERROR(IF(H294=\"\",\"\",(IF('Backend Calcs Standard'!$A$12=1,'Backend Calcs Standard'!Y295,'Backend Calcs Standard'!Y295*0.0283168))),\"\")","v":""},{"$f":"IF(A294=\"\",\"\",IF('Backend Calcs Standard'!$A$12=1,'Backend Calcs Standard'!Z295,'Backend Calcs Standard'!O295))","v":""}]
[{"$f":"IFERROR(IF(B295=\"\",\"\",'Backend Calcs Standard'!P296),\"\")","v":""},{"$f":"IFERROR(IF(C295=\"\",\"\",(IF('Backend Calcs Standard'!$A$12=1,'Backend Calcs Standard'!S296,(('Backend Calcs Standard'!S296)*0.0283168)))),\"\")","v":""},{"$f":"IFERROR(IF(D295=\"\",\"\",(IF('Backend Calcs Standard'!$A$12=1,'Backend Calcs Standard'!T296,(('Backend Calcs Standard'!T296)*0.0283168)))),\"\")","v":""},{"$f":"IFERROR(IF(E295=\"\",\"\",(IF('Backend Calcs Standard'!$A$12=1,'Backend Calcs Standard'!U296,(('Backend Calcs Standard'!U296)*0.0283168)))),\"\")","v":""},{"$f":"IFERROR(IF(F295=\"\",\"\",(IF('Backend Calcs Standard'!$A$12=1,'Backend Calcs Standard'!V296,(('Backend Calcs Standard'!V296)*0.0283168)))),\"\")","v":""},{"$f":"IF(I295=\"\",\"\",(IF('Backend Calcs Standard'!$A$12=1,'Backend Calcs Standard'!W296,('Backend Calcs Standard'!W296*0.0283168))))","v":""},"",{"$f":"IF('Backend Calcs Standard'!$A$12=1,'Backend Calcs Standard'!X296,('Backend Calcs Standard'!X296*0.0283168))","v":""},{"$f":"IFERROR(IF(H295=\"\",\"\",(IF('Backend Calcs Standard'!$A$12=1,'Backend Calcs Standard'!Y296,'Backend Calcs Standard'!Y296*0.0283168))),\"\")","v":""},{"$f":"IF(A295=\"\",\"\",IF('Backend Calcs Standard'!$A$12=1,'Backend Calcs Standard'!Z296,'Backend Calcs Standard'!O296))","v":""}]
[{"$f":"IFERROR(IF(B296=\"\",\"\",'Backend Calcs Standard'!P297),\"\")","v":""},{"$f":"IFERROR(IF(C296=\"\",\"\",(IF('Backend Calcs Standard'!$A$12=1,'Backend Calcs Standard'!S297,(('Backend Calcs Standard'!S297)*0.0283168)))),\"\")","v":""},{"$f":"IFERROR(IF(D296=\"\",\"\",(IF('Backend Calcs Standard'!$A$12=1,'Backend Calcs Standard'!T297,(('Backend Calcs Standard'!T297)*0.0283168)))),\"\")","v":""},{"$f":"IFERROR(IF(E296=\"\",\"\",(IF('Backend Calcs Standard'!$A$12=1,'Backend Calcs Standard'!U297,(('Backend Calcs Standard'!U297)*0.0283168)))),\"\")","v":""},{"$f":"IFERROR(IF(F296=\"\",\"\",(IF('Backend Calcs Standard'!$A$12=1,'Backend Calcs Standard'!V297,(('Backend Calcs Standard'!V297)*0.0283168)))),\"\")","v":""},{"$f":"IF(I296=\"\",\"\",(IF('Backend Calcs Standard'!$A$12=1,'Backend Calcs Standard'!W297,('Backend Calcs Standard'!W297*0.0283168))))","v":""},"",{"$f":"IF('Backend Calcs Standard'!$A$12=1,'Backend Calcs Standard'!X297,('Backend Calcs Standard'!X297*0.0283168))","v":""},{"$f":"IFERROR(IF(H296=\"\",\"\",(IF('Backend Calcs Standard'!$A$12=1,'Backend Calcs Standard'!Y297,'Backend Calcs Standard'!Y297*0.0283168))),\"\")","v":""},{"$f":"IF(A296=\"\",\"\",IF('Backend Calcs Standard'!$A$12=1,'Backend Calcs Standard'!Z297,'Backend Calcs Standard'!O297))","v":""}]
[{"$f":"IFERROR(IF(B297=\"\",\"\",'Backend Calcs Standard'!P298),\"\")","v":""},{"$f":"IFERROR(IF(C297=\"\",\"\",(IF('Backend Calcs Standard'!$A$12=1,'Backend Calcs Standard'!S298,(('Backend Calcs Standard'!S298)*0.0283168)))),\"\")","v":""},{"$f":"IFERROR(IF(D297=\"\",\"\",(IF('Backend Calcs Standard'!$A$12=1,'Backend Calcs Standard'!T298,(('Backend Calcs Standard'!T298)*0.0283168)))),\"\")","v":""},{"$f":"IFERROR(IF(E297=\"\",\"\",(IF('Backend Calcs Standard'!$A$12=1,'Backend Calcs Standard'!U298,(('Backend Calcs Standard'!U298)*0.0283168)))),\"\")","v":""},{"$f":"IFERROR(IF(F297=\"\",\"\",(IF('Backend Calcs Standard'!$A$12=1,'Backend Calcs Standard'!V298,(('Backend Calcs Standard'!V298)*0.0283168)))),\"\")","v":""},{"$f":"IF(I297=\"\",\"\",(IF('Backend Calcs Standard'!$A$12=1,'Backend Calcs Standard'!W298,('Backend Calcs Standard'!W298*0.0283168))))","v":""},"",{"$f":"IF('Backend Calcs Standard'!$A$12=1,'Backend Calcs Standard'!X298,('Backend Calcs Standard'!X298*0.0283168))","v":""},{"$f":"IFERROR(IF(H297=\"\",\"\",(IF('Backend Calcs Standard'!$A$12=1,'Backend Calcs Standard'!Y298,'Backend Calcs Standard'!Y298*0.0283168))),\"\")","v":""},{"$f":"IF(A297=\"\",\"\",IF('Backend Calcs Standard'!$A$12=1,'Backend Calcs Standard'!Z298,'Backend Calcs Standard'!O298))","v":""}]
[{"$f":"IFERROR(IF(B298=\"\",\"\",'Backend Calcs Standard'!P299),\"\")","v":""},{"$f":"IFERROR(IF(C298=\"\",\"\",(IF('Backend Calcs Standard'!$A$12=1,'Backend Calcs Standard'!S299,(('Backend Calcs Standard'!S299)*0.0283168)))),\"\")","v":""},{"$f":"IFERROR(IF(D298=\"\",\"\",(IF('Backend Calcs Standard'!$A$12=1,'Backend Calcs Standard'!T299,(('Backend Calcs Standard'!T299)*0.0283168)))),\"\")","v":""},{"$f":"IFERROR(IF(E298=\"\",\"\",(IF('Backend Calcs Standard'!$A$12=1,'Backend Calcs Standard'!U299,(('Backend Calcs Standard'!U299)*0.0283168)))),\"\")","v":""},{"$f":"IFERROR(IF(F298=\"\",\"\",(IF('Backend Calcs Standard'!$A$12=1,'Backend Calcs Standard'!V299,(('Backend Calcs Standard'!V299)*0.0283168)))),\"\")","v":""},{"$f":"IF(I298=\"\",\"\",(IF('Backend Calcs Standard'!$A$12=1,'Backend Calcs Standard'!W299,('Backend Calcs Standard'!W299*0.0283168))))","v":""},"",{"$f":"IF('Backend Calcs Standard'!$A$12=1,'Backend Calcs Standard'!X299,('Backend Calcs Standard'!X299*0.0283168))","v":""},{"$f":"IFERROR(IF(H298=\"\",\"\",(IF('Backend Calcs Standard'!$A$12=1,'Backend Calcs Standard'!Y299,'Backend Calcs Standard'!Y299*0.0283168))),\"\")","v":""},{"$f":"IF(A298=\"\",\"\",IF('Backend Calcs Standard'!$A$12=1,'Backend Calcs Standard'!Z299,'Backend Calcs Standard'!O299))","v":""}]
[{"$f":"IFERROR(IF(B299=\"\",\"\",'Backend Calcs Standard'!P300),\"\")","v":""},{"$f":"IFERROR(IF(C299=\"\",\"\",(IF('Backend Calcs Standard'!$A$12=1,'Backend Calcs Standard'!S300,(('Backend Calcs Standard'!S300)*0.0283168)))),\"\")","v":""},{"$f":"IFERROR(IF(D299=\"\",\"\",(IF('Backend Calcs Standard'!$A$12=1,'Backend Calcs Standard'!T300,(('Backend Calcs Standard'!T300)*0.0283168)))),\"\")","v":""},{"$f":"IFERROR(IF(E299=\"\",\"\",(IF('Backend Calcs Standard'!$A$12=1,'Backend Calcs Standard'!U300,(('Backend Calcs Standard'!U300)*0.0283168)))),\"\")","v":""},{"$f":"IFERROR(IF(F299=\"\",\"\",(IF('Backend Calcs Standard'!$A$12=1,'Backend Calcs Standard'!V300,(('Backend Calcs Standard'!V300)*0.0283168)))),\"\")","v":""},{"$f":"IF(I299=\"\",\"\",(IF('Backend Calcs Standard'!$A$12=1,'Backend Calcs Standard'!W300,('Backend Calcs Standard'!W300*0.0283168))))","v":""},"",{"$f":"IF('Backend Calcs Standard'!$A$12=1,'Backend Calcs Standard'!X300,('Backend Calcs Standard'!X300*0.0283168))","v":""},{"$f":"IFERROR(IF(H299=\"\",\"\",(IF('Backend Calcs Standard'!$A$12=1,'Backend Calcs Standard'!Y300,'Backend Calcs Standard'!Y300*0.0283168))),\"\")","v":""},{"$f":"IF(A299=\"\",\"\",IF('Backend Calcs Standard'!$A$12=1,'Backend Calcs Standard'!Z300,'Backend Calcs Standard'!O300))","v":""}]
[{"$f":"IFERROR(IF(B300=\"\",\"\",'Backend Calcs Standard'!P301),\"\")","v":""},{"$f":"IFERROR(IF(C300=\"\",\"\",(IF('Backend Calcs Standard'!$A$12=1,'Backend Calcs Standard'!S301,(('Backend Calcs Standard'!S301)*0.0283168)))),\"\")","v":""},{"$f":"IFERROR(IF(D300=\"\",\"\",(IF('Backend Calcs Standard'!$A$12=1,'Backend Calcs Standard'!T301,(('Backend Calcs Standard'!T301)*0.0283168)))),\"\")","v":""},{"$f":"IFERROR(IF(E300=\"\",\"\",(IF('Backend Calcs Standard'!$A$12=1,'Backend Calcs Standard'!U301,(('Backend Calcs Standard'!U301)*0.0283168)))),\"\")","v":""},{"$f":"IFERROR(IF(F300=\"\",\"\",(IF('Backend Calcs Standard'!$A$12=1,'Backend Calcs Standard'!V301,(('Backend Calcs Standard'!V301)*0.0283168)))),\"\")","v":""},{"$f":"IF(I300=\"\",\"\",(IF('Backend Calcs Standard'!$A$12=1,'Backend Calcs Standard'!W301,('Backend Calcs Standard'!W301*0.0283168))))","v":""},"",{"$f":"IF('Backend Calcs Standard'!$A$12=1,'Backend Calcs Standard'!X301,('Backend Calcs Standard'!X301*0.0283168))","v":""},{"$f":"IFERROR(IF(H300=\"\",\"\",(IF('Backend Calcs Standard'!$A$12=1,'Backend Calcs Standard'!Y301,'Backend Calcs Standard'!Y301*0.0283168))),\"\")","v":""},{"$f":"IF(A300=\"\",\"\",IF('Backend Calcs Standard'!$A$12=1,'Backend Calcs Standard'!Z301,'Backend Calcs Standard'!O301))","v":""}]
[{"$f":"IFERROR(IF(B301=\"\",\"\",'Backend Calcs Standard'!P302),\"\")","v":""},{"$f":"IFERROR(IF(C301=\"\",\"\",(IF('Backend Calcs Standard'!$A$12=1,'Backend Calcs Standard'!S302,(('Backend Calcs Standard'!S302)*0.0283168)))),\"\")","v":""},{"$f":"IFERROR(IF(D301=\"\",\"\",(IF('Backend Calcs Standard'!$A$12=1,'Backend Calcs Standard'!T302,(('Backend Calcs Standard'!T302)*0.0283168)))),\"\")","v":""},{"$f":"IFERROR(IF(E301=\"\",\"\",(IF('Backend Calcs Standard'!$A$12=1,'Backend Calcs Standard'!U302,(('Backend Calcs Standard'!U302)*0.0283168)))),\"\")","v":""},{"$f":"IFERROR(IF(F301=\"\",\"\",(IF('Backend Calcs Standard'!$A$12=1,'Backend Calcs Standard'!V302,(('Backend Calcs Standard'!V302)*0.0283168)))),\"\")","v":""},{"$f":"IF(I301=\"\",\"\",(IF('Backend Calcs Standard'!$A$12=1,'Backend Calcs Standard'!W302,('Backend Calcs Standard'!W302*0.0283168))))","v":""},"",{"$f":"IF('Backend Calcs Standard'!$A$12=1,'Backend Calcs Standard'!X302,('Backend Calcs Standard'!X302*0.0283168))","v":""},{"$f":"IFERROR(IF(H301=\"\",\"\",(IF('Backend Calcs Standard'!$A$12=1,'Backend Calcs Standard'!Y302,'Backend Calcs Standard'!Y302*0.0283168))),\"\")","v":""},{"$f":"IF(A301=\"\",\"\",IF('Backend Calcs Standard'!$A$12=1,'Backend Calcs Standard'!Z302,'Backend Calcs Standard'!O302))","v":""}]
[{"$f":"IFERROR(IF(B302=\"\",\"\",'Backend Calcs Standard'!P303),\"\")","v":""},{"$f":"IFERROR(IF(C302=\"\",\"\",(IF('Backend Calcs Standard'!$A$12=1,'Backend Calcs Standard'!S303,(('Backend Calcs Standard'!S303)*0.0283168)))),\"\")","v":""},{"$f":"IFERROR(IF(D302=\"\",\"\",(IF('Backend Calcs Standard'!$A$12=1,'Backend Calcs Standard'!T303,(('Backend Calcs Standard'!T303)*0.0283168)))),\"\")","v":""},{"$f":"IFERROR(IF(E302=\"\",\"\",(IF('Backend Calcs Standard'!$A$12=1,'Backend Calcs Standard'!U303,(('Backend Calcs Standard'!U303)*0.0283168)))),\"\")","v":""},{"$f":"IFERROR(IF(F302=\"\",\"\",(IF('Backend Calcs Standard'!$A$12=1,'Backend Calcs Standard'!V303,(('Backend Calcs Standard'!V303)*0.0283168)))),\"\")","v":""},{"$f":"IF(I302=\"\",\"\",(IF('Backend Calcs Standard'!$A$12=1,'Backend Calcs Standard'!W303,('Backend Calcs Standard'!W303*0.0283168))))","v":""},"",{"$f":"IF('Backend Calcs Standard'!$A$12=1,'Backend Calcs Standard'!X303,('Backend Calcs Standard'!X303*0.0283168))","v":""},{"$f":"IFERROR(IF(H302=\"\",\"\",(IF('Backend Calcs Standard'!$A$12=1,'Backend Calcs Standard'!Y303,'Backend Calcs Standard'!Y303*0.0283168))),\"\")","v":""},{"$f":"IF(A302=\"\",\"\",IF('Backend Calcs Standard'!$A$12=1,'Backend Calcs Standard'!Z303,'Backend Calcs Standard'!O303))","v":""}]
[{"$f":"IFERROR(IF(B303=\"\",\"\",'Backend Calcs Standard'!P304),\"\")","v":""},{"$f":"IFERROR(IF(C303=\"\",\"\",(IF('Backend Calcs Standard'!$A$12=1,'Backend Calcs Standard'!S304,(('Backend Calcs Standard'!S304)*0.0283168)))),\"\")","v":""},{"$f":"IFERROR(IF(D303=\"\",\"\",(IF('Backend Calcs Standard'!$A$12=1,'Backend Calcs Standard'!T304,(('Backend Calcs Standard'!T304)*0.0283168)))),\"\")","v":""},{"$f":"IFERROR(IF(E303=\"\",\"\",(IF('Backend Calcs Standard'!$A$12=1,'Backend Calcs Standard'!U304,(('Backend Calcs Standard'!U304)*0.0283168)))),\"\")","v":""},{"$f":"IFERROR(IF(F303=\"\",\"\",(IF('Backend Calcs Standard'!$A$12=1,'Backend Calcs Standard'!V304,(('Backend Calcs Standard'!V304)*0.0283168)))),\"\")","v":""},{"$f":"IF(I303=\"\",\"\",(IF('Backend Calcs Standard'!$A$12=1,'Backend Calcs Standard'!W304,('Backend Calcs Standard'!W304*0.0283168))))","v":""},"",{"$f":"IF('Backend Calcs Standard'!$A$12=1,'Backend Calcs Standard'!X304,('Backend Calcs Standard'!X304*0.0283168))","v":""},{"$f":"IFERROR(IF(H303=\"\",\"\",(IF('Backend Calcs Standard'!$A$12=1,'Backend Calcs Standard'!Y304,'Backend Calcs Standard'!Y304*0.0283168))),\"\")","v":""},{"$f":"IF(A303=\"\",\"\",IF('Backend Calcs Standard'!$A$12=1,'Backend Calcs Standard'!Z304,'Backend Calcs Standard'!O304))","v":""}]
[{"$f":"IFERROR(IF(B304=\"\",\"\",'Backend Calcs Standard'!P305),\"\")","v":""},{"$f":"IFERROR(IF(C304=\"\",\"\",(IF('Backend Calcs Standard'!$A$12=1,'Backend Calcs Standard'!S305,(('Backend Calcs Standard'!S305)*0.0283168)))),\"\")","v":""},{"$f":"IFERROR(IF(D304=\"\",\"\",(IF('Backend Calcs Standard'!$A$12=1,'Backend Calcs Standard'!T305,(('Backend Calcs Standard'!T305)*0.0283168)))),\"\")","v":""},{"$f":"IFERROR(IF(E304=\"\",\"\",(IF('Backend Calcs Standard'!$A$12=1,'Backend Calcs Standard'!U305,(('Backend Calcs Standard'!U305)*0.0283168)))),\"\")","v":""},{"$f":"IFERROR(IF(F304=\"\",\"\",(IF('Backend Calcs Standard'!$A$12=1,'Backend Calcs Standard'!V305,(('Backend Calcs Standard'!V305)*0.0283168)))),\"\")","v":""},{"$f":"IF(I304=\"\",\"\",(IF('Backend Calcs Standard'!$A$12=1,'Backend Calcs Standard'!W305,('Backend Calcs Standard'!W305*0.0283168))))","v":""},"",{"$f":"IF('Backend Calcs Standard'!$A$12=1,'Backend Calcs Standard'!X305,('Backend Calcs Standard'!X305*0.0283168))","v":""},{"$f":"IFERROR(IF(H304=\"\",\"\",(IF('Backend Calcs Standard'!$A$12=1,'Backend Calcs Standard'!Y305,'Backend Calcs Standard'!Y305*0.0283168))),\"\")","v":""},{"$f":"IF(A304=\"\",\"\",IF('Backend Calcs Standard'!$A$12=1,'Backend Calcs Standard'!Z305,'Backend Calcs Standard'!O305))","v":""}]
[{"$f":"IFERROR(IF(B305=\"\",\"\",'Backend Calcs Standard'!P306),\"\")","v":""},{"$f":"IFERROR(IF(C305=\"\",\"\",(IF('Backend Calcs Standard'!$A$12=1,'Backend Calcs Standard'!S306,(('Backend Calcs Standard'!S306)*0.0283168)))),\"\")","v":""},{"$f":"IFERROR(IF(D305=\"\",\"\",(IF('Backend Calcs Standard'!$A$12=1,'Backend Calcs Standard'!T306,(('Backend Calcs Standard'!T306)*0.0283168)))),\"\")","v":""},{"$f":"IFERROR(IF(E305=\"\",\"\",(IF('Backend Calcs Standard'!$A$12=1,'Backend Calcs Standard'!U306,(('Backend Calcs Standard'!U306)*0.0283168)))),\"\")","v":""},{"$f":"IFERROR(IF(F305=\"\",\"\",(IF('Backend Calcs Standard'!$A$12=1,'Backend Calcs Standard'!V306,(('Backend Calcs Standard'!V306)*0.0283168)))),\"\")","v":""},{"$f":"IF(I305=\"\",\"\",(IF('Backend Calcs Standard'!$A$12=1,'Backend Calcs Standard'!W306,('Backend Calcs Standard'!W306*0.0283168))))","v":""},"",{"$f":"IF('Backend Calcs Standard'!$A$12=1,'Backend Calcs Standard'!X306,('Backend Calcs Standard'!X306*0.0283168))","v":""},{"$f":"IFERROR(IF(H305=\"\",\"\",(IF('Backend Calcs Standard'!$A$12=1,'Backend Calcs Standard'!Y306,'Backend Calcs Standard'!Y306*0.0283168))),\"\")","v":""},{"$f":"IF(A305=\"\",\"\",IF('Backend Calcs Standard'!$A$12=1,'Backend Calcs Standard'!Z306,'Backend Calcs Standard'!O306))","v":""}]
[{"$f":"IFERROR(IF(B306=\"\",\"\",'Backend Calcs Standard'!P307),\"\")","v":""},{"$f":"IFERROR(IF(C306=\"\",\"\",(IF('Backend Calcs Standard'!$A$12=1,'Backend Calcs Standard'!S307,(('Backend Calcs Standard'!S307)*0.0283168)))),\"\")","v":""},{"$f":"IFERROR(IF(D306=\"\",\"\",(IF('Backend Calcs Standard'!$A$12=1,'Backend Calcs Standard'!T307,(('Backend Calcs Standard'!T307)*0.0283168)))),\"\")","v":""},{"$f":"IFERROR(IF(E306=\"\",\"\",(IF('Backend Calcs Standard'!$A$12=1,'Backend Calcs Standard'!U307,(('Backend Calcs Standard'!U307)*0.0283168)))),\"\")","v":""},{"$f":"IFERROR(IF(F306=\"\",\"\",(IF('Backend Calcs Standard'!$A$12=1,'Backend Calcs Standard'!V307,(('Backend Calcs Standard'!V307)*0.0283168)))),\"\")","v":""},{"$f":"IF(I306=\"\",\"\",(IF('Backend Calcs Standard'!$A$12=1,'Backend Calcs Standard'!W307,('Backend Calcs Standard'!W307*0.0283168))))","v":""},"",{"$f":"IF('Backend Calcs Standard'!$A$12=1,'Backend Calcs Standard'!X307,('Backend Calcs Standard'!X307*0.0283168))","v":""},{"$f":"IFERROR(IF(H306=\"\",\"\",(IF('Backend Calcs Standard'!$A$12=1,'Backend Calcs Standard'!Y307,'Backend Calcs Standard'!Y307*0.0283168))),\"\")","v":""},{"$f":"IF(A306=\"\",\"\",IF('Backend Calcs Standard'!$A$12=1,'Backend Calcs Standard'!Z307,'Backend Calcs Standard'!O307))","v":""}]
[{"$f":"IFERROR(IF(B307=\"\",\"\",'Backend Calcs Standard'!P308),\"\")","v":""},{"$f":"IFERROR(IF(C307=\"\",\"\",(IF('Backend Calcs Standard'!$A$12=1,'Backend Calcs Standard'!S308,(('Backend Calcs Standard'!S308)*0.0283168)))),\"\")","v":""},{"$f":"IFERROR(IF(D307=\"\",\"\",(IF('Backend Calcs Standard'!$A$12=1,'Backend Calcs Standard'!T308,(('Backend Calcs Standard'!T308)*0.0283168)))),\"\")","v":""},{"$f":"IFERROR(IF(E307=\"\",\"\",(IF('Backend Calcs Standard'!$A$12=1,'Backend Calcs Standard'!U308,(('Backend Calcs Standard'!U308)*0.0283168)))),\"\")","v":""},{"$f":"IFERROR(IF(F307=\"\",\"\",(IF('Backend Calcs Standard'!$A$12=1,'Backend Calcs Standard'!V308,(('Backend Calcs Standard'!V308)*0.0283168)))),\"\")","v":""},{"$f":"IF(I307=\"\",\"\",(IF('Backend Calcs Standard'!$A$12=1,'Backend Calcs Standard'!W308,('Backend Calcs Standard'!W308*0.0283168))))","v":""},"",{"$f":"IF('Backend Calcs Standard'!$A$12=1,'Backend Calcs Standard'!X308,('Backend Calcs Standard'!X308*0.0283168))","v":""},{"$f":"IFERROR(IF(H307=\"\",\"\",(IF('Backend Calcs Standard'!$A$12=1,'Backend Calcs Standard'!Y308,'Backend Calcs Standard'!Y308*0.0283168))),\"\")","v":""},{"$f":"IF(A307=\"\",\"\",IF('Backend Calcs Standard'!$A$12=1,'Backend Calcs Standard'!Z308,'Backend Calcs Standard'!O308))","v":""}]
[{"$f":"IFERROR(IF(B308=\"\",\"\",'Backend Calcs Standard'!P309),\"\")","v":""},{"$f":"IFERROR(IF(C308=\"\",\"\",(IF('Backend Calcs Standard'!$A$12=1,'Backend Calcs Standard'!S309,(('Backend Calcs Standard'!S309)*0.0283168)))),\"\")","v":""},{"$f":"IFERROR(IF(D308=\"\",\"\",(IF('Backend Calcs Standard'!$A$12=1,'Backend Calcs Standard'!T309,(('Backend Calcs Standard'!T309)*0.0283168)))),\"\")","v":""},{"$f":"IFERROR(IF(E308=\"\",\"\",(IF('Backend Calcs Standard'!$A$12=1,'Backend Calcs Standard'!U309,(('Backend Calcs Standard'!U309)*0.0283168)))),\"\")","v":""},{"$f":"IFERROR(IF(F308=\"\",\"\",(IF('Backend Calcs Standard'!$A$12=1,'Backend Calcs Standard'!V309,(('Backend Calcs Standard'!V309)*0.0283168)))),\"\")","v":""},{"$f":"IF(I308=\"\",\"\",(IF('Backend Calcs Standard'!$A$12=1,'Backend Calcs Standard'!W309,('Backend Calcs Standard'!W309*0.0283168))))","v":""},"",{"$f":"IF('Backend Calcs Standard'!$A$12=1,'Backend Calcs Standard'!X309,('Backend Calcs Standard'!X309*0.0283168))","v":""},{"$f":"IFERROR(IF(H308=\"\",\"\",(IF('Backend Calcs Standard'!$A$12=1,'Backend Calcs Standard'!Y309,'Backend Calcs Standard'!Y309*0.0283168))),\"\")","v":""},{"$f":"IF(A308=\"\",\"\",IF('Backend Calcs Standard'!$A$12=1,'Backend Calcs Standard'!Z309,'Backend Calcs Standard'!O309))","v":""}]
[{"$f":"IFERROR(IF(B309=\"\",\"\",'Backend Calcs Standard'!P310),\"\")","v":""},{"$f":"IFERROR(IF(C309=\"\",\"\",(IF('Backend Calcs Standard'!$A$12=1,'Backend Calcs Standard'!S310,(('Backend Calcs Standard'!S310)*0.0283168)))),\"\")","v":""},{"$f":"IFERROR(IF(D309=\"\",\"\",(IF('Backend Calcs Standard'!$A$12=1,'Backend Calcs Standard'!T310,(('Backend Calcs Standard'!T310)*0.0283168)))),\"\")","v":""},{"$f":"IFERROR(IF(E309=\"\",\"\",(IF('Backend Calcs Standard'!$A$12=1,'Backend Calcs Standard'!U310,(('Backend Calcs Standard'!U310)*0.0283168)))),\"\")","v":""},{"$f":"IFERROR(IF(F309=\"\",\"\",(IF('Backend Calcs Standard'!$A$12=1,'Backend Calcs Standard'!V310,(('Backend Calcs Standard'!V310)*0.0283168)))),\"\")","v":""},{"$f":"IF(I309=\"\",\"\",(IF('Backend Calcs Standard'!$A$12=1,'Backend Calcs Standard'!W310,('Backend Calcs Standard'!W310*0.0283168))))","v":""},"",{"$f":"IF('Backend Calcs Standard'!$A$12=1,'Backend Calcs Standard'!X310,('Backend Calcs Standard'!X310*0.0283168))","v":""},{"$f":"IFERROR(IF(H309=\"\",\"\",(IF('Backend Calcs Standard'!$A$12=1,'Backend Calcs Standard'!Y310,'Backend Calcs Standard'!Y310*0.0283168))),\"\")","v":""},{"$f":"IF(A309=\"\",\"\",IF('Backend Calcs Standard'!$A$12=1,'Backend Calcs Standard'!Z310,'Backend Calcs Standard'!O310))","v":""}]
[{"$f":"IFERROR(IF(B310=\"\",\"\",'Backend Calcs Standard'!P311),\"\")","v":""},{"$f":"IFERROR(IF(C310=\"\",\"\",(IF('Backend Calcs Standard'!$A$12=1,'Backend Calcs Standard'!S311,(('Backend Calcs Standard'!S311)*0.0283168)))),\"\")","v":""},{"$f":"IFERROR(IF(D310=\"\",\"\",(IF('Backend Calcs Standard'!$A$12=1,'Backend Calcs Standard'!T311,(('Backend Calcs Standard'!T311)*0.0283168)))),\"\")","v":""},{"$f":"IFERROR(IF(E310=\"\",\"\",(IF('Backend Calcs Standard'!$A$12=1,'Backend Calcs Standard'!U311,(('Backend Calcs Standard'!U311)*0.0283168)))),\"\")","v":""},{"$f":"IFERROR(IF(F310=\"\",\"\",(IF('Backend Calcs Standard'!$A$12=1,'Backend Calcs Standard'!V311,(('Backend Calcs Standard'!V311)*0.0283168)))),\"\")","v":""},{"$f":"IF(I310=\"\",\"\",(IF('Backend Calcs Standard'!$A$12=1,'Backend Calcs Standard'!W311,('Backend Calcs Standard'!W311*0.0283168))))","v":""},"",{"$f":"IF('Backend Calcs Standard'!$A$12=1,'Backend Calcs Standard'!X311,('Backend Calcs Standard'!X311*0.0283168))","v":""},{"$f":"IFERROR(IF(H310=\"\",\"\",(IF('Backend Calcs Standard'!$A$12=1,'Backend Calcs Standard'!Y311,'Backend Calcs Standard'!Y311*0.0283168))),\"\")","v":""},{"$f":"IF(A310=\"\",\"\",IF('Backend Calcs Standard'!$A$12=1,'Backend Calcs Standard'!Z311,'Backend Calcs Standard'!O311))","v":""}]
[{"$f":"IFERROR(IF(B311=\"\",\"\",'Backend Calcs Standard'!P312),\"\")","v":""},{"$f":"IFERROR(IF(C311=\"\",\"\",(IF('Backend Calcs Standard'!$A$12=1,'Backend Calcs Standard'!S312,(('Backend Calcs Standard'!S312)*0.0283168)))),\"\")","v":""},{"$f":"IFERROR(IF(D311=\"\",\"\",(IF('Backend Calcs Standard'!$A$12=1,'Backend Calcs Standard'!T312,(('Backend Calcs Standard'!T312)*0.0283168)))),\"\")","v":""},{"$f":"IFERROR(IF(E311=\"\",\"\",(IF('Backend Calcs Standard'!$A$12=1,'Backend Calcs Standard'!U312,(('Backend Calcs Standard'!U312)*0.0283168)))),\"\")","v":""},{"$f":"IFERROR(IF(F311=\"\",\"\",(IF('Backend Calcs Standard'!$A$12=1,'Backend Calcs Standard'!V312,(('Backend Calcs Standard'!V312)*0.0283168)))),\"\")","v":""},{"$f":"IF(I311=\"\",\"\",(IF('Backend Calcs Standard'!$A$12=1,'Backend Calcs Standard'!W312,('Backend Calcs Standard'!W312*0.0283168))))","v":""},"",{"$f":"IF('Backend Calcs Standard'!$A$12=1,'Backend Calcs Standard'!X312,('Backend Calcs Standard'!X312*0.0283168))","v":""},{"$f":"IFERROR(IF(H311=\"\",\"\",(IF('Backend Calcs Standard'!$A$12=1,'Backend Calcs Standard'!Y312,'Backend Calcs Standard'!Y312*0.0283168))),\"\")","v":""},{"$f":"IF(A311=\"\",\"\",IF('Backend Calcs Standard'!$A$12=1,'Backend Calcs Standard'!Z312,'Backend Calcs Standard'!O312))","v":""}]
[{"$f":"IFERROR(IF(B312=\"\",\"\",'Backend Calcs Standard'!P313),\"\")","v":""},{"$f":"IFERROR(IF(C312=\"\",\"\",(IF('Backend Calcs Standard'!$A$12=1,'Backend Calcs Standard'!S313,(('Backend Calcs Standard'!S313)*0.0283168)))),\"\")","v":""},{"$f":"IFERROR(IF(D312=\"\",\"\",(IF('Backend Calcs Standard'!$A$12=1,'Backend Calcs Standard'!T313,(('Backend Calcs Standard'!T313)*0.0283168)))),\"\")","v":""},{"$f":"IFERROR(IF(E312=\"\",\"\",(IF('Backend Calcs Standard'!$A$12=1,'Backend Calcs Standard'!U313,(('Backend Calcs Standard'!U313)*0.0283168)))),\"\")","v":""},{"$f":"IFERROR(IF(F312=\"\",\"\",(IF('Backend Calcs Standard'!$A$12=1,'Backend Calcs Standard'!V313,(('Backend Calcs Standard'!V313)*0.0283168)))),\"\")","v":""},{"$f":"IF(I312=\"\",\"\",(IF('Backend Calcs Standard'!$A$12=1,'Backend Calcs Standard'!W313,('Backend Calcs Standard'!W313*0.0283168))))","v":""},"",{"$f":"IF('Backend Calcs Standard'!$A$12=1,'Backend Calcs Standard'!X313,('Backend Calcs Standard'!X313*0.0283168))","v":""},{"$f":"IFERROR(IF(H312=\"\",\"\",(IF('Backend Calcs Standard'!$A$12=1,'Backend Calcs Standard'!Y313,'Backend Calcs Standard'!Y313*0.0283168))),\"\")","v":""},{"$f":"IF(A312=\"\",\"\",IF('Backend Calcs Standard'!$A$12=1,'Backend Calcs Standard'!Z313,'Backend Calcs Standard'!O313))","v":""}]
[{"$f":"IFERROR(IF(B313=\"\",\"\",'Backend Calcs Standard'!P314),\"\")","v":""},{"$f":"IFERROR(IF(C313=\"\",\"\",(IF('Backend Calcs Standard'!$A$12=1,'Backend Calcs Standard'!S314,(('Backend Calcs Standard'!S314)*0.0283168)))),\"\")","v":""},{"$f":"IFERROR(IF(D313=\"\",\"\",(IF('Backend Calcs Standard'!$A$12=1,'Backend Calcs Standard'!T314,(('Backend Calcs Standard'!T314)*0.0283168)))),\"\")","v":""},{"$f":"IFERROR(IF(E313=\"\",\"\",(IF('Backend Calcs Standard'!$A$12=1,'Backend Calcs Standard'!U314,(('Backend Calcs Standard'!U314)*0.0283168)))),\"\")","v":""},{"$f":"IFERROR(IF(F313=\"\",\"\",(IF('Backend Calcs Standard'!$A$12=1,'Backend Calcs Standard'!V314,(('Backend Calcs Standard'!V314)*0.0283168)))),\"\")","v":""},{"$f":"IF(I313=\"\",\"\",(IF('Backend Calcs Standard'!$A$12=1,'Backend Calcs Standard'!W314,('Backend Calcs Standard'!W314*0.0283168))))","v":""},"",{"$f":"IF('Backend Calcs Standard'!$A$12=1,'Backend Calcs Standard'!X314,('Backend Calcs Standard'!X314*0.0283168))","v":""},{"$f":"IFERROR(IF(H313=\"\",\"\",(IF('Backend Calcs Standard'!$A$12=1,'Backend Calcs Standard'!Y314,'Backend Calcs Standard'!Y314*0.0283168))),\"\")","v":""},{"$f":"IF(A313=\"\",\"\",IF('Backend Calcs Standard'!$A$12=1,'Backend Calcs Standard'!Z314,'Backend Calcs Standard'!O314))","v":""}]
[{"$f":"IFERROR(IF(B314=\"\",\"\",'Backend Calcs Standard'!P315),\"\")","v":""},{"$f":"IFERROR(IF(C314=\"\",\"\",(IF('Backend Calcs Standard'!$A$12=1,'Backend Calcs Standard'!S315,(('Backend Calcs Standard'!S315)*0.0283168)))),\"\")","v":""},{"$f":"IFERROR(IF(D314=\"\",\"\",(IF('Backend Calcs Standard'!$A$12=1,'Backend Calcs Standard'!T315,(('Backend Calcs Standard'!T315)*0.0283168)))),\"\")","v":""},{"$f":"IFERROR(IF(E314=\"\",\"\",(IF('Backend Calcs Standard'!$A$12=1,'Backend Calcs Standard'!U315,(('Backend Calcs Standard'!U315)*0.0283168)))),\"\")","v":""},{"$f":"IFERROR(IF(F314=\"\",\"\",(IF('Backend Calcs Standard'!$A$12=1,'Backend Calcs Standard'!V315,(('Backend Calcs Standard'!V315)*0.0283168)))),\"\")","v":""},{"$f":"IF(I314=\"\",\"\",(IF('Backend Calcs Standard'!$A$12=1,'Backend Calcs Standard'!W315,('Backend Calcs Standard'!W315*0.0283168))))","v":""},"",{"$f":"IF('Backend Calcs Standard'!$A$12=1,'Backend Calcs Standard'!X315,('Backend Calcs Standard'!X315*0.0283168))","v":""},{"$f":"IFERROR(IF(H314=\"\",\"\",(IF('Backend Calcs Standard'!$A$12=1,'Backend Calcs Standard'!Y315,'Backend Calcs Standard'!Y315*0.0283168))),\"\")","v":""},{"$f":"IF(A314=\"\",\"\",IF('Backend Calcs Standard'!$A$12=1,'Backend Calcs Standard'!Z315,'Backend Calcs Standard'!O315))","v":""}]
[{"$f":"IFERROR(IF(B315=\"\",\"\",'Backend Calcs Standard'!P316),\"\")","v":""},{"$f":"IFERROR(IF(C315=\"\",\"\",(IF('Backend Calcs Standard'!$A$12=1,'Backend Calcs Standard'!S316,(('Backend Calcs Standard'!S316)*0.0283168)))),\"\")","v":""},{"$f":"IFERROR(IF(D315=\"\",\"\",(IF('Backend Calcs Standard'!$A$12=1,'Backend Calcs Standard'!T316,(('Backend Calcs Standard'!T316)*0.0283168)))),\"\")","v":""},{"$f":"IFERROR(IF(E315=\"\",\"\",(IF('Backend Calcs Standard'!$A$12=1,'Backend Calcs Standard'!U316,(('Backend Calcs Standard'!U316)*0.0283168)))),\"\")","v":""},{"$f":"IFERROR(IF(F315=\"\",\"\",(IF('Backend Calcs Standard'!$A$12=1,'Backend Calcs Standard'!V316,(('Backend Calcs Standard'!V316)*0.0283168)))),\"\")","v":""},{"$f":"IF(I315=\"\",\"\",(IF('Backend Calcs Standard'!$A$12=1,'Backend Calcs Standard'!W316,('Backend Calcs Standard'!W316*0.0283168))))","v":""},"",{"$f":"IF('Backend Calcs Standard'!$A$12=1,'Backend Calcs Standard'!X316,('Backend Calcs Standard'!X316*0.0283168))","v":""},{"$f":"IFERROR(IF(H315=\"\",\"\",(IF('Backend Calcs Standard'!$A$12=1,'Backend Calcs Standard'!Y316,'Backend Calcs Standard'!Y316*0.0283168))),\"\")","v":""},{"$f":"IF(A315=\"\",\"\",IF('Backend Calcs Standard'!$A$12=1,'Backend Calcs Standard'!Z316,'Backend Calcs Standard'!O316))","v":""}]
[{"$f":"IFERROR(IF(B316=\"\",\"\",(IF('Backend Calcs Standard'!$A$12=1,'Backend Calcs Standard'!J317,(('Backend Calcs Standard'!J317*2.54))))),\"\")","v":""},{"$f":"IFERROR(IF(C316=\"\",\"\",(IF('Backend Calcs Standard'!$A$12=1,'Backend Calcs Standard'!M317,(('Backend Calcs Standard'!M317)*0.0283168)))),\"\")","v":""},{"$f":"IFERROR(IF(D316=\"\",\"\",(IF('Backend Calcs Standard'!$A$12=1,'Backend Calcs Standard'!N317,(('Backend Calcs Standard'!N317)*0.0283168)))),\"\")","v":""},{"$f":"IFERROR(IF(E316=\"\",\"\",(IF('Backend Calcs Standard'!$A$12=1,'Backend Calcs Standard'!O317,(('Backend Calcs Standard'!O317)*0.0283168)))),\"\")","v":""},{"$f":"IFERROR(IF(F316=\"\",\"\",(IF('Backend Calcs Standard'!$A$12=1,'Backend Calcs Standard'!P317,(('Backend Calcs Standard'!P317)*0.0283168)))),\"\")","v":""},{"$f":"IFERROR(IF(I316=\"\",\"\",(IF('Backend Calcs Standard'!$A$12=1,'Backend Calcs Standard'!Q317,('Backend Calcs Standard'!Q317*0.0283168)))),\"\")","v":""},{"$f":"IFERROR(IF(F316=\"\",\"\",(F316+E316+D316)),\"\")","v":""},null,{"$f":"IFERROR(IF(H316=\"\",\"\",(IF('Backend Calcs Standard'!$A$12=1,'Backend Calcs Standard'!S317,('Backend Calcs Standard'!S317*0.0283168)))),\"\")","v":""},{"$f":"IF(A316=\"\",\"\",IF('Backend Calcs Standard'!$A$12=1,'Backend Calcs Standard'!T317,'Backend Calcs Standard'!I317))","v":""}]

{"sheet":"Stage-Storage (Metric)","index":1,"n_rows":316,"n_cols":12,"rows_kept":316,"cut":false,"hidden":false,"merged":[[12,1,13,8],[2,0,2,2],[3,0,3,2],[4,0,4,2],[5,0,5,2],[6,0,6,2]]}
[]
[]
["Chamber Model"]
["Number of Chambers",null,null,null,25]
["Number of Endcaps",null,null,null,10]
["Stone Voids (porosity)",null,null,null,0.4]
["Base of Stone Elevation",null,null,null,0,"m"]
["Recommended Stone Below Chambers*",null,null,null,230,"mm","Include perimeter stone?"]
["Recommended Stone Above Chambers*",null,null,null,300,"mm"]
[]
[null,{"$f":"IF('Backend Calcs Metric'!A11=1,\"Area of System**\", \" \")","v":"Area of System**"},null,139,{"$f":"IF('Backend Calcs Metric'!A11=1,\"sq. m.\", \" \")","v":"sq. m."}]
[null,null,{"$f":"IF('Backend Calcs Metric'!A11=1,\"**Area must be greater than: \", \" \")","v":"**Area must be greater than: "},null,{"$f":"'Backend Calcs Metric'!H15","v":"135 sq. m"}]
[null,"*The minimum stone below and above the chambers to be determinded by the design engineer. "]
[]
["System Height \n(mm)","Incremental Single Chamber Storage (cu.m)","Incremental Single End Cap Storage (cu.m)","Incremental Total Chamber Storage (cu.m)","Incremental Total End Cap Storage (cu.m)","Incremental Stone Storage (cu.m)","Incremental Chamber, End Cap, & Stone (cu.m)","Cumulative Total Storage for System (cu.m)","Cumulative System Storage (cu.m)","Elevation (m)"]
[{"$f":"IF('Backend Calcs Metric'!P17=\"\",\"\",(ROUND((CONVERT('Backend Calcs Metric'!P17,\"in\",\"mm\")),0)))","v":1676},{"$f":"IF('Backend Calcs Metric'!S17=\"\",\"\",(ROUND((CONVERT('Backend Calcs Metric'!S17,\"ft3\",\"m3\")),5)))","v":0},{"$f":"IF('Backend Calcs Metric'!T17=\"\",\"\",(ROUND((CONVERT('Backend Calcs Metric'!T17,\"ft3\",\"m3\")),5)))","v":0},{"$f":"IF('Backend Calcs Metric'!U17=\"\",\"\",(ROUND((CONVERT('Backend Calcs Metric'!U17,\"ft3\",\"m3\")),5)))","v":0},{"$f":"IF('Backend Calcs Metric'!V17=\"\",\"\",(ROUND((CONVERT('Backend Calcs Metric'!V17,\"ft3\",\"m3\")),5)))","v":0},{"$f":"IF('Backend Calcs Metric'!W17=\"\",\"\",(ROUND((CONVERT('Backend Calcs Metric'!W17,\"ft3\",\"m3\")),5)))","v":1.41214},{"$f":"IF('Backend Calcs Metric'!X17=\"\",\"\",(ROUND((CONVERT('Backend Calcs Metric'!X17,\"ft3\",\"m3\")),5)))","v":1.41214},{"$f":"IF('Backend Calcs Metric'!Y17=\"\",\"\",(ROUND((CONVERT('Backend Calcs Metric'!Y17,\"ft3\",\"m3\")),5)))","v":144.04611},{"$f":"IF('Backend Calcs Metric'!Y17=\"\",\"\",(ROUND((CONVERT('Backend Calcs Metric'!Y17,\"ft3\",\"m3\")),2)))","v":144.05000000000001},{"$f":"IF('Backend Calcs Metric'!AA17=\"\",\"\",(ROUND((CONVERT('Backend Calcs Metric'!Z17,\"ft\",\"m\")),5)))","v":1.6763999999999999},null,{"$f":"IF(G16=\"\",\"\",G16*12)","v":16.945679999999999}]
[{"$f":"IF('Backend Calcs Metric'!P18=\"\",\"\",(ROUND((CONVERT('Backend Calcs Metric'!P18,\"in\",\"mm\")),0)))","v":1651},{"$f":"IF('Backend Calcs Metric'!S18=\"\",\"\",(ROUND((CONVERT('Backend Calcs Metric'!S18,\"ft3\",\"m3\")),5)))","v":0},{"$f":"IF('Backend Calcs Metric'!T18=\"\",\"\",(ROUND((CONVERT('Backend Calcs Metric'!T18,\"ft3\",\"m3\")),5)))","v":0},{"$f":"IF('Backend Calcs Metric'!U18=\"\",\"\",(ROUND((CONVERT('Backend Calcs Metric'!U18,\"ft3\",\"m3\")),5)))","v":0},{"$f":"IF('Backend Calcs Metric'!V18=\"\",\"\",(ROUND((CONVERT('Backend Calcs Metric'!V18,\"ft3\",\"m3\")),5)))","v":0},{"$f":"IF('Backend Calcs Metric'!W18=\"\",\"\",(ROUND((CONVERT('Backend Calcs Metric'!W18,\"ft3\",\"m3\")),5)))","v":1.41214},{"$f":"IF('Backend Calcs Metric'!X18=\"\",\"\",(ROUND((CONVERT('Backend Calcs Metric'!X18,\"ft3\",\"m3\")),5)))","v":1.41214},{"$f":"IF('Backend Calcs Metric'!Y18=\"\",\"\",(ROUND((CONVERT('Backend Calcs Metric'!Y18,\"ft3\",\"m3\")),5)))","v":142.63397000000001},{"$f":"IF('Backend Calcs Metric'!Y18=\"\",\"\",(ROUND((CONVERT('Backend Calcs Metric'!Y18,\"ft3\",\"m3\")),2)))","v":142.63},{"$f":"IF('Backend Calcs Metric'!AA18=\"\",\"\",(ROUND((CONVERT('Backend Calcs Metric'!Z18,\"ft\",\"m\")),5)))","v":1.651},null,{"$f":"IF(G17=\"\",\"\",G17*12)","v":16.945679999999999}]
[{"$f":"IF('Backend Calcs Metric'!P19=\"\",\"\",(ROUND((CONVERT('Backend Calcs Metric'!P19,\"in\",\"mm\")),0)))","v":1626},{"$f":"IF('Backend Calcs Metric'!S19=\"\",\"\",(ROUND((CONVERT('Backend Calcs Metric'!S19,\"ft3\",\"m3\")),5)))","v":0},{"$f":"IF('Backend Calcs Metric'!T19=\"\",\"\",(ROUND((CONVERT('Backend Calcs Metric'!T19,\"ft3\",\"m3\")),5)))","v":0},{"$f":"IF('Backend Calcs Metric'!U19=\"\",\"\",(ROUND((CONVERT('Backend Calcs Metric'!U19,\"ft3\",\"m3\")),5)))","v":0},{"$f":"IF('Backend Calcs Metric'!V19=\"\",\"\",(ROUND((CONVERT('Backend Calcs Metric'!V19,\"ft3\",\"m3\")),5)))","v":0},{"$f":"IF('Backend Calcs Metric'!W19=\"\",\"\",(ROUND((CONVERT('Backend Calcs Metric'!W19,\"ft3\",\"m3\")),5)))","v":1.41214},{"$f":"IF('Backend Calcs Metric'!X19=\"\",\"\",(ROUND((CONVERT('Backend Calcs Metric'!X19,\"ft3\",\"m3\")),5)))","v":1.41214},{"$f":"IF('Backend Calcs Metric'!Y19=\"\",\"\",(ROUND((CONVERT('Backend Calcs Metric'!Y19,\"ft3\",\"m3\")),5)))","v":141.22183000000001},{"$f":"IF('Backend Calcs Metric'!Y19=\"\",\"\",(ROUND((CONVERT('Backend Calcs Metric'!Y19,\"ft3\",\"m3\")),2)))","v":141.22},{"$f":"IF('Backend Calcs Metric'!AA19=\"\",\"\",(ROUND((CONVERT('Backend Calcs Metric'!Z19,\"ft\",\"m\")),5)))","v":1.6255999999999999},null,16.945679999999999]
[{"$f":"IF('Backend Calcs Metric'!P20=\"\",\"\",(ROUND((CONVERT('Backend Calcs Metric'!P20,\"in\",\"mm\")),0)))","v":1600},{"$f":"IF('Backend Calcs Metric'!S20=\"\",\"\",(ROUND((CONVERT('Backend Calcs Metric'!S20,\"ft3\",\"m3\")),5)))","v":0},{"$f":"IF('Backend Calcs Metric'!T20=\"\",\"\",(ROUND((CONVERT('Backend Calcs Metric'!T20,\"ft3\",\"m3\")),5)))","v":0},{"$f":"IF('Backend Calcs Metric'!U20=\"\",\"\",(ROUND((CONVERT('Backend Calcs Metric'!U20,\"ft3\",\"m3\")),5)))","v":0},{"$f":"IF('Backend Calcs Metric'!V20=\"\",\"\",(ROUND((CONVERT('Backend Calcs Metric'!V20,\"ft3\",\"m3\")),5)))","v":0},{"$f":"IF('Backend Calcs Metric'!W20=\"\",\"\",(ROUND((CONVERT('Backend Calcs Metric'!W20,\"ft3\",\"m3\")),5)))","v":1.41214},{"$f":"IF('Backend Calcs Metric'!X20=\"\",\"\",(ROUND((CONVERT('Backend Calcs Metric'!X20,\"ft3\",\"m3\")),5)))","v":1.41214},{"$f":"IF('Backend Calcs Metric'!Y20=\"\",\"\",(ROUND((CONVERT('Backend Calcs Metric'!Y20,\"ft3\",\"m3\")),5)))","v":139.80968999999999},{"$f":"IF('Backend Calcs Metric'!Y20=\"\",\"\",(ROUND((CONVERT('Backend Calcs Metric'!Y20,\"ft3\",\"m3\")),2)))","v":139.81},{"$f":"IF('Backend Calcs Metric'!AA20=\"\",\"\",(ROUND((CONVERT('Backend Calcs Metric'!Z20,\"ft\",\"m\")),5)))","v":1.6002000000000001},null,16.945679999999999]
[{"$f":"IF('Backend Calcs Metric'!P21=\"\",\"\",(ROUND((CONVERT('Backend Calcs Metric'!P21,\"in\",\"mm\")),0)))","v":1575},{"$f":"IF('Backend Calcs Metric'!S21=\"\",\"\",(ROUND((CONVERT('Backend Calcs Metric'!S21,\"ft3\",\"m3\")),5)))","v":0},{"$f":"IF('Backend Calcs Metric'!T21=\"\",\"\",(ROUND((CONVERT('Backend Calcs Metric'!T21,\"ft3\",\"m3\")),5)))","v":0},{"$f":"IF('Backend Calcs Metric'!U21=\"\",\"\",(ROUND((CONVERT('Backend Calcs Metric'!U21,\"ft3\",\"m3\")),5)))","v":0},{"$f":"IF('Backend Calcs Metric'!V21=\"\",\"\",(ROUND((CONVERT('Backend Calcs Metric'!V21,\"ft3\",\"m3\")),5)))","v":0},{"$f":"IF('Backend Calcs Metric'!W21=\"\",\"\",(ROUND((CONVERT('Backend Calcs Metric'!W21,\"ft3\",\"m3\")),5)))","v":1.41214},{"$f":"IF('Backend Calcs Metric'!X21=\"\",\"\",(ROUND((CONVERT('Backend Calcs Metric'!X21,\"ft3\",\"m3\")),5)))","v":1.41214},{"$f":"IF('Backend Calcs Metric'!Y21=\"\",\"\",(ROUND((CONVERT('Backend Calcs Metric'!Y21,\"ft3\",\"m3\")),5)))","v":138.39755},{"$f":"IF('Backend Calcs Metric'!Y21=\"\",\"\",(ROUND((CONVERT('Backend Calcs Metric'!Y21,\"ft3\",\"m3\")),2)))","v":138.4},{"$f":"IF('Backend Calcs Metric'!AA21=\"\",\"\",(ROUND((CONVERT('Backend Calcs Metric'!Z21,\"ft\",\"m\")),5)))","v":1.5748},null,16.945679999999999]
[{"$f":"IF('Backend Calcs Metric'!P22=\"\",\"\",(ROUND((CONVERT('Backend Calcs Metric'!P22,\"in\",\"mm\")),0)))","v":1549},{"$f":"IF('Backend Calcs Metric'!S22=\"\",\"\",(ROUND((CONVERT('Backend Calcs Metric'!S22,\"ft3\",\"m3\")),5)))","v":0},{"$f":"IF('Backend Calcs Metric'!T22=\"\",\"\",(ROUND((CONVERT('Backend Calcs Metric'!T22,\"ft3\",\"m3\")),5)))","v":0},{"$f":"IF('Backend Calcs Metric'!U22=\"\",\"\",(ROUND((CONVERT('Backend Calcs Metric'!U22,\"ft3\",\"m3\")),5)))","v":0},{"$f":"IF('Backend Calcs Metric'!V22=\"\",\"\",(ROUND((CONVERT('Backend Calcs Metric'!V22,\"ft3\",\"m3\")),5)))","v":0},{"$f":"IF('Backend Calcs Metric'!W22=\"\",\"\",(ROUND((CONVERT('Backend Calcs Metric'!W22,\"ft3\",\"m3\")),5)))","v":1.41214},{"$f":"IF('Backend Calcs Metric'!X22=\"\",\"\",(ROUND((CONVERT('Backend Calcs Metric'!X22,\"ft3\",\"m3\")),5)))","v":1.41214},{"$f":"IF('Backend Calcs Metric'!Y22=\"\",\"\",(ROUND((CONVERT('Backend Calcs Metric'!Y22,\"ft3\",\"m3\")),5)))","v":136.98541},{"$f":"IF('Backend Calcs Metric'!Y22=\"\",\"\",(ROUND((CONVERT('Backend Calcs Metric'!Y22,\"ft3\",\"m3\")),2)))","v":136.99},{"$f":"IF('Backend Calcs Metric'!AA22=\"\",\"\",(ROUND((CONVERT('Backend Calcs Metric'!Z22,\"ft\",\"m\")),5)))","v":1.5494000000000001},null,16.945679999999999]
[{"$f":"IF('Backend Calcs Metric'!P23=\"\",\"\",(ROUND((CONVERT('Backend Calcs Metric'!P23,\"in\",\"mm\")),0)))","v":1524},{"$f":"IF('Backend Calcs Metric'!S23=\"\",\"\",(ROUND((CONVERT('Backend Calcs Metric'!S23,\"ft3\",\"m3\")),5)))","v":0},{"$f":"IF('Backend Calcs Metric'!T23=\"\",\"\",(ROUND((CONVERT('Backend Calcs Metric'!T23,\"ft3\",\"m3\")),5)))","v":0},{"$f":"IF('Backend Calcs Metric'!U23=\"\",\"\",(ROUND((CONVERT('Backend Calcs Metric'!U23,\"ft3\",\"m3\")),5)))","v":0},{"$f":"IF('Backend Calcs Metric'!V23=\"\",\"\",(ROUND((CONVERT('Backend Calcs Metric'!V23,\"ft3\",\"m3\")),5)))","v":0},{"$f":"IF('Backend Calcs Metric'!W23=\"\",\"\",(ROUND((CONVERT('Backend Calcs Metric'!W23,\"ft3\",\"m3\")),5)))","v":1.41214},{"$f":"IF('Backend Calcs Metric'!X23=\"\",\"\",(ROUND((CONVERT('Backend Calcs Metric'!X23,\"ft3\",\"m3\")),5)))","v":1.41214},{"$f":"IF('Backend Calcs Metric'!Y23=\"\",\"\",(ROUND((CONVERT('Backend Calcs Metric'!Y23,\"ft3\",\"m3\")),5)))","v":135.57327000000001},{"$f":"IF('Backend Calcs Metric'!Y23=\"\",\"\",(ROUND((CONVERT('Backend Calcs Metric'!Y23,\"ft3\",\"m3\")),2)))","v":135.57},{"$f":"IF('Backend Calcs Metric'!AA23=\"\",\"\",(ROUND((CONVERT('Backend Calcs Metric'!Z23,\"ft\",\"m\")),5)))","v":1.524},null,16.945679999999999]
[{"$f":"IF('Backend Calcs Metric'!P24=\"\",\"\",(ROUND((CONVERT('Backend Calcs Metric'!P24,\"in\",\"mm\")),0)))","v":1499},{"$f":"IF('Backend Calcs Metric'!S24=\"\",\"\",(ROUND((CONVERT('Backend Calcs Metric'!S24,\"ft3\",\"m3\")),5)))","v":0},{"$f":"IF('Backend Calcs Metric'!T24=\"\",\"\",(ROUND((CONVERT('Backend Calcs Metric'!T24,\"ft3\",\"m3\")),5)))","v":0},{"$f":"IF('Backend Calcs Metric'!U24=\"\",\"\",(ROUND((CONVERT('Backend Calcs Metric'!U24,\"ft3\",\"m3\")),5)))","v":0},{"$f":"IF('Backend Calcs Metric'!V24=\"\",\"\",(ROUND((CONVERT('Backend Calcs Metric'!V24,\"ft3\",\"m3\")),5)))","v":0},{"$f":"IF('Backend Calcs Metric'!W24=\"\",\"\",(ROUND((CONVERT('Backend Calcs Metric'!W24,\"ft3\",\"m3\")),5)))","v":1.41214},{"$f":"IF('Backend Calcs Metric'!X24=\"\",\"\",(ROUND((CONVERT('Backend Calcs Metric'!X24,\"ft3\",\"m3\")),5)))","v":1.41214},{"$f":"IF('Backend Calcs Metric'!Y24=\"\",\"\",(ROUND((CONVERT('Backend Calcs Metric'!Y24,\"ft3\",\"m3\")),5)))","v":134.16113000000001},{"$f":"IF('Backend Calcs Metric'!Y24=\"\",\"\",(ROUND((CONVERT('Backend Calcs Metric'!Y24,\"ft3\",\"m3\")),2)))","v":134.16},{"$f":"IF('Backend Calcs Metric'!AA24=\"\",\"\",(ROUND((CONVERT('Backend Calcs Metric'!Z24,\"ft\",\"m\")),5)))","v":1.4985999999999999},null,16.945679999999999]
[{"$f":"IF('Backend Calcs Metric'!P25=\"\",\"\",(ROUND((CONVERT('Backend Calcs Metric'!P25,\"in\",\"mm\")),0)))","v":1473},{"$f":"IF('Backend Calcs Metric'!S25=\"\",\"\",(ROUND((CONVERT('Backend Calcs Metric'!S25,\"ft3\",\"m3\")),5)))","v":0},{"$f":"IF('Backend Calcs Metric'!T25=\"\",\"\",(ROUND((CONVERT('Backend Calcs Metric'!T25,\"ft3\",\"m3\")),5)))","v":0},{"$f":"IF('Backend Calcs Metric'!U25=\"\",\"\",(ROUND((CONVERT('Backend Calcs Metric'!U25,\"ft3\",\"m3\")),5)))","v":0},{"$f":"IF('Backend Calcs Metric'!V25=\"\",\"\",(ROUND((CONVERT('Backend Calcs Metric'!V25,\"ft3\",\"m3\")),5)))","v":0},{"$f":"IF('Backend Calcs Metric'!W25=\"\",\"\",(ROUND((CONVERT('Backend Calcs Metric'!W25,\"ft3\",\"m3\")),5)))","v":1.41214},{"$f":"IF('Backend Calcs Metric'!X25=\"\",\"\",(ROUND((CONVERT('Backend Calcs Metric'!X25,\"ft3\",\"m3\")),5)))","v":1.41214},{"$f":"IF('Backend Calcs Metric'!Y25=\"\",\"\",(ROUND((CONVERT('Backend Calcs Metric'!Y25,\"ft3\",\"m3\")),5)))","v":132.74898999999999},{"$f":"IF('Backend Calcs Metric'!Y25=\"\",\"\",(ROUND((CONVERT('Backend Calcs Metric'!Y25,\"ft3\",\"m3\")),2)))","v":132.75},{"$f":"IF('Backend Calcs Metric'!AA25=\"\",\"\",(ROUND((CONVERT('Backend Calcs Metric'!Z25,\"ft\",\"m\")),5)))","v":1.4732000000000001},null,16.945679999999999]
[{"$f":"IF('Backend Calcs Metric'!P26=\"\",\"\",(ROUND((CONVERT('Backend Calcs Metric'!P26,\"in\",\"mm\")),0)))","v":1448},{"$f":"IF('Backend Calcs Metric'!S26=\"\",\"\",(ROUND((CONVERT('Backend Calcs Metric'!S26,\"ft3\",\"m3\")),5)))","v":0},{"$f":"IF('Backend Calcs Metric'!T26=\"\",\"\",(ROUND((CONVERT('Backend Calcs Metric'!T26,\"ft3\",\"m3\")),5)))","v":0},{"$f":"IF('Backend Calcs Metric'!U26=\"\",\"\",(ROUND((CONVERT('Backend Calcs Metric'!U26,\"ft3\",\"m3\")),5)))","v":0},{"$f":"IF('Backend Calcs Metric'!V26=\"\",\"\",(ROUND((CONVERT('Backend Calcs Metric'!V26,\"ft3\",\"m3\")),5)))","v":0},{"$f":"IF('Backend Calcs Metric'!W26=\"\",\"\",(ROUND((CONVERT('Backend Calcs Metric'!W26,\"ft3\",\"m3\")),5)))","v":1.41214},{"$f":"IF('Backend Calcs Metric'!X26=\"\",\"\",(ROUND((CONVERT('Backend Calcs Metric'!X26,\"ft3\",\"m3\")),5)))","v":1.41214},{"$f":"IF('Backend Calcs Metric'!Y26=\"\",\"\",(ROUND((CONVERT('Backend Calcs Metric'!Y26,\"ft3\",\"m3\")),5)))","v":131.33685},{"$f":"IF('Backend Calcs Metric'!Y26=\"\",\"\",(ROUND((CONVERT('Backend Calcs Metric'!Y26,\"ft3\",\"m3\")),2)))","v":131.34},{"$f":"IF('Backend Calcs Metric'!AA26=\"\",\"\",(ROUND((CONVERT('Backend Calcs Metric'!Z26,\"ft\",\"m\")),5)))","v":1.4478},null,16.945679999999999]
[{"$f":"IF('Backend Calcs Metric'!P27=\"\",\"\",(ROUND((CONVERT('Backend Calcs Metric'!P27,\"in\",\"mm\")),0)))","v":1422},{"$f":"IF('Backend Calcs Metric'!S27=\"\",\"\",(ROUND((CONVERT('Backend Calcs Metric'!S27,\"ft3\",\"m3\")),5)))","v":0},{"$f":"IF('Backend Calcs Metric'!T27=\"\",\"\",(ROUND((CONVERT('Backend Calcs Metric'!T27,\"ft3\",\"m3\")),5)))","v":0},{"$f":"IF('Backend Calcs Metric'!U27=\"\",\"\",(ROUND((CONVERT('Backend Calcs Metric'!U27,\"ft3\",\"m3\")),5)))","v":0},{"$f":"IF('Backend Calcs Metric'!V27=\"\",\"\",(ROUND((CONVERT('Backend Calcs Metric'!V27,\"ft3\",\"m3\")),5)))","v":0},{"$f":"IF('Backend Calcs Metric'!W27=\"\",\"\",(ROUND((CONVERT('Backend Calcs Metric'!W27,\"ft3\",\"m3\")),5)))","v":1.41214},{"$f":"IF('Backend Calcs Metric'!X27=\"\",\"\",(ROUND((CONVERT('Backend Calcs Metric'!X27,\"ft3\",\"m3\")),5)))","v":1.41214},{"$f":"IF('Backend Calcs Metric'!Y27=\"\",\"\",(ROUND((CONVERT('Backend Calcs Metric'!Y27,\"ft3\",\"m3\")),5)))","v":129.92471},{"$f":"IF('Backend Calcs Metric'!Y27=\"\",\"\",(ROUND((CONVERT('Backend Calcs Metric'!Y27,\"ft3\",\"m3\")),2)))","v":129.91999999999999},{"$f":"IF('Backend Calcs Metric'!AA27=\"\",\"\",(ROUND((CONVERT('Backend Calcs Metric'!Z27,\"ft\",\"m\")),5)))","v":1.4224000000000001},null,16.945679999999999]
[{"$f":"IF('Backend Calcs Metric'!P28=\"\",\"\",(ROUND((CONVERT('Backend Calcs Metric'!P28,\"in\",\"mm\")),0)))","v":1397},{"$f":"IF('Backend Calcs Metric'!S28=\"\",\"\",(ROUND((CONVERT('Backend Calcs Metric'!S28,\"ft3\",\"m3\")),5)))","v":0},{"$f":"IF('Backend Calcs Metric'!T28=\"\",\"\",(ROUND((CONVERT('Backend Calcs Metric'!T28,\"ft3\",\"m3\")),5)))","v":0},{"$f":"IF('Backend Calcs Metric'!U28=\"\",\"\",(ROUND((CONVERT('Backend Calcs Metric'!U28,\"ft3\",\"m3\")),5)))","v":0},{"$f":"IF('Backend Calcs Metric'!V28=\"\",\"\",(ROUND((CONVERT('Backend Calcs Metric'!V28,\"ft3\",\"m3\")),5)))","v":0},{"$f":"IF('Backend Calcs Metric'!W28=\"\",\"\",(ROUND((CONVERT('Backend Calcs Metric'!W28,\"ft3\",\"m3\")),5)))","v":1.41214},{"$f":"IF('Backend Calcs Metric'!X28=\"\",\"\",(ROUND((CONVERT('Backend Calcs Metric'!X28,\"ft3\",\"m3\")),5)))","v":1.41214},{"$f":"IF('Backend Calcs Metric'!Y28=\"\",\"\",(ROUND((CONVERT('Backend Calcs Metric'!Y28,\"ft3\",\"m3\")),5)))","v":128.51256000000001},{"$f":"IF('Backend Calcs Metric'!Y28=\"\",\"\",(ROUND((CONVERT('Backend Calcs Metric'!Y28,\"ft3\",\"m3\")),2)))","v":128.51},{"$f":"IF('Backend Calcs Metric'!AA28=\"\",\"\",(ROUND((CONVERT('Backend Calcs Metric'!Z28,\"ft\",\"m\")),5)))","v":1.397},null,16.945679999999999]
[{"$f":"IF('Backend Calcs Metric'!P29=\"\",\"\",(ROUND((CONVERT('Backend Calcs Metric'!P29,\"in\",\"mm\")),0)))","v":1372},{"$f":"IF('Backend Calcs Metric'!S29=\"\",\"\",(ROUND((CONVERT('Backend Calcs Metric'!S29,\"ft3\",\"m3\")),5)))","v":5.1700000000000001E-3},{"$f":"IF('Backend Calcs Metric'!T29=\"\",\"\",(ROUND((CONVERT('Backend Calcs Metric'!T29,\"ft3\",\"m3\")),5)))","v":0},{"$f":"IF('Backend Calcs Metric'!U29=\"\",\"\",(ROUND((CONVERT('Backend Calcs Metric'!U29,\"ft3\",\"m3\")),5)))","v":0.12936},{"$f":"IF('Backend Calcs Metric'!V29=\"\",\"\",(ROUND((CONVERT('Backend Calcs Metric'!V29,\"ft3\",\"m3\")),5)))","v":0},{"$f":"IF('Backend Calcs Metric'!W29=\"\",\"\",(ROUND((CONVERT('Backend Calcs Metric'!W29,\"ft3\",\"m3\")),5)))","v":1.3604000000000001},{"$f":"IF('Backend Calcs Metric'!X29=\"\",\"\",(ROUND((CONVERT('Backend Calcs Metric'!X29,\"ft3\",\"m3\")),5)))","v":1.48976},{"$f":"IF('Backend Calcs Metric'!Y29=\"\",\"\",(ROUND((CONVERT('Backend Calcs Metric'!Y29,\"ft3\",\"m3\")),5)))","v":127.10042},{"$f":"IF('Backend Calcs Metric'!Y29=\"\",\"\",(ROUND((CONVERT('Backend Calcs Metric'!Y29,\"ft3\",\"m3\")),2)))","v":127.1},{"$f":"IF('Backend Calcs Metric'!AA29=\"\",\"\",(ROUND((CONVERT('Backend Calcs Metric'!Z29,\"ft\",\"m\")),5)))","v":1.3715999999999999},null,17.877119999999998]
[{"$f":"IF('Backend Calcs Metric'!P30=\"\",\"\",(ROUND((CONVERT('Backend Calcs Metric'!P30,\"in\",\"mm\")),0)))","v":1346},{"$f":"IF('Backend Calcs Metric'!S30=\"\",\"\",(ROUND((CONVERT('Backend Calcs Metric'!S30,\"ft3\",\"m3\")),5)))","v":8.8900000000000003E-3},{"$f":"IF('Backend Calcs Metric'!T30=\"\",\"\",(ROUND((CONVERT('Backend Calcs Metric'!T30,\"ft3\",\"m3\")),5)))","v":2.7999999999999998E-4},{"$f":"IF('Backend Calcs Metric'!U30=\"\",\"\",(ROUND((CONVERT('Backend Calcs Metric'!U30,\"ft3\",\"m3\")),5)))","v":0.22217999999999999},{"$f":"IF('Backend Calcs Metric'!V30=\"\",\"\",(ROUND((CONVERT('Backend Calcs Metric'!V30,\"ft3\",\"m3\")),5)))","v":2.8300000000000001E-3},{"$f":"IF('Backend Calcs Metric'!W30=\"\",\"\",(ROUND((CONVERT('Backend Calcs Metric'!W30,\"ft3\",\"m3\")),5)))","v":1.3221400000000001},{"$f":"IF('Backend Calcs Metric'!X30=\"\",\"\",(ROUND((CONVERT('Backend Calcs Metric'!X30,\"ft3\",\"m3\")),5)))","v":1.54715},{"$f":"IF('Backend Calcs Metric'!Y30=\"\",\"\",(ROUND((CONVERT('Backend Calcs Metric'!Y30,\"ft3\",\"m3\")),5)))","v":125.61067},{"$f":"IF('Backend Calcs Metric'!Y30=\"\",\"\",(ROUND((CONVERT('Backend Calcs Metric'!Y30,\"ft3\",\"m3\")),2)))","v":125.61},{"$f":"IF('Backend Calcs Metric'!AA30=\"\",\"\",(ROUND((CONVERT('Backend Calcs Metric'!Z30,\"ft\",\"m\")),5)))","v":1.3462000000000001},null,18.565799999999999]
[{"$f":"IF('Backend Calcs Metric'!P31=\"\",\"\",(ROUND((CONVERT('Backend Calcs Metric'!P31,\"in\",\"mm\")),0)))","v":1321},{"$f":"IF('Backend Calcs Metric'!S31=\"\",\"\",(ROUND((CONVERT('Backend Calcs Metric'!S31,\"ft3\",\"m3\")),5)))","v":1.2529999999999999E-2},{"$f":"IF('Backend Calcs Metric'!T31=\"\",\"\",(ROUND((CONVERT('Backend Calcs Metric'!T31,\"ft3\",\"m3\")),5)))","v":8.4999999999999995E-4},{"$f":"IF('Backend Calcs Metric'!U31=\"\",\"\",(ROUND((CONVERT('Backend Calcs Metric'!U31,\"ft3\",\"m3\")),5)))","v":0.31314999999999998},{"$f":"IF('Backend Calcs Metric'!V31=\"\",\"\",(ROUND((CONVERT('Backend Calcs Metric'!V31,\"ft3\",\"m3\")),5)))","v":8.5000000000000006E-3},{"$f":"IF('Backend Calcs Metric'!W31=\"\",\"\",(ROUND((CONVERT('Backend Calcs Metric'!W31,\"ft3\",\"m3\")),5)))","v":1.28348},{"$f":"IF('Backend Calcs Metric'!X31=\"\",\"\",(ROUND((CONVERT('Backend Calcs Metric'!X31,\"ft3\",\"m3\")),5)))","v":1.6051299999999999},{"$f":"IF('Backend Calcs Metric'!Y31=\"\",\"\",(ROUND((CONVERT('Backend Calcs Metric'!Y31,\"ft3\",\"m3\")),5)))","v":124.06352},{"$f":"IF('Backend Calcs Metric'!Y31=\"\",\"\",(ROUND((CONVERT('Backend Calcs Metric'!Y31,\"ft3\",\"m3\")),2)))","v":124.06},{"$f":"IF('Backend Calcs Metric'!AA31=\"\",\"\",(ROUND((CONVERT('Backend Calcs Metric'!Z31,\"ft\",\"m\")),5)))","v":1.3208},null,19.261559999999999]
[{"$f":"IF('Backend Calcs Metric'!P32=\"\",\"\",(ROUND((CONVERT('Backend Calcs Metric'!P32,\"in\",\"mm\")),0)))","v":1295},{"$f":"IF('Backend Calcs Metric'!S32=\"\",\"\",(ROUND((CONVERT('Backend Calcs Metric'!S32,\"ft3\",\"m3\")),5)))","v":1.7739999999999999E-2},{"$f":"IF('Backend Calcs Metric'!T32=\"\",\"\",(ROUND((CONVERT('Backend Calcs Metric'!T32,\"ft3\",\"m3\")),5)))","v":1.42E-3},{"$f":"IF('Backend Calcs Metric'!U32=\"\",\"\",(ROUND((CONVERT('Backend Calcs Metric'!U32,\"ft3\",\"m3\")),5)))","v":0.44338},{"$f":"IF('Backend Calcs Metric'!V32=\"\",\"\",(ROUND((CONVERT('Backend Calcs Metric'!V32,\"ft3\",\"m3\")),5)))","v":1.4160000000000001E-2},{"$f":"IF('Backend Calcs Metric'!W32=\"\",\"\",(ROUND((CONVERT('Backend Calcs Metric'!W32,\"ft3\",\"m3\")),5)))","v":1.2291300000000001},{"$f":"IF('Backend Calcs Metric'!X32=\"\",\"\",(ROUND((CONVERT('Backend Calcs Metric'!X32,\"ft3\",\"m3\")),5)))","v":1.68666},{"$f":"IF('Backend Calcs Metric'!Y32=\"\",\"\",(ROUND((CONVERT('Backend Calcs Metric'!Y32,\"ft3\",\"m3\")),5)))","v":122.45838999999999},{"$f":"IF('Backend Calcs Metric'!Y32=\"\",\"\",(ROUND((CONVERT('Backend Calcs Metric'!Y32,\"ft3\",\"m3\")),2)))","v":122.46},{"$f":"IF('Backend Calcs Metric'!AA32=\"\",\"\",(ROUND((CONVERT('Backend Calcs Metric'!Z32,\"ft\",\"m\")),5)))","v":1.2954000000000001},null,20.239920000000001]
[{"$f":"IF('Backend Calcs Metric'!P33=\"\",\"\",(ROUND((CONVERT('Backend Calcs Metric'!P33,\"in\",\"mm\")),0)))","v":1270},{"$f":"IF('Backend Calcs Metric'!S33=\"\",\"\",(ROUND((CONVERT('Backend Calcs Metric'!S33,\"ft3\",\"m3\")),5)))","v":2.9000000000000001E-2},{"$f":"IF('Backend Calcs Metric'!T33=\"\",\"\",(ROUND((CONVERT('Backend Calcs Metric'!T33,\"ft3\",\"m3\")),5)))","v":1.98E-3},{"$f":"IF('Backend Calcs Metric'!U33=\"\",\"\",(ROUND((CONVERT('Backend Calcs Metric'!U33,\"ft3\",\"m3\")),5)))","v":0.72491000000000005},{"$f":"IF('Backend Calcs Metric'!V33=\"\",\"\",(ROUND((CONVERT('Backend Calcs Metric'!V33,\"ft3\",\"m3\")),5)))","v":1.9820000000000001E-2},{"$f":"IF('Backend Calcs Metric'!W33=\"\",\"\",(ROUND((CONVERT('Backend Calcs Metric'!W33,\"ft3\",\"m3\")),5)))","v":1.11425},{"$f":"IF('Backend Calcs Metric'!X33=\"\",\"\",(ROUND((CONVERT('Backend Calcs Metric'!X33,\"ft3\",\"m3\")),5)))","v":1.8589800000000001},{"$f":"IF('Backend Calcs Metric'!Y33=\"\",\"\",(ROUND((CONVERT('Backend Calcs Metric'!Y33,\"ft3\",\"m3\")),5)))","v":120.77173000000001},{"$f":"IF('Backend Calcs Metric'!Y33=\"\",\"\",(ROUND((CONVERT('Backend Calcs Metric'!Y33,\"ft3\",\"m3\")),2)))","v":120.77},{"$f":"IF('Backend Calcs Metric'!AA33=\"\",\"\",(ROUND((CONVERT('Backend Calcs Metric'!Z33,\"ft\",\"m\")),5)))","v":1.27},null,22.307760000000002]
[{"$f":"IF('Backend Calcs Metric'!P34=\"\",\"\",(ROUND((CONVERT('Backend Calcs Metric'!P34,\"in\",\"mm\")),0)))","v":1245},{"$f":"IF('Backend Calcs Metric'!S34=\"\",\"\",(ROUND((CONVERT('Backend Calcs Metric'!S34,\"ft3\",\"m3\")),5)))","v":3.6020000000000003E-2},{"$f":"IF('Backend Calcs Metric'!T34=\"\",\"\",(ROUND((CONVERT('Backend Calcs Metric'!T34,\"ft3\",\"m3\")),5)))","v":2.2699999999999999E-3},{"$f":"IF('Backend Calcs Metric'!U34=\"\",\"\",(ROUND((CONVERT('Backend Calcs Metric'!U34,\"ft3\",\"m3\")),5)))","v":0.90051000000000003},{"$f":"IF('Backend Calcs Metric'!V34=\"\",\"\",(ROUND((CONVERT('Backend Calcs Metric'!V34,\"ft3\",\"m3\")),5)))","v":2.265E-2},{"$f":"IF('Backend Calcs Metric'!W34=\"\",\"\",(ROUND((CONVERT('Backend Calcs Metric'!W34,\"ft3\",\"m3\")),5)))","v":1.04288},{"$f":"IF('Backend Calcs Metric'!X34=\"\",\"\",(ROUND((CONVERT('Backend Calcs Metric'!X34,\"ft3\",\"m3\")),5)))","v":1.96604},{"$f":"IF('Backend Calcs Metric'!Y34=\"\",\"\",(ROUND((CONVERT('Backend Calcs Metric'!Y34,\"ft3\",\"m3\")),5)))","v":118.91275},{"$f":"IF('Backend Calcs Metric'!Y34=\"\",\"\",(ROUND((CONVERT('Backend Calcs Metric'!Y34,\"ft3\",\"m3\")),2)))","v":118.91},{"$f":"IF('Backend Calcs Metric'!AA34=\"\",\"\",(ROUND((CONVERT('Backend Calcs Metric'!Z34,\"ft\",\"m\")),5)))","v":1.2445999999999999},null,23.592480000000002]
[{"$f":"IF('Backend Calcs Metric'!P35=\"\",\"\",(ROUND((CONVERT('Backend Calcs Metric'!P35,\"in\",\"mm\")),0)))","v":1219},{"$f":"IF('Backend Calcs Metric'!S35=\"\",\"\",(ROUND((CONVERT('Backend Calcs Metric'!S35,\"ft3\",\"m3\")),5)))","v":4.138E-2},{"$f":"IF('Backend Calcs Metric'!T35=\"\",\"\",(ROUND((CONVERT('Backend Calcs Metric'!T35,\"ft3\",\"m3\")),5)))","v":2.8300000000000001E-3},{"$f":"IF('Backend Calcs Metric'!U35=\"\",\"\",(ROUND((CONVERT('Backend Calcs Metric'!U35,\"ft3\",\"m3\")),5)))","v":1.0346200000000001},{"$f":"IF('Backend Calcs Metric'!V35=\"\",\"\",(ROUND((CONVERT('Backend Calcs Metric'!V35,\"ft3\",\"m3\")),5)))","v":2.8320000000000001E-2},{"$f":"IF('Backend Calcs Metric'!W35=\"\",\"\",(ROUND((CONVERT('Backend Calcs Metric'!W35,\"ft3\",\"m3\")),5)))","v":0.98697000000000001},{"$f":"IF('Backend Calcs Metric'!X35=\"\",\"\",(ROUND((CONVERT('Backend Calcs Metric'!X35,\"ft3\",\"m3\")),5)))","v":2.0499000000000001},{"$f":"IF('Backend Calcs Metric'!Y35=\"\",\"\",(ROUND((CONVERT('Backend Calcs Metric'!Y35,\"ft3\",\"m3\")),5)))","v":116.94671},{"$f":"IF('Backend Calcs Metric'!Y35=\"\",\"\",(ROUND((CONVERT('Backend Calcs Metric'!Y35,\"ft3\",\"m3\")),2)))","v":116.95},{"$f":"IF('Backend Calcs Metric'!AA35=\"\",\"\",(ROUND((CONVERT('Backend Calcs Metric'!Z35,\"ft\",\"m\")),5)))","v":1.2192000000000001},null,24.598800000000001]
[{"$f":"IF('Backend Calcs Metric'!P36=\"\",\"\",(ROUND((CONVERT('Backend Calcs Metric'!P36,\"in\",\"mm\")),0)))","v":1194},{"$f":"IF('Backend Calcs Metric'!S36=\"\",\"\",(ROUND((CONVERT('Backend Calcs Metric'!S36,\"ft3\",\"m3\")),5)))","v":4.5859999999999998E-2},{"$f":"IF('Backend Calcs Metric'!T36=\"\",\"\",(ROUND((CONVERT('Backend Calcs Metric'!T36,\"ft3\",\"m3\")),5)))","v":3.3999999999999998E-3},{"$f":"IF('Backend Calcs Metric'!U36=\"\",\"\",(ROUND((CONVERT('Backend Calcs Metric'!U36,\"ft3\",\"m3\")),5)))","v":1.14662},{"$f":"IF('Backend Calcs Metric'!V36=\"\",\"\",(ROUND((CONVERT('Backend Calcs Metric'!V36,\"ft3\",\"m3\")),5)))","v":3.3980000000000003E-2},{"$f":"IF('Backend Calcs Metric'!W36=\"\",\"\",(ROUND((CONVERT('Backend Calcs Metric'!W36,\"ft3\",\"m3\")),5)))","v":0.93989999999999996},{"$f":"IF('Backend Calcs Metric'!X36=\"\",\"\",(ROUND((CONVERT('Backend Calcs Metric'!X36,\"ft3\",\"m3\")),5)))","v":2.1204999999999998},{"$f":"IF('Backend Calcs Metric'!Y36=\"\",\"\",(ROUND((CONVERT('Backend Calcs Metric'!Y36,\"ft3\",\"m3\")),5)))","v":114.8968},{"$f":"IF('Backend Calcs Metric'!Y36=\"\",\"\",(ROUND((CONVERT('Backend Calcs Metric'!Y36,\"ft3\",\"m3\")),2)))","v":114.9},{"$f":"IF('Backend Calcs Metric'!AA36=\"\",\"\",(ROUND((CONVERT('Backend Calcs Metric'!Z36,\"ft\",\"m\")),5)))","v":1.1938},null,25.445999999999998]
[{"$f":"IF('Backend Calcs Metric'!P37=\"\",\"\",(ROUND((CONVERT('Backend Calcs Metric'!P37,\"in\",\"mm\")),0)))","v":1168},{"$f":"IF('Backend Calcs Metric'!S37=\"\",\"\",(ROUND((CONVERT('Backend Calcs Metric'!S37,\"ft3\",\"m3\")),5)))","v":4.9750000000000003E-2},{"$f":"IF('Backend Calcs Metric'!T37=\"\",\"\",(ROUND((CONVERT('Backend Calcs Metric'!T37,\"ft3\",\"m3\")),5)))","v":4.2500000000000003E-3},{"$f":"IF('Backend Calcs Metric'!U37=\"\",\"\",(ROUND((CONVERT('Backend Calcs Metric'!U37,\"ft3\",\"m3\")),5)))","v":1.24363},{"$f":"IF('Backend Calcs Metric'!V37=\"\",\"\",(ROUND((CONVERT('Backend Calcs Metric'!V37,\"ft3\",\"m3\")),5)))","v":4.2479999999999997E-2},{"$f":"IF('Backend Calcs Metric'!W37=\"\",\"\",(ROUND((CONVERT('Backend Calcs Metric'!W37,\"ft3\",\"m3\")),5)))","v":0.89770000000000005},{"$f":"IF('Backend Calcs Metric'!X37=\"\",\"\",(ROUND((CONVERT('Backend Calcs Metric'!X37,\"ft3\",\"m3\")),5)))","v":2.1838099999999998},{"$f":"IF('Backend Calcs Metric'!Y37=\"\",\"\",(ROUND((CONVERT('Backend Calcs Metric'!Y37,\"ft3\",\"m3\")),5)))","v":112.77630000000001},{"$f":"IF('Backend Calcs Metric'!Y37=\"\",\"\",(ROUND((CONVERT('Backend Calcs Metric'!Y37,\"ft3\",\"m3\")),2)))","v":112.78},{"$f":"IF('Backend Calcs Metric'!AA37=\"\",\"\",(ROUND((CONVERT('Backend Calcs Metric'!Z37,\"ft\",\"m\")),5)))","v":1.1684000000000001},null,26.205719999999999]
[{"$f":"IF('Backend Calcs Metric'!P38=\"\",\"\",(ROUND((CONVERT('Backend Calcs Metric'!P38,\"in\",\"mm\")),0)))","v":1143},{"$f":"IF('Backend Calcs Metric'!S38=\"\",\"\",(ROUND((CONVERT('Backend Calcs Metric'!S38,\"ft3\",\"m3\")),5)))","v":5.3179999999999998E-2},{"$f":"IF('Backend Calcs Metric'!T38=\"\",\"\",(ROUND((CONVERT('Backend Calcs Metric'!T38,\"ft3\",\"m3\")),5)))","v":4.5300000000000002E-3},{"$f":"IF('Backend Calcs Metric'!U38=\"\",\"\",(ROUND((CONVERT('Backend Calcs Metric'!U38,\"ft3\",\"m3\")),5)))","v":1.32938},{"$f":"IF('Backend Calcs Metric'!V38=\"\",\"\",(ROUND((CONVERT('Backend Calcs Metric'!V38,\"ft3\",\"m3\")),5)))","v":4.5310000000000003E-2},{"$f":"IF('Backend Calcs Metric'!W38=\"\",\"\",(ROUND((CONVERT('Backend Calcs Metric'!W38,\"ft3\",\"m3\")),5)))","v":0.86226999999999998},{"$f":"IF('Backend Calcs Metric'!X38=\"\",\"\",(ROUND((CONVERT('Backend Calcs Metric'!X38,\"ft3\",\"m3\")),5)))","v":2.2369500000000002},{"$f":"IF('Backend Calcs Metric'!Y38=\"\",\"\",(ROUND((CONVERT('Backend Calcs Metric'!Y38,\"ft3\",\"m3\")),5)))","v":110.59249},{"$f":"IF('Backend Calcs Metric'!Y38=\"\",\"\",(ROUND((CONVERT('Backend Calcs Metric'!Y38,\"ft3\",\"m3\")),2)))","v":110.59},{"$f":"IF('Backend Calcs Metric'!AA38=\"\",\"\",(ROUND((CONVERT('Backend Calcs Metric'!Z38,\"ft\",\"m\")),5)))","v":1.143},null,26.843400000000003]
[{"$f":"IF('Backend Calcs Metric'!P39=\"\",\"\",(ROUND((CONVERT('Backend Calcs Metric'!P39,\"in\",\"mm\")),0)))","v":1118},{"$f":"IF('Backend Calcs Metric'!S39=\"\",\"\",(ROUND((CONVERT('Backend Calcs Metric'!S39,\"ft3\",\"m3\")),5)))","v":5.6239999999999998E-2},{"$f":"IF('Backend Calcs Metric'!T39=\"\",\"\",(ROUND((CONVERT('Backend Calcs Metric'!T39,\"ft3\",\"m3\")),5)))","v":4.81E-3},{"$f":"IF('Backend Calcs Metric'!U39=\"\",\"\",(ROUND((CONVERT('Backend Calcs Metric'!U39,\"ft3\",\"m3\")),5)))","v":1.4060999999999999},{"$f":"IF('Backend Calcs Metric'!V39=\"\",\"\",(ROUND((CONVERT('Backend Calcs Metric'!V39,\"ft3\",\"m3\")),5)))","v":4.8140000000000002E-2},{"$f":"IF('Backend Calcs Metric'!W39=\"\",\"\",(ROUND((CONVERT('Backend Calcs Metric'!W39,\"ft3\",\"m3\")),5)))","v":0.83043999999999996},{"$f":"IF('Backend Calcs Metric'!X39=\"\",\"\",(ROUND((CONVERT('Backend Calcs Metric'!X39,\"ft3\",\"m3\")),5)))","v":2.2846899999999999},{"$f":"IF('Backend Calcs Metric'!Y39=\"\",\"\",(ROUND((CONVERT('Backend Calcs Metric'!Y39,\"ft3\",\"m3\")),5)))","v":108.35554},{"$f":"IF('Backend Calcs Metric'!Y39=\"\",\"\",(ROUND((CONVERT('Backend Calcs Metric'!Y39,\"ft3\",\"m3\")),2)))","v":108.36},{"$f":"IF('Backend Calcs Metric'!AA39=\"\",\"\",(ROUND((CONVERT('Backend Calcs Metric'!Z39,\"ft\",\"m\")),5)))","v":1.1175999999999999},null,27.41628]
[{"$f":"IF('Backend Calcs Metric'!P40=\"\",\"\",(ROUND((CONVERT('Backend Calcs Metric'!P40,\"in\",\"mm\")),0)))","v":1092},{"$f":"IF('Backend Calcs Metric'!S40=\"\",\"\",(ROUND((CONVERT('Backend Calcs Metric'!S40,\"ft3\",\"m3\")),5)))","v":5.901E-2},{"$f":"IF('Backend Calcs Metric'!T40=\"\",\"\",(ROUND((CONVERT('Backend Calcs Metric'!T40,\"ft3\",\"m3\")),5)))","v":5.3800000000000002E-3},{"$f":"IF('Backend Calcs Metric'!U40=\"\",\"\",(ROUND((CONVERT('Backend Calcs Metric'!U40,\"ft3\",\"m3\")),5)))","v":1.47529},{"$f":"IF('Backend Calcs Metric'!V40=\"\",\"\",(ROUND((CONVERT('Backend Calcs Metric'!V40,\"ft3\",\"m3\")),5)))","v":5.3800000000000001E-2},{"$f":"IF('Backend Calcs Metric'!W40=\"\",\"\",(ROUND((CONVERT('Backend Calcs Metric'!W40,\"ft3\",\"m3\")),5)))","v":0.80049999999999999},{"$f":"IF('Backend Calcs Metric'!X40=\"\",\"\",(ROUND((CONVERT('Backend Calcs Metric'!X40,\"ft3\",\"m3\")),5)))","v":2.3296000000000001},{"$f":"IF('Backend Calcs Metric'!Y40=\"\",\"\",(ROUND((CONVERT('Backend Calcs Metric'!Y40,\"ft3\",\"m3\")),5)))","v":106.07086},{"$f":"IF('Backend Calcs Metric'!Y40=\"\",\"\",(ROUND((CONVERT('Backend Calcs Metric'!Y40,\"ft3\",\"m3\")),2)))","v":106.07},{"$f":"IF('Backend Calcs Metric'!AA40=\"\",\"\",(ROUND((CONVERT('Backend Calcs Metric'!Z40,\"ft\",\"m\")),5)))","v":1.0922000000000001},null,27.955200000000001]
[{"$f":"IF('Backend Calcs Metric'!P41=\"\",\"\",(ROUND((CONVERT('Backend Calcs Metric'!P41,\"in\",\"mm\")),0)))","v":1067},{"$f":"IF('Backend Calcs Metric'!S41=\"\",\"\",(ROUND((CONVERT('Backend Calcs Metric'!S41,\"ft3\",\"m3\")),5)))","v":6.1530000000000001E-2},{"$f":"IF('Backend Calcs Metric'!T41=\"\",\"\",(ROUND((CONVERT('Backend Calcs Metric'!T41,\"ft3\",\"m3\")),5)))","v":5.6600000000000001E-3},{"$f":"IF('Backend Calcs Metric'!U41=\"\",\"\",(ROUND((CONVERT('Backend Calcs Metric'!U41,\"ft3\",\"m3\")),5)))","v":1.53834},{"$f":"IF('Backend Calcs Metric'!V41=\"\",\"\",(ROUND((CONVERT('Backend Calcs Metric'!V41,\"ft3\",\"m3\")),5)))","v":5.663E-2},{"$f":"IF('Backend Calcs Metric'!W41=\"\",\"\",(ROUND((CONVERT('Backend Calcs Metric'!W41,\"ft3\",\"m3\")),5)))","v":0.77415},{"$f":"IF('Backend Calcs Metric'!X41=\"\",\"\",(ROUND((CONVERT('Backend Calcs Metric'!X41,\"ft3\",\"m3\")),5)))","v":2.3691200000000001},{"$f":"IF('Backend Calcs Metric'!Y41=\"\",\"\",(ROUND((CONVERT('Backend Calcs Metric'!Y41,\"ft3\",\"m3\")),5)))","v":103.74126},{"$f":"IF('Backend Calcs Metric'!Y41=\"\",\"\",(ROUND((CONVERT('Backend Calcs Metric'!Y41,\"ft3\",\"m3\")),2)))","v":103.74},{"$f":"IF('Backend Calcs Metric'!AA41=\"\",\"\",(ROUND((CONVERT('Backend Calcs Metric'!Z41,\"ft\",\"m\")),5)))","v":1.0668},null,28.42944]
[{"$f":"IF('Backend Calcs Metric'!P42=\"\",\"\",(ROUND((CONVERT('Backend Calcs Metric'!P42,\"in\",\"mm\")),0)))","v":1041},{"$f":"IF('Backend Calcs Metric'!S42=\"\",\"\",(ROUND((CONVERT('Backend Calcs Metric'!S42,\"ft3\",\"m3\")),5)))","v":6.386E-2},{"$f":"IF('Backend Calcs Metric'!T42=\"\",\"\",(ROUND((CONVERT('Backend Calcs Metric'!T42,\"ft3\",\"m3\")),5)))","v":6.2300000000000003E-3},{"$f":"IF('Backend Calcs Metric'!U42=\"\",\"\",(ROUND((CONVERT('Backend Calcs Metric'!U42,\"ft3\",\"m3\")),5)))","v":1.5965499999999999},{"$f":"IF('Backend Calcs Metric'!V42=\"\",\"\",(ROUND((CONVERT('Backend Calcs Metric'!V42,\"ft3\",\"m3\")),5)))","v":6.2300000000000001E-2},{"$f":"IF('Backend Calcs Metric'!W42=\"\",\"\",(ROUND((CONVERT('Backend Calcs Metric'!W42,\"ft3\",\"m3\")),5)))","v":0.74860000000000004},{"$f":"IF('Backend Calcs Metric'!X42=\"\",\"\",(ROUND((CONVERT('Backend Calcs Metric'!X42,\"ft3\",\"m3\")),5)))","v":2.4074499999999999},{"$f":"IF('Backend Calcs Metric'!Y42=\"\",\"\",(ROUND((CONVERT('Backend Calcs Metric'!Y42,\"ft3\",\"m3\")),5)))","v":101.37214},{"$f":"IF('Backend Calcs Metric'!Y42=\"\",\"\",(ROUND((CONVERT('Backend Calcs Metric'!Y42,\"ft3\",\"m3\")),2)))","v":101.37},{"$f":"IF('Backend Calcs Metric'!AA42=\"\",\"\",(ROUND((CONVERT('Backend Calcs Metric'!Z42,\"ft\",\"m\")),5)))","v":1.0414000000000001},null,28.889399999999998]
[{"$f":"IF('Backend Calcs Metric'!P43=\"\",\"\",(ROUND((CONVERT('Backend Calcs Metric'!P43,\"in\",\"mm\")),0)))","v":1016},{"$f":"IF('Backend Calcs Metric'!S43=\"\",\"\",(ROUND((CONVERT('Backend Calcs Metric'!S43,\"ft3\",\"m3\")),5)))","v":6.6049999999999998E-2},{"$f":"IF('Backend Calcs Metric'!T43=\"\",\"\",(ROUND((CONVERT('Backend Calcs Metric'!T43,\"ft3\",\"m3\")),5)))","v":6.5100000000000002E-3},{"$f":"IF('Backend Calcs Metric'!U43=\"\",\"\",(ROUND((CONVERT('Backend Calcs Metric'!U43,\"ft3\",\"m3\")),5)))","v":1.6512800000000001},{"$f":"IF('Backend Calcs Metric'!V43=\"\",\"\",(ROUND((CONVERT('Backend Calcs Metric'!V43,\"ft3\",\"m3\")),5)))","v":6.5129999999999993E-2},{"$f":"IF('Backend Calcs Metric'!W43=\"\",\"\",(ROUND((CONVERT('Backend Calcs Metric'!W43,\"ft3\",\"m3\")),5)))","v":0.72558},{"$f":"IF('Backend Calcs Metric'!X43=\"\",\"\",(ROUND((CONVERT('Backend Calcs Metric'!X43,\"ft3\",\"m3\")),5)))","v":2.4419900000000001},{"$f":"IF('Backend Calcs Metric'!Y43=\"\",\"\",(ROUND((CONVERT('Backend Calcs Metric'!Y43,\"ft3\",\"m3\")),5)))","v":98.964680000000001},{"$f":"IF('Backend Calcs Metric'!Y43=\"\",\"\",(ROUND((CONVERT('Backend Calcs Metric'!Y43,\"ft3\",\"m3\")),2)))","v":98.96},{"$f":"IF('Backend Calcs Metric'!AA43=\"\",\"\",(ROUND((CONVERT('Backend Calcs Metric'!Z43,\"ft\",\"m\")),5)))","v":1.016},null,29.303879999999999]
[{"$f":"IF('Backend Calcs Metric'!P44=\"\",\"\",(ROUND((CONVERT('Backend Calcs Metric'!P44,\"in\",\"mm\")),0)))","v":991},{"$f":"IF('Backend Calcs Metric'!S44=\"\",\"\",(ROUND((CONVERT('Backend Calcs Metric'!S44,\"ft3\",\"m3\")),5)))","v":6.8129999999999996E-2},{"$f":"IF('Backend Calcs Metric'!T44=\"\",\"\",(ROUND((CONVERT('Backend Calcs Metric'!T44,\"ft3\",\"m3\")),5)))","v":7.0800000000000004E-3},{"$f":"IF('Backend Calcs Metric'!U44=\"\",\"\",(ROUND((CONVERT('Backend Calcs Metric'!U44,\"ft3\",\"m3\")),5)))","v":1.7032},{"$f":"IF('Backend Calcs Metric'!V44=\"\",\"\",(ROUND((CONVERT('Backend Calcs Metric'!V44,\"ft3\",\"m3\")),5)))","v":7.0790000000000006E-2},{"$f":"IF('Backend Calcs Metric'!W44=\"\",\"\",(ROUND((CONVERT('Backend Calcs Metric'!W44,\"ft3\",\"m3\")),5)))","v":0.70254000000000005},{"$f":"IF('Backend Calcs Metric'!X44=\"\",\"\",(ROUND((CONVERT('Backend Calcs Metric'!X44,\"ft3\",\"m3\")),5)))","v":2.4765299999999999},{"$f":"IF('Backend Calcs Metric'!Y44=\"\",\"\",(ROUND((CONVERT('Backend Calcs Metric'!Y44,\"ft3\",\"m3\")),5)))","v":96.5227},{"$f":"IF('Backend Calcs Metric'!Y44=\"\",\"\",(ROUND((CONVERT('Backend Calcs Metric'!Y44,\"ft3\",\"m3\")),2)))","v":96.52},{"$f":"IF('Backend Calcs Metric'!AA44=\"\",\"\",(ROUND((CONVERT('Backend Calcs Metric'!Z44,\"ft\",\"m\")),5)))","v":0.99060000000000004},null,29.718359999999997]
[{"$f":"IF('Backend Calcs Metric'!P45=\"\",\"\",(ROUND((CONVERT('Backend Calcs Metric'!P45,\"in\",\"mm\")),0)))","v":965},{"$f":"IF('Backend Calcs Metric'!S45=\"\",\"\",(ROUND((CONVERT('Backend Calcs Metric'!S45,\"ft3\",\"m3\")),5)))","v":7.0099999999999996E-2},{"$f":"IF('Backend Calcs Metric'!T45=\"\",\"\",(ROUND((CONVERT('Backend Calcs Metric'!T45,\"ft3\",\"m3\")),5)))","v":7.6499999999999997E-3},{"$f":"IF('Backend Calcs Metric'!U45=\"\",\"\",(ROUND((CONVERT('Backend Calcs Metric'!U45,\"ft3\",\"m3\")),5)))","v":1.75247},{"$f":"IF('Backend Calcs Metric'!V45=\"\",\"\",(ROUND((CONVERT('Backend Calcs Metric'!V45,\"ft3\",\"m3\")),5)))","v":7.646E-2},{"$f":"IF('Backend Calcs Metric'!W45=\"\",\"\",(ROUND((CONVERT('Backend Calcs Metric'!W45,\"ft3\",\"m3\")),5)))","v":0.68057000000000001},{"$f":"IF('Backend Calcs Metric'!X45=\"\",\"\",(ROUND((CONVERT('Backend Calcs Metric'!X45,\"ft3\",\"m3\")),5)))","v":2.50949},{"$f":"IF('Backend Calcs Metric'!Y45=\"\",\"\",(ROUND((CONVERT('Backend Calcs Metric'!Y45,\"ft3\",\"m3\")),5)))","v":94.04616},{"$f":"IF('Backend Calcs Metric'!Y45=\"\",\"\",(ROUND((CONVERT('Backend Calcs Metric'!Y45,\"ft3\",\"m3\")),2)))","v":94.05},{"$f":"IF('Backend Calcs Metric'!AA45=\"\",\"\",(ROUND((CONVERT('Backend Calcs Metric'!Z45,\"ft\",\"m\")),5)))","v":0.96519999999999995},null,30.113880000000002]
[{"$f":"IF('Backend Calcs Metric'!P46=\"\",\"\",(ROUND((CONVERT('Backend Calcs Metric'!P46,\"in\",\"mm\")),0)))","v":940},{"$f":"IF('Backend Calcs Metric'!S46=\"\",\"\",(ROUND((CONVERT('Backend Calcs Metric'!S46,\"ft3\",\"m3\")),5)))","v":7.1970000000000006E-2},{"$f":"IF('Backend Calcs Metric'!T46=\"\",\"\",(ROUND((CONVERT('Backend Calcs Metric'!T46,\"ft3\",\"m3\")),5)))","v":7.9299999999999995E-3},{"$f":"IF('Backend Calcs Metric'!U46=\"\",\"\",(ROUND((CONVERT('Backend Calcs Metric'!U46,\"ft3\",\"m3\")),5)))","v":1.79922},{"$f":"IF('Backend Calcs Metric'!V46=\"\",\"\",(ROUND((CONVERT('Backend Calcs Metric'!V46,\"ft3\",\"m3\")),5)))","v":7.9289999999999999E-2},{"$f":"IF('Backend Calcs Metric'!W46=\"\",\"\",(ROUND((CONVERT('Backend Calcs Metric'!W46,\"ft3\",\"m3\")),5)))","v":0.66073999999999999},{"$f":"IF('Backend Calcs Metric'!X46=\"\",\"\",(ROUND((CONVERT('Backend Calcs Metric'!X46,\"ft3\",\"m3\")),5)))","v":2.5392399999999999},{"$f":"IF('Backend Calcs Metric'!Y46=\"\",\"\",(ROUND((CONVERT('Backend Calcs Metric'!Y46,\"ft3\",\"m3\")),5)))","v":91.536670000000001},{"$f":"IF('Backend Calcs Metric'!Y46=\"\",\"\",(ROUND((CONVERT('Backend Calcs Metric'!Y46,\"ft3\",\"m3\")),2)))","v":91.54},{"$f":"IF('Backend Calcs Metric'!AA46=\"\",\"\",(ROUND((CONVERT('Backend Calcs Metric'!Z46,\"ft\",\"m\")),5)))","v":0.93979999999999997},null,30.470880000000001]
[{"$f":"IF('Backend Calcs Metric'!P47=\"\",\"\",(ROUND((CONVERT('Backend Calcs Metric'!P47,\"in\",\"mm\")),0)))","v":914},{"$f":"IF('Backend Calcs Metric'!S47=\"\",\"\",(ROUND((CONVERT('Backend Calcs Metric'!S47,\"ft3\",\"m3\")),5)))","v":7.374E-2},{"$f":"IF('Backend Calcs Metric'!T47=\"\",\"\",(ROUND((CONVERT('Backend Calcs Metric'!T47,\"ft3\",\"m3\")),5)))","v":8.5000000000000006E-3},{"$f":"IF('Backend Calcs Metric'!U47=\"\",\"\",(ROUND((CONVERT('Backend Calcs Metric'!U47,\"ft3\",\"m3\")),5)))","v":1.8435900000000001},{"$f":"IF('Backend Calcs Metric'!V47=\"\",\"\",(ROUND((CONVERT('Backend Calcs Metric'!V47,\"ft3\",\"m3\")),5)))","v":8.4949999999999998E-2},{"$f":"IF('Backend Calcs Metric'!W47=\"\",\"\",(ROUND((CONVERT('Backend Calcs Metric'!W47,\"ft3\",\"m3\")),5)))","v":0.64073000000000002},{"$f":"IF('Backend Calcs Metric'!X47=\"\",\"\",(ROUND((CONVERT('Backend Calcs Metric'!X47,\"ft3\",\"m3\")),5)))","v":2.5692599999999999},{"$f":"IF('Backend Calcs Metric'!Y47=\"\",\"\",(ROUND((CONVERT('Backend Calcs Metric'!Y47,\"ft3\",\"m3\")),5)))","v":88.997420000000005},{"$f":"IF('Backend Calcs Metric'!Y47=\"\",\"\",(ROUND((CONVERT('Backend Calcs Metric'!Y47,\"ft3\",\"m3\")),2)))","v":89},{"$f":"IF('Backend Calcs Metric'!AA47=\"\",\"\",(ROUND((CONVERT('Backend Calcs Metric'!Z47,\"ft\",\"m\")),5)))","v":0.91439999999999999},null,30.831119999999999]
[{"$f":"IF('Backend Calcs Metric'!P48=\"\",\"\",(ROUND((CONVERT('Backend Calcs Metric'!P48,\"in\",\"mm\")),0)))","v":889},{"$f":"IF('Backend Calcs Metric'!S48=\"\",\"\",(ROUND((CONVERT('Backend Calcs Metric'!S48,\"ft3\",\"m3\")),5)))","v":7.5429999999999997E-2},{"$f":"IF('Backend Calcs Metric'!T48=\"\",\"\",(ROUND((CONVERT('Backend Calcs Metric'!T48,\"ft3\",\"m3\")),5)))","v":9.0600000000000003E-3},{"$f":"IF('Backend Calcs Metric'!U48=\"\",\"\",(ROUND((CONVERT('Backend Calcs Metric'!U48,\"ft3\",\"m3\")),5)))","v":1.88564},{"$f":"IF('Backend Calcs Metric'!V48=\"\",\"\",(ROUND((CONVERT('Backend Calcs Metric'!V48,\"ft3\",\"m3\")),5)))","v":9.0609999999999996E-2},{"$f":"IF('Backend Calcs Metric'!W48=\"\",\"\",(ROUND((CONVERT('Backend Calcs Metric'!W48,\"ft3\",\"m3\")),5)))","v":0.62163999999999997},{"$f":"IF('Backend Calcs Metric'!X48=\"\",\"\",(ROUND((CONVERT('Backend Calcs Metric'!X48,\"ft3\",\"m3\")),5)))","v":2.59789},{"$f":"IF('Backend Calcs Metric'!Y48=\"\",\"\",(ROUND((CONVERT('Backend Calcs Metric'!Y48,\"ft3\",\"m3\")),5)))","v":86.428160000000005},{"$f":"IF('Backend Calcs Metric'!Y48=\"\",\"\",(ROUND((CONVERT('Backend Calcs Metric'!Y48,\"ft3\",\"m3\")),2)))","v":86.43},{"$f":"IF('Backend Calcs Metric'!AA48=\"\",\"\",(ROUND((CONVERT('Backend Calcs Metric'!Z48,\"ft\",\"m\")),5)))","v":0.88900000000000001},null,31.174680000000002]
[{"$f":"IF('Backend Calcs Metric'!P49=\"\",\"\",(ROUND((CONVERT('Backend Calcs Metric'!P49,\"in\",\"mm\")),0)))","v":864},{"$f":"IF('Backend Calcs Metric'!S49=\"\",\"\",(ROUND((CONVERT('Backend Calcs Metric'!S49,\"ft3\",\"m3\")),5)))","v":7.7020000000000005E-2},{"$f":"IF('Backend Calcs Metric'!T49=\"\",\"\",(ROUND((CONVERT('Backend Calcs Metric'!T49,\"ft3\",\"m3\")),5)))","v":9.3399999999999993E-3},{"$f":"IF('Backend Calcs Metric'!U49=\"\",\"\",(ROUND((CONVERT('Backend Calcs Metric'!U49,\"ft3\",\"m3\")),5)))","v":1.9255},{"$f":"IF('Backend Calcs Metric'!V49=\"\",\"\",(ROUND((CONVERT('Backend Calcs Metric'!V49,\"ft3\",\"m3\")),5)))","v":9.3450000000000005E-2},{"$f":"IF('Backend Calcs Metric'!W49=\"\",\"\",(ROUND((CONVERT('Backend Calcs Metric'!W49,\"ft3\",\"m3\")),5)))","v":0.60455999999999999},{"$f":"IF('Backend Calcs Metric'!X49=\"\",\"\",(ROUND((CONVERT('Backend Calcs Metric'!X49,\"ft3\",\"m3\")),5)))","v":2.62351},{"$f":"IF('Backend Calcs Metric'!Y49=\"\",\"\",(ROUND((CONVERT('Backend Calcs Metric'!Y49,\"ft3\",\"m3\")),5)))","v":83.830269999999999},{"$f":"IF('Backend Calcs Metric'!Y49=\"\",\"\",(ROUND((CONVERT('Backend Calcs Metric'!Y49,\"ft3\",\"m3\")),2)))","v":83.83},{"$f":"IF('Backend Calcs Metric'!AA49=\"\",\"\",(ROUND((CONVERT('Backend Calcs Metric'!Z49,\"ft\",\"m\")),5)))","v":0.86360000000000003},null,31.482120000000002]
[{"$f":"IF('Backend Calcs Metric'!P50=\"\",\"\",(ROUND((CONVERT('Backend Calcs Metric'!P50,\"in\",\"mm\")),0)))","v":838},{"$f":"IF('Backend Calcs Metric'!S50=\"\",\"\",(ROUND((CONVERT('Backend Calcs Metric'!S50,\"ft3\",\"m3\")),5)))","v":7.8530000000000003E-2},{"$f":"IF('Backend Calcs Metric'!T50=\"\",\"\",(ROUND((CONVERT('Backend Calcs Metric'!T50,\"ft3\",\"m3\")),5)))","v":9.9100000000000004E-3},{"$f":"IF('Backend Calcs Metric'!U50=\"\",\"\",(ROUND((CONVERT('Backend Calcs Metric'!U50,\"ft3\",\"m3\")),5)))","v":1.96326},{"$f":"IF('Backend Calcs Metric'!V50=\"\",\"\",(ROUND((CONVERT('Backend Calcs Metric'!V50,\"ft3\",\"m3\")),5)))","v":9.9110000000000004E-2},{"$f":"IF('Backend Calcs Metric'!W50=\"\",\"\",(ROUND((CONVERT('Backend Calcs Metric'!W50,\"ft3\",\"m3\")),5)))","v":0.58718999999999999},{"$f":"IF('Backend Calcs Metric'!X50=\"\",\"\",(ROUND((CONVERT('Backend Calcs Metric'!X50,\"ft3\",\"m3\")),5)))","v":2.6495600000000001},{"$f":"IF('Backend Calcs Metric'!Y50=\"\",\"\",(ROUND((CONVERT('Backend Calcs Metric'!Y50,\"ft3\",\"m3\")),5)))","v":81.206760000000003},{"$f":"IF('Backend Calcs Metric'!Y50=\"\",\"\",(ROUND((CONVERT('Backend Calcs Metric'!Y50,\"ft3\",\"m3\")),2)))","v":81.209999999999994},{"$f":"IF('Backend Calcs Metric'!AA50=\"\",\"\",(ROUND((CONVERT('Backend Calcs Metric'!Z50,\"ft\",\"m\")),5)))","v":0.83819999999999995},null,31.794720000000002]
[{"$f":"IF('Backend Calcs Metric'!P51=\"\",\"\",(ROUND((CONVERT('Backend Calcs Metric'!P51,\"in\",\"mm\")),0)))","v":813},{"$f":"IF('Backend Calcs Metric'!S51=\"\",\"\",(ROUND((CONVERT('Backend Calcs Metric'!S51,\"ft3\",\"m3\")),5)))","v":7.9960000000000003E-2},{"$f":"IF('Backend Calcs Metric'!T51=\"\",\"\",(ROUND((CONVERT('Backend Calcs Metric'!T51,\"ft3\",\"m3\")),5)))","v":1.048E-2},{"$f":"IF('Backend Calcs Metric'!U51=\"\",\"\",(ROUND((CONVERT('Backend Calcs Metric'!U51,\"ft3\",\"m3\")),5)))","v":1.9989600000000001},{"$f":"IF('Backend Calcs Metric'!V51=\"\",\"\",(ROUND((CONVERT('Backend Calcs Metric'!V51,\"ft3\",\"m3\")),5)))","v":0.10477},{"$f":"IF('Backend Calcs Metric'!W51=\"\",\"\",(ROUND((CONVERT('Backend Calcs Metric'!W51,\"ft3\",\"m3\")),5)))","v":0.57064999999999999},{"$f":"IF('Backend Calcs Metric'!X51=\"\",\"\",(ROUND((CONVERT('Backend Calcs Metric'!X51,\"ft3\",\"m3\")),5)))","v":2.6743800000000002},{"$f":"IF('Backend Calcs Metric'!Y51=\"\",\"\",(ROUND((CONVERT('Backend Calcs Metric'!Y51,\"ft3\",\"m3\")),5)))","v":78.557199999999995},{"$f":"IF('Backend Calcs Metric'!Y51=\"\",\"\",(ROUND((CONVERT('Backend Calcs Metric'!Y51,\"ft3\",\"m3\")),2)))","v":78.56},{"$f":"IF('Backend Calcs Metric'!AA51=\"\",\"\",(ROUND((CONVERT('Backend Calcs Metric'!Z51,\"ft\",\"m\")),5)))","v":0.81279999999999997},null,32.092560000000006]
[{"$f":"IF('Backend Calcs Metric'!P52=\"\",\"\",(ROUND((CONVERT('Backend Calcs Metric'!P52,\"in\",\"mm\")),0)))","v":787},{"$f":"IF('Backend Calcs Metric'!S52=\"\",\"\",(ROUND((CONVERT('Backend Calcs Metric'!S52,\"ft3\",\"m3\")),5)))","v":8.1309999999999993E-2},{"$f":"IF('Backend Calcs Metric'!T52=\"\",\"\",(ROUND((CONVERT('Backend Calcs Metric'!T52,\"ft3\",\"m3\")),5)))","v":1.048E-2},{"$f":"IF('Backend Calcs Metric'!U52=\"\",\"\",(ROUND((CONVERT('Backend Calcs Metric'!U52,\"ft3\",\"m3\")),5)))","v":2.0326900000000001},{"$f":"IF('Backend Calcs Metric'!V52=\"\",\"\",(ROUND((CONVERT('Backend Calcs Metric'!V52,\"ft3\",\"m3\")),5)))","v":0.10477},{"$f":"IF('Backend Calcs Metric'!W52=\"\",\"\",(ROUND((CONVERT('Backend Calcs Metric'!W52,\"ft3\",\"m3\")),5)))","v":0.55715000000000003},{"$f":"IF('Backend Calcs Metric'!X52=\"\",\"\",(ROUND((CONVERT('Backend Calcs Metric'!X52,\"ft3\",\"m3\")),5)))","v":2.69462},{"$f":"IF('Backend Calcs Metric'!Y52=\"\",\"\",(ROUND((CONVERT('Backend Calcs Metric'!Y52,\"ft3\",\"m3\")),5)))","v":75.882829999999998},{"$f":"IF('Backend Calcs Metric'!Y52=\"\",\"\",(ROUND((CONVERT('Backend Calcs Metric'!Y52,\"ft3\",\"m3\")),2)))","v":75.88},{"$f":"IF('Backend Calcs Metric'!AA52=\"\",\"\",(ROUND((CONVERT('Backend Calcs Metric'!Z52,\"ft\",\"m\")),5)))","v":0.78739999999999999},null,32.335439999999998]
[{"$f":"IF('Backend Calcs Metric'!P53=\"\",\"\",(ROUND((CONVERT('Backend Calcs Metric'!P53,\"in\",\"mm\")),0)))","v":762},{"$f":"IF('Backend Calcs Metric'!S53=\"\",\"\",(ROUND((CONVERT('Backend Calcs Metric'!S53,\"ft3\",\"m3\")),5)))","v":8.2580000000000001E-2},{"$f":"IF('Backend Calcs Metric'!T53=\"\",\"\",(ROUND((CONVERT('Backend Calcs Metric'!T53,\"ft3\",\"m3\")),5)))","v":1.133E-2},{"$f":"IF('Backend Calcs Metric'!U53=\"\",\"\",(ROUND((CONVERT('Backend Calcs Metric'!U53,\"ft3\",\"m3\")),5)))","v":2.0645199999999999},{"$f":"IF('Backend Calcs Metric'!V53=\"\",\"\",(ROUND((CONVERT('Backend Calcs Metric'!V53,\"ft3\",\"m3\")),5)))","v":0.11327},{"$f":"IF('Backend Calcs Metric'!W53=\"\",\"\",(ROUND((CONVERT('Backend Calcs Metric'!W53,\"ft3\",\"m3\")),5)))","v":0.54103000000000001},{"$f":"IF('Backend Calcs Metric'!X53=\"\",\"\",(ROUND((CONVERT('Backend Calcs Metric'!X53,\"ft3\",\"m3\")),5)))","v":2.7188099999999999},{"$f":"IF('Backend Calcs Metric'!Y53=\"\",\"\",(ROUND((CONVERT('Backend Calcs Metric'!Y53,\"ft3\",\"m3\")),5)))","v":73.188209999999998},{"$f":"IF('Backend Calcs Metric'!Y53=\"\",\"\",(ROUND((CONVERT('Backend Calcs Metric'!Y53,\"ft3\",\"m3\")),2)))","v":73.19},{"$f":"IF('Backend Calcs Metric'!AA53=\"\",\"\",(ROUND((CONVERT('Backend Calcs Metric'!Z53,\"ft\",\"m\")),5)))","v":0.76200000000000001},null,32.625720000000001]
[{"$f":"IF('Backend Calcs Metric'!P54=\"\",\"\",(ROUND((CONVERT('Backend Calcs Metric'!P54,\"in\",\"mm\")),0)))","v":737},{"$f":"IF('Backend Calcs Metric'!S54=\"\",\"\",(ROUND((CONVERT('Backend Calcs Metric'!S54,\"ft3\",\"m3\")),5)))","v":8.3940000000000001E-2},{"$f":"IF('Backend Calcs Metric'!T54=\"\",\"\",(ROUND((CONVERT('Backend Calcs Metric'!T54,\"ft3\",\"m3\")),5)))","v":1.1610000000000001E-2},{"$f":"IF('Backend Calcs Metric'!U54=\"\",\"\",(ROUND((CONVERT('Backend Calcs Metric'!U54,\"ft3\",\"m3\")),5)))","v":2.0985900000000002},{"$f":"IF('Backend Calcs Metric'!V54=\"\",\"\",(ROUND((CONVERT('Backend Calcs Metric'!V54,\"ft3\",\"m3\")),5)))","v":0.11609999999999999},{"$f":"IF('Backend Calcs Metric'!W54=\"\",\"\",(ROUND((CONVERT('Backend Calcs Metric'!W54,\"ft3\",\"m3\")),5)))","v":0.52627000000000002},{"$f":"IF('Backend Calcs Metric'!X54=\"\",\"\",(ROUND((CONVERT('Backend Calcs Metric'!X54,\"ft3\",\"m3\")),5)))","v":2.7409500000000002},{"$f":"IF('Backend Calcs Metric'!Y54=\"\",\"\",(ROUND((CONVERT('Backend Calcs Metric'!Y54,\"ft3\",\"m3\")),5)))","v":70.469399999999993},{"$f":"IF('Backend Calcs Metric'!Y54=\"\",\"\",(ROUND((CONVERT('Backend Calcs Metric'!Y54,\"ft3\",\"m3\")),2)))","v":70.47},{"$f":"IF('Backend Calcs Metric'!AA54=\"\",\"\",(ROUND((CONVERT('Backend Calcs Metric'!Z54,\"ft\",\"m\")),5)))","v":0.73660000000000003},null,32.891400000000004]
[{"$f":"IF('Backend Calcs Metric'!P55=\"\",\"\",(ROUND((CONVERT('Backend Calcs Metric'!P55,\"in\",\"mm\")),0)))","v":711},{"$f":"IF('Backend Calcs Metric'!S55=\"\",\"\",(ROUND((CONVERT('Backend Calcs Metric'!S55,\"ft3\",\"m3\")),5)))","v":8.4900000000000003E-2},{"$f":"IF('Backend Calcs Metric'!T55=\"\",\"\",(ROUND((CONVERT('Backend Calcs Metric'!T55,\"ft3\",\"m3\")),5)))","v":1.189E-2},{"$f":"IF('Backend Calcs Metric'!U55=\"\",\"\",(ROUND((CONVERT('Backend Calcs Metric'!U55,\"ft3\",\"m3\")),5)))","v":2.12262},{"$f":"IF('Backend Calcs Metric'!V55=\"\",\"\",(ROUND((CONVERT('Backend Calcs Metric'!V55,\"ft3\",\"m3\")),5)))","v":0.11892999999999999},{"$f":"IF('Backend Calcs Metric'!W55=\"\",\"\",(ROUND((CONVERT('Backend Calcs Metric'!W55,\"ft3\",\"m3\")),5)))","v":0.51551999999999998},{"$f":"IF('Backend Calcs Metric'!X55=\"\",\"\",(ROUND((CONVERT('Backend Calcs Metric'!X55,\"ft3\",\"m3\")),5)))","v":2.7570700000000001},{"$f":"IF('Backend Calcs Metric'!Y55=\"\",\"\",(ROUND((CONVERT('Backend Calcs Metric'!Y55,\"ft3\",\"m3\")),5)))","v":67.728440000000006},{"$f":"IF('Backend Calcs Metric'!Y55=\"\",\"\",(ROUND((CONVERT('Backend Calcs Metric'!Y55,\"ft3\",\"m3\")),2)))","v":67.73},{"$f":"IF('Backend Calcs Metric'!AA55=\"\",\"\",(ROUND((CONVERT('Backend Calcs Metric'!Z55,\"ft\",\"m\")),5)))","v":0.71120000000000005},null,33.08484]
[{"$f":"IF('Backend Calcs Metric'!P56=\"\",\"\",(ROUND((CONVERT('Backend Calcs Metric'!P56,\"in\",\"mm\")),0)))","v":686},{"$f":"IF('Backend Calcs Metric'!S56=\"\",\"\",(ROUND((CONVERT('Backend Calcs Metric'!S56,\"ft3\",\"m3\")),5)))","v":8.5959999999999995E-2},{"$f":"IF('Backend Calcs Metric'!T56=\"\",\"\",(ROUND((CONVERT('Backend Calcs Metric'!T56,\"ft3\",\"m3\")),5)))","v":1.2460000000000001E-2},{"$f":"IF('Backend Calcs Metric'!U56=\"\",\"\",(ROUND((CONVERT('Backend Calcs Metric'!U56,\"ft3\",\"m3\")),5)))","v":2.1489199999999999},{"$f":"IF('Backend Calcs Metric'!V56=\"\",\"\",(ROUND((CONVERT('Backend Calcs Metric'!V56,\"ft3\",\"m3\")),5)))","v":0.12459000000000001},{"$f":"IF('Backend Calcs Metric'!W56=\"\",\"\",(ROUND((CONVERT('Backend Calcs Metric'!W56,\"ft3\",\"m3\")),5)))","v":0.50273000000000001},{"$f":"IF('Backend Calcs Metric'!X56=\"\",\"\",(ROUND((CONVERT('Backend Calcs Metric'!X56,\"ft3\",\"m3\")),5)))","v":2.7762500000000001},{"$f":"IF('Backend Calcs Metric'!Y56=\"\",\"\",(ROUND((CONVERT('Backend Calcs Metric'!Y56,\"ft3\",\"m3\")),5)))","v":64.971369999999993},{"$f":"IF('Backend Calcs Metric'!Y56=\"\",\"\",(ROUND((CONVERT('Backend Calcs Metric'!Y56,\"ft3\",\"m3\")),2)))","v":64.97},{"$f":"IF('Backend Calcs Metric'!AA56=\"\",\"\",(ROUND((CONVERT('Backend Calcs Metric'!Z56,\"ft\",\"m\")),5)))","v":0.68579999999999997},null,33.314999999999998]
[{"$f":"IF('Backend Calcs Metric'!P57=\"\",\"\",(ROUND((CONVERT('Backend Calcs Metric'!P57,\"in\",\"mm\")),0)))","v":660},{"$f":"IF('Backend Calcs Metric'!S57=\"\",\"\",(ROUND((CONVERT('Backend Calcs Metric'!S57,\"ft3\",\"m3\")),5)))","v":8.695E-2},{"$f":"IF('Backend Calcs Metric'!T57=\"\",\"\",(ROUND((CONVERT('Backend Calcs Metric'!T57,\"ft3\",\"m3\")),5)))","v":1.274E-2},{"$f":"IF('Backend Calcs Metric'!U57=\"\",\"\",(ROUND((CONVERT('Backend Calcs Metric'!U57,\"ft3\",\"m3\")),5)))","v":2.1738200000000001},{"$f":"IF('Backend Calcs Metric'!V57=\"\",\"\",(ROUND((CONVERT('Backend Calcs Metric'!V57,\"ft3\",\"m3\")),5)))","v":0.12742999999999999},{"$f":"IF('Backend Calcs Metric'!W57=\"\",\"\",(ROUND((CONVERT('Backend Calcs Metric'!W57,\"ft3\",\"m3\")),5)))","v":0.49164000000000002},{"$f":"IF('Backend Calcs Metric'!X57=\"\",\"\",(ROUND((CONVERT('Backend Calcs Metric'!X57,\"ft3\",\"m3\")),5)))","v":2.7928899999999999},{"$f":"IF('Backend Calcs Metric'!Y57=\"\",\"\",(ROUND((CONVERT('Backend Calcs Metric'!Y57,\"ft3\",\"m3\")),5)))","v":62.195120000000003},{"$f":"IF('Backend Calcs Metric'!Y57=\"\",\"\",(ROUND((CONVERT('Backend Calcs Metric'!Y57,\"ft3\",\"m3\")),2)))","v":62.2},{"$f":"IF('Backend Calcs Metric'!AA57=\"\",\"\",(ROUND((CONVERT('Backend Calcs Metric'!Z57,\"ft\",\"m\")),5)))","v":0.66039999999999999},null,33.514679999999998]
[{"$f":"IF('Backend Calcs Metric'!P58=\"\",\"\",(ROUND((CONVERT('Backend Calcs Metric'!P58,\"in\",\"mm\")),0)))","v":635},{"$f":"IF('Backend Calcs Metric'!S58=\"\",\"\",(ROUND((CONVERT('Backend Calcs Metric'!S58,\"ft3\",\"m3\")),5)))","v":8.7929999999999994E-2},{"$f":"IF('Backend Calcs Metric'!T58=\"\",\"\",(ROUND((CONVERT('Backend Calcs Metric'!T58,\"ft3\",\"m3\")),5)))","v":1.303E-2},{"$f":"IF('Backend Calcs Metric'!U58=\"\",\"\",(ROUND((CONVERT('Backend Calcs Metric'!U58,\"ft3\",\"m3\")),5)))","v":2.1982499999999998},{"$f":"IF('Backend Calcs Metric'!V58=\"\",\"\",(ROUND((CONVERT('Backend Calcs Metric'!V58,\"ft3\",\"m3\")),5)))","v":0.13025999999999999},{"$f":"IF('Backend Calcs Metric'!W58=\"\",\"\",(ROUND((CONVERT('Backend Calcs Metric'!W58,\"ft3\",\"m3\")),5)))","v":0.48074},{"$f":"IF('Backend Calcs Metric'!X58=\"\",\"\",(ROUND((CONVERT('Backend Calcs Metric'!X58,\"ft3\",\"m3\")),5)))","v":2.80925},{"$f":"IF('Backend Calcs Metric'!Y58=\"\",\"\",(ROUND((CONVERT('Backend Calcs Metric'!Y58,\"ft3\",\"m3\")),5)))","v":59.402230000000003},{"$f":"IF('Backend Calcs Metric'!Y58=\"\",\"\",(ROUND((CONVERT('Backend Calcs Metric'!Y58,\"ft3\",\"m3\")),2)))","v":59.4},{"$f":"IF('Backend Calcs Metric'!AA58=\"\",\"\",(ROUND((CONVERT('Backend Calcs Metric'!Z58,\"ft\",\"m\")),5)))","v":0.63500000000000001},null,33.710999999999999]
[{"$f":"IF('Backend Calcs Metric'!P59=\"\",\"\",(ROUND((CONVERT('Backend Calcs Metric'!P59,\"in\",\"mm\")),0)))","v":610},{"$f":"IF('Backend Calcs Metric'!S59=\"\",\"\",(ROUND((CONVERT('Backend Calcs Metric'!S59,\"ft3\",\"m3\")),5)))","v":8.8870000000000005E-2},{"$f":"IF('Backend Calcs Metric'!T59=\"\",\"\",(ROUND((CONVERT('Backend Calcs Metric'!T59,\"ft3\",\"m3\")),5)))","v":1.3310000000000001E-2},{"$f":"IF('Backend Calcs Metric'!U59=\"\",\"\",(ROUND((CONVERT('Backend Calcs Metric'!U59,\"ft3\",\"m3\")),5)))","v":2.22174},{"$f":"IF('Backend Calcs Metric'!V59=\"\",\"\",(ROUND((CONVERT('Backend Calcs Metric'!V59,\"ft3\",\"m3\")),5)))","v":0.13309000000000001},{"$f":"IF('Backend Calcs Metric'!W59=\"\",\"\",(ROUND((CONVERT('Backend Calcs Metric'!W59,\"ft3\",\"m3\")),5)))","v":0.47021000000000002},{"$f":"IF('Backend Calcs Metric'!X59=\"\",\"\",(ROUND((CONVERT('Backend Calcs Metric'!X59,\"ft3\",\"m3\")),5)))","v":2.82504},{"$f":"IF('Backend Calcs Metric'!Y59=\"\",\"\",(ROUND((CONVERT('Backend Calcs Metric'!Y59,\"ft3\",\"m3\")),5)))","v":56.592979999999997},{"$f":"IF('Backend Calcs Metric'!Y59=\"\",\"\",(ROUND((CONVERT('Backend Calcs Metric'!Y59,\"ft3\",\"m3\")),2)))","v":56.59},{"$f":"IF('Backend Calcs Metric'!AA59=\"\",\"\",(ROUND((CONVERT('Backend Calcs Metric'!Z59,\"ft\",\"m\")),5)))","v":0.60960000000000003},null,33.900480000000002]
[{"$f":"IF('Backend Calcs Metric'!P60=\"\",\"\",(ROUND((CONVERT('Backend Calcs Metric'!P60,\"in\",\"mm\")),0)))","v":584},{"$f":"IF('Backend Calcs Metric'!S60=\"\",\"\",(ROUND((CONVERT('Backend Calcs Metric'!S60,\"ft3\",\"m3\")),5)))","v":8.9779999999999999E-2},{"$f":"IF('Backend Calcs Metric'!T60=\"\",\"\",(ROUND((CONVERT('Backend Calcs Metric'!T60,\"ft3\",\"m3\")),5)))","v":1.388E-2},{"$f":"IF('Backend Calcs Metric'!U60=\"\",\"\",(ROUND((CONVERT('Backend Calcs Metric'!U60,\"ft3\",\"m3\")),5)))","v":2.2444899999999999},{"$f":"IF('Backend Calcs Metric'!V60=\"\",\"\",(ROUND((CONVERT('Backend Calcs Metric'!V60,\"ft3\",\"m3\")),5)))","v":0.13875000000000001},{"$f":"IF('Backend Calcs Metric'!W60=\"\",\"\",(ROUND((CONVERT('Backend Calcs Metric'!W60,\"ft3\",\"m3\")),5)))","v":0.45884999999999998},{"$f":"IF('Backend Calcs Metric'!X60=\"\",\"\",(ROUND((CONVERT('Backend Calcs Metric'!X60,\"ft3\",\"m3\")),5)))","v":2.8420800000000002},{"$f":"IF('Backend Calcs Metric'!Y60=\"\",\"\",(ROUND((CONVERT('Backend Calcs Metric'!Y60,\"ft3\",\"m3\")),5)))","v":53.767940000000003},{"$f":"IF('Backend Calcs Metric'!Y60=\"\",\"\",(ROUND((CONVERT('Backend Calcs Metric'!Y60,\"ft3\",\"m3\")),2)))","v":53.77},{"$f":"IF('Backend Calcs Metric'!AA60=\"\",\"\",(ROUND((CONVERT('Backend Calcs Metric'!Z60,\"ft\",\"m\")),5)))","v":0.58420000000000005},null,34.104960000000005]
[{"$f":"IF('Backend Calcs Metric'!P61=\"\",\"\",(ROUND((CONVERT('Backend Calcs Metric'!P61,\"in\",\"mm\")),0)))","v":559},{"$f":"IF('Backend Calcs Metric'!S61=\"\",\"\",(ROUND((CONVERT('Backend Calcs Metric'!S61,\"ft3\",\"m3\")),5)))","v":9.0660000000000004E-2},{"$f":"IF('Backend Calcs Metric'!T61=\"\",\"\",(ROUND((CONVERT('Backend Calcs Metric'!T61,\"ft3\",\"m3\")),5)))","v":1.4160000000000001E-2},{"$f":"IF('Backend Calcs Metric'!U61=\"\",\"\",(ROUND((CONVERT('Backend Calcs Metric'!U61,\"ft3\",\"m3\")),5)))","v":2.2665500000000001},{"$f":"IF('Backend Calcs Metric'!V61=\"\",\"\",(ROUND((CONVERT('Backend Calcs Metric'!V61,\"ft3\",\"m3\")),5)))","v":0.14158000000000001},{"$f":"IF('Backend Calcs Metric'!W61=\"\",\"\",(ROUND((CONVERT('Backend Calcs Metric'!W61,\"ft3\",\"m3\")),5)))","v":0.44889000000000001},{"$f":"IF('Backend Calcs Metric'!X61=\"\",\"\",(ROUND((CONVERT('Backend Calcs Metric'!X61,\"ft3\",\"m3\")),5)))","v":2.8570199999999999},{"$f":"IF('Backend Calcs Metric'!Y61=\"\",\"\",(ROUND((CONVERT('Backend Calcs Metric'!Y61,\"ft3\",\"m3\")),5)))","v":50.92586},{"$f":"IF('Backend Calcs Metric'!Y61=\"\",\"\",(ROUND((CONVERT('Backend Calcs Metric'!Y61,\"ft3\",\"m3\")),2)))","v":50.93},{"$f":"IF('Backend Calcs Metric'!AA61=\"\",\"\",(ROUND((CONVERT('Backend Calcs Metric'!Z61,\"ft\",\"m\")),5)))","v":0.55879999999999996},null,34.284239999999997]
[{"$f":"IF('Backend Calcs Metric'!P62=\"\",\"\",(ROUND((CONVERT('Backend Calcs Metric'!P62,\"in\",\"mm\")),0)))","v":533},{"$f":"IF('Backend Calcs Metric'!S62=\"\",\"\",(ROUND((CONVERT('Backend Calcs Metric'!S62,\"ft3\",\"m3\")),5)))","v":9.1520000000000004E-2},{"$f":"IF('Backend Calcs Metric'!T62=\"\",\"\",(ROUND((CONVERT('Backend Calcs Metric'!T62,\"ft3\",\"m3\")),5)))","v":1.444E-2},{"$f":"IF('Backend Calcs Metric'!U62=\"\",\"\",(ROUND((CONVERT('Backend Calcs Metric'!U62,\"ft3\",\"m3\")),5)))","v":2.2881},{"$f":"IF('Backend Calcs Metric'!V62=\"\",\"\",(ROUND((CONVERT('Backend Calcs Metric'!V62,\"ft3\",\"m3\")),5)))","v":0.14441999999999999},{"$f":"IF('Backend Calcs Metric'!W62=\"\",\"\",(ROUND((CONVERT('Backend Calcs Metric'!W62,\"ft3\",\"m3\")),5)))","v":0.43913999999999997},{"$f":"IF('Backend Calcs Metric'!X62=\"\",\"\",(ROUND((CONVERT('Backend Calcs Metric'!X62,\"ft3\",\"m3\")),5)))","v":2.8716499999999998},{"$f":"IF('Backend Calcs Metric'!Y62=\"\",\"\",(ROUND((CONVERT('Backend Calcs Metric'!Y62,\"ft3\",\"m3\")),5)))","v":48.068840000000002},{"$f":"IF('Backend Calcs Metric'!Y62=\"\",\"\",(ROUND((CONVERT('Backend Calcs Metric'!Y62,\"ft3\",\"m3\")),2)))","v":48.07},{"$f":"IF('Backend Calcs Metric'!AA62=\"\",\"\",(ROUND((CONVERT('Backend Calcs Metric'!Z62,\"ft\",\"m\")),5)))","v":0.53339999999999999},null,34.459800000000001]
[{"$f":"IF('Backend Calcs Metric'!P63=\"\",\"\",(ROUND((CONVERT('Backend Calcs Metric'!P63,\"in\",\"mm\")),0)))","v":508},{"$f":"IF('Backend Calcs Metric'!S63=\"\",\"\",(ROUND((CONVERT('Backend Calcs Metric'!S63,\"ft3\",\"m3\")),5)))","v":9.2350000000000002E-2},{"$f":"IF('Backend Calcs Metric'!T63=\"\",\"\",(ROUND((CONVERT('Backend Calcs Metric'!T63,\"ft3\",\"m3\")),5)))","v":1.472E-2},{"$f":"IF('Backend Calcs Metric'!U63=\"\",\"\",(ROUND((CONVERT('Backend Calcs Metric'!U63,\"ft3\",\"m3\")),5)))","v":2.3087300000000002},{"$f":"IF('Backend Calcs Metric'!V63=\"\",\"\",(ROUND((CONVERT('Backend Calcs Metric'!V63,\"ft3\",\"m3\")),5)))","v":0.14724999999999999},{"$f":"IF('Backend Calcs Metric'!W63=\"\",\"\",(ROUND((CONVERT('Backend Calcs Metric'!W63,\"ft3\",\"m3\")),5)))","v":0.42975000000000002},{"$f":"IF('Backend Calcs Metric'!X63=\"\",\"\",(ROUND((CONVERT('Backend Calcs Metric'!X63,\"ft3\",\"m3\")),5)))","v":2.8857300000000001},{"$f":"IF('Backend Calcs Metric'!Y63=\"\",\"\",(ROUND((CONVERT('Backend Calcs Metric'!Y63,\"ft3\",\"m3\")),5)))","v":45.197189999999999},{"$f":"IF('Backend Calcs Metric'!Y63=\"\",\"\",(ROUND((CONVERT('Backend Calcs Metric'!Y63,\"ft3\",\"m3\")),2)))","v":45.2},{"$f":"IF('Backend Calcs Metric'!AA63=\"\",\"\",(ROUND((CONVERT('Backend Calcs Metric'!Z63,\"ft\",\"m\")),5)))","v":0.50800000000000001},null,34.62876]
[{"$f":"IF('Backend Calcs Metric'!P64=\"\",\"\",(ROUND((CONVERT('Backend Calcs Metric'!P64,\"in\",\"mm\")),0)))","v":483},{"$f":"IF('Backend Calcs Metric'!S64=\"\",\"\",(ROUND((CONVERT('Backend Calcs Metric'!S64,\"ft3\",\"m3\")),5)))","v":9.3210000000000001E-2},{"$f":"IF('Backend Calcs Metric'!T64=\"\",\"\",(ROUND((CONVERT('Backend Calcs Metric'!T64,\"ft3\",\"m3\")),5)))","v":1.5010000000000001E-2},{"$f":"IF('Backend Calcs Metric'!U64=\"\",\"\",(ROUND((CONVERT('Backend Calcs Metric'!U64,\"ft3\",\"m3\")),5)))","v":2.3302200000000002},{"$f":"IF('Backend Calcs Metric'!V64=\"\",\"\",(ROUND((CONVERT('Backend Calcs Metric'!V64,\"ft3\",\"m3\")),5)))","v":0.15007999999999999},{"$f":"IF('Backend Calcs Metric'!W64=\"\",\"\",(ROUND((CONVERT('Backend Calcs Metric'!W64,\"ft3\",\"m3\")),5)))","v":0.42002},{"$f":"IF('Backend Calcs Metric'!X64=\"\",\"\",(ROUND((CONVERT('Backend Calcs Metric'!X64,\"ft3\",\"m3\")),5)))","v":2.9003199999999998},{"$f":"IF('Backend Calcs Metric'!Y64=\"\",\"\",(ROUND((CONVERT('Backend Calcs Metric'!Y64,\"ft3\",\"m3\")),5)))","v":42.311459999999997},{"$f":"IF('Backend Calcs Metric'!Y64=\"\",\"\",(ROUND((CONVERT('Backend Calcs Metric'!Y64,\"ft3\",\"m3\")),2)))","v":42.31},{"$f":"IF('Backend Calcs Metric'!AA64=\"\",\"\",(ROUND((CONVERT('Backend Calcs Metric'!Z64,\"ft\",\"m\")),5)))","v":0.48259999999999997},null,34.803839999999994]
[{"$f":"IF('Backend Calcs Metric'!P65=\"\",\"\",(ROUND((CONVERT('Backend Calcs Metric'!P65,\"in\",\"mm\")),0)))","v":457},{"$f":"IF('Backend Calcs Metric'!S65=\"\",\"\",(ROUND((CONVERT('Backend Calcs Metric'!S65,\"ft3\",\"m3\")),5)))","v":9.4030000000000002E-2},{"$f":"IF('Backend Calcs Metric'!T65=\"\",\"\",(ROUND((CONVERT('Backend Calcs Metric'!T65,\"ft3\",\"m3\")),5)))","v":1.529E-2},{"$f":"IF('Backend Calcs Metric'!U65=\"\",\"\",(ROUND((CONVERT('Backend Calcs Metric'!U65,\"ft3\",\"m3\")),5)))","v":2.3507400000000001},{"$f":"IF('Backend Calcs Metric'!V65=\"\",\"\",(ROUND((CONVERT('Backend Calcs Metric'!V65,\"ft3\",\"m3\")),5)))","v":0.15290999999999999},{"$f":"IF('Backend Calcs Metric'!W65=\"\",\"\",(ROUND((CONVERT('Backend Calcs Metric'!W65,\"ft3\",\"m3\")),5)))","v":0.41067999999999999},{"$f":"IF('Backend Calcs Metric'!X65=\"\",\"\",(ROUND((CONVERT('Backend Calcs Metric'!X65,\"ft3\",\"m3\")),5)))","v":2.9143300000000001},{"$f":"IF('Backend Calcs Metric'!Y65=\"\",\"\",(ROUND((CONVERT('Backend Calcs Metric'!Y65,\"ft3\",\"m3\")),5)))","v":39.411140000000003},{"$f":"IF('Backend Calcs Metric'!Y65=\"\",\"\",(ROUND((CONVERT('Backend Calcs Metric'!Y65,\"ft3\",\"m3\")),2)))","v":39.409999999999997},{"$f":"IF('Backend Calcs Metric'!AA65=\"\",\"\",(ROUND((CONVERT('Backend Calcs Metric'!Z65,\"ft\",\"m\")),5)))","v":0.4572},null,34.971960000000003]
[{"$f":"IF('Backend Calcs Metric'!P66=\"\",\"\",(ROUND((CONVERT('Backend Calcs Metric'!P66,\"in\",\"mm\")),0)))","v":432},{"$f":"IF('Backend Calcs Metric'!S66=\"\",\"\",(ROUND((CONVERT('Backend Calcs Metric'!S66,\"ft3\",\"m3\")),5)))","v":9.4839999999999994E-2},{"$f":"IF('Backend Calcs Metric'!T66=\"\",\"\",(ROUND((CONVERT('Backend Calcs Metric'!T66,\"ft3\",\"m3\")),5)))","v":1.5570000000000001E-2},{"$f":"IF('Backend Calcs Metric'!U66=\"\",\"\",(ROUND((CONVERT('Backend Calcs Metric'!U66,\"ft3\",\"m3\")),5)))","v":2.371},{"$f":"IF('Backend Calcs Metric'!V66=\"\",\"\",(ROUND((CONVERT('Backend Calcs Metric'!V66,\"ft3\",\"m3\")),5)))","v":0.15573999999999999},{"$f":"IF('Backend Calcs Metric'!W66=\"\",\"\",(ROUND((CONVERT('Backend Calcs Metric'!W66,\"ft3\",\"m3\")),5)))","v":0.40144999999999997},{"$f":"IF('Backend Calcs Metric'!X66=\"\",\"\",(ROUND((CONVERT('Backend Calcs Metric'!X66,\"ft3\",\"m3\")),5)))","v":2.9281799999999998},{"$f":"IF('Backend Calcs Metric'!Y66=\"\",\"\",(ROUND((CONVERT('Backend Calcs Metric'!Y66,\"ft3\",\"m3\")),5)))","v":36.496810000000004},{"$f":"IF('Backend Calcs Metric'!Y66=\"\",\"\",(ROUND((CONVERT('Backend Calcs Metric'!Y66,\"ft3\",\"m3\")),2)))","v":36.5},{"$f":"IF('Backend Calcs Metric'!AA66=\"\",\"\",(ROUND((CONVERT('Backend Calcs Metric'!Z66,\"ft\",\"m\")),5)))","v":0.43180000000000002},null,35.138159999999999]
[{"$f":"IF('Backend Calcs Metric'!P67=\"\",\"\",(ROUND((CONVERT('Backend Calcs Metric'!P67,\"in\",\"mm\")),0)))","v":406},{"$f":"IF('Backend Calcs Metric'!S67=\"\",\"\",(ROUND((CONVERT('Backend Calcs Metric'!S67,\"ft3\",\"m3\")),5)))","v":9.5619999999999997E-2},{"$f":"IF('Backend Calcs Metric'!T67=\"\",\"\",(ROUND((CONVERT('Backend Calcs Metric'!T67,\"ft3\",\"m3\")),5)))","v":1.5859999999999999E-2},{"$f":"IF('Backend Calcs Metric'!U67=\"\",\"\",(ROUND((CONVERT('Backend Calcs Metric'!U67,\"ft3\",\"m3\")),5)))","v":2.3904299999999998},{"$f":"IF('Backend Calcs Metric'!V67=\"\",\"\",(ROUND((CONVERT('Backend Calcs Metric'!V67,\"ft3\",\"m3\")),5)))","v":0.15856999999999999},{"$f":"IF('Backend Calcs Metric'!W67=\"\",\"\",(ROUND((CONVERT('Backend Calcs Metric'!W67,\"ft3\",\"m3\")),5)))","v":0.39254},{"$f":"IF('Backend Calcs Metric'!X67=\"\",\"\",(ROUND((CONVERT('Backend Calcs Metric'!X67,\"ft3\",\"m3\")),5)))","v":2.9415399999999998},{"$f":"IF('Backend Calcs Metric'!Y67=\"\",\"\",(ROUND((CONVERT('Backend Calcs Metric'!Y67,\"ft3\",\"m3\")),5)))","v":33.568620000000003},{"$f":"IF('Backend Calcs Metric'!Y67=\"\",\"\",(ROUND((CONVERT('Backend Calcs Metric'!Y67,\"ft3\",\"m3\")),2)))","v":33.57},{"$f":"IF('Backend Calcs Metric'!AA67=\"\",\"\",(ROUND((CONVERT('Backend Calcs Metric'!Z67,\"ft\",\"m\")),5)))","v":0.40639999999999998},null,35.298479999999998]
[{"$f":"IF('Backend Calcs Metric'!P68=\"\",\"\",(ROUND((CONVERT('Backend Calcs Metric'!P68,\"in\",\"mm\")),0)))","v":381},{"$f":"IF('Backend Calcs Metric'!S68=\"\",\"\",(ROUND((CONVERT('Backend Calcs Metric'!S68,\"ft3\",\"m3\")),5)))","v":9.6409999999999996E-2},{"$f":"IF('Backend Calcs Metric'!T68=\"\",\"\",(ROUND((CONVERT('Backend Calcs Metric'!T68,\"ft3\",\"m3\")),5)))","v":1.5859999999999999E-2},{"$f":"IF('Backend Calcs Metric'!U68=\"\",\"\",(ROUND((CONVERT('Backend Calcs Metric'!U68,\"ft3\",\"m3\")),5)))","v":2.4102600000000001},{"$f":"IF('Backend Calcs Metric'!V68=\"\",\"\",(ROUND((CONVERT('Backend Calcs Metric'!V68,\"ft3\",\"m3\")),5)))","v":0.15856999999999999},{"$f":"IF('Backend Calcs Metric'!W68=\"\",\"\",(ROUND((CONVERT('Backend Calcs Metric'!W68,\"ft3\",\"m3\")),5)))","v":0.38461000000000001},{"$f":"IF('Backend Calcs Metric'!X68=\"\",\"\",(ROUND((CONVERT('Backend Calcs Metric'!X68,\"ft3\",\"m3\")),5)))","v":2.9534400000000001},{"$f":"IF('Backend Calcs Metric'!Y68=\"\",\"\",(ROUND((CONVERT('Backend Calcs Metric'!Y68,\"ft3\",\"m3\")),5)))","v":30.627079999999999},{"$f":"IF('Backend Calcs Metric'!Y68=\"\",\"\",(ROUND((CONVERT('Backend Calcs Metric'!Y68,\"ft3\",\"m3\")),2)))","v":30.63},{"$f":"IF('Backend Calcs Metric'!AA68=\"\",\"\",(ROUND((CONVERT('Backend Calcs Metric'!Z68,\"ft\",\"m\")),5)))","v":0.38100000000000001},null,35.441279999999999]
[{"$f":"IF('Backend Calcs Metric'!P69=\"\",\"\",(ROUND((CONVERT('Backend Calcs Metric'!P69,\"in\",\"mm\")),0)))","v":356},{"$f":"IF('Backend Calcs Metric'!S69=\"\",\"\",(ROUND((CONVERT('Backend Calcs Metric'!S69,\"ft3\",\"m3\")),5)))","v":9.7210000000000005E-2},{"$f":"IF('Backend Calcs Metric'!T69=\"\",\"\",(ROUND((CONVERT('Backend Calcs Metric'!T69,\"ft3\",\"m3\")),5)))","v":1.6140000000000002E-2},{"$f":"IF('Backend Calcs Metric'!U69=\"\",\"\",(ROUND((CONVERT('Backend Calcs Metric'!U69,\"ft3\",\"m3\")),5)))","v":2.4302299999999999},{"$f":"IF('Backend Calcs Metric'!V69=\"\",\"\",(ROUND((CONVERT('Backend Calcs Metric'!V69,\"ft3\",\"m3\")),5)))","v":0.16141},{"$f":"IF('Backend Calcs Metric'!W69=\"\",\"\",(ROUND((CONVERT('Backend Calcs Metric'!W69,\"ft3\",\"m3\")),5)))","v":0.37548999999999999},{"$f":"IF('Backend Calcs Metric'!X69=\"\",\"\",(ROUND((CONVERT('Backend Calcs Metric'!X69,\"ft3\",\"m3\")),5)))","v":2.96712},{"$f":"IF('Backend Calcs Metric'!Y69=\"\",\"\",(ROUND((CONVERT('Backend Calcs Metric'!Y69,\"ft3\",\"m3\")),5)))","v":27.673639999999999},{"$f":"IF('Backend Calcs Metric'!Y69=\"\",\"\",(ROUND((CONVERT('Backend Calcs Metric'!Y69,\"ft3\",\"m3\")),2)))","v":27.67},{"$f":"IF('Backend Calcs Metric'!AA69=\"\",\"\",(ROUND((CONVERT('Backend Calcs Metric'!Z69,\"ft\",\"m\")),5)))","v":0.35560000000000003},null,35.605440000000002]
[{"$f":"IF('Backend Calcs Metric'!P70=\"\",\"\",(ROUND((CONVERT('Backend Calcs Metric'!P70,\"in\",\"mm\")),0)))","v":330},{"$f":"IF('Backend Calcs Metric'!S70=\"\",\"\",(ROUND((CONVERT('Backend Calcs Metric'!S70,\"ft3\",\"m3\")),5)))","v":9.8030000000000006E-2},{"$f":"IF('Backend Calcs Metric'!T70=\"\",\"\",(ROUND((CONVERT('Backend Calcs Metric'!T70,\"ft3\",\"m3\")),5)))","v":1.6420000000000001E-2},{"$f":"IF('Backend Calcs Metric'!U70=\"\",\"\",(ROUND((CONVERT('Backend Calcs Metric'!U70,\"ft3\",\"m3\")),5)))","v":2.45085},{"$f":"IF('Backend Calcs Metric'!V70=\"\",\"\",(ROUND((CONVERT('Backend Calcs Metric'!V70,\"ft3\",\"m3\")),5)))","v":0.16424},{"$f":"IF('Backend Calcs Metric'!W70=\"\",\"\",(ROUND((CONVERT('Backend Calcs Metric'!W70,\"ft3\",\"m3\")),5)))","v":0.36609999999999998},{"$f":"IF('Backend Calcs Metric'!X70=\"\",\"\",(ROUND((CONVERT('Backend Calcs Metric'!X70,\"ft3\",\"m3\")),5)))","v":2.9811999999999999},{"$f":"IF('Backend Calcs Metric'!Y70=\"\",\"\",(ROUND((CONVERT('Backend Calcs Metric'!Y70,\"ft3\",\"m3\")),5)))","v":24.706520000000001},{"$f":"IF('Backend Calcs Metric'!Y70=\"\",\"\",(ROUND((CONVERT('Backend Calcs Metric'!Y70,\"ft3\",\"m3\")),2)))","v":24.71},{"$f":"IF('Backend Calcs Metric'!AA70=\"\",\"\",(ROUND((CONVERT('Backend Calcs Metric'!Z70,\"ft\",\"m\")),5)))","v":0.33019999999999999},null,35.7744]
[{"$f":"IF('Backend Calcs Metric'!P71=\"\",\"\",(ROUND((CONVERT('Backend Calcs Metric'!P71,\"in\",\"mm\")),0)))","v":305},{"$f":"IF('Backend Calcs Metric'!S71=\"\",\"\",(ROUND((CONVERT('Backend Calcs Metric'!S71,\"ft3\",\"m3\")),5)))","v":9.8820000000000005E-2},{"$f":"IF('Backend Calcs Metric'!T71=\"\",\"\",(ROUND((CONVERT('Backend Calcs Metric'!T71,\"ft3\",\"m3\")),5)))","v":1.6420000000000001E-2},{"$f":"IF('Backend Calcs Metric'!U71=\"\",\"\",(ROUND((CONVERT('Backend Calcs Metric'!U71,\"ft3\",\"m3\")),5)))","v":2.4706100000000002},{"$f":"IF('Backend Calcs Metric'!V71=\"\",\"\",(ROUND((CONVERT('Backend Calcs Metric'!V71,\"ft3\",\"m3\")),5)))","v":0.16424},{"$f":"IF('Backend Calcs Metric'!W71=\"\",\"\",(ROUND((CONVERT('Backend Calcs Metric'!W71,\"ft3\",\"m3\")),5)))","v":0.35820000000000002},{"$f":"IF('Backend Calcs Metric'!X71=\"\",\"\",(ROUND((CONVERT('Backend Calcs Metric'!X71,\"ft3\",\"m3\")),5)))","v":2.9930500000000002},{"$f":"IF('Backend Calcs Metric'!Y71=\"\",\"\",(ROUND((CONVERT('Backend Calcs Metric'!Y71,\"ft3\",\"m3\")),5)))","v":21.72532},{"$f":"IF('Backend Calcs Metric'!Y71=\"\",\"\",(ROUND((CONVERT('Backend Calcs Metric'!Y71,\"ft3\",\"m3\")),2)))","v":21.73},{"$f":"IF('Backend Calcs Metric'!AA71=\"\",\"\",(ROUND((CONVERT('Backend Calcs Metric'!Z71,\"ft\",\"m\")),5)))","v":0.30480000000000002},null,35.916600000000003]
[{"$f":"IF('Backend Calcs Metric'!P72=\"\",\"\",(ROUND((CONVERT('Backend Calcs Metric'!P72,\"in\",\"mm\")),0)))","v":279},{"$f":"IF('Backend Calcs Metric'!S72=\"\",\"\",(ROUND((CONVERT('Backend Calcs Metric'!S72,\"ft3\",\"m3\")),5)))","v":9.9610000000000004E-2},{"$f":"IF('Backend Calcs Metric'!T72=\"\",\"\",(ROUND((CONVERT('Backend Calcs Metric'!T72,\"ft3\",\"m3\")),5)))","v":1.6420000000000001E-2},{"$f":"IF('Backend Calcs Metric'!U72=\"\",\"\",(ROUND((CONVERT('Backend Calcs Metric'!U72,\"ft3\",\"m3\")),5)))","v":2.4901900000000001},{"$f":"IF('Backend Calcs Metric'!V72=\"\",\"\",(ROUND((CONVERT('Backend Calcs Metric'!V72,\"ft3\",\"m3\")),5)))","v":0.16424},{"$f":"IF('Backend Calcs Metric'!W72=\"\",\"\",(ROUND((CONVERT('Backend Calcs Metric'!W72,\"ft3\",\"m3\")),5)))","v":0.35037000000000001},{"$f":"IF('Backend Calcs Metric'!X72=\"\",\"\",(ROUND((CONVERT('Backend Calcs Metric'!X72,\"ft3\",\"m3\")),5)))","v":3.0047999999999999},{"$f":"IF('Backend Calcs Metric'!Y72=\"\",\"\",(ROUND((CONVERT('Backend Calcs Metric'!Y72,\"ft3\",\"m3\")),5)))","v":18.73227},{"$f":"IF('Backend Calcs Metric'!Y72=\"\",\"\",(ROUND((CONVERT('Backend Calcs Metric'!Y72,\"ft3\",\"m3\")),2)))","v":18.73},{"$f":"IF('Backend Calcs Metric'!AA72=\"\",\"\",(ROUND((CONVERT('Backend Calcs Metric'!Z72,\"ft\",\"m\")),5)))","v":0.27939999999999998},null,36.057600000000001]
[{"$f":"IF('Backend Calcs Metric'!P73=\"\",\"\",(ROUND((CONVERT('Backend Calcs Metric'!P73,\"in\",\"mm\")),0)))","v":254},{"$f":"IF('Backend Calcs Metric'!S73=\"\",\"\",(ROUND((CONVERT('Backend Calcs Metric'!S73,\"ft3\",\"m3\")),5)))","v":0.10038999999999999},{"$f":"IF('Backend Calcs Metric'!T73=\"\",\"\",(ROUND((CONVERT('Backend Calcs Metric'!T73,\"ft3\",\"m3\")),5)))","v":1.6709999999999999E-2},{"$f":"IF('Backend Calcs Metric'!U73=\"\",\"\",(ROUND((CONVERT('Backend Calcs Metric'!U73,\"ft3\",\"m3\")),5)))","v":2.5097},{"$f":"IF('Backend Calcs Metric'!V73=\"\",\"\",(ROUND((CONVERT('Backend Calcs Metric'!V73,\"ft3\",\"m3\")),5)))","v":0.16707},{"$f":"IF('Backend Calcs Metric'!W73=\"\",\"\",(ROUND((CONVERT('Backend Calcs Metric'!W73,\"ft3\",\"m3\")),5)))","v":0.34143000000000001},{"$f":"IF('Backend Calcs Metric'!X73=\"\",\"\",(ROUND((CONVERT('Backend Calcs Metric'!X73,\"ft3\",\"m3\")),5)))","v":3.0182000000000002},{"$f":"IF('Backend Calcs Metric'!Y73=\"\",\"\",(ROUND((CONVERT('Backend Calcs Metric'!Y73,\"ft3\",\"m3\")),5)))","v":15.72747},{"$f":"IF('Backend Calcs Metric'!Y73=\"\",\"\",(ROUND((CONVERT('Backend Calcs Metric'!Y73,\"ft3\",\"m3\")),2)))","v":15.73},{"$f":"IF('Backend Calcs Metric'!AA73=\"\",\"\",(ROUND((CONVERT('Backend Calcs Metric'!Z73,\"ft\",\"m\")),5)))","v":0.254},null,36.218400000000003]
[{"$f":"IF('Backend Calcs Metric'!P74=\"\",\"\",(ROUND((CONVERT('Backend Calcs Metric'!P74,\"in\",\"mm\")),0)))","v":229},{"$f":"IF('Backend Calcs Metric'!S74=\"\",\"\",(ROUND((CONVERT('Backend Calcs Metric'!S74,\"ft3\",\"m3\")),5)))","v":0},{"$f":"IF('Backend Calcs Metric'!T74=\"\",\"\",(ROUND((CONVERT('Backend Calcs Metric'!T74,\"ft3\",\"m3\")),5)))","v":0},{"$f":"IF('Backend Calcs Metric'!U74=\"\",\"\",(ROUND((CONVERT('Backend Calcs Metric'!U74,\"ft3\",\"m3\")),5)))","v":0},{"$f":"IF('Backend Calcs Metric'!V74=\"\",\"\",(ROUND((CONVERT('Backend Calcs Metric'!V74,\"ft3\",\"m3\")),5)))","v":0},{"$f":"IF('Backend Calcs Metric'!W74=\"\",\"\",(ROUND((CONVERT('Backend Calcs Metric'!W74,\"ft3\",\"m3\")),5)))","v":1.41214},{"$f":"IF('Backend Calcs Metric'!X74=\"\",\"\",(ROUND((CONVERT('Backend Calcs Metric'!X74,\"ft3\",\"m3\")),5)))","v":1.41214},{"$f":"IF('Backend Calcs Metric'!Y74=\"\",\"\",(ROUND((CONVERT('Backend Calcs Metric'!Y74,\"ft3\",\"m3\")),5)))","v":12.70927},{"$f":"IF('Backend Calcs Metric'!Y74=\"\",\"\",(ROUND((CONVERT('Backend Calcs Metric'!Y74,\"ft3\",\"m3\")),2)))","v":12.71},{"$f":"IF('Backend Calcs Metric'!AA74=\"\",\"\",(ROUND((CONVERT('Backend Calcs Metric'!Z74,\"ft\",\"m\")),5)))","v":0.2286},null,16.945679999999999]
[{"$f":"IF('Backend Calcs Metric'!P75=\"\",\"\",(ROUND((CONVERT('Backend Calcs Metric'!P75,\"in\",\"mm\")),0)))","v":203},{"$f":"IF('Backend Calcs Metric'!S75=\"\",\"\",(ROUND((CONVERT('Backend Calcs Metric'!S75,\"ft3\",\"m3\")),5)))","v":0},{"$f":"IF('Backend Calcs Metric'!T75=\"\",\"\",(ROUND((CONVERT('Backend Calcs Metric'!T75,\"ft3\",\"m3\")),5)))","v":0},{"$f":"IF('Backend Calcs Metric'!U75=\"\",\"\",(ROUND((CONVERT('Backend Calcs Metric'!U75,\"ft3\",\"m3\")),5)))","v":0},{"$f":"IF('Backend Calcs Metric'!V75=\"\",\"\",(ROUND((CONVERT('Backend Calcs Metric'!V75,\"ft3\",\"m3\")),5)))","v":0},{"$f":"IF('Backend Calcs Metric'!W75=\"\",\"\",(ROUND((CONVERT('Backend Calcs Metric'!W75,\"ft3\",\"m3\")),5)))","v":1.41214},{"$f":"IF('Backend Calcs Metric'!X75=\"\",\"\",(ROUND((CONVERT('Backend Calcs Metric'!X75,\"ft3\",\"m3\")),5)))","v":1.41214},{"$f":"IF('Backend Calcs Metric'!Y75=\"\",\"\",(ROUND((CONVERT('Backend Calcs Metric'!Y75,\"ft3\",\"m3\")),5)))","v":11.297129999999999},{"$f":"IF('Backend Calcs Metric'!Y75=\"\",\"\",(ROUND((CONVERT('Backend Calcs Metric'!Y75,\"ft3\",\"m3\")),2)))","v":11.3},{"$f":"IF('Backend Calcs Metric'!AA75=\"\",\"\",(ROUND((CONVERT('Backend Calcs Metric'!Z75,\"ft\",\"m\")),5)))","v":0.20319999999999999},null,16.945679999999999]
[{"$f":"IF('Backend Calcs Metric'!P76=\"\",\"\",(ROUND((CONVERT('Backend Calcs Metric'!P76,\"in\",\"mm\")),0)))","v":178},{"$f":"IF('Backend Calcs Metric'!S76=\"\",\"\",(ROUND((CONVERT('Backend Calcs Metric'!S76,\"ft3\",\"m3\")),5)))","v":0},{"$f":"IF('Backend Calcs Metric'!T76=\"\",\"\",(ROUND((CONVERT('Backend Calcs Metric'!T76,\"ft3\",\"m3\")),5)))","v":0},{"$f":"IF('Backend Calcs Metric'!U76=\"\",\"\",(ROUND((CONVERT('Backend Calcs Metric'!U76,\"ft3\",\"m3\")),5)))","v":0},{"$f":"IF('Backend Calcs Metric'!V76=\"\",\"\",(ROUND((CONVERT('Backend Calcs Metric'!V76,\"ft3\",\"m3\")),5)))","v":0},{"$f":"IF('Backend Calcs Metric'!W76=\"\",\"\",(ROUND((CONVERT('Backend Calcs Metric'!W76,\"ft3\",\"m3\")),5)))","v":1.41214},{"$f":"IF('Backend Calcs Metric'!X76=\"\",\"\",(ROUND((CONVERT('Backend Calcs Metric'!X76,\"ft3\",\"m3\")),5)))","v":1.41214},{"$f":"IF('Backend Calcs Metric'!Y76=\"\",\"\",(ROUND((CONVERT('Backend Calcs Metric'!Y76,\"ft3\",\"m3\")),5)))","v":9.8849900000000002},{"$f":"IF('Backend Calcs Metric'!Y76=\"\",\"\",(ROUND((CONVERT('Backend Calcs Metric'!Y76,\"ft3\",\"m3\")),2)))","v":9.8800000000000008},{"$f":"IF('Backend Calcs Metric'!AA76=\"\",\"\",(ROUND((CONVERT('Backend Calcs Metric'!Z76,\"ft\",\"m\")),5)))","v":0.17780000000000001},null,16.945679999999999]
[{"$f":"IF('Backend Calcs Metric'!P77=\"\",\"\",(ROUND((CONVERT('Backend Calcs Metric'!P77,\"in\",\"mm\")),0)))","v":152},{"$f":"IF('Backend Calcs Metric'!S77=\"\",\"\",(ROUND((CONVERT('Backend Calcs Metric'!S77,\"ft3\",\"m3\")),5)))","v":0},{"$f":"IF('Backend Calcs Metric'!T77=\"\",\"\",(ROUND((CONVERT('Backend Calcs Metric'!T77,\"ft3\",\"m3\")),5)))","v":0},{"$f":"IF('Backend Calcs Metric'!U77=\"\",\"\",(ROUND((CONVERT('Backend Calcs Metric'!U77,\"ft3\",\"m3\")),5)))","v":0},{"$f":"IF('Backend Calcs Metric'!V77=\"\",\"\",(ROUND((CONVERT('Backend Calcs Metric'!V77,\"ft3\",\"m3\")),5)))","v":0},{"$f":"IF('Backend Calcs Metric'!W77=\"\",\"\",(ROUND((CONVERT('Backend Calcs Metric'!W77,\"ft3\",\"m3\")),5)))","v":1.41214},{"$f":"IF('Backend Calcs Metric'!X77=\"\",\"\",(ROUND((CONVERT('Backend Calcs Metric'!X77,\"ft3\",\"m3\")),5)))","v":1.41214},{"$f":"IF('Backend Calcs Metric'!Y77=\"\",\"\",(ROUND((CONVERT('Backend Calcs Metric'!Y77,\"ft3\",\"m3\")),5)))","v":8.4728399999999997},{"$f":"IF('Backend Calcs Metric'!Y77=\"\",\"\",(ROUND((CONVERT('Backend Calcs Metric'!Y77,\"ft3\",\"m3\")),2)))","v":8.4700000000000006},{"$f":"IF('Backend Calcs Metric'!AA77=\"\",\"\",(ROUND((CONVERT('Backend Calcs Metric'!Z77,\"ft\",\"m\")),5)))","v":0.15240000000000001},null,16.945679999999999]
[{"$f":"IF('Backend Calcs Metric'!P78=\"\",\"\",(ROUND((CONVERT('Backend Calcs Metric'!P78,\"in\",\"mm\")),0)))","v":127},{"$f":"IF('Backend Calcs Metric'!S78=\"\",\"\",(ROUND((CONVERT('Backend Calcs Metric'!S78,\"ft3\",\"m3\")),5)))","v":0},{"$f":"IF('Backend Calcs Metric'!T78=\"\",\"\",(ROUND((CONVERT('Backend Calcs Metric'!T78,\"ft3\",\"m3\")),5)))","v":0},{"$f":"IF('Backend Calcs Metric'!U78=\"\",\"\",(ROUND((CONVERT('Backend Calcs Metric'!U78,\"ft3\",\"m3\")),5)))","v":0},{"$f":"IF('Backend Calcs Metric'!V78=\"\",\"\",(ROUND((CONVERT('Backend Calcs Metric'!V78,\"ft3\",\"m3\")),5)))","v":0},{"$f":"IF('Backend Calcs Metric'!W78=\"\",\"\",(ROUND((CONVERT('Backend Calcs Metric'!W78,\"ft3\",\"m3\")),5)))","v":1.41214},{"$f":"IF('Backend Calcs Metric'!X78=\"\",\"\",(ROUND((CONVERT('Backend Calcs Metric'!X78,\"ft3\",\"m3\")),5)))","v":1.41214},{"$f":"IF('Backend Calcs Metric'!Y78=\"\",\"\",(ROUND((CONVERT('Backend Calcs Metric'!Y78,\"ft3\",\"m3\")),5)))","v":7.0606999999999998},{"$f":"IF('Backend Calcs Metric'!Y78=\"\",\"\",(ROUND((CONVERT('Backend Calcs Metric'!Y78,\"ft3\",\"m3\")),2)))","v":7.06},{"$f":"IF('Backend Calcs Metric'!AA78=\"\",\"\",(ROUND((CONVERT('Backend Calcs Metric'!Z78,\"ft\",\"m\")),5)))","v":0.127},null,16.945679999999999]
[{"$f":"IF('Backend Calcs Metric'!P79=\"\",\"\",(ROUND((CONVERT('Backend Calcs Metric'!P79,\"in\",\"mm\")),0)))","v":102},{"$f":"IF('Backend Calcs Metric'!S79=\"\",\"\",(ROUND((CONVERT('Backend Calcs Metric'!S79,\"ft3\",\"m3\")),5)))","v":0},{"$f":"IF('Backend Calcs Metric'!T79=\"\",\"\",(ROUND((CONVERT('Backend Calcs Metric'!T79,\"ft3\",\"m3\")),5)))","v":0},{"$f":"IF('Backend Calcs Metric'!U79=\"\",\"\",(ROUND((CONVERT('Backend Calcs Metric'!U79,\"ft3\",\"m3\")),5)))","v":0},{"$f":"IF('Backend Calcs Metric'!V79=\"\",\"\",(ROUND((CONVERT('Backend Calcs Metric'!V79,\"ft3\",\"m3\")),5)))","v":0},{"$f":"IF('Backend Calcs Metric'!W79=\"\",\"\",(ROUND((CONVERT('Backend Calcs Metric'!W79,\"ft3\",\"m3\")),5)))","v":1.41214},{"$f":"IF('Backend Calcs Metric'!X79=\"\",\"\",(ROUND((CONVERT('Backend Calcs Metric'!X79,\"ft3\",\"m3\")),5)))","v":1.41214},{"$f":"IF('Backend Calcs Metric'!Y79=\"\",\"\",(ROUND((CONVERT('Backend Calcs Metric'!Y79,\"ft3\",\"m3\")),5)))","v":5.6485599999999998},{"$f":"IF('Backend Calcs Metric'!Y79=\"\",\"\",(ROUND((CONVERT('Backend Calcs Metric'!Y79,\"ft3\",\"m3\")),2)))","v":5.65},{"$f":"IF('Backend Calcs Metric'!AA79=\"\",\"\",(ROUND((CONVERT('Backend Calcs Metric'!Z79,\"ft\",\"m\")),5)))","v":0.1016},null,16.945679999999999]
[{"$f":"IF('Backend Calcs Metric'!P80=\"\",\"\",(ROUND((CONVERT('Backend Calcs Metric'!P80,\"in\",\"mm\")),0)))","v":76},{"$f":"IF('Backend Calcs Metric'!S80=\"\",\"\",(ROUND((CONVERT('Backend Calcs Metric'!S80,\"ft3\",\"m3\")),5)))","v":0},{"$f":"IF('Backend Calcs Metric'!T80=\"\",\"\",(ROUND((CONVERT('Backend Calcs Metric'!T80,\"ft3\",\"m3\")),5)))","v":0},{"$f":"IF('Backend Calcs Metric'!U80=\"\",\"\",(ROUND((CONVERT('Backend Calcs Metric'!U80,\"ft3\",\"m3\")),5)))","v":0},{"$f":"IF('Backend Calcs Metric'!V80=\"\",\"\",(ROUND((CONVERT('Backend Calcs Metric'!V80,\"ft3\",\"m3\")),5)))","v":0},{"$f":"IF('Backend Calcs Metric'!W80=\"\",\"\",(ROUND((CONVERT('Backend Calcs Metric'!W80,\"ft3\",\"m3\")),5)))","v":1.41214},{"$f":"IF('Backend Calcs Metric'!X80=\"\",\"\",(ROUND((CONVERT('Backend Calcs Metric'!X80,\"ft3\",\"m3\")),5)))","v":1.41214},{"$f":"IF('Backend Calcs Metric'!Y80=\"\",\"\",(ROUND((CONVERT('Backend Calcs Metric'!Y80,\"ft3\",\"m3\")),5)))","v":4.2364199999999999},{"$f":"IF('Backend Calcs Metric'!Y80=\"\",\"\",(ROUND((CONVERT('Backend Calcs Metric'!Y80,\"ft3\",\"m3\")),2)))","v":4.24},{"$f":"IF('Backend Calcs Metric'!AA80=\"\",\"\",(ROUND((CONVERT('Backend Calcs Metric'!Z80,\"ft\",\"m\")),5)))","v":7.6200000000000004E-2},null,16.945679999999999]
[{"$f":"IF('Backend Calcs Metric'!P81=\"\",\"\",(ROUND((CONVERT('Backend Calcs Metric'!P81,\"in\",\"mm\")),0)))","v":51},{"$f":"IF('Backend Calcs Metric'!S81=\"\",\"\",(ROUND((CONVERT('Backend Calcs Metric'!S81,\"ft3\",\"m3\")),5)))","v":0},{"$f":"IF('Backend Calcs Metric'!T81=\"\",\"\",(ROUND((CONVERT('Backend Calcs Metric'!T81,\"ft3\",\"m3\")),5)))","v":0},{"$f":"IF('Backend Calcs Metric'!U81=\"\",\"\",(ROUND((CONVERT('Backend Calcs Metric'!U81,\"ft3\",\"m3\")),5)))","v":0},{"$f":"IF('Backend Calcs Metric'!V81=\"\",\"\",(ROUND((CONVERT('Backend Calcs Metric'!V81,\"ft3\",\"m3\")),5)))","v":0},{"$f":"IF('Backend Calcs Metric'!W81=\"\",\"\",(ROUND((CONVERT('Backend Calcs Metric'!W81,\"ft3\",\"m3\")),5)))","v":1.41214},{"$f":"IF('Backend Calcs Metric'!X81=\"\",\"\",(ROUND((CONVERT('Backend Calcs Metric'!X81,\"ft3\",\"m3\")),5)))","v":1.41214},{"$f":"IF('Backend Calcs Metric'!Y81=\"\",\"\",(ROUND((CONVERT('Backend Calcs Metric'!Y81,\"ft3\",\"m3\")),5)))","v":2.8242799999999999},{"$f":"IF('Backend Calcs Metric'!Y81=\"\",\"\",(ROUND((CONVERT('Backend Calcs Metric'!Y81,\"ft3\",\"m3\")),2)))","v":2.82},{"$f":"IF('Backend Calcs Metric'!AA81=\"\",\"\",(ROUND((CONVERT('Backend Calcs Metric'!Z81,\"ft\",\"m\")),5)))","v":5.0799999999999998E-2},null,16.945679999999999]
[{"$f":"IF('Backend Calcs Metric'!P82=\"\",\"\",(ROUND((CONVERT('Backend Calcs Metric'!P82,\"in\",\"mm\")),0)))","v":25},{"$f":"IF('Backend Calcs Metric'!S82=\"\",\"\",(ROUND((CONVERT('Backend Calcs Metric'!S82,\"ft3\",\"m3\")),5)))","v":0},{"$f":"IF('Backend Calcs Metric'!T82=\"\",\"\",(ROUND((CONVERT('Backend Calcs Metric'!T82,\"ft3\",\"m3\")),5)))","v":0},{"$f":"IF('Backend Calcs Metric'!U82=\"\",\"\",(ROUND((CONVERT('Backend Calcs Metric'!U82,\"ft3\",\"m3\")),5)))","v":0},{"$f":"IF('Backend Calcs Metric'!V82=\"\",\"\",(ROUND((CONVERT('Backend Calcs Metric'!V82,\"ft3\",\"m3\")),5)))","v":0},{"$f":"IF('Backend Calcs Metric'!W82=\"\",\"\",(ROUND((CONVERT('Backend Calcs Metric'!W82,\"ft3\",\"m3\")),5)))","v":1.41214},{"$f":"IF('Backend Calcs Metric'!X82=\"\",\"\",(ROUND((CONVERT('Backend Calcs Metric'!X82,\"ft3\",\"m3\")),5)))","v":1.41214},{"$f":"IF('Backend Calcs Metric'!Y82=\"\",\"\",(ROUND((CONVERT('Backend Calcs Metric'!Y82,\"ft3\",\"m3\")),5)))","v":1.41214},{"$f":"IF('Backend Calcs Metric'!Y82=\"\",\"\",(ROUND((CONVERT('Backend Calcs Metric'!Y82,\"ft3\",\"m3\")),2)))","v":1.41},{"$f":"IF('Backend Calcs Metric'!AA82=\"\",\"\",(ROUND((CONVERT('Backend Calcs Metric'!Z82,\"ft\",\"m\")),5)))","v":2.5399999999999999E-2},null,{"$f":"IF(G81=\"\",\"\",G81*12)","v":16.945679999999999}]
[{"$f":"IF('Backend Calcs Metric'!P83=\"\",\"\",(ROUND((CONVERT('Backend Calcs Metric'!P83,\"in\",\"mm\")),0)))","v":0},{"$f":"IF('Backend Calcs Metric'!S83=\"\",\"\",(ROUND((CONVERT('Backend Calcs Metric'!S83,\"ft3\",\"m3\")),5)))","v":0},{"$f":"IF('Backend Calcs Metric'!T83=\"\",\"\",(ROUND((CONVERT('Backend Calcs Metric'!T83,\"ft3\",\"m3\")),5)))","v":0},{"$f":"IF('Backend Calcs Metric'!U83=\"\",\"\",(ROUND((CONVERT('Backend Calcs Metric'!U83,\"ft3\",\"m3\")),5)))","v":0},{"$f":"IF('Backend Calcs Metric'!V83=\"\",\"\",(ROUND((CONVERT('Backend Calcs Metric'!V83,\"ft3\",\"m3\")),5)))","v":0},{"$f":"IF('Backend Calcs Metric'!W83=\"\",\"\",(ROUND((CONVERT('Backend Calcs Metric'!W83,\"ft3\",\"m3\")),5)))","v":0},{"$f":"IF('Backend Calcs Metric'!X83=\"\",\"\",(ROUND((CONVERT('Backend Calcs Metric'!X83,\"ft3\",\"m3\")),5)))","v":0},{"$f":"IF('Backend Calcs Metric'!Y83=\"\",\"\",(ROUND((CONVERT('Backend Calcs Metric'!Y83,\"ft3\",\"m3\")),5)))","v":0},{"$f":"IF('Backend Calcs Metric'!Y83=\"\",\"\",(ROUND((CONVERT('Backend Calcs Metric'!Y83,\"ft3\",\"m3\")),2)))","v":0},{"$f":"IF('Backend Calcs Metric'!AA83=\"\",\"\",(ROUND((CONVERT('Backend Calcs Metric'!Z83,\"ft\",\"m\")),5)))","v":0},null,0]
[{"$f":"IF('Backend Calcs Metric'!P84=\"\",\"\",(ROUND((CONVERT('Backend Calcs Metric'!P84,\"in\",\"mm\")),0)))","v":""},{"$f":"IF('Backend Calcs Metric'!S84=\"\",\"\",(ROUND((CONVERT('Backend Calcs Metric'!S84,\"ft3\",\"m3\")),5)))","v":""},{"$f":"IF('Backend Calcs Metric'!T84=\"\",\"\",(ROUND((CONVERT('Backend Calcs Metric'!T84,\"ft3\",\"m3\")),5)))","v":""},{"$f":"IF('Backend Calcs Metric'!U84=\"\",\"\",(ROUND((CONVERT('Backend Calcs Metric'!U84,\"ft3\",\"m3\")),5)))","v":""},{"$f":"IF('Backend Calcs Metric'!V84=\"\",\"\",(ROUND((CONVERT('Backend Calcs Metric'!V84,\"ft3\",\"m3\")),5)))","v":""},{"$f":"IF('Backend Calcs Metric'!W84=\"\",\"\",(ROUND((CONVERT('Backend Calcs Metric'!W84,\"ft3\",\"m3\")),5)))","v":{"$error":"#VALUE!"}},{"$f":"IF('Backend Calcs Metric'!X84=\"\",\"\",(ROUND((CONVERT('Backend Calcs Metric'!X84,\"ft3\",\"m3\")),5)))","v":""},{"$f":"IF('Backend Calcs Metric'!Y84=\"\",\"\",(ROUND((CONVERT('Backend Calcs Metric'!Y84,\"ft3\",\"m3\")),5)))","v":""},{"$f":"IF('Backend Calcs Metric'!Y84=\"\",\"\",(ROUND((CONVERT('Backend Calcs Metric'!Y84,\"ft3\",\"m3\")),2)))","v":""},{"$f":"IF('Backend Calcs Metric'!AA84=\"\",\"\",(ROUND((CONVERT('Backend Calcs Metric'!Z84,\"ft\",\"m\")),5)))","v":""},null,""]
[{"$f":"IF('Backend Calcs Metric'!P85=\"\",\"\",(ROUND((CONVERT('Backend Calcs Metric'!P85,\"in\",\"mm\")),0)))","v":""},{"$f":"IF('Backend Calcs Metric'!S85=\"\",\"\",(ROUND((CONVERT('Backend Calcs Metric'!S85,\"ft3\",\"m3\")),5)))","v":""},{"$f":"IF('Backend Calcs Metric'!T85=\"\",\"\",(ROUND((CONVERT('Backend Calcs Metric'!T85,\"ft3\",\"m3\")),5)))","v":""},{"$f":"IF('Backend Calcs Metric'!U85=\"\",\"\",(ROUND((CONVERT('Backend Calcs Metric'!U85,\"ft3\",\"m3\")),5)))","v":""},{"$f":"IF('Backend Calcs Metric'!V85=\"\",\"\",(ROUND((CONVERT('Backend Calcs Metric'!V85,\"ft3\",\"m3\")),5)))","v":""},{"$f":"IF('Backend Calcs Metric'!W85=\"\",\"\",(ROUND((CONVERT('Backend Calcs Metric'!W85,\"ft3\",\"m3\")),5)))","v":{"$error":"#VALUE!"}},{"$f":"IF('Backend Calcs Metric'!X85=\"\",\"\",(ROUND((CONVERT('Backend Calcs Metric'!X85,\"ft3\",\"m3\")),5)))","v":""},{"$f":"IF('Backend Calcs Metric'!Y85=\"\",\"\",(ROUND((CONVERT('Backend Calcs Metric'!Y85,\"ft3\",\"m3\")),5)))","v":""},{"$f":"IF('Backend Calcs Metric'!Y85=\"\",\"\",(ROUND((CONVERT('Backend Calcs Metric'!Y85,\"ft3\",\"m3\")),2)))","v":""},{"$f":"IF('Backend Calcs Metric'!AA85=\"\",\"\",(ROUND((CONVERT('Backend Calcs Metric'!Z85,\"ft\",\"m\")),5)))","v":""},null,""]
[{"$f":"IF('Backend Calcs Metric'!P86=\"\",\"\",(ROUND((CONVERT('Backend Calcs Metric'!P86,\"in\",\"mm\")),0)))","v":""},{"$f":"IF('Backend Calcs Metric'!S86=\"\",\"\",(ROUND((CONVERT('Backend Calcs Metric'!S86,\"ft3\",\"m3\")),5)))","v":""},{"$f":"IF('Backend Calcs Metric'!T86=\"\",\"\",(ROUND((CONVERT('Backend Calcs Metric'!T86,\"ft3\",\"m3\")),5)))","v":""},{"$f":"IF('Backend Calcs Metric'!U86=\"\",\"\",(ROUND((CONVERT('Backend Calcs Metric'!U86,\"ft3\",\"m3\")),5)))","v":""},{"$f":"IF('Backend Calcs Metric'!V86=\"\",\"\",(ROUND((CONVERT('Backend Calcs Metric'!V86,\"ft3\",\"m3\")),5)))","v":""},{"$f":"IF('Backend Calcs Metric'!W86=\"\",\"\",(ROUND((CONVERT('Backend Calcs Metric'!W86,\"ft3\",\"m3\")),5)))","v":{"$error":"#VALUE!"}},{"$f":"IF('Backend Calcs Metric'!X86=\"\",\"\",(ROUND((CONVERT('Backend Calcs Metric'!X86,\"ft3\",\"m3\")),5)))","v":""},{"$f":"IF('Backend Calcs Metric'!Y86=\"\",\"\",(ROUND((CONVERT('Backend Calcs Metric'!Y86,\"ft3\",\"m3\")),5)))","v":""},{"$f":"IF('Backend Calcs Metric'!Y86=\"\",\"\",(ROUND((CONVERT('Backend Calcs Metric'!Y86,\"ft3\",\"m3\")),2)))","v":""},{"$f":"IF('Backend Calcs Metric'!AA86=\"\",\"\",(ROUND((CONVERT('Backend Calcs Metric'!Z86,\"ft\",\"m\")),5)))","v":""},null,""]
[{"$f":"IF('Backend Calcs Metric'!P87=\"\",\"\",(ROUND((CONVERT('Backend Calcs Metric'!P87,\"in\",\"mm\")),0)))","v":""},{"$f":"IF('Backend Calcs Metric'!S87=\"\",\"\",(ROUND((CONVERT('Backend Calcs Metric'!S87,\"ft3\",\"m3\")),5)))","v":""},{"$f":"IF('Backend Calcs Metric'!T87=\"\",\"\",(ROUND((CONVERT('Backend Calcs Metric'!T87,\"ft3\",\"m3\")),5)))","v":""},{"$f":"IF('Backend Calcs Metric'!U87=\"\",\"\",(ROUND((CONVERT('Backend Calcs Metric'!U87,\"ft3\",\"m3\")),5)))","v":""},{"$f":"IF('Backend Calcs Metric'!V87=\"\",\"\",(ROUND((CONVERT('Backend Calcs Metric'!V87,\"ft3\",\"m3\")),5)))","v":""},{"$f":"IF('Backend Calcs Metric'!W87=\"\",\"\",(ROUND((CONVERT('Backend Calcs Metric'!W87,\"ft3\",\"m3\")),5)))","v":{"$error":"#VALUE!"}},{"$f":"IF('Backend Calcs Metric'!X87=\"\",\"\",(ROUND((CONVERT('Backend Calcs Metric'!X87,\"ft3\",\"m3\")),5)))","v":""},{"$f":"IF('Backend Calcs Metric'!Y87=\"\",\"\",(ROUND((CONVERT('Backend Calcs Metric'!Y87,\"ft3\",\"m3\")),5)))","v":""},{"$f":"IF('Backend Calcs Metric'!Y87=\"\",\"\",(ROUND((CONVERT('Backend Calcs Metric'!Y87,\"ft3\",\"m3\")),2)))","v":""},{"$f":"IF('Backend Calcs Metric'!AA87=\"\",\"\",(ROUND((CONVERT('Backend Calcs Metric'!Z87,\"ft\",\"m\")),5)))","v":""},null,""]
[{"$f":"IF('Backend Calcs Metric'!P88=\"\",\"\",(ROUND((CONVERT('Backend Calcs Metric'!P88,\"in\",\"mm\")),0)))","v":""},{"$f":"IF('Backend Calcs Metric'!S88=\"\",\"\",(ROUND((CONVERT('Backend Calcs Metric'!S88,\"ft3\",\"m3\")),5)))","v":""},{"$f":"IF('Backend Calcs Metric'!T88=\"\",\"\",(ROUND((CONVERT('Backend Calcs Metric'!T88,\"ft3\",\"m3\")),5)))","v":""},{"$f":"IF('Backend Calcs Metric'!U88=\"\",\"\",(ROUND((CONVERT('Backend Calcs Metric'!U88,\"ft3\",\"m3\")),5)))","v":""},{"$f":"IF('Backend Calcs Metric'!V88=\"\",\"\",(ROUND((CONVERT('Backend Calcs Metric'!V88,\"ft3\",\"m3\")),5)))","v":""},{"$f":"IF('Backend Calcs Metric'!W88=\"\",\"\",(ROUND((CONVERT('Backend Calcs Metric'!W88,\"ft3\",\"m3\")),5)))","v":{"$error":"#VALUE!"}},{"$f":"IF('Backend Calcs Metric'!X88=\"\",\"\",(ROUND((CONVERT('Backend Calcs Metric'!X88,\"ft3\",\"m3\")),5)))","v":""},{"$f":"IF('Backend Calcs Metric'!Y88=\"\",\"\",(ROUND((CONVERT('Backend Calcs Metric'!Y88,\"ft3\",\"m3\")),5)))","v":""},{"$f":"IF('Backend Calcs Metric'!Y88=\"\",\"\",(ROUND((CONVERT('Backend Calcs Metric'!Y88,\"ft3\",\"m3\")),2)))","v":""},{"$f":"IF('Backend Calcs Metric'!AA88=\"\",\"\",(ROUND((CONVERT('Backend Calcs Metric'!Z88,\"ft\",\"m\")),5)))","v":""},null,""]
[{"$f":"IF('Backend Calcs Metric'!P89=\"\",\"\",(ROUND((CONVERT('Backend Calcs Metric'!P89,\"in\",\"mm\")),0)))","v":""},{"$f":"IF('Backend Calcs Metric'!S89=\"\",\"\",(ROUND((CONVERT('Backend Calcs Metric'!S89,\"ft3\",\"m3\")),5)))","v":""},{"$f":"IF('Backend Calcs Metric'!T89=\"\",\"\",(ROUND((CONVERT('Backend Calcs Metric'!T89,\"ft3\",\"m3\")),5)))","v":""},{"$f":"IF('Backend Calcs Metric'!U89=\"\",\"\",(ROUND((CONVERT('Backend Calcs Metric'!U89,\"ft3\",\"m3\")),5)))","v":""},{"$f":"IF('Backend Calcs Metric'!V89=\"\",\"\",(ROUND((CONVERT('Backend Calcs Metric'!V89,\"ft3\",\"m3\")),5)))","v":""},{"$f":"IF('Backend Calcs Metric'!W89=\"\",\"\",(ROUND((CONVERT('Backend Calcs Metric'!W89,\"ft3\",\"m3\")),5)))","v":{"$error":"#VALUE!"}},{"$f":"IF('Backend Calcs Metric'!X89=\"\",\"\",(ROUND((CONVERT('Backend Calcs Metric'!X89,\"ft3\",\"m3\")),5)))","v":""},{"$f":"IF('Backend Calcs Metric'!Y89=\"\",\"\",(ROUND((CONVERT('Backend Calcs Metric'!Y89,\"ft3\",\"m3\")),5)))","v":""},{"$f":"IF('Backend Calcs Metric'!Y89=\"\",\"\",(ROUND((CONVERT('Backend Calcs Metric'!Y89,\"ft3\",\"m3\")),2)))","v":""},{"$f":"IF('Backend Calcs Metric'!AA89=\"\",\"\",(ROUND((CONVERT('Backend Calcs Metric'!Z89,\"ft\",\"m\")),5)))","v":""},null,""]
[{"$f":"IF('Backend Calcs Metric'!P90=\"\",\"\",(ROUND((CONVERT('Backend Calcs Metric'!P90,\"in\",\"mm\")),0)))","v":""},{"$f":"IF('Backend Calcs Metric'!S90=\"\",\"\",(ROUND((CONVERT('Backend Calcs Metric'!S90,\"ft3\",\"m3\")),5)))","v":""},{"$f":"IF('Backend Calcs Metric'!T90=\"\",\"\",(ROUND((CONVERT('Backend Calcs Metric'!T90,\"ft3\",\"m3\")),5)))","v":""},{"$f":"IF('Backend Calcs Metric'!U90=\"\",\"\",(ROUND((CONVERT('Backend Calcs Metric'!U90,\"ft3\",\"m3\")),5)))","v":""},{"$f":"IF('Backend Calcs Metric'!V90=\"\",\"\",(ROUND((CONVERT('Backend Calcs Metric'!V90,\"ft3\",\"m3\")),5)))","v":""},{"$f":"IF('Backend Calcs Metric'!W90=\"\",\"\",(ROUND((CONVERT('Backend Calcs Metric'!W90,\"ft3\",\"m3\")),5)))","v":{"$error":"#VALUE!"}},{"$f":"IF('Backend Calcs Metric'!X90=\"\",\"\",(ROUND((CONVERT('Backend Calcs Metric'!X90,\"ft3\",\"m3\")),5)))","v":""},{"$f":"IF('Backend Calcs Metric'!Y90=\"\",\"\",(ROUND((CONVERT('Backend Calcs Metric'!Y90,\"ft3\",\"m3\")),5)))","v":""},{"$f":"IF('Backend Calcs Metric'!Y90=\"\",\"\",(ROUND((CONVERT('Backend Calcs Metric'!Y90,\"ft3\",\"m3\")),2)))","v":""},{"$f":"IF('Backend Calcs Metric'!AA90=\"\",\"\",(ROUND((CONVERT('Backend Calcs Metric'!Z90,\"ft\",\"m\")),5)))","v":""}]
[{"$f":"IF('Backend Calcs Metric'!P91=\"\",\"\",(ROUND((CONVERT('Backend Calcs Metric'!P91,\"in\",\"mm\")),0)))","v":""},{"$f":"IF('Backend Calcs Metric'!S91=\"\",\"\",(ROUND((CONVERT('Backend Calcs Metric'!S91,\"ft3\",\"m3\")),5)))","v":""},{"$f":"IF('Backend Calcs Metric'!T91=\"\",\"\",(ROUND((CONVERT('Backend Calcs Metric'!T91,\"ft3\",\"m3\")),5)))","v":""},{"$f":"IF('Backend Calcs Metric'!U91=\"\",\"\",(ROUND((CONVERT('Backend Calcs Metric'!U91,\"ft3\",\"m3\")),5)))","v":""},{"$f":"IF('Backend Calcs Metric'!V91=\"\",\"\",(ROUND((CONVERT('Backend Calcs Metric'!V91,\"ft3\",\"m3\")),5)))","v":""},{"$f":"IF('Backend Calcs Metric'!W91=\"\",\"\",(ROUND((CONVERT('Backend Calcs Metric'!W91,\"ft3\",\"m3\")),5)))","v":{"$error":"#VALUE!"}},{"$f":"IF('Backend Calcs Metric'!X91=\"\",\"\",(ROUND((CONVERT('Backend Calcs Metric'!X91,\"ft3\",\"m3\")),5)))","v":""},{"$f":"IF('Backend Calcs Metric'!Y91=\"\",\"\",(ROUND((CONVERT('Backend Calcs Metric'!Y91,\"ft3\",\"m3\")),5)))","v":""},{"$f":"IF('Backend Calcs Metric'!Y91=\"\",\"\",(ROUND((CONVERT('Backend Calcs Metric'!Y91,\"ft3\",\"m3\")),2)))","v":""},{"$f":"IF('Backend Calcs Metric'!AA91=\"\",\"\",(ROUND((CONVERT('Backend Calcs Metric'!Z91,\"ft\",\"m\")),5)))","v":""}]
[{"$f":"IF('Backend Calcs Metric'!P92=\"\",\"\",(ROUND((CONVERT('Backend Calcs Metric'!P92,\"in\",\"mm\")),0)))","v":""},{"$f":"IF('Backend Calcs Metric'!S92=\"\",\"\",(ROUND((CONVERT('Backend Calcs Metric'!S92,\"ft3\",\"m3\")),5)))","v":""},{"$f":"IF('Backend Calcs Metric'!T92=\"\",\"\",(ROUND((CONVERT('Backend Calcs Metric'!T92,\"ft3\",\"m3\")),5)))","v":""},{"$f":"IF('Backend Calcs Metric'!U92=\"\",\"\",(ROUND((CONVERT('Backend Calcs Metric'!U92,\"ft3\",\"m3\")),5)))","v":""},{"$f":"IF('Backend Calcs Metric'!V92=\"\",\"\",(ROUND((CONVERT('Backend Calcs Metric'!V92,\"ft3\",\"m3\")),5)))","v":""},{"$f":"IF('Backend Calcs Metric'!W92=\"\",\"\",(ROUND((CONVERT('Backend Calcs Metric'!W92,\"ft3\",\"m3\")),5)))","v":{"$error":"#VALUE!"}},{"$f":"IF('Backend Calcs Metric'!X92=\"\",\"\",(ROUND((CONVERT('Backend Calcs Metric'!X92,\"ft3\",\"m3\")),5)))","v":""},{"$f":"IF('Backend Calcs Metric'!Y92=\"\",\"\",(ROUND((CONVERT('Backend Calcs Metric'!Y92,\"ft3\",\"m3\")),5)))","v":""},{"$f":"IF('Backend Calcs Metric'!Y92=\"\",\"\",(ROUND((CONVERT('Backend Calcs Metric'!Y92,\"ft3\",\"m3\")),2)))","v":""},{"$f":"IF('Backend Calcs Metric'!AA92=\"\",\"\",(ROUND((CONVERT('Backend Calcs Metric'!Z92,\"ft\",\"m\")),5)))","v":""}]
[{"$f":"IF('Backend Calcs Metric'!P93=\"\",\"\",(ROUND((CONVERT('Backend Calcs Metric'!P93,\"in\",\"mm\")),0)))","v":""},{"$f":"IF('Backend Calcs Metric'!S93=\"\",\"\",(ROUND((CONVERT('Backend Calcs Metric'!S93,\"ft3\",\"m3\")),5)))","v":""},{"$f":"IF('Backend Calcs Metric'!T93=\"\",\"\",(ROUND((CONVERT('Backend Calcs Metric'!T93,\"ft3\",\"m3\")),5)))","v":""},{"$f":"IF('Backend Calcs Metric'!U93=\"\",\"\",(ROUND((CONVERT('Backend Calcs Metric'!U93,\"ft3\",\"m3\")),5)))","v":""},{"$f":"IF('Backend Calcs Metric'!V93=\"\",\"\",(ROUND((CONVERT('Backend Calcs Metric'!V93,\"ft3\",\"m3\")),5)))","v":""},{"$f":"IF('Backend Calcs Metric'!W93=\"\",\"\",(ROUND((CONVERT('Backend Calcs Metric'!W93,\"ft3\",\"m3\")),5)))","v":{"$error":"#VALUE!"}},{"$f":"IF('Backend Calcs Metric'!X93=\"\",\"\",(ROUND((CONVERT('Backend Calcs Metric'!X93,\"ft3\",\"m3\")),5)))","v":""},{"$f":"IF('Backend Calcs Metric'!Y93=\"\",\"\",(ROUND((CONVERT('Backend Calcs Metric'!Y93,\"ft3\",\"m3\")),5)))","v":""},{"$f":"IF('Backend Calcs Metric'!Y93=\"\",\"\",(ROUND((CONVERT('Backend Calcs Metric'!Y93,\"ft3\",\"m3\")),2)))","v":""},{"$f":"IF('Backend Calcs Metric'!AA93=\"\",\"\",(ROUND((CONVERT('Backend Calcs Metric'!Z93,\"ft\",\"m\")),5)))","v":""}]
[{"$f":"IF('Backend Calcs Metric'!P94=\"\",\"\",(ROUND((CONVERT('Backend Calcs Metric'!P94,\"in\",\"mm\")),0)))","v":""},{"$f":"IF('Backend Calcs Metric'!S94=\"\",\"\",(ROUND((CONVERT('Backend Calcs Metric'!S94,\"ft3\",\"m3\")),5)))","v":""},{"$f":"IF('Backend Calcs Metric'!T94=\"\",\"\",(ROUND((CONVERT('Backend Calcs Metric'!T94,\"ft3\",\"m3\")),5)))","v":""},{"$f":"IF('Backend Calcs Metric'!U94=\"\",\"\",(ROUND((CONVERT('Backend Calcs Metric'!U94,\"ft3\",\"m3\")),5)))","v":""},{"$f":"IF('Backend Calcs Metric'!V94=\"\",\"\",(ROUND((CONVERT('Backend Calcs Metric'!V94,\"ft3\",\"m3\")),5)))","v":""},{"$f":"IF('Backend Calcs Metric'!W94=\"\",\"\",(ROUND((CONVERT('Backend Calcs Metric'!W94,\"ft3\",\"m3\")),5)))","v":{"$error":"#VALUE!"}},{"$f":"IF('Backend Calcs Metric'!X94=\"\",\"\",(ROUND((CONVERT('Backend Calcs Metric'!X94,\"ft3\",\"m3\")),5)))","v":""},{"$f":"IF('Backend Calcs Metric'!Y94=\"\",\"\",(ROUND((CONVERT('Backend Calcs Metric'!Y94,\"ft3\",\"m3\")),5)))","v":""},{"$f":"IF('Backend Calcs Metric'!Y94=\"\",\"\",(ROUND((CONVERT('Backend Calcs Metric'!Y94,\"ft3\",\"m3\")),2)))","v":""},{"$f":"IF('Backend Calcs Metric'!AA94=\"\",\"\",(ROUND((CONVERT('Backend Calcs Metric'!Z94,\"ft\",\"m\")),5)))","v":""}]
[{"$f":"IF('Backend Calcs Metric'!P95=\"\",\"\",(ROUND((CONVERT('Backend Calcs Metric'!P95,\"in\",\"mm\")),0)))","v":""},{"$f":"IF('Backend Calcs Metric'!S95=\"\",\"\",(ROUND((CONVERT('Backend Calcs Metric'!S95,\"ft3\",\"m3\")),5)))","v":""},{"$f":"IF('Backend Calcs Metric'!T95=\"\",\"\",(ROUND((CONVERT('Backend Calcs Metric'!T95,\"ft3\",\"m3\")),5)))","v":""},{"$f":"IF('Backend Calcs Metric'!U95=\"\",\"\",(ROUND((CONVERT('Backend Calcs Metric'!U95,\"ft3\",\"m3\")),5)))","v":""},{"$f":"IF('Backend Calcs Metric'!V95=\"\",\"\",(ROUND((CONVERT('Backend Calcs Metric'!V95,\"ft3\",\"m3\")),5)))","v":""},{"$f":"IF('Backend Calcs Metric'!W95=\"\",\"\",(ROUND((CONVERT('Backend Calcs Metric'!W95,\"ft3\",\"m3\")),5)))","v":{"$error":"#VALUE!"}},{"$f":"IF('Backend Calcs Metric'!X95=\"\",\"\",(ROUND((CONVERT('Backend Calcs Metric'!X95,\"ft3\",\"m3\")),5)))","v":""},{"$f":"IF('Backend Calcs Metric'!Y95=\"\",\"\",(ROUND((CONVERT('Backend Calcs Metric'!Y95,\"ft3\",\"m3\")),5)))","v":""},{"$f":"IF('Backend Calcs Metric'!Y95=\"\",\"\",(ROUND((CONVERT('Backend Calcs Metric'!Y95,\"ft3\",\"m3\")),2)))","v":""},{"$f":"IF('Backend Calcs Metric'!AA95=\"\",\"\",(ROUND((CONVERT('Backend Calcs Metric'!Z95,\"ft\",\"m\")),5)))","v":""}]
[{"$f":"IF('Backend Calcs Metric'!P96=\"\",\"\",(ROUND((CONVERT('Backend Calcs Metric'!P96,\"in\",\"mm\")),0)))","v":""},{"$f":"IF('Backend Calcs Metric'!S96=\"\",\"\",(ROUND((CONVERT('Backend Calcs Metric'!S96,\"ft3\",\"m3\")),5)))","v":""},{"$f":"IF('Backend Calcs Metric'!T96=\"\",\"\",(ROUND((CONVERT('Backend Calcs Metric'!T96,\"ft3\",\"m3\")),5)))","v":""},{"$f":"IF('Backend Calcs Metric'!U96=\"\",\"\",(ROUND((CONVERT('Backend Calcs Metric'!U96,\"ft3\",\"m3\")),5)))","v":""},{"$f":"IF('Backend Calcs Metric'!V96=\"\",\"\",(ROUND((CONVERT('Backend Calcs Metric'!V96,\"ft3\",\"m3\")),5)))","v":""},{"$f":"IF('Backend Calcs Metric'!W96=\"\",\"\",(ROUND((CONVERT('Backend Calcs Metric'!W96,\"ft3\",\"m3\")),5)))","v":{"$error":"#VALUE!"}},{"$f":"IF('Backend Calcs Metric'!X96=\"\",\"\",(ROUND((CONVERT('Backend Calcs Metric'!X96,\"ft3\",\"m3\")),5)))","v":""},{"$f":"IF('Backend Calcs Metric'!Y96=\"\",\"\",(ROUND((CONVERT('Backend Calcs Metric'!Y96,\"ft3\",\"m3\")),5)))","v":""},{"$f":"IF('Backend Calcs Metric'!Y96=\"\",\"\",(ROUND((CONVERT('Backend Calcs Metric'!Y96,\"ft3\",\"m3\")),2)))","v":""},{"$f":"IF('Backend Calcs Metric'!AA96=\"\",\"\",(ROUND((CONVERT('Backend Calcs Metric'!Z96,\"ft\",\"m\")),5)))","v":""}]
[{"$f":"IF('Backend Calcs Metric'!P97=\"\",\"\",(ROUND((CONVERT('Backend Calcs Metric'!P97,\"in\",\"mm\")),0)))","v":""},{"$f":"IF('Backend Calcs Metric'!S97=\"\",\"\",(ROUND((CONVERT('Backend Calcs Metric'!S97,\"ft3\",\"m3\")),5)))","v":""},{"$f":"IF('Backend Calcs Metric'!T97=\"\",\"\",(ROUND((CONVERT('Backend Calcs Metric'!T97,\"ft3\",\"m3\")),5)))","v":""},{"$f":"IF('Backend Calcs Metric'!U97=\"\",\"\",(ROUND((CONVERT('Backend Calcs Metric'!U97,\"ft3\",\"m3\")),5)))","v":""},{"$f":"IF('Backend Calcs Metric'!V97=\"\",\"\",(ROUND((CONVERT('Backend Calcs Metric'!V97,\"ft3\",\"m3\")),5)))","v":""},{"$f":"IF('Backend Calcs Metric'!W97=\"\",\"\",(ROUND((CONVERT('Backend Calcs Metric'!W97,\"ft3\",\"m3\")),5)))","v":{"$error":"#VALUE!"}},{"$f":"IF('Backend Calcs Metric'!X97=\"\",\"\",(ROUND((CONVERT('Backend Calcs Metric'!X97,\"ft3\",\"m3\")),5)))","v":""},{"$f":"IF('Backend Calcs Metric'!Y97=\"\",\"\",(ROUND((CONVERT('Backend Calcs Metric'!Y97,\"ft3\",\"m3\")),5)))","v":""},{"$f":"IF('Backend Calcs Metric'!Y97=\"\",\"\",(ROUND((CONVERT('Backend Calcs Metric'!Y97,\"ft3\",\"m3\")),2)))","v":""},{"$f":"IF('Backend Calcs Metric'!AA97=\"\",\"\",(ROUND((CONVERT('Backend Calcs Metric'!Z97,\"ft\",\"m\")),5)))","v":""}]
[{"$f":"IF('Backend Calcs Metric'!P98=\"\",\"\",(ROUND((CONVERT('Backend Calcs Metric'!P98,\"in\",\"mm\")),0)))","v":""},{"$f":"IF('Backend Calcs Metric'!S98=\"\",\"\",(ROUND((CONVERT('Backend Calcs Metric'!S98,\"ft3\",\"m3\")),5)))","v":""},{"$f":"IF('Backend Calcs Metric'!T98=\"\",\"\",(ROUND((CONVERT('Backend Calcs Metric'!T98,\"ft3\",\"m3\")),5)))","v":""},{"$f":"IF('Backend Calcs Metric'!U98=\"\",\"\",(ROUND((CONVERT('Backend Calcs Metric'!U98,\"ft3\",\"m3\")),5)))","v":""},{"$f":"IF('Backend Calcs Metric'!V98=\"\",\"\",(ROUND((CONVERT('Backend Calcs Metric'!V98,\"ft3\",\"m3\")),5)))","v":""},{"$f":"IF('Backend Calcs Metric'!W98=\"\",\"\",(ROUND((CONVERT('Backend Calcs Metric'!W98,\"ft3\",\"m3\")),5)))","v":{"$error":"#VALUE!"}},{"$f":"IF('Backend Calcs Metric'!X98=\"\",\"\",(ROUND((CONVERT('Backend Calcs Metric'!X98,\"ft3\",\"m3\")),5)))","v":""},{"$f":"IF('Backend Calcs Metric'!Y98=\"\",\"\",(ROUND((CONVERT('Backend Calcs Metric'!Y98,\"ft3\",\"m3\")),5)))","v":""},{"$f":"IF('Backend Calcs Metric'!Y98=\"\",\"\",(ROUND((CONVERT('Backend Calcs Metric'!Y98,\"ft3\",\"m3\")),2)))","v":""},{"$f":"IF('Backend Calcs Metric'!AA98=\"\",\"\",(ROUND((CONVERT('Backend Calcs Metric'!Z98,\"ft\",\"m\")),5)))","v":""}]
[{"$f":"IF('Backend Calcs Metric'!P99=\"\",\"\",(ROUND((CONVERT('Backend Calcs Metric'!P99,\"in\",\"mm\")),0)))","v":""},{"$f":"IF('Backend Calcs Metric'!S99=\"\",\"\",(ROUND((CONVERT('Backend Calcs Metric'!S99,\"ft3\",\"m3\")),5)))","v":""},{"$f":"IF('Backend Calcs Metric'!T99=\"\",\"\",(ROUND((CONVERT('Backend Calcs Metric'!T99,\"ft3\",\"m3\")),5)))","v":""},{"$f":"IF('Backend Calcs Metric'!U99=\"\",\"\",(ROUND((CONVERT('Backend Calcs Metric'!U99,\"ft3\",\"m3\")),5)))","v":""},{"$f":"IF('Backend Calcs Metric'!V99=\"\",\"\",(ROUND((CONVERT('Backend Calcs Metric'!V99,\"ft3\",\"m3\")),5)))","v":""},{"$f":"IF('Backend Calcs Metric'!W99=\"\",\"\",(ROUND((CONVERT('Backend Calcs Metric'!W99,\"ft3\",\"m3\")),5)))","v":{"$error":"#VALUE!"}},{"$f":"IF('Backend Calcs Metric'!X99=\"\",\"\",(ROUND((CONVERT('Backend Calcs Metric'!X99,\"ft3\",\"m3\")),5)))","v":""},{"$f":"IF('Backend Calcs Metric'!Y99=\"\",\"\",(ROUND((CONVERT('Backend Calcs Metric'!Y99,\"ft3\",\"m3\")),5)))","v":""},{"$f":"IF('Backend Calcs Metric'!Y99=\"\",\"\",(ROUND((CONVERT('Backend Calcs Metric'!Y99,\"ft3\",\"m3\")),2)))","v":""},{"$f":"IF('Backend Calcs Metric'!AA99=\"\",\"\",(ROUND((CONVERT('Backend Calcs Metric'!Z99,\"ft\",\"m\")),5)))","v":""}]
[{"$f":"IF('Backend Calcs Metric'!P100=\"\",\"\",(ROUND((CONVERT('Backend Calcs Metric'!P100,\"in\",\"mm\")),0)))","v":""},{"$f":"IF('Backend Calcs Metric'!S100=\"\",\"\",(ROUND((CONVERT('Backend Calcs Metric'!S100,\"ft3\",\"m3\")),5)))","v":""},{"$f":"IF('Backend Calcs Metric'!T100=\"\",\"\",(ROUND((CONVERT('Backend Calcs Metric'!T100,\"ft3\",\"m3\")),5)))","v":""},{"$f":"IF('Backend Calcs Metric'!U100=\"\",\"\",(ROUND((CONVERT('Backend Calcs Metric'!U100,\"ft3\",\"m3\")),5)))","v":""},{"$f":"IF('Backend Calcs Metric'!V100=\"\",\"\",(ROUND((CONVERT('Backend Calcs Metric'!V100,\"ft3\",\"m3\")),5)))","v":""},{"$f":"IF('Backend Calcs Metric'!W100=\"\",\"\",(ROUND((CONVERT('Backend Calcs Metric'!W100,\"ft3\",\"m3\")),5)))","v":{"$error":"#VALUE!"}},{"$f":"IF('Backend Calcs Metric'!X100=\"\",\"\",(ROUND((CONVERT('Backend Calcs Metric'!X100,\"ft3\",\"m3\")),5)))","v":""},{"$f":"IF('Backend Calcs Metric'!Y100=\"\",\"\",(ROUND((CONVERT('Backend Calcs Metric'!Y100,\"ft3\",\"m3\")),5)))","v":""},{"$f":"IF('Backend Calcs Metric'!Y100=\"\",\"\",(ROUND((CONVERT('Backend Calcs Metric'!Y100,\"ft3\",\"m3\")),2)))","v":""},{"$f":"IF('Backend Calcs Metric'!AA100=\"\",\"\",(ROUND((CONVERT('Backend Calcs Metric'!Z100,\"ft\",\"m\")),5)))","v":""}]
[{"$f":"IF('Backend Calcs Metric'!P101=\"\",\"\",(ROUND((CONVERT('Backend Calcs Metric'!P101,\"in\",\"mm\")),0)))","v":""},{"$f":"IF('Backend Calcs Metric'!S101=\"\",\"\",(ROUND((CONVERT('Backend Calcs Metric'!S101,\"ft3\",\"m3\")),5)))","v":""},{"$f":"IF('Backend Calcs Metric'!T101=\"\",\"\",(ROUND((CONVERT('Backend Calcs Metric'!T101,\"ft3\",\"m3\")),5)))","v":""},{"$f":"IF('Backend Calcs Metric'!U101=\"\",\"\",(ROUND((CONVERT('Backend Calcs Metric'!U101,\"ft3\",\"m3\")),5)))","v":""},{"$f":"IF('Backend Calcs Metric'!V101=\"\",\"\",(ROUND((CONVERT('Backend Calcs Metric'!V101,\"ft3\",\"m3\")),5)))","v":""},{"$f":"IF('Backend Calcs Metric'!W101=\"\",\"\",(ROUND((CONVERT('Backend Calcs Metric'!W101,\"ft3\",\"m3\")),5)))","v":{"$error":"#VALUE!"}},{"$f":"IF('Backend Calcs Metric'!X101=\"\",\"\",(ROUND((CONVERT('Backend Calcs Metric'!X101,\"ft3\",\"m3\")),5)))","v":""},{"$f":"IF('Backend Calcs Metric'!Y101=\"\",\"\",(ROUND((CONVERT('Backend Calcs Metric'!Y101,\"ft3\",\"m3\")),5)))","v":""},{"$f":"IF('Backend Calcs Metric'!Y101=\"\",\"\",(ROUND((CONVERT('Backend Calcs Metric'!Y101,\"ft3\",\"m3\")),2)))","v":""},{"$f":"IF('Backend Calcs Metric'!AA101=\"\",\"\",(ROUND((CONVERT('Backend Calcs Metric'!Z101,\"ft\",\"m\")),5)))","v":""}]
[{"$f":"IF('Backend Calcs Metric'!P102=\"\",\"\",(ROUND((CONVERT('Backend Calcs Metric'!P102,\"in\",\"mm\")),0)))","v":""},{"$f":"IF('Backend Calcs Metric'!S102=\"\",\"\",(ROUND((CONVERT('Backend Calcs Metric'!S102,\"ft3\",\"m3\")),5)))","v":""},{"$f":"IF('Backend Calcs Metric'!T102=\"\",\"\",(ROUND((CONVERT('Backend Calcs Metric'!T102,\"ft3\",\"m3\")),5)))","v":""},{"$f":"IF('Backend Calcs Metric'!U102=\"\",\"\",(ROUND((CONVERT('Backend Calcs Metric'!U102,\"ft3\",\"m3\")),5)))","v":""},{"$f":"IF('Backend Calcs Metric'!V102=\"\",\"\",(ROUND((CONVERT('Backend Calcs Metric'!V102,\"ft3\",\"m3\")),5)))","v":""},{"$f":"IF('Backend Calcs Metric'!W102=\"\",\"\",(ROUND((CONVERT('Backend Calcs Metric'!W102,\"ft3\",\"m3\")),5)))","v":{"$error":"#VALUE!"}},{"$f":"IF('Backend Calcs Metric'!X102=\"\",\"\",(ROUND((CONVERT('Backend Calcs Metric'!X102,\"ft3\",\"m3\")),5)))","v":""},{"$f":"IF('Backend Calcs Metric'!Y102=\"\",\"\",(ROUND((CONVERT('Backend Calcs Metric'!Y102,\"ft3\",\"m3\")),5)))","v":""},{"$f":"IF('Backend Calcs Metric'!Y102=\"\",\"\",(ROUND((CONVERT('Backend Calcs Metric'!Y102,\"ft3\",\"m3\")),2)))","v":""},{"$f":"IF('Backend Calcs Metric'!AA102=\"\",\"\",(ROUND((CONVERT('Backend Calcs Metric'!Z102,\"ft\",\"m\")),5)))","v":""}]
[{"$f":"IF('Backend Calcs Metric'!P103=\"\",\"\",(ROUND((CONVERT('Backend Calcs Metric'!P103,\"in\",\"mm\")),0)))","v":""},{"$f":"IF('Backend Calcs Metric'!S103=\"\",\"\",(ROUND((CONVERT('Backend Calcs Metric'!S103,\"ft3\",\"m3\")),5)))","v":""},{"$f":"IF('Backend Calcs Metric'!T103=\"\",\"\",(ROUND((CONVERT('Backend Calcs Metric'!T103,\"ft3\",\"m3\")),5)))","v":""},{"$f":"IF('Backend Calcs Metric'!U103=\"\",\"\",(ROUND((CONVERT('Backend Calcs Metric'!U103,\"ft3\",\"m3\")),5)))","v":""},{"$f":"IF('Backend Calcs Metric'!V103=\"\",\"\",(ROUND((CONVERT('Backend Calcs Metric'!V103,\"ft3\",\"m3\")),5)))","v":""},{"$f":"IF('Backend Calcs Metric'!W103=\"\",\"\",(ROUND((CONVERT('Backend Calcs Metric'!W103,\"ft3\",\"m3\")),5)))","v":{"$error":"#VALUE!"}},{"$f":"IF('Backend Calcs Metric'!X103=\"\",\"\",(ROUND((CONVERT('Backend Calcs Metric'!X103,\"ft3\",\"m3\")),5)))","v":""},{"$f":"IF('Backend Calcs Metric'!Y103=\"\",\"\",(ROUND((CONVERT('Backend Calcs Metric'!Y103,\"ft3\",\"m3\")),5)))","v":""},{"$f":"IF('Backend Calcs Metric'!Y103=\"\",\"\",(ROUND((CONVERT('Backend Calcs Metric'!Y103,\"ft3\",\"m3\")),2)))","v":""},{"$f":"IF('Backend Calcs Metric'!AA103=\"\",\"\",(ROUND((CONVERT('Backend Calcs Metric'!Z103,\"ft\",\"m\")),5)))","v":""}]
[{"$f":"IF('Backend Calcs Metric'!P104=\"\",\"\",(ROUND((CONVERT('Backend Calcs Metric'!P104,\"in\",\"mm\")),0)))","v":""},{"$f":"IF('Backend Calcs Metric'!S104=\"\",\"\",(ROUND((CONVERT('Backend Calcs Metric'!S104,\"ft3\",\"m3\")),5)))","v":""},{"$f":"IF('Backend Calcs Metric'!T104=\"\",\"\",(ROUND((CONVERT('Backend Calcs Metric'!T104,\"ft3\",\"m3\")),5)))","v":""},{"$f":"IF('Backend Calcs Metric'!U104=\"\",\"\",(ROUND((CONVERT('Backend Calcs Metric'!U104,\"ft3\",\"m3\")),5)))","v":""},{"$f":"IF('Backend Calcs Metric'!V104=\"\",\"\",(ROUND((CONVERT('Backend Calcs Metric'!V104,\"ft3\",\"m3\")),5)))","v":""},{"$f":"IF('Backend Calcs Metric'!W104=\"\",\"\",(ROUND((CONVERT('Backend Calcs Metric'!W104,\"ft3\",\"m3\")),5)))","v":{"$error":"#VALUE!"}},{"$f":"IF('Backend Calcs Metric'!X104=\"\",\"\",(ROUND((CONVERT('Backend Calcs Metric'!X104,\"ft3\",\"m3\")),5)))","v":""},{"$f":"IF('Backend Calcs Metric'!Y104=\"\",\"\",(ROUND((CONVERT('Backend Calcs Metric'!Y104,\"ft3\",\"m3\")),5)))","v":""},{"$f":"IF('Backend Calcs Metric'!Y104=\"\",\"\",(ROUND((CONVERT('Backend Calcs Metric'!Y104,\"ft3\",\"m3\")),2)))","v":""},{"$f":"IF('Backend Calcs Metric'!AA104=\"\",\"\",(ROUND((CONVERT('Backend Calcs Metric'!Z104,\"ft\",\"m\")),5)))","v":""}]
[{"$f":"IF('Backend Calcs Metric'!P105=\"\",\"\",(ROUND((CONVERT('Backend Calcs Metric'!P105,\"in\",\"mm\")),0)))","v":""},{"$f":"IF('Backend Calcs Metric'!S105=\"\",\"\",(ROUND((CONVERT('Backend Calcs Metric'!S105,\"ft3\",\"m3\")),5)))","v":""},{"$f":"IF('Backend Calcs Metric'!T105=\"\",\"\",(ROUND((CONVERT('Backend Calcs Metric'!T105,\"ft3\",\"m3\")),5)))","v":""},{"$f":"IF('Backend Calcs Metric'!U105=\"\",\"\",(ROUND((CONVERT('Backend Calcs Metric'!U105,\"ft3\",\"m3\")),5)))","v":""},{"$f":"IF('Backend Calcs Metric'!V105=\"\",\"\",(ROUND((CONVERT('Backend Calcs Metric'!V105,\"ft3\",\"m3\")),5)))","v":""},{"$f":"IF('Backend Calcs Metric'!W105=\"\",\"\",(ROUND((CONVERT('Backend Calcs Metric'!W105,\"ft3\",\"m3\")),5)))","v":{"$error":"#VALUE!"}},{"$f":"IF('Backend Calcs Metric'!X105=\"\",\"\",(ROUND((CONVERT('Backend Calcs Metric'!X105,\"ft3\",\"m3\")),5)))","v":""},{"$f":"IF('Backend Calcs Metric'!Y105=\"\",\"\",(ROUND((CONVERT('Backend Calcs Metric'!Y105,\"ft3\",\"m3\")),5)))","v":""},{"$f":"IF('Backend Calcs Metric'!Y105=\"\",\"\",(ROUND((CONVERT('Backend Calcs Metric'!Y105,\"ft3\",\"m3\")),2)))","v":""},{"$f":"IF('Backend Calcs Metric'!AA105=\"\",\"\",(ROUND((CONVERT('Backend Calcs Metric'!Z105,\"ft\",\"m\")),5)))","v":""}]
[{"$f":"IF('Backend Calcs Metric'!P106=\"\",\"\",(ROUND((CONVERT('Backend Calcs Metric'!P106,\"in\",\"mm\")),0)))","v":""},{"$f":"IF('Backend Calcs Metric'!S106=\"\",\"\",(ROUND((CONVERT('Backend Calcs Metric'!S106,\"ft3\",\"m3\")),5)))","v":""},{"$f":"IF('Backend Calcs Metric'!T106=\"\",\"\",(ROUND((CONVERT('Backend Calcs Metric'!T106,\"ft3\",\"m3\")),5)))","v":""},{"$f":"IF('Backend Calcs Metric'!U106=\"\",\"\",(ROUND((CONVERT('Backend Calcs Metric'!U106,\"ft3\",\"m3\")),5)))","v":""},{"$f":"IF('Backend Calcs Metric'!V106=\"\",\"\",(ROUND((CONVERT('Backend Calcs Metric'!V106,\"ft3\",\"m3\")),5)))","v":""},{"$f":"IF('Backend Calcs Metric'!W106=\"\",\"\",(ROUND((CONVERT('Backend Calcs Metric'!W106,\"ft3\",\"m3\")),5)))","v":{"$error":"#VALUE!"}},{"$f":"IF('Backend Calcs Metric'!X106=\"\",\"\",(ROUND((CONVERT('Backend Calcs Metric'!X106,\"ft3\",\"m3\")),5)))","v":""},{"$f":"IF('Backend Calcs Metric'!Y106=\"\",\"\",(ROUND((CONVERT('Backend Calcs Metric'!Y106,\"ft3\",\"m3\")),5)))","v":""},{"$f":"IF('Backend Calcs Metric'!Y106=\"\",\"\",(ROUND((CONVERT('Backend Calcs Metric'!Y106,\"ft3\",\"m3\")),2)))","v":""},{"$f":"IF('Backend Calcs Metric'!AA106=\"\",\"\",(ROUND((CONVERT('Backend Calcs Metric'!Z106,\"ft\",\"m\")),5)))","v":""}]
[{"$f":"IF('Backend Calcs Metric'!P107=\"\",\"\",(ROUND((CONVERT('Backend Calcs Metric'!P107,\"in\",\"mm\")),0)))","v":""},{"$f":"IF('Backend Calcs Metric'!S107=\"\",\"\",(ROUND((CONVERT('Backend Calcs Metric'!S107,\"ft3\",\"m3\")),5)))","v":""},{"$f":"IF('Backend Calcs Metric'!T107=\"\",\"\",(ROUND((CONVERT('Backend Calcs Metric'!T107,\"ft3\",\"m3\")),5)))","v":""},{"$f":"IF('Backend Calcs Metric'!U107=\"\",\"\",(ROUND((CONVERT('Backend Calcs Metric'!U107,\"ft3\",\"m3\")),5)))","v":""},{"$f":"IF('Backend Calcs Metric'!V107=\"\",\"\",(ROUND((CONVERT('Backend Calcs Metric'!V107,\"ft3\",\"m3\")),5)))","v":""},{"$f":"IF('Backend Calcs Metric'!W107=\"\",\"\",(ROUND((CONVERT('Backend Calcs Metric'!W107,\"ft3\",\"m3\")),5)))","v":{"$error":"#VALUE!"}},{"$f":"IF('Backend Calcs Metric'!X107=\"\",\"\",(ROUND((CONVERT('Backend Calcs Metric'!X107,\"ft3\",\"m3\")),5)))","v":""},{"$f":"IF('Backend Calcs Metric'!Y107=\"\",\"\",(ROUND((CONVERT('Backend Calcs Metric'!Y107,\"ft3\",\"m3\")),5)))","v":""},{"$f":"IF('Backend Calcs Metric'!Y107=\"\",\"\",(ROUND((CONVERT('Backend Calcs Metric'!Y107,\"ft3\",\"m3\")),2)))","v":""},{"$f":"IF('Backend Calcs Metric'!AA107=\"\",\"\",(ROUND((CONVERT('Backend Calcs Metric'!Z107,\"ft\",\"m\")),5)))","v":""}]
[{"$f":"IF('Backend Calcs Metric'!P108=\"\",\"\",(ROUND((CONVERT('Backend Calcs Metric'!P108,\"in\",\"mm\")),0)))","v":""},{"$f":"IF('Backend Calcs Metric'!S108=\"\",\"\",(ROUND((CONVERT('Backend Calcs Metric'!S108,\"ft3\",\"m3\")),5)))","v":""},{"$f":"IF('Backend Calcs Metric'!T108=\"\",\"\",(ROUND((CONVERT('Backend Calcs Metric'!T108,\"ft3\",\"m3\")),5)))","v":""},{"$f":"IF('Backend Calcs Metric'!U108=\"\",\"\",(ROUND((CONVERT('Backend Calcs Metric'!U108,\"ft3\",\"m3\")),5)))","v":""},{"$f":"IF('Backend Calcs Metric'!V108=\"\",\"\",(ROUND((CONVERT('Backend Calcs Metric'!V108,\"ft3\",\"m3\")),5)))","v":""},{"$f":"IF('Backend Calcs Metric'!W108=\"\",\"\",(ROUND((CONVERT('Backend Calcs Metric'!W108,\"ft3\",\"m3\")),5)))","v":{"$error":"#VALUE!"}},{"$f":"IF('Backend Calcs Metric'!X108=\"\",\"\",(ROUND((CONVERT('Backend Calcs Metric'!X108,\"ft3\",\"m3\")),5)))","v":""},{"$f":"IF('Backend Calcs Metric'!Y108=\"\",\"\",(ROUND((CONVERT('Backend Calcs Metric'!Y108,\"ft3\",\"m3\")),5)))","v":""},{"$f":"IF('Backend Calcs Metric'!Y108=\"\",\"\",(ROUND((CONVERT('Backend Calcs Metric'!Y108,\"ft3\",\"m3\")),2)))","v":""},{"$f":"IF('Backend Calcs Metric'!AA108=\"\",\"\",(ROUND((CONVERT('Backend Calcs Metric'!Z108,\"ft\",\"m\")),5)))","v":""}]
[{"$f":"IF('Backend Calcs Metric'!P109=\"\",\"\",(ROUND((CONVERT('Backend Calcs Metric'!P109,\"in\",\"mm\")),0)))","v":""},{"$f":"IF('Backend Calcs Metric'!S109=\"\",\"\",(ROUND((CONVERT('Backend Calcs Metric'!S109,\"ft3\",\"m3\")),5)))","v":""},{"$f":"IF('Backend Calcs Metric'!T109=\"\",\"\",(ROUND((CONVERT('Backend Calcs Metric'!T109,\"ft3\",\"m3\")),5)))","v":""},{"$f":"IF('Backend Calcs Metric'!U109=\"\",\"\",(ROUND((CONVERT('Backend Calcs Metric'!U109,\"ft3\",\"m3\")),5)))","v":""},{"$f":"IF('Backend Calcs Metric'!V109=\"\",\"\",(ROUND((CONVERT('Backend Calcs Metric'!V109,\"ft3\",\"m3\")),5)))","v":""},{"$f":"IF('Backend Calcs Metric'!W109=\"\",\"\",(ROUND((CONVERT('Backend Calcs Metric'!W109,\"ft3\",\"m3\")),5)))","v":{"$error":"#VALUE!"}},{"$f":"IF('Backend Calcs Metric'!X109=\"\",\"\",(ROUND((CONVERT('Backend Calcs Metric'!X109,\"ft3\",\"m3\")),5)))","v":""},{"$f":"IF('Backend Calcs Metric'!Y109=\"\",\"\",(ROUND((CONVERT('Backend Calcs Metric'!Y109,\"ft3\",\"m3\")),5)))","v":""},{"$f":"IF('Backend Calcs Metric'!Y109=\"\",\"\",(ROUND((CONVERT('Backend Calcs Metric'!Y109,\"ft3\",\"m3\")),2)))","v":""},{"$f":"IF('Backend Calcs Metric'!AA109=\"\",\"\",(ROUND((CONVERT('Backend Calcs Metric'!Z109,\"ft\",\"m\")),5)))","v":""}]
[{"$f":"IF('Backend Calcs Metric'!P110=\"\",\"\",(ROUND((CONVERT('Backend Calcs Metric'!P110,\"in\",\"mm\")),0)))","v":""},{"$f":"IF('Backend Calcs Metric'!S110=\"\",\"\",(ROUND((CONVERT('Backend Calcs Metric'!S110,\"ft3\",\"m3\")),5)))","v":""},{"$f":"IF('Backend Calcs Metric'!T110=\"\",\"\",(ROUND((CONVERT('Backend Calcs Metric'!T110,\"ft3\",\"m3\")),5)))","v":""},{"$f":"IF('Backend Calcs Metric'!U110=\"\",\"\",(ROUND((CONVERT('Backend Calcs Metric'!U110,\"ft3\",\"m3\")),5)))","v":""},{"$f":"IF('Backend Calcs Metric'!V110=\"\",\"\",(ROUND((CONVERT('Backend Calcs Metric'!V110,\"ft3\",\"m3\")),5)))","v":""},{"$f":"IF('Backend Calcs Metric'!W110=\"\",\"\",(ROUND((CONVERT('Backend Calcs Metric'!W110,\"ft3\",\"m3\")),5)))","v":{"$error":"#VALUE!"}},{"$f":"IF('Backend Calcs Metric'!X110=\"\",\"\",(ROUND((CONVERT('Backend Calcs Metric'!X110,\"ft3\",\"m3\")),5)))","v":""},{"$f":"IF('Backend Calcs Metric'!Y110=\"\",\"\",(ROUND((CONVERT('Backend Calcs Metric'!Y110,\"ft3\",\"m3\")),5)))","v":""},{"$f":"IF('Backend Calcs Metric'!Y110=\"\",\"\",(ROUND((CONVERT('Backend Calcs Metric'!Y110,\"ft3\",\"m3\")),2)))","v":""},{"$f":"IF('Backend Calcs Metric'!AA110=\"\",\"\",(ROUND((CONVERT('Backend Calcs Metric'!Z110,\"ft\",\"m\")),5)))","v":""}]
[{"$f":"IF('Backend Calcs Metric'!P111=\"\",\"\",(ROUND((CONVERT('Backend Calcs Metric'!P111,\"in\",\"mm\")),0)))","v":""},{"$f":"IF('Backend Calcs Metric'!S111=\"\",\"\",(ROUND((CONVERT('Backend Calcs Metric'!S111,\"ft3\",\"m3\")),5)))","v":""},{"$f":"IF('Backend Calcs Metric'!T111=\"\",\"\",(ROUND((CONVERT('Backend Calcs Metric'!T111,\"ft3\",\"m3\")),5)))","v":""},{"$f":"IF('Backend Calcs Metric'!U111=\"\",\"\",(ROUND((CONVERT('Backend Calcs Metric'!U111,\"ft3\",\"m3\")),5)))","v":""},{"$f":"IF('Backend Calcs Metric'!V111=\"\",\"\",(ROUND((CONVERT('Backend Calcs Metric'!V111,\"ft3\",\"m3\")),5)))","v":""},{"$f":"IF('Backend Calcs Metric'!W111=\"\",\"\",(ROUND((CONVERT('Backend Calcs Metric'!W111,\"ft3\",\"m3\")),5)))","v":{"$error":"#VALUE!"}},{"$f":"IF('Backend Calcs Metric'!X111=\"\",\"\",(ROUND((CONVERT('Backend Calcs Metric'!X111,\"ft3\",\"m3\")),5)))","v":""},{"$f":"IF('Backend Calcs Metric'!Y111=\"\",\"\",(ROUND((CONVERT('Backend Calcs Metric'!Y111,\"ft3\",\"m3\")),5)))","v":""},{"$f":"IF('Backend Calcs Metric'!Y111=\"\",\"\",(ROUND((CONVERT('Backend Calcs Metric'!Y111,\"ft3\",\"m3\")),2)))","v":""},{"$f":"IF('Backend Calcs Metric'!AA111=\"\",\"\",(ROUND((CONVERT('Backend Calcs Metric'!Z111,\"ft\",\"m\")),5)))","v":""}]
[{"$f":"IF('Backend Calcs Metric'!P112=\"\",\"\",(ROUND((CONVERT('Backend Calcs Metric'!P112,\"in\",\"mm\")),0)))","v":""},{"$f":"IF('Backend Calcs Metric'!S112=\"\",\"\",(ROUND((CONVERT('Backend Calcs Metric'!S112,\"ft3\",\"m3\")),5)))","v":""},{"$f":"IF('Backend Calcs Metric'!T112=\"\",\"\",(ROUND((CONVERT('Backend Calcs Metric'!T112,\"ft3\",\"m3\")),5)))","v":""},{"$f":"IF('Backend Calcs Metric'!U112=\"\",\"\",(ROUND((CONVERT('Backend Calcs Metric'!U112,\"ft3\",\"m3\")),5)))","v":""},{"$f":"IF('Backend Calcs Metric'!V112=\"\",\"\",(ROUND((CONVERT('Backend Calcs Metric'!V112,\"ft3\",\"m3\")),5)))","v":""},{"$f":"IF('Backend Calcs Metric'!W112=\"\",\"\",(ROUND((CONVERT('Backend Calcs Metric'!W112,\"ft3\",\"m3\")),5)))","v":{"$error":"#VALUE!"}},{"$f":"IF('Backend Calcs Metric'!X112=\"\",\"\",(ROUND((CONVERT('Backend Calcs Metric'!X112,\"ft3\",\"m3\")),5)))","v":""},{"$f":"IF('Backend Calcs Metric'!Y112=\"\",\"\",(ROUND((CONVERT('Backend Calcs Metric'!Y112,\"ft3\",\"m3\")),5)))","v":""},{"$f":"IF('Backend Calcs Metric'!Y112=\"\",\"\",(ROUND((CONVERT('Backend Calcs Metric'!Y112,\"ft3\",\"m3\")),2)))","v":""},{"$f":"IF('Backend Calcs Metric'!AA112=\"\",\"\",(ROUND((CONVERT('Backend Calcs Metric'!Z112,\"ft\",\"m\")),5)))","v":""}]
[{"$f":"IF('Backend Calcs Metric'!P113=\"\",\"\",(ROUND((CONVERT('Backend Calcs Metric'!P113,\"in\",\"mm\")),0)))","v":""},{"$f":"IF('Backend Calcs Metric'!S113=\"\",\"\",(ROUND((CONVERT('Backend Calcs Metric'!S113,\"ft3\",\"m3\")),5)))","v":""},{"$f":"IF('Backend Calcs Metric'!T113=\"\",\"\",(ROUND((CONVERT('Backend Calcs Metric'!T113,\"ft3\",\"m3\")),5)))","v":""},{"$f":"IF('Backend Calcs Metric'!U113=\"\",\"\",(ROUND((CONVERT('Backend Calcs Metric'!U113,\"ft3\",\"m3\")),5)))","v":""},{"$f":"IF('Backend Calcs Metric'!V113=\"\",\"\",(ROUND((CONVERT('Backend Calcs Metric'!V113,\"ft3\",\"m3\")),5)))","v":""},{"$f":"IF('Backend Calcs Metric'!W113=\"\",\"\",(ROUND((CONVERT('Backend Calcs Metric'!W113,\"ft3\",\"m3\")),5)))","v":{"$error":"#VALUE!"}},{"$f":"IF('Backend Calcs Metric'!X113=\"\",\"\",(ROUND((CONVERT('Backend Calcs Metric'!X113,\"ft3\",\"m3\")),5)))","v":""},{"$f":"IF('Backend Calcs Metric'!Y113=\"\",\"\",(ROUND((CONVERT('Backend Calcs Metric'!Y113,\"ft3\",\"m3\")),5)))","v":""},{"$f":"IF('Backend Calcs Metric'!Y113=\"\",\"\",(ROUND((CONVERT('Backend Calcs Metric'!Y113,\"ft3\",\"m3\")),2)))","v":""},{"$f":"IF('Backend Calcs Metric'!AA113=\"\",\"\",(ROUND((CONVERT('Backend Calcs Metric'!Z113,\"ft\",\"m\")),5)))","v":""}]
[{"$f":"IF('Backend Calcs Metric'!P114=\"\",\"\",(ROUND((CONVERT('Backend Calcs Metric'!P114,\"in\",\"mm\")),0)))","v":""},{"$f":"IF('Backend Calcs Metric'!S114=\"\",\"\",(ROUND((CONVERT('Backend Calcs Metric'!S114,\"ft3\",\"m3\")),5)))","v":""},{"$f":"IF('Backend Calcs Metric'!T114=\"\",\"\",(ROUND((CONVERT('Backend Calcs Metric'!T114,\"ft3\",\"m3\")),5)))","v":""},{"$f":"IF('Backend Calcs Metric'!U114=\"\",\"\",(ROUND((CONVERT('Backend Calcs Metric'!U114,\"ft3\",\"m3\")),5)))","v":""},{"$f":"IF('Backend Calcs Metric'!V114=\"\",\"\",(ROUND((CONVERT('Backend Calcs Metric'!V114,\"ft3\",\"m3\")),5)))","v":""},{"$f":"IF('Backend Calcs Metric'!W114=\"\",\"\",(ROUND((CONVERT('Backend Calcs Metric'!W114,\"ft3\",\"m3\")),5)))","v":{"$error":"#VALUE!"}},{"$f":"IF('Backend Calcs Metric'!X114=\"\",\"\",(ROUND((CONVERT('Backend Calcs Metric'!X114,\"ft3\",\"m3\")),5)))","v":""},{"$f":"IF('Backend Calcs Metric'!Y114=\"\",\"\",(ROUND((CONVERT('Backend Calcs Metric'!Y114,\"ft3\",\"m3\")),5)))","v":""},{"$f":"IF('Backend Calcs Metric'!Y114=\"\",\"\",(ROUND((CONVERT('Backend Calcs Metric'!Y114,\"ft3\",\"m3\")),2)))","v":""},{"$f":"IF('Backend Calcs Metric'!AA114=\"\",\"\",(ROUND((CONVERT('Backend Calcs Metric'!Z114,\"ft\",\"m\")),5)))","v":""}]
[{"$f":"IF('Backend Calcs Metric'!P115=\"\",\"\",(ROUND((CONVERT('Backend Calcs Metric'!P115,\"in\",\"mm\")),0)))","v":""},{"$f":"IF('Backend Calcs Metric'!S115=\"\",\"\",(ROUND((CONVERT('Backend Calcs Metric'!S115,\"ft3\",\"m3\")),5)))","v":""},{"$f":"IF('Backend Calcs Metric'!T115=\"\",\"\",(ROUND((CONVERT('Backend Calcs Metric'!T115,\"ft3\",\"m3\")),5)))","v":""},{"$f":"IF('Backend Calcs Metric'!U115=\"\",\"\",(ROUND((CONVERT('Backend Calcs Metric'!U115,\"ft3\",\"m3\")),5)))","v":""},{"$f":"IF('Backend Calcs Metric'!V115=\"\",\"\",(ROUND((CONVERT('Backend Calcs Metric'!V115,\"ft3\",\"m3\")),5)))","v":""},{"$f":"IF('Backend Calcs Metric'!W115=\"\",\"\",(ROUND((CONVERT('Backend Calcs Metric'!W115,\"ft3\",\"m3\")),5)))","v":{"$error":"#VALUE!"}},{"$f":"IF('Backend Calcs Metric'!X115=\"\",\"\",(ROUND((CONVERT('Backend Calcs Metric'!X115,\"ft3\",\"m3\")),5)))","v":""},{"$f":"IF('Backend Calcs Metric'!Y115=\"\",\"\",(ROUND((CONVERT('Backend Calcs Metric'!Y115,\"ft3\",\"m3\")),5)))","v":""},{"$f":"IF('Backend Calcs Metric'!Y115=\"\",\"\",(ROUND((CONVERT('Backend Calcs Metric'!Y115,\"ft3\",\"m3\")),2)))","v":""},{"$f":"IF('Backend Calcs Metric'!AA115=\"\",\"\",(ROUND((CONVERT('Backend Calcs Metric'!Z115,\"ft\",\"m\")),5)))","v":""}]
[{"$f":"IF('Backend Calcs Metric'!P116=\"\",\"\",(ROUND((CONVERT('Backend Calcs Metric'!P116,\"in\",\"mm\")),0)))","v":""},{"$f":"IF('Backend Calcs Metric'!S116=\"\",\"\",(ROUND((CONVERT('Backend Calcs Metric'!S116,\"ft3\",\"m3\")),5)))","v":""},{"$f":"IF('Backend Calcs Metric'!T116=\"\",\"\",(ROUND((CONVERT('Backend Calcs Metric'!T116,\"ft3\",\"m3\")),5)))","v":""},{"$f":"IF('Backend Calcs Metric'!U116=\"\",\"\",(ROUND((CONVERT('Backend Calcs Metric'!U116,\"ft3\",\"m3\")),5)))","v":""},{"$f":"IF('Backend Calcs Metric'!V116=\"\",\"\",(ROUND((CONVERT('Backend Calcs Metric'!V116,\"ft3\",\"m3\")),5)))","v":""},{"$f":"IF('Backend Calcs Metric'!W116=\"\",\"\",(ROUND((CONVERT('Backend Calcs Metric'!W116,\"ft3\",\"m3\")),5)))","v":{"$error":"#VALUE!"}},{"$f":"IF('Backend Calcs Metric'!X116=\"\",\"\",(ROUND((CONVERT('Backend Calcs Metric'!X116,\"ft3\",\"m3\")),5)))","v":""},{"$f":"IF('Backend Calcs Metric'!Y116=\"\",\"\",(ROUND((CONVERT('Backend Calcs Metric'!Y116,\"ft3\",\"m3\")),5)))","v":""},{"$f":"IF('Backend Calcs Metric'!Y116=\"\",\"\",(ROUND((CONVERT('Backend Calcs Metric'!Y116,\"ft3\",\"m3\")),2)))","v":""},{"$f":"IF('Backend Calcs Metric'!AA116=\"\",\"\",(ROUND((CONVERT('Backend Calcs Metric'!Z116,\"ft\",\"m\")),5)))","v":""}]
[{"$f":"IF('Backend Calcs Metric'!P117=\"\",\"\",(ROUND((CONVERT('Backend Calcs Metric'!P117,\"in\",\"mm\")),0)))","v":""},{"$f":"IF('Backend Calcs Metric'!S117=\"\",\"\",(ROUND((CONVERT('Backend Calcs Metric'!S117,\"ft3\",\"m3\")),5)))","v":""},{"$f":"IF('Backend Calcs Metric'!T117=\"\",\"\",(ROUND((CONVERT('Backend Calcs Metric'!T117,\"ft3\",\"m3\")),5)))","v":""},{"$f":"IF('Backend Calcs Metric'!U117=\"\",\"\",(ROUND((CONVERT('Backend Calcs Metric'!U117,\"ft3\",\"m3\")),5)))","v":""},{"$f":"IF('Backend Calcs Metric'!V117=\"\",\"\",(ROUND((CONVERT('Backend Calcs Metric'!V117,\"ft3\",\"m3\")),5)))","v":""},{"$f":"IF('Backend Calcs Metric'!W117=\"\",\"\",(ROUND((CONVERT('Backend Calcs Metric'!W117,\"ft3\",\"m3\")),5)))","v":{"$error":"#VALUE!"}},{"$f":"IF('Backend Calcs Metric'!X117=\"\",\"\",(ROUND((CONVERT('Backend Calcs Metric'!X117,\"ft3\",\"m3\")),5)))","v":""},{"$f":"IF('Backend Calcs Metric'!Y117=\"\",\"\",(ROUND((CONVERT('Backend Calcs Metric'!Y117,\"ft3\",\"m3\")),5)))","v":""},{"$f":"IF('Backend Calcs Metric'!Y117=\"\",\"\",(ROUND((CONVERT('Backend Calcs Metric'!Y117,\"ft3\",\"m3\")),2)))","v":""},{"$f":"IF('Backend Calcs Metric'!AA117=\"\",\"\",(ROUND((CONVERT('Backend Calcs Metric'!Z117,\"ft\",\"m\")),5)))","v":""}]
[{"$f":"IF('Backend Calcs Metric'!P118=\"\",\"\",(ROUND((CONVERT('Backend Calcs Metric'!P118,\"in\",\"mm\")),0)))","v":""},{"$f":"IF('Backend Calcs Metric'!S118=\"\",\"\",(ROUND((CONVERT('Backend Calcs Metric'!S118,\"ft3\",\"m3\")),5)))","v":""},{"$f":"IF('Backend Calcs Metric'!T118=\"\",\"\",(ROUND((CONVERT('Backend Calcs Metric'!T118,\"ft3\",\"m3\")),5)))","v":""},{"$f":"IF('Backend Calcs Metric'!U118=\"\",\"\",(ROUND((CONVERT('Backend Calcs Metric'!U118,\"ft3\",\"m3\")),5)))","v":""},{"$f":"IF('Backend Calcs Metric'!V118=\"\",\"\",(ROUND((CONVERT('Backend Calcs Metric'!V118,\"ft3\",\"m3\")),5)))","v":""},{"$f":"IF('Backend Calcs Metric'!W118=\"\",\"\",(ROUND((CONVERT('Backend Calcs Metric'!W118,\"ft3\",\"m3\")),5)))","v":{"$error":"#VALUE!"}},{"$f":"IF('Backend Calcs Metric'!X118=\"\",\"\",(ROUND((CONVERT('Backend Calcs Metric'!X118,\"ft3\",\"m3\")),5)))","v":""},{"$f":"IF('Backend Calcs Metric'!Y118=\"\",\"\",(ROUND((CONVERT('Backend Calcs Metric'!Y118,\"ft3\",\"m3\")),5)))","v":""},{"$f":"IF('Backend Calcs Metric'!Y118=\"\",\"\",(ROUND((CONVERT('Backend Calcs Metric'!Y118,\"ft3\",\"m3\")),2)))","v":""},{"$f":"IF('Backend Calcs Metric'!AA118=\"\",\"\",(ROUND((CONVERT('Backend Calcs Metric'!Z118,\"ft\",\"m\")),5)))","v":""}]
[{"$f":"IF('Backend Calcs Metric'!P119=\"\",\"\",(ROUND((CONVERT('Backend Calcs Metric'!P119,\"in\",\"mm\")),0)))","v":""},{"$f":"IF('Backend Calcs Metric'!S119=\"\",\"\",(ROUND((CONVERT('Backend Calcs Metric'!S119,\"ft3\",\"m3\")),5)))","v":""},{"$f":"IF('Backend Calcs Metric'!T119=\"\",\"\",(ROUND((CONVERT('Backend Calcs Metric'!T119,\"ft3\",\"m3\")),5)))","v":""},{"$f":"IF('Backend Calcs Metric'!U119=\"\",\"\",(ROUND((CONVERT('Backend Calcs Metric'!U119,\"ft3\",\"m3\")),5)))","v":""},{"$f":"IF('Backend Calcs Metric'!V119=\"\",\"\",(ROUND((CONVERT('Backend Calcs Metric'!V119,\"ft3\",\"m3\")),5)))","v":""},{"$f":"IF('Backend Calcs Metric'!W119=\"\",\"\",(ROUND((CONVERT('Backend Calcs Metric'!W119,\"ft3\",\"m3\")),5)))","v":{"$error":"#VALUE!"}},{"$f":"IF('Backend Calcs Metric'!X119=\"\",\"\",(ROUND((CONVERT('Backend Calcs Metric'!X119,\"ft3\",\"m3\")),5)))","v":""},{"$f":"IF('Backend Calcs Metric'!Y119=\"\",\"\",(ROUND((CONVERT('Backend Calcs Metric'!Y119,\"ft3\",\"m3\")),5)))","v":""},{"$f":"IF('Backend Calcs Metric'!Y119=\"\",\"\",(ROUND((CONVERT('Backend Calcs Metric'!Y119,\"ft3\",\"m3\")),2)))","v":""},{"$f":"IF('Backend Calcs Metric'!AA119=\"\",\"\",(ROUND((CONVERT('Backend Calcs Metric'!Z119,\"ft\",\"m\")),5)))","v":""}]
[{"$f":"IF('Backend Calcs Metric'!P120=\"\",\"\",(ROUND((CONVERT('Backend Calcs Metric'!P120,\"in\",\"mm\")),0)))","v":""},{"$f":"IF('Backend Calcs Metric'!S120=\"\",\"\",(ROUND((CONVERT('Backend Calcs Metric'!S120,\"ft3\",\"m3\")),5)))","v":""},{"$f":"IF('Backend Calcs Metric'!T120=\"\",\"\",(ROUND((CONVERT('Backend Calcs Metric'!T120,\"ft3\",\"m3\")),5)))","v":""},{"$f":"IF('Backend Calcs Metric'!U120=\"\",\"\",(ROUND((CONVERT('Backend Calcs Metric'!U120,\"ft3\",\"m3\")),5)))","v":""},{"$f":"IF('Backend Calcs Metric'!V120=\"\",\"\",(ROUND((CONVERT('Backend Calcs Metric'!V120,\"ft3\",\"m3\")),5)))","v":""},{"$f":"IF('Backend Calcs Metric'!W120=\"\",\"\",(ROUND((CONVERT('Backend Calcs Metric'!W120,\"ft3\",\"m3\")),5)))","v":{"$error":"#VALUE!"}},{"$f":"IF('Backend Calcs Metric'!X120=\"\",\"\",(ROUND((CONVERT('Backend Calcs Metric'!X120,\"ft3\",\"m3\")),5)))","v":""},{"$f":"IF('Backend Calcs Metric'!Y120=\"\",\"\",(ROUND((CONVERT('Backend Calcs Metric'!Y120,\"ft3\",\"m3\")),5)))","v":""},{"$f":"IF('Backend Calcs Metric'!Y120=\"\",\"\",(ROUND((CONVERT('Backend Calcs Metric'!Y120,\"ft3\",\"m3\")),2)))","v":""},{"$f":"IF('Backend Calcs Metric'!AA120=\"\",\"\",(ROUND((CONVERT('Backend Calcs Metric'!Z120,\"ft\",\"m\")),5)))","v":""}]
[{"$f":"IF('Backend Calcs Metric'!P121=\"\",\"\",(ROUND((CONVERT('Backend Calcs Metric'!P121,\"in\",\"mm\")),0)))","v":""},{"$f":"IF('Backend Calcs Metric'!S121=\"\",\"\",(ROUND((CONVERT('Backend Calcs Metric'!S121,\"ft3\",\"m3\")),5)))","v":""},{"$f":"IF('Backend Calcs Metric'!T121=\"\",\"\",(ROUND((CONVERT('Backend Calcs Metric'!T121,\"ft3\",\"m3\")),5)))","v":""},{"$f":"IF('Backend Calcs Metric'!U121=\"\",\"\",(ROUND((CONVERT('Backend Calcs Metric'!U121,\"ft3\",\"m3\")),5)))","v":""},{"$f":"IF('Backend Calcs Metric'!V121=\"\",\"\",(ROUND((CONVERT('Backend Calcs Metric'!V121,\"ft3\",\"m3\")),5)))","v":""},{"$f":"IF('Backend Calcs Metric'!W121=\"\",\"\",(ROUND((CONVERT('Backend Calcs Metric'!W121,\"ft3\",\"m3\")),5)))","v":{"$error":"#VALUE!"}},{"$f":"IF('Backend Calcs Metric'!X121=\"\",\"\",(ROUND((CONVERT('Backend Calcs Metric'!X121,\"ft3\",\"m3\")),5)))","v":""},{"$f":"IF('Backend Calcs Metric'!Y121=\"\",\"\",(ROUND((CONVERT('Backend Calcs Metric'!Y121,\"ft3\",\"m3\")),5)))","v":""},{"$f":"IF('Backend Calcs Metric'!Y121=\"\",\"\",(ROUND((CONVERT('Backend Calcs Metric'!Y121,\"ft3\",\"m3\")),2)))","v":""},{"$f":"IF('Backend Calcs Metric'!AA121=\"\",\"\",(ROUND((CONVERT('Backend Calcs Metric'!Z121,\"ft\",\"m\")),5)))","v":""}]
[{"$f":"IF('Backend Calcs Metric'!P122=\"\",\"\",(ROUND((CONVERT('Backend Calcs Metric'!P122,\"in\",\"mm\")),0)))","v":""},{"$f":"IF('Backend Calcs Metric'!S122=\"\",\"\",(ROUND((CONVERT('Backend Calcs Metric'!S122,\"ft3\",\"m3\")),5)))","v":""},{"$f":"IF('Backend Calcs Metric'!T122=\"\",\"\",(ROUND((CONVERT('Backend Calcs Metric'!T122,\"ft3\",\"m3\")),5)))","v":""},{"$f":"IF('Backend Calcs Metric'!U122=\"\",\"\",(ROUND((CONVERT('Backend Calcs Metric'!U122,\"ft3\",\"m3\")),5)))","v":""},{"$f":"IF('Backend Calcs Metric'!V122=\"\",\"\",(ROUND((CONVERT('Backend Calcs Metric'!V122,\"ft3\",\"m3\")),5)))","v":""},{"$f":"IF('Backend Calcs Metric'!W122=\"\",\"\",(ROUND((CONVERT('Backend Calcs Metric'!W122,\"ft3\",\"m3\")),5)))","v":{"$error":"#VALUE!"}},{"$f":"IF('Backend Calcs Metric'!X122=\"\",\"\",(ROUND((CONVERT('Backend Calcs Metric'!X122,\"ft3\",\"m3\")),5)))","v":""},{"$f":"IF('Backend Calcs Metric'!Y122=\"\",\"\",(ROUND((CONVERT('Backend Calcs Metric'!Y122,\"ft3\",\"m3\")),5)))","v":""},{"$f":"IF('Backend Calcs Metric'!Y122=\"\",\"\",(ROUND((CONVERT('Backend Calcs Metric'!Y122,\"ft3\",\"m3\")),2)))","v":""},{"$f":"IF('Backend Calcs Metric'!AA122=\"\",\"\",(ROUND((CONVERT('Backend Calcs Metric'!Z122,\"ft\",\"m\")),5)))","v":""}]
[{"$f":"IF('Backend Calcs Metric'!P123=\"\",\"\",(ROUND((CONVERT('Backend Calcs Metric'!P123,\"in\",\"mm\")),0)))","v":""},{"$f":"IF('Backend Calcs Metric'!S123=\"\",\"\",(ROUND((CONVERT('Backend Calcs Metric'!S123,\"ft3\",\"m3\")),5)))","v":""},{"$f":"IF('Backend Calcs Metric'!T123=\"\",\"\",(ROUND((CONVERT('Backend Calcs Metric'!T123,\"ft3\",\"m3\")),5)))","v":""},{"$f":"IF('Backend Calcs Metric'!U123=\"\",\"\",(ROUND((CONVERT('Backend Calcs Metric'!U123,\"ft3\",\"m3\")),5)))","v":""},{"$f":"IF('Backend Calcs Metric'!V123=\"\",\"\",(ROUND((CONVERT('Backend Calcs Metric'!V123,\"ft3\",\"m3\")),5)))","v":""},{"$f":"IF('Backend Calcs Metric'!W123=\"\",\"\",(ROUND((CONVERT('Backend Calcs Metric'!W123,\"ft3\",\"m3\")),5)))","v":{"$error":"#VALUE!"}},{"$f":"IF('Backend Calcs Metric'!X123=\"\",\"\",(ROUND((CONVERT('Backend Calcs Metric'!X123,\"ft3\",\"m3\")),5)))","v":""},{"$f":"IF('Backend Calcs Metric'!Y123=\"\",\"\",(ROUND((CONVERT('Backend Calcs Metric'!Y123,\"ft3\",\"m3\")),5)))","v":""},{"$f":"IF('Backend Calcs Metric'!Y123=\"\",\"\",(ROUND((CONVERT('Backend Calcs Metric'!Y123,\"ft3\",\"m3\")),2)))","v":""},{"$f":"IF('Backend Calcs Metric'!AA123=\"\",\"\",(ROUND((CONVERT('Backend Calcs Metric'!Z123,\"ft\",\"m\")),5)))","v":""}]
[{"$f":"IF('Backend Calcs Metric'!P124=\"\",\"\",(ROUND((CONVERT('Backend Calcs Metric'!P124,\"in\",\"mm\")),0)))","v":""},{"$f":"IF('Backend Calcs Metric'!S124=\"\",\"\",(ROUND((CONVERT('Backend Calcs Metric'!S124,\"ft3\",\"m3\")),5)))","v":""},{"$f":"IF('Backend Calcs Metric'!T124=\"\",\"\",(ROUND((CONVERT('Backend Calcs Metric'!T124,\"ft3\",\"m3\")),5)))","v":""},{"$f":"IF('Backend Calcs Metric'!U124=\"\",\"\",(ROUND((CONVERT('Backend Calcs Metric'!U124,\"ft3\",\"m3\")),5)))","v":""},{"$f":"IF('Backend Calcs Metric'!V124=\"\",\"\",(ROUND((CONVERT('Backend Calcs Metric'!V124,\"ft3\",\"m3\")),5)))","v":""},{"$f":"IF('Backend Calcs Metric'!W124=\"\",\"\",(ROUND((CONVERT('Backend Calcs Metric'!W124,\"ft3\",\"m3\")),5)))","v":{"$error":"#VALUE!"}},{"$f":"IF('Backend Calcs Metric'!X124=\"\",\"\",(ROUND((CONVERT('Backend Calcs Metric'!X124,\"ft3\",\"m3\")),5)))","v":""},{"$f":"IF('Backend Calcs Metric'!Y124=\"\",\"\",(ROUND((CONVERT('Backend Calcs Metric'!Y124,\"ft3\",\"m3\")),5)))","v":""},{"$f":"IF('Backend Calcs Metric'!Y124=\"\",\"\",(ROUND((CONVERT('Backend Calcs Metric'!Y124,\"ft3\",\"m3\")),2)))","v":""},{"$f":"IF('Backend Calcs Metric'!AA124=\"\",\"\",(ROUND((CONVERT('Backend Calcs Metric'!Z124,\"ft\",\"m\")),5)))","v":""}]
[{"$f":"IF('Backend Calcs Metric'!P125=\"\",\"\",(ROUND((CONVERT('Backend Calcs Metric'!P125,\"in\",\"mm\")),0)))","v":""},{"$f":"IF('Backend Calcs Metric'!S125=\"\",\"\",(ROUND((CONVERT('Backend Calcs Metric'!S125,\"ft3\",\"m3\")),5)))","v":""},{"$f":"IF('Backend Calcs Metric'!T125=\"\",\"\",(ROUND((CONVERT('Backend Calcs Metric'!T125,\"ft3\",\"m3\")),5)))","v":""},{"$f":"IF('Backend Calcs Metric'!U125=\"\",\"\",(ROUND((CONVERT('Backend Calcs Metric'!U125,\"ft3\",\"m3\")),5)))","v":""},{"$f":"IF('Backend Calcs Metric'!V125=\"\",\"\",(ROUND((CONVERT('Backend Calcs Metric'!V125,\"ft3\",\"m3\")),5)))","v":""},{"$f":"IF('Backend Calcs Metric'!W125=\"\",\"\",(ROUND((CONVERT('Backend Calcs Metric'!W125,\"ft3\",\"m3\")),5)))","v":{"$error":"#VALUE!"}},{"$f":"IF('Backend Calcs Metric'!X125=\"\",\"\",(ROUND((CONVERT('Backend Calcs Metric'!X125,\"ft3\",\"m3\")),5)))","v":""},{"$f":"IF('Backend Calcs Metric'!Y125=\"\",\"\",(ROUND((CONVERT('Backend Calcs Metric'!Y125,\"ft3\",\"m3\")),5)))","v":""},{"$f":"IF('Backend Calcs Metric'!Y125=\"\",\"\",(ROUND((CONVERT('Backend Calcs Metric'!Y125,\"ft3\",\"m3\")),2)))","v":""},{"$f":"IF('Backend Calcs Metric'!AA125=\"\",\"\",(ROUND((CONVERT('Backend Calcs Metric'!Z125,\"ft\",\"m\")),5)))","v":""}]
[{"$f":"IF('Backend Calcs Metric'!P126=\"\",\"\",(ROUND((CONVERT('Backend Calcs Metric'!P126,\"in\",\"mm\")),0)))","v":""},{"$f":"IF('Backend Calcs Metric'!S126=\"\",\"\",(ROUND((CONVERT('Backend Calcs Metric'!S126,\"ft3\",\"m3\")),5)))","v":""},{"$f":"IF('Backend Calcs Metric'!T126=\"\",\"\",(ROUND((CONVERT('Backend Calcs Metric'!T126,\"ft3\",\"m3\")),5)))","v":""},{"$f":"IF('Backend Calcs Metric'!U126=\"\",\"\",(ROUND((CONVERT('Backend Calcs Metric'!U126,\"ft3\",\"m3\")),5)))","v":""},{"$f":"IF('Backend Calcs Metric'!V126=\"\",\"\",(ROUND((CONVERT('Backend Calcs Metric'!V126,\"ft3\",\"m3\")),5)))","v":""},{"$f":"IF('Backend Calcs Metric'!W126=\"\",\"\",(ROUND((CONVERT('Backend Calcs Metric'!W126,\"ft3\",\"m3\")),5)))","v":{"$error":"#VALUE!"}},{"$f":"IF('Backend Calcs Metric'!X126=\"\",\"\",(ROUND((CONVERT('Backend Calcs Metric'!X126,\"ft3\",\"m3\")),5)))","v":""},{"$f":"IF('Backend Calcs Metric'!Y126=\"\",\"\",(ROUND((CONVERT('Backend Calcs Metric'!Y126,\"ft3\",\"m3\")),5)))","v":""},{"$f":"IF('Backend Calcs Metric'!Y126=\"\",\"\",(ROUND((CONVERT('Backend Calcs Metric'!Y126,\"ft3\",\"m3\")),2)))","v":""},{"$f":"IF('Backend Calcs Metric'!AA126=\"\",\"\",(ROUND((CONVERT('Backend Calcs Metric'!Z126,\"ft\",\"m\")),5)))","v":""}]
[{"$f":"IF('Backend Calcs Metric'!P127=\"\",\"\",(ROUND((CONVERT('Backend Calcs Metric'!P127,\"in\",\"mm\")),0)))","v":""},{"$f":"IF('Backend Calcs Metric'!S127=\"\",\"\",(ROUND((CONVERT('Backend Calcs Metric'!S127,\"ft3\",\"m3\")),5)))","v":""},{"$f":"IF('Backend Calcs Metric'!T127=\"\",\"\",(ROUND((CONVERT('Backend Calcs Metric'!T127,\"ft3\",\"m3\")),5)))","v":""},{"$f":"IF('Backend Calcs Metric'!U127=\"\",\"\",(ROUND((CONVERT('Backend Calcs Metric'!U127,\"ft3\",\"m3\")),5)))","v":""},{"$f":"IF('Backend Calcs Metric'!V127=\"\",\"\",(ROUND((CONVERT('Backend Calcs Metric'!V127,\"ft3\",\"m3\")),5)))","v":""},{"$f":"IF('Backend Calcs Metric'!W127=\"\",\"\",(ROUND((CONVERT('Backend Calcs Metric'!W127,\"ft3\",\"m3\")),5)))","v":{"$error":"#VALUE!"}},{"$f":"IF('Backend Calcs Metric'!X127=\"\",\"\",(ROUND((CONVERT('Backend Calcs Metric'!X127,\"ft3\",\"m3\")),5)))","v":""},{"$f":"IF('Backend Calcs Metric'!Y127=\"\",\"\",(ROUND((CONVERT('Backend Calcs Metric'!Y127,\"ft3\",\"m3\")),5)))","v":""},{"$f":"IF('Backend Calcs Metric'!Y127=\"\",\"\",(ROUND((CONVERT('Backend Calcs Metric'!Y127,\"ft3\",\"m3\")),2)))","v":""},{"$f":"IF('Backend Calcs Metric'!AA127=\"\",\"\",(ROUND((CONVERT('Backend Calcs Metric'!Z127,\"ft\",\"m\")),5)))","v":""}]
[{"$f":"IF('Backend Calcs Metric'!P128=\"\",\"\",(ROUND((CONVERT('Backend Calcs Metric'!P128,\"in\",\"mm\")),0)))","v":""},{"$f":"IF('Backend Calcs Metric'!S128=\"\",\"\",(ROUND((CONVERT('Backend Calcs Metric'!S128,\"ft3\",\"m3\")),5)))","v":""},{"$f":"IF('Backend Calcs Metric'!T128=\"\",\"\",(ROUND((CONVERT('Backend Calcs Metric'!T128,\"ft3\",\"m3\")),5)))","v":""},{"$f":"IF('Backend Calcs Metric'!U128=\"\",\"\",(ROUND((CONVERT('Backend Calcs Metric'!U128,\"ft3\",\"m3\")),5)))","v":""},{"$f":"IF('Backend Calcs Metric'!V128=\"\",\"\",(ROUND((CONVERT('Backend Calcs Metric'!V128,\"ft3\",\"m3\")),5)))","v":""},{"$f":"IF('Backend Calcs Metric'!W128=\"\",\"\",(ROUND((CONVERT('Backend Calcs Metric'!W128,\"ft3\",\"m3\")),5)))","v":{"$error":"#VALUE!"}},{"$f":"IF('Backend Calcs Metric'!X128=\"\",\"\",(ROUND((CONVERT('Backend Calcs Metric'!X128,\"ft3\",\"m3\")),5)))","v":""},{"$f":"IF('Backend Calcs Metric'!Y128=\"\",\"\",(ROUND((CONVERT('Backend Calcs Metric'!Y128,\"ft3\",\"m3\")),5)))","v":""},{"$f":"IF('Backend Calcs Metric'!Y128=\"\",\"\",(ROUND((CONVERT('Backend Calcs Metric'!Y128,\"ft3\",\"m3\")),2)))","v":""},{"$f":"IF('Backend Calcs Metric'!AA128=\"\",\"\",(ROUND((CONVERT('Backend Calcs Metric'!Z128,\"ft\",\"m\")),5)))","v":""}]
[{"$f":"IF('Backend Calcs Metric'!P129=\"\",\"\",(ROUND((CONVERT('Backend Calcs Metric'!P129,\"in\",\"mm\")),0)))","v":""},{"$f":"IF('Backend Calcs Metric'!S129=\"\",\"\",(ROUND((CONVERT('Backend Calcs Metric'!S129,\"ft3\",\"m3\")),5)))","v":""},{"$f":"IF('Backend Calcs Metric'!T129=\"\",\"\",(ROUND((CONVERT('Backend Calcs Metric'!T129,\"ft3\",\"m3\")),5)))","v":""},{"$f":"IF('Backend Calcs Metric'!U129=\"\",\"\",(ROUND((CONVERT('Backend Calcs Metric'!U129,\"ft3\",\"m3\")),5)))","v":""},{"$f":"IF('Backend Calcs Metric'!V129=\"\",\"\",(ROUND((CONVERT('Backend Calcs Metric'!V129,\"ft3\",\"m3\")),5)))","v":""},{"$f":"IF('Backend Calcs Metric'!W129=\"\",\"\",(ROUND((CONVERT('Backend Calcs Metric'!W129,\"ft3\",\"m3\")),5)))","v":{"$error":"#VALUE!"}},{"$f":"IF('Backend Calcs Metric'!X129=\"\",\"\",(ROUND((CONVERT('Backend Calcs Metric'!X129,\"ft3\",\"m3\")),5)))","v":""},{"$f":"IF('Backend Calcs Metric'!Y129=\"\",\"\",(ROUND((CONVERT('Backend Calcs Metric'!Y129,\"ft3\",\"m3\")),5)))","v":""},{"$f":"IF('Backend Calcs Metric'!Y129=\"\",\"\",(ROUND((CONVERT('Backend Calcs Metric'!Y129,\"ft3\",\"m3\")),2)))","v":""},{"$f":"IF('Backend Calcs Metric'!AA129=\"\",\"\",(ROUND((CONVERT('Backend Calcs Metric'!Z129,\"ft\",\"m\")),5)))","v":""}]
[{"$f":"IF('Backend Calcs Metric'!P130=\"\",\"\",(ROUND((CONVERT('Backend Calcs Metric'!P130,\"in\",\"mm\")),0)))","v":""},{"$f":"IF('Backend Calcs Metric'!S130=\"\",\"\",(ROUND((CONVERT('Backend Calcs Metric'!S130,\"ft3\",\"m3\")),5)))","v":""},{"$f":"IF('Backend Calcs Metric'!T130=\"\",\"\",(ROUND((CONVERT('Backend Calcs Metric'!T130,\"ft3\",\"m3\")),5)))","v":""},{"$f":"IF('Backend Calcs Metric'!U130=\"\",\"\",(ROUND((CONVERT('Backend Calcs Metric'!U130,\"ft3\",\"m3\")),5)))","v":""},{"$f":"IF('Backend Calcs Metric'!V130=\"\",\"\",(ROUND((CONVERT('Backend Calcs Metric'!V130,\"ft3\",\"m3\")),5)))","v":""},{"$f":"IF('Backend Calcs Metric'!W130=\"\",\"\",(ROUND((CONVERT('Backend Calcs Metric'!W130,\"ft3\",\"m3\")),5)))","v":{"$error":"#VALUE!"}},{"$f":"IF('Backend Calcs Metric'!X130=\"\",\"\",(ROUND((CONVERT('Backend Calcs Metric'!X130,\"ft3\",\"m3\")),5)))","v":""},{"$f":"IF('Backend Calcs Metric'!Y130=\"\",\"\",(ROUND((CONVERT('Backend Calcs Metric'!Y130,\"ft3\",\"m3\")),5)))","v":""},{"$f":"IF('Backend Calcs Metric'!Y130=\"\",\"\",(ROUND((CONVERT('Backend Calcs Metric'!Y130,\"ft3\",\"m3\")),2)))","v":""},{"$f":"IF('Backend Calcs Metric'!AA130=\"\",\"\",(ROUND((CONVERT('Backend Calcs Metric'!Z130,\"ft\",\"m\")),5)))","v":""}]
[{"$f":"IF('Backend Calcs Metric'!P131=\"\",\"\",(ROUND((CONVERT('Backend Calcs Metric'!P131,\"in\",\"mm\")),0)))","v":""},{"$f":"IF('Backend Calcs Metric'!S131=\"\",\"\",(ROUND((CONVERT('Backend Calcs Metric'!S131,\"ft3\",\"m3\")),5)))","v":""},{"$f":"IF('Backend Calcs Metric'!T131=\"\",\"\",(ROUND((CONVERT('Backend Calcs Metric'!T131,\"ft3\",\"m3\")),5)))","v":""},{"$f":"IF('Backend Calcs Metric'!U131=\"\",\"\",(ROUND((CONVERT('Backend Calcs Metric'!U131,\"ft3\",\"m3\")),5)))","v":""},{"$f":"IF('Backend Calcs Metric'!V131=\"\",\"\",(ROUND((CONVERT('Backend Calcs Metric'!V131,\"ft3\",\"m3\")),5)))","v":""},{"$f":"IF('Backend Calcs Metric'!W131=\"\",\"\",(ROUND((CONVERT('Backend Calcs Metric'!W131,\"ft3\",\"m3\")),5)))","v":{"$error":"#VALUE!"}},{"$f":"IF('Backend Calcs Metric'!X131=\"\",\"\",(ROUND((CONVERT('Backend Calcs Metric'!X131,\"ft3\",\"m3\")),5)))","v":""},{"$f":"IF('Backend Calcs Metric'!Y131=\"\",\"\",(ROUND((CONVERT('Backend Calcs Metric'!Y131,\"ft3\",\"m3\")),5)))","v":""},{"$f":"IF('Backend Calcs Metric'!Y131=\"\",\"\",(ROUND((CONVERT('Backend Calcs Metric'!Y131,\"ft3\",\"m3\")),2)))","v":""},{"$f":"IF('Backend Calcs Metric'!AA131=\"\",\"\",(ROUND((CONVERT('Backend Calcs Metric'!Z131,\"ft\",\"m\")),5)))","v":""}]
[{"$f":"IF('Backend Calcs Metric'!P132=\"\",\"\",(ROUND((CONVERT('Backend Calcs Metric'!P132,\"in\",\"mm\")),0)))","v":""},{"$f":"IF('Backend Calcs Metric'!S132=\"\",\"\",(ROUND((CONVERT('Backend Calcs Metric'!S132,\"ft3\",\"m3\")),5)))","v":""},{"$f":"IF('Backend Calcs Metric'!T132=\"\",\"\",(ROUND((CONVERT('Backend Calcs Metric'!T132,\"ft3\",\"m3\")),5)))","v":""},{"$f":"IF('Backend Calcs Metric'!U132=\"\",\"\",(ROUND((CONVERT('Backend Calcs Metric'!U132,\"ft3\",\"m3\")),5)))","v":""},{"$f":"IF('Backend Calcs Metric'!V132=\"\",\"\",(ROUND((CONVERT('Backend Calcs Metric'!V132,\"ft3\",\"m3\")),5)))","v":""},{"$f":"IF('Backend Calcs Metric'!W132=\"\",\"\",(ROUND((CONVERT('Backend Calcs Metric'!W132,\"ft3\",\"m3\")),5)))","v":{"$error":"#VALUE!"}},{"$f":"IF('Backend Calcs Metric'!X132=\"\",\"\",(ROUND((CONVERT('Backend Calcs Metric'!X132,\"ft3\",\"m3\")),5)))","v":""},{"$f":"IF('Backend Calcs Metric'!Y132=\"\",\"\",(ROUND((CONVERT('Backend Calcs Metric'!Y132,\"ft3\",\"m3\")),5)))","v":""},{"$f":"IF('Backend Calcs Metric'!Y132=\"\",\"\",(ROUND((CONVERT('Backend Calcs Metric'!Y132,\"ft3\",\"m3\")),2)))","v":""},{"$f":"IF('Backend Calcs Metric'!AA132=\"\",\"\",(ROUND((CONVERT('Backend Calcs Metric'!Z132,\"ft\",\"m\")),5)))","v":""}]
[{"$f":"IF('Backend Calcs Metric'!P133=\"\",\"\",(ROUND((CONVERT('Backend Calcs Metric'!P133,\"in\",\"mm\")),0)))","v":""},{"$f":"IF('Backend Calcs Metric'!S133=\"\",\"\",(ROUND((CONVERT('Backend Calcs Metric'!S133,\"ft3\",\"m3\")),5)))","v":""},{"$f":"IF('Backend Calcs Metric'!T133=\"\",\"\",(ROUND((CONVERT('Backend Calcs Metric'!T133,\"ft3\",\"m3\")),5)))","v":""},{"$f":"IF('Backend Calcs Metric'!U133=\"\",\"\",(ROUND((CONVERT('Backend Calcs Metric'!U133,\"ft3\",\"m3\")),5)))","v":""},{"$f":"IF('Backend Calcs Metric'!V133=\"\",\"\",(ROUND((CONVERT('Backend Calcs Metric'!V133,\"ft3\",\"m3\")),5)))","v":""},{"$f":"IF('Backend Calcs Metric'!W133=\"\",\"\",(ROUND((CONVERT('Backend Calcs Metric'!W133,\"ft3\",\"m3\")),5)))","v":{"$error":"#VALUE!"}},{"$f":"IF('Backend Calcs Metric'!X133=\"\",\"\",(ROUND((CONVERT('Backend Calcs Metric'!X133,\"ft3\",\"m3\")),5)))","v":""},{"$f":"IF('Backend Calcs Metric'!Y133=\"\",\"\",(ROUND((CONVERT('Backend Calcs Metric'!Y133,\"ft3\",\"m3\")),5)))","v":""},{"$f":"IF('Backend Calcs Metric'!Y133=\"\",\"\",(ROUND((CONVERT('Backend Calcs Metric'!Y133,\"ft3\",\"m3\")),2)))","v":""},{"$f":"IF('Backend Calcs Metric'!AA133=\"\",\"\",(ROUND((CONVERT('Backend Calcs Metric'!Z133,\"ft\",\"m\")),5)))","v":""}]
[{"$f":"IF('Backend Calcs Metric'!P134=\"\",\"\",(ROUND((CONVERT('Backend Calcs Metric'!P134,\"in\",\"mm\")),0)))","v":""},{"$f":"IF('Backend Calcs Metric'!S134=\"\",\"\",(ROUND((CONVERT('Backend Calcs Metric'!S134,\"ft3\",\"m3\")),5)))","v":""},{"$f":"IF('Backend Calcs Metric'!T134=\"\",\"\",(ROUND((CONVERT('Backend Calcs Metric'!T134,\"ft3\",\"m3\")),5)))","v":""},{"$f":"IF('Backend Calcs Metric'!U134=\"\",\"\",(ROUND((CONVERT('Backend Calcs Metric'!U134,\"ft3\",\"m3\")),5)))","v":""},{"$f":"IF('Backend Calcs Metric'!V134=\"\",\"\",(ROUND((CONVERT('Backend Calcs Metric'!V134,\"ft3\",\"m3\")),5)))","v":""},{"$f":"IF('Backend Calcs Metric'!W134=\"\",\"\",(ROUND((CONVERT('Backend Calcs Metric'!W134,\"ft3\",\"m3\")),5)))","v":{"$error":"#VALUE!"}},{"$f":"IF('Backend Calcs Metric'!X134=\"\",\"\",(ROUND((CONVERT('Backend Calcs Metric'!X134,\"ft3\",\"m3\")),5)))","v":""},{"$f":"IF('Backend Calcs Metric'!Y134=\"\",\"\",(ROUND((CONVERT('Backend Calcs Metric'!Y134,\"ft3\",\"m3\")),5)))","v":""},{"$f":"IF('Backend Calcs Metric'!Y134=\"\",\"\",(ROUND((CONVERT('Backend Calcs Metric'!Y134,\"ft3\",\"m3\")),2)))","v":""},{"$f":"IF('Backend Calcs Metric'!AA134=\"\",\"\",(ROUND((CONVERT('Backend Calcs Metric'!Z134,\"ft\",\"m\")),5)))","v":""}]
[{"$f":"IF('Backend Calcs Metric'!P135=\"\",\"\",(ROUND((CONVERT('Backend Calcs Metric'!P135,\"in\",\"mm\")),0)))","v":""},{"$f":"IF('Backend Calcs Metric'!S135=\"\",\"\",(ROUND((CONVERT('Backend Calcs Metric'!S135,\"ft3\",\"m3\")),5)))","v":""},{"$f":"IF('Backend Calcs Metric'!T135=\"\",\"\",(ROUND((CONVERT('Backend Calcs Metric'!T135,\"ft3\",\"m3\")),5)))","v":""},{"$f":"IF('Backend Calcs Metric'!U135=\"\",\"\",(ROUND((CONVERT('Backend Calcs Metric'!U135,\"ft3\",\"m3\")),5)))","v":""},{"$f":"IF('Backend Calcs Metric'!V135=\"\",\"\",(ROUND((CONVERT('Backend Calcs Metric'!V135,\"ft3\",\"m3\")),5)))","v":""},{"$f":"IF('Backend Calcs Metric'!W135=\"\",\"\",(ROUND((CONVERT('Backend Calcs Metric'!W135,\"ft3\",\"m3\")),5)))","v":{"$error":"#VALUE!"}},{"$f":"IF('Backend Calcs Metric'!X135=\"\",\"\",(ROUND((CONVERT('Backend Calcs Metric'!X135,\"ft3\",\"m3\")),5)))","v":""},{"$f":"IF('Backend Calcs Metric'!Y135=\"\",\"\",(ROUND((CONVERT('Backend Calcs Metric'!Y135,\"ft3\",\"m3\")),5)))","v":""},{"$f":"IF('Backend Calcs Metric'!Y135=\"\",\"\",(ROUND((CONVERT('Backend Calcs Metric'!Y135,\"ft3\",\"m3\")),2)))","v":""},{"$f":"IF('Backend Calcs Metric'!AA135=\"\",\"\",(ROUND((CONVERT('Backend Calcs Metric'!Z135,\"ft\",\"m\")),5)))","v":""}]
[{"$f":"IF('Backend Calcs Metric'!P136=\"\",\"\",(ROUND((CONVERT('Backend Calcs Metric'!P136,\"in\",\"mm\")),0)))","v":""},{"$f":"IF('Backend Calcs Metric'!S136=\"\",\"\",(ROUND((CONVERT('Backend Calcs Metric'!S136,\"ft3\",\"m3\")),5)))","v":""},{"$f":"IF('Backend Calcs Metric'!T136=\"\",\"\",(ROUND((CONVERT('Backend Calcs Metric'!T136,\"ft3\",\"m3\")),5)))","v":""},{"$f":"IF('Backend Calcs Metric'!U136=\"\",\"\",(ROUND((CONVERT('Backend Calcs Metric'!U136,\"ft3\",\"m3\")),5)))","v":""},{"$f":"IF('Backend Calcs Metric'!V136=\"\",\"\",(ROUND((CONVERT('Backend Calcs Metric'!V136,\"ft3\",\"m3\")),5)))","v":""},{"$f":"IF('Backend Calcs Metric'!W136=\"\",\"\",(ROUND((CONVERT('Backend Calcs Metric'!W136,\"ft3\",\"m3\")),5)))","v":{"$error":"#VALUE!"}},{"$f":"IF('Backend Calcs Metric'!X136=\"\",\"\",(ROUND((CONVERT('Backend Calcs Metric'!X136,\"ft3\",\"m3\")),5)))","v":""},{"$f":"IF('Backend Calcs Metric'!Y136=\"\",\"\",(ROUND((CONVERT('Backend Calcs Metric'!Y136,\"ft3\",\"m3\")),5)))","v":""},{"$f":"IF('Backend Calcs Metric'!Y136=\"\",\"\",(ROUND((CONVERT('Backend Calcs Metric'!Y136,\"ft3\",\"m3\")),2)))","v":""},{"$f":"IF('Backend Calcs Metric'!AA136=\"\",\"\",(ROUND((CONVERT('Backend Calcs Metric'!Z136,\"ft\",\"m\")),5)))","v":""}]
[{"$f":"IF('Backend Calcs Metric'!P137=\"\",\"\",(ROUND((CONVERT('Backend Calcs Metric'!P137,\"in\",\"mm\")),0)))","v":""},{"$f":"IF('Backend Calcs Metric'!S137=\"\",\"\",(ROUND((CONVERT('Backend Calcs Metric'!S137,\"ft3\",\"m3\")),5)))","v":""},{"$f":"IF('Backend Calcs Metric'!T137=\"\",\"\",(ROUND((CONVERT('Backend Calcs Metric'!T137,\"ft3\",\"m3\")),5)))","v":""},{"$f":"IF('Backend Calcs Metric'!U137=\"\",\"\",(ROUND((CONVERT('Backend Calcs Metric'!U137,\"ft3\",\"m3\")),5)))","v":""},{"$f":"IF('Backend Calcs Metric'!V137=\"\",\"\",(ROUND((CONVERT('Backend Calcs Metric'!V137,\"ft3\",\"m3\")),5)))","v":""},{"$f":"IF('Backend Calcs Metric'!W137=\"\",\"\",(ROUND((CONVERT('Backend Calcs Metric'!W137,\"ft3\",\"m3\")),5)))","v":{"$error":"#VALUE!"}},{"$f":"IF('Backend Calcs Metric'!X137=\"\",\"\",(ROUND((CONVERT('Backend Calcs Metric'!X137,\"ft3\",\"m3\")),5)))","v":""},{"$f":"IF('Backend Calcs Metric'!Y137=\"\",\"\",(ROUND((CONVERT('Backend Calcs Metric'!Y137,\"ft3\",\"m3\")),5)))","v":""},{"$f":"IF('Backend Calcs Metric'!Y137=\"\",\"\",(ROUND((CONVERT('Backend Calcs Metric'!Y137,\"ft3\",\"m3\")),2)))","v":""},{"$f":"IF('Backend Calcs Metric'!AA137=\"\",\"\",(ROUND((CONVERT('Backend Calcs Metric'!Z137,\"ft\",\"m\")),5)))","v":""}]
[{"$f":"IF('Backend Calcs Metric'!P138=\"\",\"\",(ROUND((CONVERT('Backend Calcs Metric'!P138,\"in\",\"mm\")),0)))","v":""},{"$f":"IF('Backend Calcs Metric'!S138=\"\",\"\",(ROUND((CONVERT('Backend Calcs Metric'!S138,\"ft3\",\"m3\")),5)))","v":""},{"$f":"IF('Backend Calcs Metric'!T138=\"\",\"\",(ROUND((CONVERT('Backend Calcs Metric'!T138,\"ft3\",\"m3\")),5)))","v":""},{"$f":"IF('Backend Calcs Metric'!U138=\"\",\"\",(ROUND((CONVERT('Backend Calcs Metric'!U138,\"ft3\",\"m3\")),5)))","v":""},{"$f":"IF('Backend Calcs Metric'!V138=\"\",\"\",(ROUND((CONVERT('Backend Calcs Metric'!V138,\"ft3\",\"m3\")),5)))","v":""},{"$f":"IF('Backend Calcs Metric'!W138=\"\",\"\",(ROUND((CONVERT('Backend Calcs Metric'!W138,\"ft3\",\"m3\")),5)))","v":{"$error":"#VALUE!"}},{"$f":"IF('Backend Calcs Metric'!X138=\"\",\"\",(ROUND((CONVERT('Backend Calcs Metric'!X138,\"ft3\",\"m3\")),5)))","v":""},{"$f":"IF('Backend Calcs Metric'!Y138=\"\",\"\",(ROUND((CONVERT('Backend Calcs Metric'!Y138,\"ft3\",\"m3\")),5)))","v":""},{"$f":"IF('Backend Calcs Metric'!Y138=\"\",\"\",(ROUND((CONVERT('Backend Calcs Metric'!Y138,\"ft3\",\"m3\")),2)))","v":""},{"$f":"IF('Backend Calcs Metric'!AA138=\"\",\"\",(ROUND((CONVERT('Backend Calcs Metric'!Z138,\"ft\",\"m\")),5)))","v":""}]
[{"$f":"IF('Backend Calcs Metric'!P139=\"\",\"\",(ROUND((CONVERT('Backend Calcs Metric'!P139,\"in\",\"mm\")),0)))","v":""},{"$f":"IF('Backend Calcs Metric'!S139=\"\",\"\",(ROUND((CONVERT('Backend Calcs Metric'!S139,\"ft3\",\"m3\")),5)))","v":""},{"$f":"IF('Backend Calcs Metric'!T139=\"\",\"\",(ROUND((CONVERT('Backend Calcs Metric'!T139,\"ft3\",\"m3\")),5)))","v":""},{"$f":"IF('Backend Calcs Metric'!U139=\"\",\"\",(ROUND((CONVERT('Backend Calcs Metric'!U139,\"ft3\",\"m3\")),5)))","v":""},{"$f":"IF('Backend Calcs Metric'!V139=\"\",\"\",(ROUND((CONVERT('Backend Calcs Metric'!V139,\"ft3\",\"m3\")),5)))","v":""},{"$f":"IF('Backend Calcs Metric'!W139=\"\",\"\",(ROUND((CONVERT('Backend Calcs Metric'!W139,\"ft3\",\"m3\")),5)))","v":{"$error":"#VALUE!"}},{"$f":"IF('Backend Calcs Metric'!X139=\"\",\"\",(ROUND((CONVERT('Backend Calcs Metric'!X139,\"ft3\",\"m3\")),5)))","v":""},{"$f":"IF('Backend Calcs Metric'!Y139=\"\",\"\",(ROUND((CONVERT('Backend Calcs Metric'!Y139,\"ft3\",\"m3\")),5)))","v":""},{"$f":"IF('Backend Calcs Metric'!Y139=\"\",\"\",(ROUND((CONVERT('Backend Calcs Metric'!Y139,\"ft3\",\"m3\")),2)))","v":""},{"$f":"IF('Backend Calcs Metric'!AA139=\"\",\"\",(ROUND((CONVERT('Backend Calcs Metric'!Z139,\"ft\",\"m\")),5)))","v":""}]
[{"$f":"IF('Backend Calcs Metric'!P140=\"\",\"\",(ROUND((CONVERT('Backend Calcs Metric'!P140,\"in\",\"mm\")),0)))","v":""},{"$f":"IF('Backend Calcs Metric'!S140=\"\",\"\",(ROUND((CONVERT('Backend Calcs Metric'!S140,\"ft3\",\"m3\")),5)))","v":""},{"$f":"IF('Backend Calcs Metric'!T140=\"\",\"\",(ROUND((CONVERT('Backend Calcs Metric'!T140,\"ft3\",\"m3\")),5)))","v":""},{"$f":"IF('Backend Calcs Metric'!U140=\"\",\"\",(ROUND((CONVERT('Backend Calcs Metric'!U140,\"ft3\",\"m3\")),5)))","v":""},{"$f":"IF('Backend Calcs Metric'!V140=\"\",\"\",(ROUND((CONVERT('Backend Calcs Metric'!V140,\"ft3\",\"m3\")),5)))","v":""},{"$f":"IF('Backend Calcs Metric'!W140=\"\",\"\",(ROUND((CONVERT('Backend Calcs Metric'!W140,\"ft3\",\"m3\")),5)))","v":{"$error":"#VALUE!"}},{"$f":"IF('Backend Calcs Metric'!X140=\"\",\"\",(ROUND((CONVERT('Backend Calcs Metric'!X140,\"ft3\",\"m3\")),5)))","v":""},{"$f":"IF('Backend Calcs Metric'!Y140=\"\",\"\",(ROUND((CONVERT('Backend Calcs Metric'!Y140,\"ft3\",\"m3\")),5)))","v":""},{"$f":"IF('Backend Calcs Metric'!Y140=\"\",\"\",(ROUND((CONVERT('Backend Calcs Metric'!Y140,\"ft3\",\"m3\")),2)))","v":""},{"$f":"IF('Backend Calcs Metric'!AA140=\"\",\"\",(ROUND((CONVERT('Backend Calcs Metric'!Z140,\"ft\",\"m\")),5)))","v":""}]
[{"$f":"IF('Backend Calcs Metric'!P141=\"\",\"\",(ROUND((CONVERT('Backend Calcs Metric'!P141,\"in\",\"mm\")),0)))","v":""},{"$f":"IF('Backend Calcs Metric'!S141=\"\",\"\",(ROUND((CONVERT('Backend Calcs Metric'!S141,\"ft3\",\"m3\")),5)))","v":""},{"$f":"IF('Backend Calcs Metric'!T141=\"\",\"\",(ROUND((CONVERT('Backend Calcs Metric'!T141,\"ft3\",\"m3\")),5)))","v":""},{"$f":"IF('Backend Calcs Metric'!U141=\"\",\"\",(ROUND((CONVERT('Backend Calcs Metric'!U141,\"ft3\",\"m3\")),5)))","v":""},{"$f":"IF('Backend Calcs Metric'!V141=\"\",\"\",(ROUND((CONVERT('Backend Calcs Metric'!V141,\"ft3\",\"m3\")),5)))","v":""},{"$f":"IF('Backend Calcs Metric'!W141=\"\",\"\",(ROUND((CONVERT('Backend Calcs Metric'!W141,\"ft3\",\"m3\")),5)))","v":{"$error":"#VALUE!"}},{"$f":"IF('Backend Calcs Metric'!X141=\"\",\"\",(ROUND((CONVERT('Backend Calcs Metric'!X141,\"ft3\",\"m3\")),5)))","v":""},{"$f":"IF('Backend Calcs Metric'!Y141=\"\",\"\",(ROUND((CONVERT('Backend Calcs Metric'!Y141,\"ft3\",\"m3\")),5)))","v":""},{"$f":"IF('Backend Calcs Metric'!Y141=\"\",\"\",(ROUND((CONVERT('Backend Calcs Metric'!Y141,\"ft3\",\"m3\")),2)))","v":""},{"$f":"IF('Backend Calcs Metric'!AA141=\"\",\"\",(ROUND((CONVERT('Backend Calcs Metric'!Z141,\"ft\",\"m\")),5)))","v":""}]
[{"$f":"IF('Backend Calcs Metric'!P142=\"\",\"\",(ROUND((CONVERT('Backend Calcs Metric'!P142,\"in\",\"mm\")),0)))","v":""},{"$f":"IF('Backend Calcs Metric'!S142=\"\",\"\",(ROUND((CONVERT('Backend Calcs Metric'!S142,\"ft3\",\"m3\")),5)))","v":""},{"$f":"IF('Backend Calcs Metric'!T142=\"\",\"\",(ROUND((CONVERT('Backend Calcs Metric'!T142,\"ft3\",\"m3\")),5)))","v":""},{"$f":"IF('Backend Calcs Metric'!U142=\"\",\"\",(ROUND((CONVERT('Backend Calcs Metric'!U142,\"ft3\",\"m3\")),5)))","v":""},{"$f":"IF('Backend Calcs Metric'!V142=\"\",\"\",(ROUND((CONVERT('Backend Calcs Metric'!V142,\"ft3\",\"m3\")),5)))","v":""},{"$f":"IF('Backend Calcs Metric'!W142=\"\",\"\",(ROUND((CONVERT('Backend Calcs Metric'!W142,\"ft3\",\"m3\")),5)))","v":{"$error":"#VALUE!"}},{"$f":"IF('Backend Calcs Metric'!X142=\"\",\"\",(ROUND((CONVERT('Backend Calcs Metric'!X142,\"ft3\",\"m3\")),5)))","v":""},{"$f":"IF('Backend Calcs Metric'!Y142=\"\",\"\",(ROUND((CONVERT('Backend Calcs Metric'!Y142,\"ft3\",\"m3\")),5)))","v":""},{"$f":"IF('Backend Calcs Metric'!Y142=\"\",\"\",(ROUND((CONVERT('Backend Calcs Metric'!Y142,\"ft3\",\"m3\")),2)))","v":""},{"$f":"IF('Backend Calcs Metric'!AA142=\"\",\"\",(ROUND((CONVERT('Backend Calcs Metric'!Z142,\"ft\",\"m\")),5)))","v":""}]
[{"$f":"IF('Backend Calcs Metric'!P143=\"\",\"\",(ROUND((CONVERT('Backend Calcs Metric'!P143,\"in\",\"mm\")),0)))","v":""},{"$f":"IF('Backend Calcs Metric'!S143=\"\",\"\",(ROUND((CONVERT('Backend Calcs Metric'!S143,\"ft3\",\"m3\")),5)))","v":""},{"$f":"IF('Backend Calcs Metric'!T143=\"\",\"\",(ROUND((CONVERT('Backend Calcs Metric'!T143,\"ft3\",\"m3\")),5)))","v":""},{"$f":"IF('Backend Calcs Metric'!U143=\"\",\"\",(ROUND((CONVERT('Backend Calcs Metric'!U143,\"ft3\",\"m3\")),5)))","v":""},{"$f":"IF('Backend Calcs Metric'!V143=\"\",\"\",(ROUND((CONVERT('Backend Calcs Metric'!V143,\"ft3\",\"m3\")),5)))","v":""},{"$f":"IF('Backend Calcs Metric'!W143=\"\",\"\",(ROUND((CONVERT('Backend Calcs Metric'!W143,\"ft3\",\"m3\")),5)))","v":{"$error":"#VALUE!"}},{"$f":"IF('Backend Calcs Metric'!X143=\"\",\"\",(ROUND((CONVERT('Backend Calcs Metric'!X143,\"ft3\",\"m3\")),5)))","v":""},{"$f":"IF('Backend Calcs Metric'!Y143=\"\",\"\",(ROUND((CONVERT('Backend Calcs Metric'!Y143,\"ft3\",\"m3\")),5)))","v":""},{"$f":"IF('Backend Calcs Metric'!Y143=\"\",\"\",(ROUND((CONVERT('Backend Calcs Metric'!Y143,\"ft3\",\"m3\")),2)))","v":""},{"$f":"IF('Backend Calcs Metric'!AA143=\"\",\"\",(ROUND((CONVERT('Backend Calcs Metric'!Z143,\"ft\",\"m\")),5)))","v":""}]
[{"$f":"IF('Backend Calcs Metric'!P144=\"\",\"\",(ROUND((CONVERT('Backend Calcs Metric'!P144,\"in\",\"mm\")),0)))","v":""},{"$f":"IF('Backend Calcs Metric'!S144=\"\",\"\",(ROUND((CONVERT('Backend Calcs Metric'!S144,\"ft3\",\"m3\")),5)))","v":""},{"$f":"IF('Backend Calcs Metric'!T144=\"\",\"\",(ROUND((CONVERT('Backend Calcs Metric'!T144,\"ft3\",\"m3\")),5)))","v":""},{"$f":"IF('Backend Calcs Metric'!U144=\"\",\"\",(ROUND((CONVERT('Backend Calcs Metric'!U144,\"ft3\",\"m3\")),5)))","v":""},{"$f":"IF('Backend Calcs Metric'!V144=\"\",\"\",(ROUND((CONVERT('Backend Calcs Metric'!V144,\"ft3\",\"m3\")),5)))","v":""},{"$f":"IF('Backend Calcs Metric'!W144=\"\",\"\",(ROUND((CONVERT('Backend Calcs Metric'!W144,\"ft3\",\"m3\")),5)))","v":{"$error":"#VALUE!"}},{"$f":"IF('Backend Calcs Metric'!X144=\"\",\"\",(ROUND((CONVERT('Backend Calcs Metric'!X144,\"ft3\",\"m3\")),5)))","v":""},{"$f":"IF('Backend Calcs Metric'!Y144=\"\",\"\",(ROUND((CONVERT('Backend Calcs Metric'!Y144,\"ft3\",\"m3\")),5)))","v":""},{"$f":"IF('Backend Calcs Metric'!Y144=\"\",\"\",(ROUND((CONVERT('Backend Calcs Metric'!Y144,\"ft3\",\"m3\")),2)))","v":""},{"$f":"IF('Backend Calcs Metric'!AA144=\"\",\"\",(ROUND((CONVERT('Backend Calcs Metric'!Z144,\"ft\",\"m\")),5)))","v":""}]
[{"$f":"IF('Backend Calcs Metric'!P145=\"\",\"\",(ROUND((CONVERT('Backend Calcs Metric'!P145,\"in\",\"mm\")),0)))","v":""},{"$f":"IF('Backend Calcs Metric'!S145=\"\",\"\",(ROUND((CONVERT('Backend Calcs Metric'!S145,\"ft3\",\"m3\")),5)))","v":""},{"$f":"IF('Backend Calcs Metric'!T145=\"\",\"\",(ROUND((CONVERT('Backend Calcs Metric'!T145,\"ft3\",\"m3\")),5)))","v":""},{"$f":"IF('Backend Calcs Metric'!U145=\"\",\"\",(ROUND((CONVERT('Backend Calcs Metric'!U145,\"ft3\",\"m3\")),5)))","v":""},{"$f":"IF('Backend Calcs Metric'!V145=\"\",\"\",(ROUND((CONVERT('Backend Calcs Metric'!V145,\"ft3\",\"m3\")),5)))","v":""},{"$f":"IF('Backend Calcs Metric'!W145=\"\",\"\",(ROUND((CONVERT('Backend Calcs Metric'!W145,\"ft3\",\"m3\")),5)))","v":{"$error":"#VALUE!"}},{"$f":"IF('Backend Calcs Metric'!X145=\"\",\"\",(ROUND((CONVERT('Backend Calcs Metric'!X145,\"ft3\",\"m3\")),5)))","v":""},{"$f":"IF('Backend Calcs Metric'!Y145=\"\",\"\",(ROUND((CONVERT('Backend Calcs Metric'!Y145,\"ft3\",\"m3\")),5)))","v":""},{"$f":"IF('Backend Calcs Metric'!Y145=\"\",\"\",(ROUND((CONVERT('Backend Calcs Metric'!Y145,\"ft3\",\"m3\")),2)))","v":""},{"$f":"IF('Backend Calcs Metric'!AA145=\"\",\"\",(ROUND((CONVERT('Backend Calcs Metric'!Z145,\"ft\",\"m\")),5)))","v":""}]
[{"$f":"IF('Backend Calcs Metric'!P146=\"\",\"\",(ROUND((CONVERT('Backend Calcs Metric'!P146,\"in\",\"mm\")),0)))","v":""},{"$f":"IF('Backend Calcs Metric'!S146=\"\",\"\",(ROUND((CONVERT('Backend Calcs Metric'!S146,\"ft3\",\"m3\")),5)))","v":""},{"$f":"IF('Backend Calcs Metric'!T146=\"\",\"\",(ROUND((CONVERT('Backend Calcs Metric'!T146,\"ft3\",\"m3\")),5)))","v":""},{"$f":"IF('Backend Calcs Metric'!U146=\"\",\"\",(ROUND((CONVERT('Backend Calcs Metric'!U146,\"ft3\",\"m3\")),5)))","v":""},{"$f":"IF('Backend Calcs Metric'!V146=\"\",\"\",(ROUND((CONVERT('Backend Calcs Metric'!V146,\"ft3\",\"m3\")),5)))","v":""},{"$f":"IF('Backend Calcs Metric'!W146=\"\",\"\",(ROUND((CONVERT('Backend Calcs Metric'!W146,\"ft3\",\"m3\")),5)))","v":{"$error":"#VALUE!"}},{"$f":"IF('Backend Calcs Metric'!X146=\"\",\"\",(ROUND((CONVERT('Backend Calcs Metric'!X146,\"ft3\",\"m3\")),5)))","v":""},{"$f":"IF('Backend Calcs Metric'!Y146=\"\",\"\",(ROUND((CONVERT('Backend Calcs Metric'!Y146,\"ft3\",\"m3\")),5)))","v":""},{"$f":"IF('Backend Calcs Metric'!Y146=\"\",\"\",(ROUND((CONVERT('Backend Calcs Metric'!Y146,\"ft3\",\"m3\")),2)))","v":""},{"$f":"IF('Backend Calcs Metric'!AA146=\"\",\"\",(ROUND((CONVERT('Backend Calcs Metric'!Z146,\"ft\",\"m\")),5)))","v":""}]
[{"$f":"IF('Backend Calcs Metric'!P147=\"\",\"\",(ROUND((CONVERT('Backend Calcs Metric'!P147,\"in\",\"mm\")),0)))","v":""},{"$f":"IF('Backend Calcs Metric'!S147=\"\",\"\",(ROUND((CONVERT('Backend Calcs Metric'!S147,\"ft3\",\"m3\")),5)))","v":""},{"$f":"IF('Backend Calcs Metric'!T147=\"\",\"\",(ROUND((CONVERT('Backend Calcs Metric'!T147,\"ft3\",\"m3\")),5)))","v":""},{"$f":"IF('Backend Calcs Metric'!U147=\"\",\"\",(ROUND((CONVERT('Backend Calcs Metric'!U147,\"ft3\",\"m3\")),5)))","v":""},{"$f":"IF('Backend Calcs Metric'!V147=\"\",\"\",(ROUND((CONVERT('Backend Calcs Metric'!V147,\"ft3\",\"m3\")),5)))","v":""},{"$f":"IF('Backend Calcs Metric'!W147=\"\",\"\",(ROUND((CONVERT('Backend Calcs Metric'!W147,\"ft3\",\"m3\")),5)))","v":{"$error":"#VALUE!"}},{"$f":"IF('Backend Calcs Metric'!X147=\"\",\"\",(ROUND((CONVERT('Backend Calcs Metric'!X147,\"ft3\",\"m3\")),5)))","v":""},{"$f":"IF('Backend Calcs Metric'!Y147=\"\",\"\",(ROUND((CONVERT('Backend Calcs Metric'!Y147,\"ft3\",\"m3\")),5)))","v":""},{"$f":"IF('Backend Calcs Metric'!Y147=\"\",\"\",(ROUND((CONVERT('Backend Calcs Metric'!Y147,\"ft3\",\"m3\")),2)))","v":""},{"$f":"IF('Backend Calcs Metric'!AA147=\"\",\"\",(ROUND((CONVERT('Backend Calcs Metric'!Z147,\"ft\",\"m\")),5)))","v":""}]
[{"$f":"IF('Backend Calcs Metric'!P148=\"\",\"\",(ROUND((CONVERT('Backend Calcs Metric'!P148,\"in\",\"mm\")),0)))","v":""},{"$f":"IF('Backend Calcs Metric'!S148=\"\",\"\",(ROUND((CONVERT('Backend Calcs Metric'!S148,\"ft3\",\"m3\")),5)))","v":""},{"$f":"IF('Backend Calcs Metric'!T148=\"\",\"\",(ROUND((CONVERT('Backend Calcs Metric'!T148,\"ft3\",\"m3\")),5)))","v":""},{"$f":"IF('Backend Calcs Metric'!U148=\"\",\"\",(ROUND((CONVERT('Backend Calcs Metric'!U148,\"ft3\",\"m3\")),5)))","v":""},{"$f":"IF('Backend Calcs Metric'!V148=\"\",\"\",(ROUND((CONVERT('Backend Calcs Metric'!V148,\"ft3\",\"m3\")),5)))","v":""},{"$f":"IF('Backend Calcs Metric'!W148=\"\",\"\",(ROUND((CONVERT('Backend Calcs Metric'!W148,\"ft3\",\"m3\")),5)))","v":{"$error":"#VALUE!"}},{"$f":"IF('Backend Calcs Metric'!X148=\"\",\"\",(ROUND((CONVERT('Backend Calcs Metric'!X148,\"ft3\",\"m3\")),5)))","v":""},{"$f":"IF('Backend Calcs Metric'!Y148=\"\",\"\",(ROUND((CONVERT('Backend Calcs Metric'!Y148,\"ft3\",\"m3\")),5)))","v":""},{"$f":"IF('Backend Calcs Metric'!Y148=\"\",\"\",(ROUND((CONVERT('Backend Calcs Metric'!Y148,\"ft3\",\"m3\")),2)))","v":""},{"$f":"IF('Backend Calcs Metric'!AA148=\"\",\"\",(ROUND((CONVERT('Backend Calcs Metric'!Z148,\"ft\",\"m\")),5)))","v":""}]
[{"$f":"IF('Backend Calcs Metric'!P149=\"\",\"\",(ROUND((CONVERT('Backend Calcs Metric'!P149,\"in\",\"mm\")),0)))","v":""},{"$f":"IF('Backend Calcs Metric'!S149=\"\",\"\",(ROUND((CONVERT('Backend Calcs Metric'!S149,\"ft3\",\"m3\")),5)))","v":""},{"$f":"IF('Backend Calcs Metric'!T149=\"\",\"\",(ROUND((CONVERT('Backend Calcs Metric'!T149,\"ft3\",\"m3\")),5)))","v":""},{"$f":"IF('Backend Calcs Metric'!U149=\"\",\"\",(ROUND((CONVERT('Backend Calcs Metric'!U149,\"ft3\",\"m3\")),5)))","v":""},{"$f":"IF('Backend Calcs Metric'!V149=\"\",\"\",(ROUND((CONVERT('Backend Calcs Metric'!V149,\"ft3\",\"m3\")),5)))","v":""},{"$f":"IF('Backend Calcs Metric'!W149=\"\",\"\",(ROUND((CONVERT('Backend Calcs Metric'!W149,\"ft3\",\"m3\")),5)))","v":{"$error":"#VALUE!"}},{"$f":"IF('Backend Calcs Metric'!X149=\"\",\"\",(ROUND((CONVERT('Backend Calcs Metric'!X149,\"ft3\",\"m3\")),5)))","v":""},{"$f":"IF('Backend Calcs Metric'!Y149=\"\",\"\",(ROUND((CONVERT('Backend Calcs Metric'!Y149,\"ft3\",\"m3\")),5)))","v":""},{"$f":"IF('Backend Calcs Metric'!Y149=\"\",\"\",(ROUND((CONVERT('Backend Calcs Metric'!Y149,\"ft3\",\"m3\")),2)))","v":""},{"$f":"IF('Backend Calcs Metric'!AA149=\"\",\"\",(ROUND((CONVERT('Backend Calcs Metric'!Z149,\"ft\",\"m\")),5)))","v":""}]
[{"$f":"IF('Backend Calcs Metric'!P150=\"\",\"\",(ROUND((CONVERT('Backend Calcs Metric'!P150,\"in\",\"mm\")),0)))","v":""},{"$f":"IF('Backend Calcs Metric'!S150=\"\",\"\",(ROUND((CONVERT('Backend Calcs Metric'!S150,\"ft3\",\"m3\")),5)))","v":""},{"$f":"IF('Backend Calcs Metric'!T150=\"\",\"\",(ROUND((CONVERT('Backend Calcs Metric'!T150,\"ft3\",\"m3\")),5)))","v":""},{"$f":"IF('Backend Calcs Metric'!U150=\"\",\"\",(ROUND((CONVERT('Backend Calcs Metric'!U150,\"ft3\",\"m3\")),5)))","v":""},{"$f":"IF('Backend Calcs Metric'!V150=\"\",\"\",(ROUND((CONVERT('Backend Calcs Metric'!V150,\"ft3\",\"m3\")),5)))","v":""},{"$f":"IF('Backend Calcs Metric'!W150=\"\",\"\",(ROUND((CONVERT('Backend Calcs Metric'!W150,\"ft3\",\"m3\")),5)))","v":{"$error":"#VALUE!"}},{"$f":"IF('Backend Calcs Metric'!X150=\"\",\"\",(ROUND((CONVERT('Backend Calcs Metric'!X150,\"ft3\",\"m3\")),5)))","v":""},{"$f":"IF('Backend Calcs Metric'!Y150=\"\",\"\",(ROUND((CONVERT('Backend Calcs Metric'!Y150,\"ft3\",\"m3\")),5)))","v":""},{"$f":"IF('Backend Calcs Metric'!Y150=\"\",\"\",(ROUND((CONVERT('Backend Calcs Metric'!Y150,\"ft3\",\"m3\")),2)))","v":""},{"$f":"IF('Backend Calcs Metric'!AA150=\"\",\"\",(ROUND((CONVERT('Backend Calcs Metric'!Z150,\"ft\",\"m\")),5)))","v":""}]
[{"$f":"IF('Backend Calcs Metric'!P151=\"\",\"\",(ROUND((CONVERT('Backend Calcs Metric'!P151,\"in\",\"mm\")),0)))","v":""},{"$f":"IF('Backend Calcs Metric'!S151=\"\",\"\",(ROUND((CONVERT('Backend Calcs Metric'!S151,\"ft3\",\"m3\")),5)))","v":""},{"$f":"IF('Backend Calcs Metric'!T151=\"\",\"\",(ROUND((CONVERT('Backend Calcs Metric'!T151,\"ft3\",\"m3\")),5)))","v":""},{"$f":"IF('Backend Calcs Metric'!U151=\"\",\"\",(ROUND((CONVERT('Backend Calcs Metric'!U151,\"ft3\",\"m3\")),5)))","v":""},{"$f":"IF('Backend Calcs Metric'!V151=\"\",\"\",(ROUND((CONVERT('Backend Calcs Metric'!V151,\"ft3\",\"m3\")),5)))","v":""},{"$f":"IF('Backend Calcs Metric'!W151=\"\",\"\",(ROUND((CONVERT('Backend Calcs Metric'!W151,\"ft3\",\"m3\")),5)))","v":{"$error":"#VALUE!"}},{"$f":"IF('Backend Calcs Metric'!X151=\"\",\"\",(ROUND((CONVERT('Backend Calcs Metric'!X151,\"ft3\",\"m3\")),5)))","v":""},{"$f":"IF('Backend Calcs Metric'!Y151=\"\",\"\",(ROUND((CONVERT('Backend Calcs Metric'!Y151,\"ft3\",\"m3\")),5)))","v":""},{"$f":"IF('Backend Calcs Metric'!Y151=\"\",\"\",(ROUND((CONVERT('Backend Calcs Metric'!Y151,\"ft3\",\"m3\")),2)))","v":""},{"$f":"IF('Backend Calcs Metric'!AA151=\"\",\"\",(ROUND((CONVERT('Backend Calcs Metric'!Z151,\"ft\",\"m\")),5)))","v":""}]
[{"$f":"IF('Backend Calcs Metric'!P152=\"\",\"\",(ROUND((CONVERT('Backend Calcs Metric'!P152,\"in\",\"mm\")),0)))","v":""},{"$f":"IF('Backend Calcs Metric'!S152=\"\",\"\",(ROUND((CONVERT('Backend Calcs Metric'!S152,\"ft3\",\"m3\")),5)))","v":""},{"$f":"IF('Backend Calcs Metric'!T152=\"\",\"\",(ROUND((CONVERT('Backend Calcs Metric'!T152,\"ft3\",\"m3\")),5)))","v":""},{"$f":"IF('Backend Calcs Metric'!U152=\"\",\"\",(ROUND((CONVERT('Backend Calcs Metric'!U152,\"ft3\",\"m3\")),5)))","v":""},{"$f":"IF('Backend Calcs Metric'!V152=\"\",\"\",(ROUND((CONVERT('Backend Calcs Metric'!V152,\"ft3\",\"m3\")),5)))","v":""},{"$f":"IF('Backend Calcs Metric'!W152=\"\",\"\",(ROUND((CONVERT('Backend Calcs Metric'!W152,\"ft3\",\"m3\")),5)))","v":{"$error":"#VALUE!"}},{"$f":"IF('Backend Calcs Metric'!X152=\"\",\"\",(ROUND((CONVERT('Backend Calcs Metric'!X152,\"ft3\",\"m3\")),5)))","v":""},{"$f":"IF('Backend Calcs Metric'!Y152=\"\",\"\",(ROUND((CONVERT('Backend Calcs Metric'!Y152,\"ft3\",\"m3\")),5)))","v":""},{"$f":"IF('Backend Calcs Metric'!Y152=\"\",\"\",(ROUND((CONVERT('Backend Calcs Metric'!Y152,\"ft3\",\"m3\")),2)))","v":""},{"$f":"IF('Backend Calcs Metric'!AA152=\"\",\"\",(ROUND((CONVERT('Backend Calcs Metric'!Z152,\"ft\",\"m\")),5)))","v":""}]
[{"$f":"IF('Backend Calcs Metric'!P153=\"\",\"\",(ROUND((CONVERT('Backend Calcs Metric'!P153,\"in\",\"mm\")),0)))","v":""},{"$f":"IF('Backend Calcs Metric'!S153=\"\",\"\",(ROUND((CONVERT('Backend Calcs Metric'!S153,\"ft3\",\"m3\")),5)))","v":""},{"$f":"IF('Backend Calcs Metric'!T153=\"\",\"\",(ROUND((CONVERT('Backend Calcs Metric'!T153,\"ft3\",\"m3\")),5)))","v":""},{"$f":"IF('Backend Calcs Metric'!U153=\"\",\"\",(ROUND((CONVERT('Backend Calcs Metric'!U153,\"ft3\",\"m3\")),5)))","v":""},{"$f":"IF('Backend Calcs Metric'!V153=\"\",\"\",(ROUND((CONVERT('Backend Calcs Metric'!V153,\"ft3\",\"m3\")),5)))","v":""},{"$f":"IF('Backend Calcs Metric'!W153=\"\",\"\",(ROUND((CONVERT('Backend Calcs Metric'!W153,\"ft3\",\"m3\")),5)))","v":{"$error":"#VALUE!"}},{"$f":"IF('Backend Calcs Metric'!X153=\"\",\"\",(ROUND((CONVERT('Backend Calcs Metric'!X153,\"ft3\",\"m3\")),5)))","v":""},{"$f":"IF('Backend Calcs Metric'!Y153=\"\",\"\",(ROUND((CONVERT('Backend Calcs Metric'!Y153,\"ft3\",\"m3\")),5)))","v":""},{"$f":"IF('Backend Calcs Metric'!Y153=\"\",\"\",(ROUND((CONVERT('Backend Calcs Metric'!Y153,\"ft3\",\"m3\")),2)))","v":""},{"$f":"IF('Backend Calcs Metric'!AA153=\"\",\"\",(ROUND((CONVERT('Backend Calcs Metric'!Z153,\"ft\",\"m\")),5)))","v":""}]
[{"$f":"IF('Backend Calcs Metric'!P154=\"\",\"\",(ROUND((CONVERT('Backend Calcs Metric'!P154,\"in\",\"mm\")),0)))","v":""},{"$f":"IF('Backend Calcs Metric'!S154=\"\",\"\",(ROUND((CONVERT('Backend Calcs Metric'!S154,\"ft3\",\"m3\")),5)))","v":""},{"$f":"IF('Backend Calcs Metric'!T154=\"\",\"\",(ROUND((CONVERT('Backend Calcs Metric'!T154,\"ft3\",\"m3\")),5)))","v":""},{"$f":"IF('Backend Calcs Metric'!U154=\"\",\"\",(ROUND((CONVERT('Backend Calcs Metric'!U154,\"ft3\",\"m3\")),5)))","v":""},{"$f":"IF('Backend Calcs Metric'!V154=\"\",\"\",(ROUND((CONVERT('Backend Calcs Metric'!V154,\"ft3\",\"m3\")),5)))","v":""},{"$f":"IF('Backend Calcs Metric'!W154=\"\",\"\",(ROUND((CONVERT('Backend Calcs Metric'!W154,\"ft3\",\"m3\")),5)))","v":{"$error":"#VALUE!"}},{"$f":"IF('Backend Calcs Metric'!X154=\"\",\"\",(ROUND((CONVERT('Backend Calcs Metric'!X154,\"ft3\",\"m3\")),5)))","v":""},{"$f":"IF('Backend Calcs Metric'!Y154=\"\",\"\",(ROUND((CONVERT('Backend Calcs Metric'!Y154,\"ft3\",\"m3\")),5)))","v":""},{"$f":"IF('Backend Calcs Metric'!Y154=\"\",\"\",(ROUND((CONVERT('Backend Calcs Metric'!Y154,\"ft3\",\"m3\")),2)))","v":""},{"$f":"IF('Backend Calcs Metric'!AA154=\"\",\"\",(ROUND((CONVERT('Backend Calcs Metric'!Z154,\"ft\",\"m\")),5)))","v":""}]
[{"$f":"IF('Backend Calcs Metric'!P155=\"\",\"\",(ROUND((CONVERT('Backend Calcs Metric'!P155,\"in\",\"mm\")),0)))","v":""},{"$f":"IF('Backend Calcs Metric'!S155=\"\",\"\",(ROUND((CONVERT('Backend Calcs Metric'!S155,\"ft3\",\"m3\")),5)))","v":""},{"$f":"IF('Backend Calcs Metric'!T155=\"\",\"\",(ROUND((CONVERT('Backend Calcs Metric'!T155,\"ft3\",\"m3\")),5)))","v":""},{"$f":"IF('Backend Calcs Metric'!U155=\"\",\"\",(ROUND((CONVERT('Backend Calcs Metric'!U155,\"ft3\",\"m3\")),5)))","v":""},{"$f":"IF('Backend Calcs Metric'!V155=\"\",\"\",(ROUND((CONVERT('Backend Calcs Metric'!V155,\"ft3\",\"m3\")),5)))","v":""},{"$f":"IF('Backend Calcs Metric'!W155=\"\",\"\",(ROUND((CONVERT('Backend Calcs Metric'!W155,\"ft3\",\"m3\")),5)))","v":{"$error":"#VALUE!"}},{"$f":"IF('Backend Calcs Metric'!X155=\"\",\"\",(ROUND((CONVERT('Backend Calcs Metric'!X155,\"ft3\",\"m3\")),5)))","v":""},{"$f":"IF('Backend Calcs Metric'!Y155=\"\",\"\",(ROUND((CONVERT('Backend Calcs Metric'!Y155,\"ft3\",\"m3\")),5)))","v":""},{"$f":"IF('Backend Calcs Metric'!Y155=\"\",\"\",(ROUND((CONVERT('Backend Calcs Metric'!Y155,\"ft3\",\"m3\")),2)))","v":""},{"$f":"IF('Backend Calcs Metric'!AA155=\"\",\"\",(ROUND((CONVERT('Backend Calcs Metric'!Z155,\"ft\",\"m\")),5)))","v":""}]
[{"$f":"IF('Backend Calcs Metric'!P156=\"\",\"\",(ROUND((CONVERT('Backend Calcs Metric'!P156,\"in\",\"mm\")),0)))","v":""},{"$f":"IF('Backend Calcs Metric'!S156=\"\",\"\",(ROUND((CONVERT('Backend Calcs Metric'!S156,\"ft3\",\"m3\")),5)))","v":""},{"$f":"IF('Backend Calcs Metric'!T156=\"\",\"\",(ROUND((CONVERT('Backend Calcs Metric'!T156,\"ft3\",\"m3\")),5)))","v":""},{"$f":"IF('Backend Calcs Metric'!U156=\"\",\"\",(ROUND((CONVERT('Backend Calcs Metric'!U156,\"ft3\",\"m3\")),5)))","v":""},{"$f":"IF('Backend Calcs Metric'!V156=\"\",\"\",(ROUND((CONVERT('Backend Calcs Metric'!V156,\"ft3\",\"m3\")),5)))","v":""},{"$f":"IF('Backend Calcs Metric'!W156=\"\",\"\",(ROUND((CONVERT('Backend Calcs Metric'!W156,\"ft3\",\"m3\")),5)))","v":{"$error":"#VALUE!"}},{"$f":"IF('Backend Calcs Metric'!X156=\"\",\"\",(ROUND((CONVERT('Backend Calcs Metric'!X156,\"ft3\",\"m3\")),5)))","v":""},{"$f":"IF('Backend Calcs Metric'!Y156=\"\",\"\",(ROUND((CONVERT('Backend Calcs Metric'!Y156,\"ft3\",\"m3\")),5)))","v":""},{"$f":"IF('Backend Calcs Metric'!Y156=\"\",\"\",(ROUND((CONVERT('Backend Calcs Metric'!Y156,\"ft3\",\"m3\")),2)))","v":""},{"$f":"IF('Backend Calcs Metric'!AA156=\"\",\"\",(ROUND((CONVERT('Backend Calcs Metric'!Z156,\"ft\",\"m\")),5)))","v":""}]
[{"$f":"IF('Backend Calcs Metric'!P157=\"\",\"\",(ROUND((CONVERT('Backend Calcs Metric'!P157,\"in\",\"mm\")),0)))","v":""},{"$f":"IF('Backend Calcs Metric'!S157=\"\",\"\",(ROUND((CONVERT('Backend Calcs Metric'!S157,\"ft3\",\"m3\")),5)))","v":""},{"$f":"IF('Backend Calcs Metric'!T157=\"\",\"\",(ROUND((CONVERT('Backend Calcs Metric'!T157,\"ft3\",\"m3\")),5)))","v":""},{"$f":"IF('Backend Calcs Metric'!U157=\"\",\"\",(ROUND((CONVERT('Backend Calcs Metric'!U157,\"ft3\",\"m3\")),5)))","v":""},{"$f":"IF('Backend Calcs Metric'!V157=\"\",\"\",(ROUND((CONVERT('Backend Calcs Metric'!V157,\"ft3\",\"m3\")),5)))","v":""},{"$f":"IF('Backend Calcs Metric'!W157=\"\",\"\",(ROUND((CONVERT('Backend Calcs Metric'!W157,\"ft3\",\"m3\")),5)))","v":{"$error":"#VALUE!"}},{"$f":"IF('Backend Calcs Metric'!X157=\"\",\"\",(ROUND((CONVERT('Backend Calcs Metric'!X157,\"ft3\",\"m3\")),5)))","v":""},{"$f":"IF('Backend Calcs Metric'!Y157=\"\",\"\",(ROUND((CONVERT('Backend Calcs Metric'!Y157,\"ft3\",\"m3\")),5)))","v":""},{"$f":"IF('Backend Calcs Metric'!Y157=\"\",\"\",(ROUND((CONVERT('Backend Calcs Metric'!Y157,\"ft3\",\"m3\")),2)))","v":""},{"$f":"IF('Backend Calcs Metric'!AA157=\"\",\"\",(ROUND((CONVERT('Backend Calcs Metric'!Z157,\"ft\",\"m\")),5)))","v":""}]
[{"$f":"IF('Backend Calcs Metric'!P158=\"\",\"\",(ROUND((CONVERT('Backend Calcs Metric'!P158,\"in\",\"mm\")),0)))","v":""},{"$f":"IF('Backend Calcs Metric'!S158=\"\",\"\",(ROUND((CONVERT('Backend Calcs Metric'!S158,\"ft3\",\"m3\")),5)))","v":""},{"$f":"IF('Backend Calcs Metric'!T158=\"\",\"\",(ROUND((CONVERT('Backend Calcs Metric'!T158,\"ft3\",\"m3\")),5)))","v":""},{"$f":"IF('Backend Calcs Metric'!U158=\"\",\"\",(ROUND((CONVERT('Backend Calcs Metric'!U158,\"ft3\",\"m3\")),5)))","v":""},{"$f":"IF('Backend Calcs Metric'!V158=\"\",\"\",(ROUND((CONVERT('Backend Calcs Metric'!V158,\"ft3\",\"m3\")),5)))","v":""},{"$f":"IF('Backend Calcs Metric'!W158=\"\",\"\",(ROUND((CONVERT('Backend Calcs Metric'!W158,\"ft3\",\"m3\")),5)))","v":{"$error":"#VALUE!"}},{"$f":"IF('Backend Calcs Metric'!X158=\"\",\"\",(ROUND((CONVERT('Backend Calcs Metric'!X158,\"ft3\",\"m3\")),5)))","v":""},{"$f":"IF('Backend Calcs Metric'!Y158=\"\",\"\",(ROUND((CONVERT('Backend Calcs Metric'!Y158,\"ft3\",\"m3\")),5)))","v":""},{"$f":"IF('Backend Calcs Metric'!Y158=\"\",\"\",(ROUND((CONVERT('Backend Calcs Metric'!Y158,\"ft3\",\"m3\")),2)))","v":""},{"$f":"IF('Backend Calcs Metric'!AA158=\"\",\"\",(ROUND((CONVERT('Backend Calcs Metric'!Z158,\"ft\",\"m\")),5)))","v":""}]
[{"$f":"IF('Backend Calcs Metric'!P159=\"\",\"\",(ROUND((CONVERT('Backend Calcs Metric'!P159,\"in\",\"mm\")),0)))","v":""},{"$f":"IF('Backend Calcs Metric'!S159=\"\",\"\",(ROUND((CONVERT('Backend Calcs Metric'!S159,\"ft3\",\"m3\")),5)))","v":""},{"$f":"IF('Backend Calcs Metric'!T159=\"\",\"\",(ROUND((CONVERT('Backend Calcs Metric'!T159,\"ft3\",\"m3\")),5)))","v":""},{"$f":"IF('Backend Calcs Metric'!U159=\"\",\"\",(ROUND((CONVERT('Backend Calcs Metric'!U159,\"ft3\",\"m3\")),5)))","v":""},{"$f":"IF('Backend Calcs Metric'!V159=\"\",\"\",(ROUND((CONVERT('Backend Calcs Metric'!V159,\"ft3\",\"m3\")),5)))","v":""},{"$f":"IF('Backend Calcs Metric'!W159=\"\",\"\",(ROUND((CONVERT('Backend Calcs Metric'!W159,\"ft3\",\"m3\")),5)))","v":{"$error":"#VALUE!"}},{"$f":"IF('Backend Calcs Metric'!X159=\"\",\"\",(ROUND((CONVERT('Backend Calcs Metric'!X159,\"ft3\",\"m3\")),5)))","v":""},{"$f":"IF('Backend Calcs Metric'!Y159=\"\",\"\",(ROUND((CONVERT('Backend Calcs Metric'!Y159,\"ft3\",\"m3\")),5)))","v":""},{"$f":"IF('Backend Calcs Metric'!Y159=\"\",\"\",(ROUND((CONVERT('Backend Calcs Metric'!Y159,\"ft3\",\"m3\")),2)))","v":""},{"$f":"IF('Backend Calcs Metric'!AA159=\"\",\"\",(ROUND((CONVERT('Backend Calcs Metric'!Z159,\"ft\",\"m\")),5)))","v":""}]
[{"$f":"IF('Backend Calcs Metric'!P160=\"\",\"\",(ROUND((CONVERT('Backend Calcs Metric'!P160,\"in\",\"mm\")),0)))","v":""},{"$f":"IF('Backend Calcs Metric'!S160=\"\",\"\",(ROUND((CONVERT('Backend Calcs Metric'!S160,\"ft3\",\"m3\")),5)))","v":""},{"$f":"IF('Backend Calcs Metric'!T160=\"\",\"\",(ROUND((CONVERT('Backend Calcs Metric'!T160,\"ft3\",\"m3\")),5)))","v":""},{"$f":"IF('Backend Calcs Metric'!U160=\"\",\"\",(ROUND((CONVERT('Backend Calcs Metric'!U160,\"ft3\",\"m3\")),5)))","v":""},{"$f":"IF('Backend Calcs Metric'!V160=\"\",\"\",(ROUND((CONVERT('Backend Calcs Metric'!V160,\"ft3\",\"m3\")),5)))","v":""},{"$f":"IF('Backend Calcs Metric'!W160=\"\",\"\",(ROUND((CONVERT('Backend Calcs Metric'!W160,\"ft3\",\"m3\")),5)))","v":{"$error":"#VALUE!"}},{"$f":"IF('Backend Calcs Metric'!X160=\"\",\"\",(ROUND((CONVERT('Backend Calcs Metric'!X160,\"ft3\",\"m3\")),5)))","v":""},{"$f":"IF('Backend Calcs Metric'!Y160=\"\",\"\",(ROUND((CONVERT('Backend Calcs Metric'!Y160,\"ft3\",\"m3\")),5)))","v":""},{"$f":"IF('Backend Calcs Metric'!Y160=\"\",\"\",(ROUND((CONVERT('Backend Calcs Metric'!Y160,\"ft3\",\"m3\")),2)))","v":""},{"$f":"IF('Backend Calcs Metric'!AA160=\"\",\"\",(ROUND((CONVERT('Backend Calcs Metric'!Z160,\"ft\",\"m\")),5)))","v":""}]
[{"$f":"IF('Backend Calcs Metric'!P161=\"\",\"\",(ROUND((CONVERT('Backend Calcs Metric'!P161,\"in\",\"mm\")),0)))","v":""},{"$f":"IF('Backend Calcs Metric'!S161=\"\",\"\",(ROUND((CONVERT('Backend Calcs Metric'!S161,\"ft3\",\"m3\")),5)))","v":""},{"$f":"IF('Backend Calcs Metric'!T161=\"\",\"\",(ROUND((CONVERT('Backend Calcs Metric'!T161,\"ft3\",\"m3\")),5)))","v":""},{"$f":"IF('Backend Calcs Metric'!U161=\"\",\"\",(ROUND((CONVERT('Backend Calcs Metric'!U161,\"ft3\",\"m3\")),5)))","v":""},{"$f":"IF('Backend Calcs Metric'!V161=\"\",\"\",(ROUND((CONVERT('Backend Calcs Metric'!V161,\"ft3\",\"m3\")),5)))","v":""},{"$f":"IF('Backend Calcs Metric'!W161=\"\",\"\",(ROUND((CONVERT('Backend Calcs Metric'!W161,\"ft3\",\"m3\")),5)))","v":{"$error":"#VALUE!"}},{"$f":"IF('Backend Calcs Metric'!X161=\"\",\"\",(ROUND((CONVERT('Backend Calcs Metric'!X161,\"ft3\",\"m3\")),5)))","v":""},{"$f":"IF('Backend Calcs Metric'!Y161=\"\",\"\",(ROUND((CONVERT('Backend Calcs Metric'!Y161,\"ft3\",\"m3\")),5)))","v":""},{"$f":"IF('Backend Calcs Metric'!Y161=\"\",\"\",(ROUND((CONVERT('Backend Calcs Metric'!Y161,\"ft3\",\"m3\")),2)))","v":""},{"$f":"IF('Backend Calcs Metric'!AA161=\"\",\"\",(ROUND((CONVERT('Backend Calcs Metric'!Z161,\"ft\",\"m\")),5)))","v":""}]
[{"$f":"IF('Backend Calcs Metric'!P162=\"\",\"\",(ROUND((CONVERT('Backend Calcs Metric'!P162,\"in\",\"mm\")),0)))","v":""},{"$f":"IF('Backend Calcs Metric'!S162=\"\",\"\",(ROUND((CONVERT('Backend Calcs Metric'!S162,\"ft3\",\"m3\")),5)))","v":""},{"$f":"IF('Backend Calcs Metric'!T162=\"\",\"\",(ROUND((CONVERT('Backend Calcs Metric'!T162,\"ft3\",\"m3\")),5)))","v":""},{"$f":"IF('Backend Calcs Metric'!U162=\"\",\"\",(ROUND((CONVERT('Backend Calcs Metric'!U162,\"ft3\",\"m3\")),5)))","v":""},{"$f":"IF('Backend Calcs Metric'!V162=\"\",\"\",(ROUND((CONVERT('Backend Calcs Metric'!V162,\"ft3\",\"m3\")),5)))","v":""},{"$f":"IF('Backend Calcs Metric'!W162=\"\",\"\",(ROUND((CONVERT('Backend Calcs Metric'!W162,\"ft3\",\"m3\")),5)))","v":{"$error":"#VALUE!"}},{"$f":"IF('Backend Calcs Metric'!X162=\"\",\"\",(ROUND((CONVERT('Backend Calcs Metric'!X162,\"ft3\",\"m3\")),5)))","v":""},{"$f":"IF('Backend Calcs Metric'!Y162=\"\",\"\",(ROUND((CONVERT('Backend Calcs Metric'!Y162,\"ft3\",\"m3\")),5)))","v":""},{"$f":"IF('Backend Calcs Metric'!Y162=\"\",\"\",(ROUND((CONVERT('Backend Calcs Metric'!Y162,\"ft3\",\"m3\")),2)))","v":""},{"$f":"IF('Backend Calcs Metric'!AA162=\"\",\"\",(ROUND((CONVERT('Backend Calcs Metric'!Z162,\"ft\",\"m\")),5)))","v":""}]
[{"$f":"IF('Backend Calcs Metric'!P163=\"\",\"\",(ROUND((CONVERT('Backend Calcs Metric'!P163,\"in\",\"mm\")),0)))","v":""},{"$f":"IF('Backend Calcs Metric'!S163=\"\",\"\",(ROUND((CONVERT('Backend Calcs Metric'!S163,\"ft3\",\"m3\")),5)))","v":""},{"$f":"IF('Backend Calcs Metric'!T163=\"\",\"\",(ROUND((CONVERT('Backend Calcs Metric'!T163,\"ft3\",\"m3\")),5)))","v":""},{"$f":"IF('Backend Calcs Metric'!U163=\"\",\"\",(ROUND((CONVERT('Backend Calcs Metric'!U163,\"ft3\",\"m3\")),5)))","v":""},{"$f":"IF('Backend Calcs Metric'!V163=\"\",\"\",(ROUND((CONVERT('Backend Calcs Metric'!V163,\"ft3\",\"m3\")),5)))","v":""},{"$f":"IF('Backend Calcs Metric'!W163=\"\",\"\",(ROUND((CONVERT('Backend Calcs Metric'!W163,\"ft3\",\"m3\")),5)))","v":{"$error":"#VALUE!"}},{"$f":"IF('Backend Calcs Metric'!X163=\"\",\"\",(ROUND((CONVERT('Backend Calcs Metric'!X163,\"ft3\",\"m3\")),5)))","v":""},{"$f":"IF('Backend Calcs Metric'!Y163=\"\",\"\",(ROUND((CONVERT('Backend Calcs Metric'!Y163,\"ft3\",\"m3\")),5)))","v":""},{"$f":"IF('Backend Calcs Metric'!Y163=\"\",\"\",(ROUND((CONVERT('Backend Calcs Metric'!Y163,\"ft3\",\"m3\")),2)))","v":""},{"$f":"IF('Backend Calcs Metric'!AA163=\"\",\"\",(ROUND((CONVERT('Backend Calcs Metric'!Z163,\"ft\",\"m\")),5)))","v":""}]
[{"$f":"IF('Backend Calcs Metric'!P164=\"\",\"\",(ROUND((CONVERT('Backend Calcs Metric'!P164,\"in\",\"mm\")),0)))","v":""},{"$f":"IF('Backend Calcs Metric'!S164=\"\",\"\",(ROUND((CONVERT('Backend Calcs Metric'!S164,\"ft3\",\"m3\")),5)))","v":""},{"$f":"IF('Backend Calcs Metric'!T164=\"\",\"\",(ROUND((CONVERT('Backend Calcs Metric'!T164,\"ft3\",\"m3\")),5)))","v":""},{"$f":"IF('Backend Calcs Metric'!U164=\"\",\"\",(ROUND((CONVERT('Backend Calcs Metric'!U164,\"ft3\",\"m3\")),5)))","v":""},{"$f":"IF('Backend Calcs Metric'!V164=\"\",\"\",(ROUND((CONVERT('Backend Calcs Metric'!V164,\"ft3\",\"m3\")),5)))","v":""},{"$f":"IF('Backend Calcs Metric'!W164=\"\",\"\",(ROUND((CONVERT('Backend Calcs Metric'!W164,\"ft3\",\"m3\")),5)))","v":{"$error":"#VALUE!"}},{"$f":"IF('Backend Calcs Metric'!X164=\"\",\"\",(ROUND((CONVERT('Backend Calcs Metric'!X164,\"ft3\",\"m3\")),5)))","v":""},{"$f":"IF('Backend Calcs Metric'!Y164=\"\",\"\",(ROUND((CONVERT('Backend Calcs Metric'!Y164,\"ft3\",\"m3\")),5)))","v":""},{"$f":"IF('Backend Calcs Metric'!Y164=\"\",\"\",(ROUND((CONVERT('Backend Calcs Metric'!Y164,\"ft3\",\"m3\")),2)))","v":""},{"$f":"IF('Backend Calcs Metric'!AA164=\"\",\"\",(ROUND((CONVERT('Backend Calcs Metric'!Z164,\"ft\",\"m\")),5)))","v":""}]
[{"$f":"IF('Backend Calcs Metric'!P165=\"\",\"\",(ROUND((CONVERT('Backend Calcs Metric'!P165,\"in\",\"mm\")),0)))","v":""},{"$f":"IF('Backend Calcs Metric'!S165=\"\",\"\",(ROUND((CONVERT('Backend Calcs Metric'!S165,\"ft3\",\"m3\")),5)))","v":""},{"$f":"IF('Backend Calcs Metric'!T165=\"\",\"\",(ROUND((CONVERT('Backend Calcs Metric'!T165,\"ft3\",\"m3\")),5)))","v":""},{"$f":"IF('Backend Calcs Metric'!U165=\"\",\"\",(ROUND((CONVERT('Backend Calcs Metric'!U165,\"ft3\",\"m3\")),5)))","v":""},{"$f":"IF('Backend Calcs Metric'!V165=\"\",\"\",(ROUND((CONVERT('Backend Calcs Metric'!V165,\"ft3\",\"m3\")),5)))","v":""},{"$f":"IF('Backend Calcs Metric'!W165=\"\",\"\",(ROUND((CONVERT('Backend Calcs Metric'!W165,\"ft3\",\"m3\")),5)))","v":{"$error":"#VALUE!"}},{"$f":"IF('Backend Calcs Metric'!X165=\"\",\"\",(ROUND((CONVERT('Backend Calcs Metric'!X165,\"ft3\",\"m3\")),5)))","v":""},{"$f":"IF('Backend Calcs Metric'!Y165=\"\",\"\",(ROUND((CONVERT('Backend Calcs Metric'!Y165,\"ft3\",\"m3\")),5)))","v":""},{"$f":"IF('Backend Calcs Metric'!Y165=\"\",\"\",(ROUND((CONVERT('Backend Calcs Metric'!Y165,\"ft3\",\"m3\")),2)))","v":""},{"$f":"IF('Backend Calcs Metric'!AA165=\"\",\"\",(ROUND((CONVERT('Backend Calcs Metric'!Z165,\"ft\",\"m\")),5)))","v":""}]
[{"$f":"IF('Backend Calcs Metric'!P166=\"\",\"\",(ROUND((CONVERT('Backend Calcs Metric'!P166,\"in\",\"mm\")),0)))","v":""},{"$f":"IF('Backend Calcs Metric'!S166=\"\",\"\",(ROUND((CONVERT('Backend Calcs Metric'!S166,\"ft3\",\"m3\")),5)))","v":""},{"$f":"IF('Backend Calcs Metric'!T166=\"\",\"\",(ROUND((CONVERT('Backend Calcs Metric'!T166,\"ft3\",\"m3\")),5)))","v":""},{"$f":"IF('Backend Calcs Metric'!U166=\"\",\"\",(ROUND((CONVERT('Backend Calcs Metric'!U166,\"ft3\",\"m3\")),5)))","v":""},{"$f":"IF('Backend Calcs Metric'!V166=\"\",\"\",(ROUND((CONVERT('Backend Calcs Metric'!V166,\"ft3\",\"m3\")),5)))","v":""},{"$f":"IF('Backend Calcs Metric'!W166=\"\",\"\",(ROUND((CONVERT('Backend Calcs Metric'!W166,\"ft3\",\"m3\")),5)))","v":{"$error":"#VALUE!"}},{"$f":"IF('Backend Calcs Metric'!X166=\"\",\"\",(ROUND((CONVERT('Backend Calcs Metric'!X166,\"ft3\",\"m3\")),5)))","v":""},{"$f":"IF('Backend Calcs Metric'!Y166=\"\",\"\",(ROUND((CONVERT('Backend Calcs Metric'!Y166,\"ft3\",\"m3\")),5)))","v":""},{"$f":"IF('Backend Calcs Metric'!Y166=\"\",\"\",(ROUND((CONVERT('Backend Calcs Metric'!Y166,\"ft3\",\"m3\")),2)))","v":""},{"$f":"IF('Backend Calcs Metric'!AA166=\"\",\"\",(ROUND((CONVERT('Backend Calcs Metric'!Z166,\"ft\",\"m\")),5)))","v":""}]
[{"$f":"IF('Backend Calcs Metric'!P167=\"\",\"\",(ROUND((CONVERT('Backend Calcs Metric'!P167,\"in\",\"mm\")),0)))","v":""},{"$f":"IF('Backend Calcs Metric'!S167=\"\",\"\",(ROUND((CONVERT('Backend Calcs Metric'!S167,\"ft3\",\"m3\")),5)))","v":""},{"$f":"IF('Backend Calcs Metric'!T167=\"\",\"\",(ROUND((CONVERT('Backend Calcs Metric'!T167,\"ft3\",\"m3\")),5)))","v":""},{"$f":"IF('Backend Calcs Metric'!U167=\"\",\"\",(ROUND((CONVERT('Backend Calcs Metric'!U167,\"ft3\",\"m3\")),5)))","v":""},{"$f":"IF('Backend Calcs Metric'!V167=\"\",\"\",(ROUND((CONVERT('Backend Calcs Metric'!V167,\"ft3\",\"m3\")),5)))","v":""},{"$f":"IF('Backend Calcs Metric'!W167=\"\",\"\",(ROUND((CONVERT('Backend Calcs Metric'!W167,\"ft3\",\"m3\")),5)))","v":{"$error":"#VALUE!"}},{"$f":"IF('Backend Calcs Metric'!X167=\"\",\"\",(ROUND((CONVERT('Backend Calcs Metric'!X167,\"ft3\",\"m3\")),5)))","v":""},{"$f":"IF('Backend Calcs Metric'!Y167=\"\",\"\",(ROUND((CONVERT('Backend Calcs Metric'!Y167,\"ft3\",\"m3\")),5)))","v":""},{"$f":"IF('Backend Calcs Metric'!Y167=\"\",\"\",(ROUND((CONVERT('Backend Calcs Metric'!Y167,\"ft3\",\"m3\")),2)))","v":""},{"$f":"IF('Backend Calcs Metric'!AA167=\"\",\"\",(ROUND((CONVERT('Backend Calcs Metric'!Z167,\"ft\",\"m\")),5)))","v":""}]
[{"$f":"IF('Backend Calcs Metric'!P168=\"\",\"\",(ROUND((CONVERT('Backend Calcs Metric'!P168,\"in\",\"mm\")),0)))","v":""},{"$f":"IF('Backend Calcs Metric'!S168=\"\",\"\",(ROUND((CONVERT('Backend Calcs Metric'!S168,\"ft3\",\"m3\")),5)))","v":""},{"$f":"IF('Backend Calcs Metric'!T168=\"\",\"\",(ROUND((CONVERT('Backend Calcs Metric'!T168,\"ft3\",\"m3\")),5)))","v":""},{"$f":"IF('Backend Calcs Metric'!U168=\"\",\"\",(ROUND((CONVERT('Backend Calcs Metric'!U168,\"ft3\",\"m3\")),5)))","v":""},{"$f":"IF('Backend Calcs Metric'!V168=\"\",\"\",(ROUND((CONVERT('Backend Calcs Metric'!V168,\"ft3\",\"m3\")),5)))","v":""},{"$f":"IF('Backend Calcs Metric'!W168=\"\",\"\",(ROUND((CONVERT('Backend Calcs Metric'!W168,\"ft3\",\"m3\")),5)))","v":{"$error":"#VALUE!"}},{"$f":"IF('Backend Calcs Metric'!X168=\"\",\"\",(ROUND((CONVERT('Backend Calcs Metric'!X168,\"ft3\",\"m3\")),5)))","v":""},{"$f":"IF('Backend Calcs Metric'!Y168=\"\",\"\",(ROUND((CONVERT('Backend Calcs Metric'!Y168,\"ft3\",\"m3\")),5)))","v":""},{"$f":"IF('Backend Calcs Metric'!Y168=\"\",\"\",(ROUND((CONVERT('Backend Calcs Metric'!Y168,\"ft3\",\"m3\")),2)))","v":""},{"$f":"IF('Backend Calcs Metric'!AA168=\"\",\"\",(ROUND((CONVERT('Backend Calcs Metric'!Z168,\"ft\",\"m\")),5)))","v":""}]
[{"$f":"IF('Backend Calcs Metric'!P169=\"\",\"\",(ROUND((CONVERT('Backend Calcs Metric'!P169,\"in\",\"mm\")),0)))","v":""},{"$f":"IF('Backend Calcs Metric'!S169=\"\",\"\",(ROUND((CONVERT('Backend Calcs Metric'!S169,\"ft3\",\"m3\")),5)))","v":""},{"$f":"IF('Backend Calcs Metric'!T169=\"\",\"\",(ROUND((CONVERT('Backend Calcs Metric'!T169,\"ft3\",\"m3\")),5)))","v":""},{"$f":"IF('Backend Calcs Metric'!U169=\"\",\"\",(ROUND((CONVERT('Backend Calcs Metric'!U169,\"ft3\",\"m3\")),5)))","v":""},{"$f":"IF('Backend Calcs Metric'!V169=\"\",\"\",(ROUND((CONVERT('Backend Calcs Metric'!V169,\"ft3\",\"m3\")),5)))","v":""},{"$f":"IF('Backend Calcs Metric'!W169=\"\",\"\",(ROUND((CONVERT('Backend Calcs Metric'!W169,\"ft3\",\"m3\")),5)))","v":{"$error":"#VALUE!"}},{"$f":"IF('Backend Calcs Metric'!X169=\"\",\"\",(ROUND((CONVERT('Backend Calcs Metric'!X169,\"ft3\",\"m3\")),5)))","v":""},{"$f":"IF('Backend Calcs Metric'!Y169=\"\",\"\",(ROUND((CONVERT('Backend Calcs Metric'!Y169,\"ft3\",\"m3\")),5)))","v":""},{"$f":"IF('Backend Calcs Metric'!Y169=\"\",\"\",(ROUND((CONVERT('Backend Calcs Metric'!Y169,\"ft3\",\"m3\")),2)))","v":""},{"$f":"IF('Backend Calcs Metric'!AA169=\"\",\"\",(ROUND((CONVERT('Backend Calcs Metric'!Z169,\"ft\",\"m\")),5)))","v":""}]
[{"$f":"IF('Backend Calcs Metric'!P170=\"\",\"\",(ROUND((CONVERT('Backend Calcs Metric'!P170,\"in\",\"mm\")),0)))","v":""},{"$f":"IF('Backend Calcs Metric'!S170=\"\",\"\",(ROUND((CONVERT('Backend Calcs Metric'!S170,\"ft3\",\"m3\")),5)))","v":""},{"$f":"IF('Backend Calcs Metric'!T170=\"\",\"\",(ROUND((CONVERT('Backend Calcs Metric'!T170,\"ft3\",\"m3\")),5)))","v":""},{"$f":"IF('Backend Calcs Metric'!U170=\"\",\"\",(ROUND((CONVERT('Backend Calcs Metric'!U170,\"ft3\",\"m3\")),5)))","v":""},{"$f":"IF('Backend Calcs Metric'!V170=\"\",\"\",(ROUND((CONVERT('Backend Calcs Metric'!V170,\"ft3\",\"m3\")),5)))","v":""},{"$f":"IF('Backend Calcs Metric'!W170=\"\",\"\",(ROUND((CONVERT('Backend Calcs Metric'!W170,\"ft3\",\"m3\")),5)))","v":{"$error":"#VALUE!"}},{"$f":"IF('Backend Calcs Metric'!X170=\"\",\"\",(ROUND((CONVERT('Backend Calcs Metric'!X170,\"ft3\",\"m3\")),5)))","v":""},{"$f":"IF('Backend Calcs Metric'!Y170=\"\",\"\",(ROUND((CONVERT('Backend Calcs Metric'!Y170,\"ft3\",\"m3\")),5)))","v":""},{"$f":"IF('Backend Calcs Metric'!Y170=\"\",\"\",(ROUND((CONVERT('Backend Calcs Metric'!Y170,\"ft3\",\"m3\")),2)))","v":""},{"$f":"IF('Backend Calcs Metric'!AA170=\"\",\"\",(ROUND((CONVERT('Backend Calcs Metric'!Z170,\"ft\",\"m\")),5)))","v":""}]
[{"$f":"IF('Backend Calcs Metric'!P171=\"\",\"\",(ROUND((CONVERT('Backend Calcs Metric'!P171,\"in\",\"mm\")),0)))","v":""},{"$f":"IF('Backend Calcs Metric'!S171=\"\",\"\",(ROUND((CONVERT('Backend Calcs Metric'!S171,\"ft3\",\"m3\")),5)))","v":""},{"$f":"IF('Backend Calcs Metric'!T171=\"\",\"\",(ROUND((CONVERT('Backend Calcs Metric'!T171,\"ft3\",\"m3\")),5)))","v":""},{"$f":"IF('Backend Calcs Metric'!U171=\"\",\"\",(ROUND((CONVERT('Backend Calcs Metric'!U171,\"ft3\",\"m3\")),5)))","v":""},{"$f":"IF('Backend Calcs Metric'!V171=\"\",\"\",(ROUND((CONVERT('Backend Calcs Metric'!V171,\"ft3\",\"m3\")),5)))","v":""},{"$f":"IF('Backend Calcs Metric'!W171=\"\",\"\",(ROUND((CONVERT('Backend Calcs Metric'!W171,\"ft3\",\"m3\")),5)))","v":{"$error":"#VALUE!"}},{"$f":"IF('Backend Calcs Metric'!X171=\"\",\"\",(ROUND((CONVERT('Backend Calcs Metric'!X171,\"ft3\",\"m3\")),5)))","v":""},{"$f":"IF('Backend Calcs Metric'!Y171=\"\",\"\",(ROUND((CONVERT('Backend Calcs Metric'!Y171,\"ft3\",\"m3\")),5)))","v":""},{"$f":"IF('Backend Calcs Metric'!Y171=\"\",\"\",(ROUND((CONVERT('Backend Calcs Metric'!Y171,\"ft3\",\"m3\")),2)))","v":""},{"$f":"IF('Backend Calcs Metric'!AA171=\"\",\"\",(ROUND((CONVERT('Backend Calcs Metric'!Z171,\"ft\",\"m\")),5)))","v":""}]
[{"$f":"IF('Backend Calcs Metric'!P172=\"\",\"\",(ROUND((CONVERT('Backend Calcs Metric'!P172,\"in\",\"mm\")),0)))","v":""},{"$f":"IF('Backend Calcs Metric'!S172=\"\",\"\",(ROUND((CONVERT('Backend Calcs Metric'!S172,\"ft3\",\"m3\")),5)))","v":""},{"$f":"IF('Backend Calcs Metric'!T172=\"\",\"\",(ROUND((CONVERT('Backend Calcs Metric'!T172,\"ft3\",\"m3\")),5)))","v":""},{"$f":"IF('Backend Calcs Metric'!U172=\"\",\"\",(ROUND((CONVERT('Backend Calcs Metric'!U172,\"ft3\",\"m3\")),5)))","v":""},{"$f":"IF('Backend Calcs Metric'!V172=\"\",\"\",(ROUND((CONVERT('Backend Calcs Metric'!V172,\"ft3\",\"m3\")),5)))","v":""},{"$f":"IF('Backend Calcs Metric'!W172=\"\",\"\",(ROUND((CONVERT('Backend Calcs Metric'!W172,\"ft3\",\"m3\")),5)))","v":{"$error":"#VALUE!"}},{"$f":"IF('Backend Calcs Metric'!X172=\"\",\"\",(ROUND((CONVERT('Backend Calcs Metric'!X172,\"ft3\",\"m3\")),5)))","v":""},{"$f":"IF('Backend Calcs Metric'!Y172=\"\",\"\",(ROUND((CONVERT('Backend Calcs Metric'!Y172,\"ft3\",\"m3\")),5)))","v":""},{"$f":"IF('Backend Calcs Metric'!Y172=\"\",\"\",(ROUND((CONVERT('Backend Calcs Metric'!Y172,\"ft3\",\"m3\")),2)))","v":""},{"$f":"IF('Backend Calcs Metric'!AA172=\"\",\"\",(ROUND((CONVERT('Backend Calcs Metric'!Z172,\"ft\",\"m\")),5)))","v":""}]
[{"$f":"IF('Backend Calcs Metric'!P173=\"\",\"\",(ROUND((CONVERT('Backend Calcs Metric'!P173,\"in\",\"mm\")),0)))","v":""},{"$f":"IF('Backend Calcs Metric'!S173=\"\",\"\",(ROUND((CONVERT('Backend Calcs Metric'!S173,\"ft3\",\"m3\")),5)))","v":""},{"$f":"IF('Backend Calcs Metric'!T173=\"\",\"\",(ROUND((CONVERT('Backend Calcs Metric'!T173,\"ft3\",\"m3\")),5)))","v":""},{"$f":"IF('Backend Calcs Metric'!U173=\"\",\"\",(ROUND((CONVERT('Backend Calcs Metric'!U173,\"ft3\",\"m3\")),5)))","v":""},{"$f":"IF('Backend Calcs Metric'!V173=\"\",\"\",(ROUND((CONVERT('Backend Calcs Metric'!V173,\"ft3\",\"m3\")),5)))","v":""},{"$f":"IF('Backend Calcs Metric'!W173=\"\",\"\",(ROUND((CONVERT('Backend Calcs Metric'!W173,\"ft3\",\"m3\")),5)))","v":{"$error":"#VALUE!"}},{"$f":"IF('Backend Calcs Metric'!X173=\"\",\"\",(ROUND((CONVERT('Backend Calcs Metric'!X173,\"ft3\",\"m3\")),5)))","v":""},{"$f":"IF('Backend Calcs Metric'!Y173=\"\",\"\",(ROUND((CONVERT('Backend Calcs Metric'!Y173,\"ft3\",\"m3\")),5)))","v":""},{"$f":"IF('Backend Calcs Metric'!Y173=\"\",\"\",(ROUND((CONVERT('Backend Calcs Metric'!Y173,\"ft3\",\"m3\")),2)))","v":""},{"$f":"IF('Backend Calcs Metric'!AA173=\"\",\"\",(ROUND((CONVERT('Backend Calcs Metric'!Z173,\"ft\",\"m\")),5)))","v":""}]
[{"$f":"IF('Backend Calcs Metric'!P174=\"\",\"\",(ROUND((CONVERT('Backend Calcs Metric'!P174,\"in\",\"mm\")),0)))","v":""},{"$f":"IF('Backend Calcs Metric'!S174=\"\",\"\",(ROUND((CONVERT('Backend Calcs Metric'!S174,\"ft3\",\"m3\")),5)))","v":""},{"$f":"IF('Backend Calcs Metric'!T174=\"\",\"\",(ROUND((CONVERT('Backend Calcs Metric'!T174,\"ft3\",\"m3\")),5)))","v":""},{"$f":"IF('Backend Calcs Metric'!U174=\"\",\"\",(ROUND((CONVERT('Backend Calcs Metric'!U174,\"ft3\",\"m3\")),5)))","v":""},{"$f":"IF('Backend Calcs Metric'!V174=\"\",\"\",(ROUND((CONVERT('Backend Calcs Metric'!V174,\"ft3\",\"m3\")),5)))","v":""},{"$f":"IF('Backend Calcs Metric'!W174=\"\",\"\",(ROUND((CONVERT('Backend Calcs Metric'!W174,\"ft3\",\"m3\")),5)))","v":{"$error":"#VALUE!"}},{"$f":"IF('Backend Calcs Metric'!X174=\"\",\"\",(ROUND((CONVERT('Backend Calcs Metric'!X174,\"ft3\",\"m3\")),5)))","v":""},{"$f":"IF('Backend Calcs Metric'!Y174=\"\",\"\",(ROUND((CONVERT('Backend Calcs Metric'!Y174,\"ft3\",\"m3\")),5)))","v":""},{"$f":"IF('Backend Calcs Metric'!Y174=\"\",\"\",(ROUND((CONVERT('Backend Calcs Metric'!Y174,\"ft3\",\"m3\")),2)))","v":""},{"$f":"IF('Backend Calcs Metric'!AA174=\"\",\"\",(ROUND((CONVERT('Backend Calcs Metric'!Z174,\"ft\",\"m\")),5)))","v":""}]
[{"$f":"IF('Backend Calcs Metric'!P175=\"\",\"\",(ROUND((CONVERT('Backend Calcs Metric'!P175,\"in\",\"mm\")),0)))","v":""},{"$f":"IF('Backend Calcs Metric'!S175=\"\",\"\",(ROUND((CONVERT('Backend Calcs Metric'!S175,\"ft3\",\"m3\")),5)))","v":""},{"$f":"IF('Backend Calcs Metric'!T175=\"\",\"\",(ROUND((CONVERT('Backend Calcs Metric'!T175,\"ft3\",\"m3\")),5)))","v":""},{"$f":"IF('Backend Calcs Metric'!U175=\"\",\"\",(ROUND((CONVERT('Backend Calcs Metric'!U175,\"ft3\",\"m3\")),5)))","v":""},{"$f":"IF('Backend Calcs Metric'!V175=\"\",\"\",(ROUND((CONVERT('Backend Calcs Metric'!V175,\"ft3\",\"m3\")),5)))","v":""},{"$f":"IF('Backend Calcs Metric'!W175=\"\",\"\",(ROUND((CONVERT('Backend Calcs Metric'!W175,\"ft3\",\"m3\")),5)))","v":{"$error":"#VALUE!"}},{"$f":"IF('Backend Calcs Metric'!X175=\"\",\"\",(ROUND((CONVERT('Backend Calcs Metric'!X175,\"ft3\",\"m3\")),5)))","v":""},{"$f":"IF('Backend Calcs Metric'!Y175=\"\",\"\",(ROUND((CONVERT('Backend Calcs Metric'!Y175,\"ft3\",\"m3\")),5)))","v":""},{"$f":"IF('Backend Calcs Metric'!Y175=\"\",\"\",(ROUND((CONVERT('Backend Calcs Metric'!Y175,\"ft3\",\"m3\")),2)))","v":""},{"$f":"IF('Backend Calcs Metric'!AA175=\"\",\"\",(ROUND((CONVERT('Backend Calcs Metric'!Z175,\"ft\",\"m\")),5)))","v":""}]
[{"$f":"IF('Backend Calcs Metric'!P176=\"\",\"\",(ROUND((CONVERT('Backend Calcs Metric'!P176,\"in\",\"mm\")),0)))","v":""},{"$f":"IF('Backend Calcs Metric'!S176=\"\",\"\",(ROUND((CONVERT('Backend Calcs Metric'!S176,\"ft3\",\"m3\")),5)))","v":""},{"$f":"IF('Backend Calcs Metric'!T176=\"\",\"\",(ROUND((CONVERT('Backend Calcs Metric'!T176,\"ft3\",\"m3\")),5)))","v":""},{"$f":"IF('Backend Calcs Metric'!U176=\"\",\"\",(ROUND((CONVERT('Backend Calcs Metric'!U176,\"ft3\",\"m3\")),5)))","v":""},{"$f":"IF('Backend Calcs Metric'!V176=\"\",\"\",(ROUND((CONVERT('Backend Calcs Metric'!V176,\"ft3\",\"m3\")),5)))","v":""},{"$f":"IF('Backend Calcs Metric'!W176=\"\",\"\",(ROUND((CONVERT('Backend Calcs Metric'!W176,\"ft3\",\"m3\")),5)))","v":{"$error":"#VALUE!"}},{"$f":"IF('Backend Calcs Metric'!X176=\"\",\"\",(ROUND((CONVERT('Backend Calcs Metric'!X176,\"ft3\",\"m3\")),5)))","v":""},{"$f":"IF('Backend Calcs Metric'!Y176=\"\",\"\",(ROUND((CONVERT('Backend Calcs Metric'!Y176,\"ft3\",\"m3\")),5)))","v":""},{"$f":"IF('Backend Calcs Metric'!Y176=\"\",\"\",(ROUND((CONVERT('Backend Calcs Metric'!Y176,\"ft3\",\"m3\")),2)))","v":""},{"$f":"IF('Backend Calcs Metric'!AA176=\"\",\"\",(ROUND((CONVERT('Backend Calcs Metric'!Z176,\"ft\",\"m\")),5)))","v":""}]
[{"$f":"IF('Backend Calcs Metric'!P177=\"\",\"\",(ROUND((CONVERT('Backend Calcs Metric'!P177,\"in\",\"mm\")),0)))","v":""},{"$f":"IF('Backend Calcs Metric'!S177=\"\",\"\",(ROUND((CONVERT('Backend Calcs Metric'!S177,\"ft3\",\"m3\")),5)))","v":""},{"$f":"IF('Backend Calcs Metric'!T177=\"\",\"\",(ROUND((CONVERT('Backend Calcs Metric'!T177,\"ft3\",\"m3\")),5)))","v":""},{"$f":"IF('Backend Calcs Metric'!U177=\"\",\"\",(ROUND((CONVERT('Backend Calcs Metric'!U177,\"ft3\",\"m3\")),5)))","v":""},{"$f":"IF('Backend Calcs Metric'!V177=\"\",\"\",(ROUND((CONVERT('Backend Calcs Metric'!V177,\"ft3\",\"m3\")),5)))","v":""},{"$f":"IF('Backend Calcs Metric'!W177=\"\",\"\",(ROUND((CONVERT('Backend Calcs Metric'!W177,\"ft3\",\"m3\")),5)))","v":{"$error":"#VALUE!"}},{"$f":"IF('Backend Calcs Metric'!X177=\"\",\"\",(ROUND((CONVERT('Backend Calcs Metric'!X177,\"ft3\",\"m3\")),5)))","v":""},{"$f":"IF('Backend Calcs Metric'!Y177=\"\",\"\",(ROUND((CONVERT('Backend Calcs Metric'!Y177,\"ft3\",\"m3\")),5)))","v":""},{"$f":"IF('Backend Calcs Metric'!Y177=\"\",\"\",(ROUND((CONVERT('Backend Calcs Metric'!Y177,\"ft3\",\"m3\")),2)))","v":""},{"$f":"IF('Backend Calcs Metric'!AA177=\"\",\"\",(ROUND((CONVERT('Backend Calcs Metric'!Z177,\"ft\",\"m\")),5)))","v":""}]
[{"$f":"IF('Backend Calcs Metric'!P178=\"\",\"\",(ROUND((CONVERT('Backend Calcs Metric'!P178,\"in\",\"mm\")),0)))","v":""},{"$f":"IF('Backend Calcs Metric'!S178=\"\",\"\",(ROUND((CONVERT('Backend Calcs Metric'!S178,\"ft3\",\"m3\")),5)))","v":""},{"$f":"IF('Backend Calcs Metric'!T178=\"\",\"\",(ROUND((CONVERT('Backend Calcs Metric'!T178,\"ft3\",\"m3\")),5)))","v":""},{"$f":"IF('Backend Calcs Metric'!U178=\"\",\"\",(ROUND((CONVERT('Backend Calcs Metric'!U178,\"ft3\",\"m3\")),5)))","v":""},{"$f":"IF('Backend Calcs Metric'!V178=\"\",\"\",(ROUND((CONVERT('Backend Calcs Metric'!V178,\"ft3\",\"m3\")),5)))","v":""},{"$f":"IF('Backend Calcs Metric'!W178=\"\",\"\",(ROUND((CONVERT('Backend Calcs Metric'!W178,\"ft3\",\"m3\")),5)))","v":{"$error":"#VALUE!"}},{"$f":"IF('Backend Calcs Metric'!X178=\"\",\"\",(ROUND((CONVERT('Backend Calcs Metric'!X178,\"ft3\",\"m3\")),5)))","v":""},{"$f":"IF('Backend Calcs Metric'!Y178=\"\",\"\",(ROUND((CONVERT('Backend Calcs Metric'!Y178,\"ft3\",\"m3\")),5)))","v":""},{"$f":"IF('Backend Calcs Metric'!Y178=\"\",\"\",(ROUND((CONVERT('Backend Calcs Metric'!Y178,\"ft3\",\"m3\")),2)))","v":""},{"$f":"IF('Backend Calcs Metric'!AA178=\"\",\"\",(ROUND((CONVERT('Backend Calcs Metric'!Z178,\"ft\",\"m\")),5)))","v":""}]
[{"$f":"IF('Backend Calcs Metric'!P179=\"\",\"\",(ROUND((CONVERT('Backend Calcs Metric'!P179,\"in\",\"mm\")),0)))","v":""},{"$f":"IF('Backend Calcs Metric'!S179=\"\",\"\",(ROUND((CONVERT('Backend Calcs Metric'!S179,\"ft3\",\"m3\")),5)))","v":""},{"$f":"IF('Backend Calcs Metric'!T179=\"\",\"\",(ROUND((CONVERT('Backend Calcs Metric'!T179,\"ft3\",\"m3\")),5)))","v":""},{"$f":"IF('Backend Calcs Metric'!U179=\"\",\"\",(ROUND((CONVERT('Backend Calcs Metric'!U179,\"ft3\",\"m3\")),5)))","v":""},{"$f":"IF('Backend Calcs Metric'!V179=\"\",\"\",(ROUND((CONVERT('Backend Calcs Metric'!V179,\"ft3\",\"m3\")),5)))","v":""},{"$f":"IF('Backend Calcs Metric'!W179=\"\",\"\",(ROUND((CONVERT('Backend Calcs Metric'!W179,\"ft3\",\"m3\")),5)))","v":{"$error":"#VALUE!"}},{"$f":"IF('Backend Calcs Metric'!X179=\"\",\"\",(ROUND((CONVERT('Backend Calcs Metric'!X179,\"ft3\",\"m3\")),5)))","v":""},{"$f":"IF('Backend Calcs Metric'!Y179=\"\",\"\",(ROUND((CONVERT('Backend Calcs Metric'!Y179,\"ft3\",\"m3\")),5)))","v":""},{"$f":"IF('Backend Calcs Metric'!Y179=\"\",\"\",(ROUND((CONVERT('Backend Calcs Metric'!Y179,\"ft3\",\"m3\")),2)))","v":""},{"$f":"IF('Backend Calcs Metric'!AA179=\"\",\"\",(ROUND((CONVERT('Backend Calcs Metric'!Z179,\"ft\",\"m\")),5)))","v":""}]
[{"$f":"IF('Backend Calcs Metric'!P180=\"\",\"\",(ROUND((CONVERT('Backend Calcs Metric'!P180,\"in\",\"mm\")),0)))","v":""},{"$f":"IF('Backend Calcs Metric'!S180=\"\",\"\",(ROUND((CONVERT('Backend Calcs Metric'!S180,\"ft3\",\"m3\")),5)))","v":""},{"$f":"IF('Backend Calcs Metric'!T180=\"\",\"\",(ROUND((CONVERT('Backend Calcs Metric'!T180,\"ft3\",\"m3\")),5)))","v":""},{"$f":"IF('Backend Calcs Metric'!U180=\"\",\"\",(ROUND((CONVERT('Backend Calcs Metric'!U180,\"ft3\",\"m3\")),5)))","v":""},{"$f":"IF('Backend Calcs Metric'!V180=\"\",\"\",(ROUND((CONVERT('Backend Calcs Metric'!V180,\"ft3\",\"m3\")),5)))","v":""},{"$f":"IF('Backend Calcs Metric'!W180=\"\",\"\",(ROUND((CONVERT('Backend Calcs Metric'!W180,\"ft3\",\"m3\")),5)))","v":{"$error":"#VALUE!"}},{"$f":"IF('Backend Calcs Metric'!X180=\"\",\"\",(ROUND((CONVERT('Backend Calcs Metric'!X180,\"ft3\",\"m3\")),5)))","v":""},{"$f":"IF('Backend Calcs Metric'!Y180=\"\",\"\",(ROUND((CONVERT('Backend Calcs Metric'!Y180,\"ft3\",\"m3\")),5)))","v":""},{"$f":"IF('Backend Calcs Metric'!Y180=\"\",\"\",(ROUND((CONVERT('Backend Calcs Metric'!Y180,\"ft3\",\"m3\")),2)))","v":""},{"$f":"IF('Backend Calcs Metric'!AA180=\"\",\"\",(ROUND((CONVERT('Backend Calcs Metric'!Z180,\"ft\",\"m\")),5)))","v":""}]
[{"$f":"IF('Backend Calcs Metric'!P181=\"\",\"\",(ROUND((CONVERT('Backend Calcs Metric'!P181,\"in\",\"mm\")),0)))","v":""},{"$f":"IF('Backend Calcs Metric'!S181=\"\",\"\",(ROUND((CONVERT('Backend Calcs Metric'!S181,\"ft3\",\"m3\")),5)))","v":""},{"$f":"IF('Backend Calcs Metric'!T181=\"\",\"\",(ROUND((CONVERT('Backend Calcs Metric'!T181,\"ft3\",\"m3\")),5)))","v":""},{"$f":"IF('Backend Calcs Metric'!U181=\"\",\"\",(ROUND((CONVERT('Backend Calcs Metric'!U181,\"ft3\",\"m3\")),5)))","v":""},{"$f":"IF('Backend Calcs Metric'!V181=\"\",\"\",(ROUND((CONVERT('Backend Calcs Metric'!V181,\"ft3\",\"m3\")),5)))","v":""},{"$f":"IF('Backend Calcs Metric'!W181=\"\",\"\",(ROUND((CONVERT('Backend Calcs Metric'!W181,\"ft3\",\"m3\")),5)))","v":{"$error":"#VALUE!"}},{"$f":"IF('Backend Calcs Metric'!X181=\"\",\"\",(ROUND((CONVERT('Backend Calcs Metric'!X181,\"ft3\",\"m3\")),5)))","v":""},{"$f":"IF('Backend Calcs Metric'!Y181=\"\",\"\",(ROUND((CONVERT('Backend Calcs Metric'!Y181,\"ft3\",\"m3\")),5)))","v":""},{"$f":"IF('Backend Calcs Metric'!Y181=\"\",\"\",(ROUND((CONVERT('Backend Calcs Metric'!Y181,\"ft3\",\"m3\")),2)))","v":""},{"$f":"IF('Backend Calcs Metric'!AA181=\"\",\"\",(ROUND((CONVERT('Backend Calcs Metric'!Z181,\"ft\",\"m\")),5)))","v":""}]
[{"$f":"IF('Backend Calcs Metric'!P182=\"\",\"\",(ROUND((CONVERT('Backend Calcs Metric'!P182,\"in\",\"mm\")),0)))","v":""},{"$f":"IF('Backend Calcs Metric'!S182=\"\",\"\",(ROUND((CONVERT('Backend Calcs Metric'!S182,\"ft3\",\"m3\")),5)))","v":""},{"$f":"IF('Backend Calcs Metric'!T182=\"\",\"\",(ROUND((CONVERT('Backend Calcs Metric'!T182,\"ft3\",\"m3\")),5)))","v":""},{"$f":"IF('Backend Calcs Metric'!U182=\"\",\"\",(ROUND((CONVERT('Backend Calcs Metric'!U182,\"ft3\",\"m3\")),5)))","v":""},{"$f":"IF('Backend Calcs Metric'!V182=\"\",\"\",(ROUND((CONVERT('Backend Calcs Metric'!V182,\"ft3\",\"m3\")),5)))","v":""},{"$f":"IF('Backend Calcs Metric'!W182=\"\",\"\",(ROUND((CONVERT('Backend Calcs Metric'!W182,\"ft3\",\"m3\")),5)))","v":{"$error":"#VALUE!"}},{"$f":"IF('Backend Calcs Metric'!X182=\"\",\"\",(ROUND((CONVERT('Backend Calcs Metric'!X182,\"ft3\",\"m3\")),5)))","v":""},{"$f":"IF('Backend Calcs Metric'!Y182=\"\",\"\",(ROUND((CONVERT('Backend Calcs Metric'!Y182,\"ft3\",\"m3\")),5)))","v":""},{"$f":"IF('Backend Calcs Metric'!Y182=\"\",\"\",(ROUND((CONVERT('Backend Calcs Metric'!Y182,\"ft3\",\"m3\")),2)))","v":""},{"$f":"IF('Backend Calcs Metric'!AA182=\"\",\"\",(ROUND((CONVERT('Backend Calcs Metric'!Z182,\"ft\",\"m\")),5)))","v":""}]
[{"$f":"IF('Backend Calcs Metric'!P183=\"\",\"\",(ROUND((CONVERT('Backend Calcs Metric'!P183,\"in\",\"mm\")),0)))","v":""},{"$f":"IF('Backend Calcs Metric'!S183=\"\",\"\",(ROUND((CONVERT('Backend Calcs Metric'!S183,\"ft3\",\"m3\")),5)))","v":""},{"$f":"IF('Backend Calcs Metric'!T183=\"\",\"\",(ROUND((CONVERT('Backend Calcs Metric'!T183,\"ft3\",\"m3\")),5)))","v":""},{"$f":"IF('Backend Calcs Metric'!U183=\"\",\"\",(ROUND((CONVERT('Backend Calcs Metric'!U183,\"ft3\",\"m3\")),5)))","v":""},{"$f":"IF('Backend Calcs Metric'!V183=\"\",\"\",(ROUND((CONVERT('Backend Calcs Metric'!V183,\"ft3\",\"m3\")),5)))","v":""},{"$f":"IF('Backend Calcs Metric'!W183=\"\",\"\",(ROUND((CONVERT('Backend Calcs Metric'!W183,\"ft3\",\"m3\")),5)))","v":{"$error":"#VALUE!"}},{"$f":"IF('Backend Calcs Metric'!X183=\"\",\"\",(ROUND((CONVERT('Backend Calcs Metric'!X183,\"ft3\",\"m3\")),5)))","v":""},{"$f":"IF('Backend Calcs Metric'!Y183=\"\",\"\",(ROUND((CONVERT('Backend Calcs Metric'!Y183,\"ft3\",\"m3\")),5)))","v":""},{"$f":"IF('Backend Calcs Metric'!Y183=\"\",\"\",(ROUND((CONVERT('Backend Calcs Metric'!Y183,\"ft3\",\"m3\")),2)))","v":""},{"$f":"IF('Backend Calcs Metric'!AA183=\"\",\"\",(ROUND((CONVERT('Backend Calcs Metric'!Z183,\"ft\",\"m\")),5)))","v":""}]
[{"$f":"IF('Backend Calcs Metric'!P184=\"\",\"\",(ROUND((CONVERT('Backend Calcs Metric'!P184,\"in\",\"mm\")),0)))","v":""},{"$f":"IF('Backend Calcs Metric'!S184=\"\",\"\",(ROUND((CONVERT('Backend Calcs Metric'!S184,\"ft3\",\"m3\")),5)))","v":""},{"$f":"IF('Backend Calcs Metric'!T184=\"\",\"\",(ROUND((CONVERT('Backend Calcs Metric'!T184,\"ft3\",\"m3\")),5)))","v":""},{"$f":"IF('Backend Calcs Metric'!U184=\"\",\"\",(ROUND((CONVERT('Backend Calcs Metric'!U184,\"ft3\",\"m3\")),5)))","v":""},{"$f":"IF('Backend Calcs Metric'!V184=\"\",\"\",(ROUND((CONVERT('Backend Calcs Metric'!V184,\"ft3\",\"m3\")),5)))","v":""},{"$f":"IF('Backend Calcs Metric'!W184=\"\",\"\",(ROUND((CONVERT('Backend Calcs Metric'!W184,\"ft3\",\"m3\")),5)))","v":{"$error":"#VALUE!"}},{"$f":"IF('Backend Calcs Metric'!X184=\"\",\"\",(ROUND((CONVERT('Backend Calcs Metric'!X184,\"ft3\",\"m3\")),5)))","v":""},{"$f":"IF('Backend Calcs Metric'!Y184=\"\",\"\",(ROUND((CONVERT('Backend Calcs Metric'!Y184,\"ft3\",\"m3\")),5)))","v":""},{"$f":"IF('Backend Calcs Metric'!Y184=\"\",\"\",(ROUND((CONVERT('Backend Calcs Metric'!Y184,\"ft3\",\"m3\")),2)))","v":""},{"$f":"IF('Backend Calcs Metric'!AA184=\"\",\"\",(ROUND((CONVERT('Backend Calcs Metric'!Z184,\"ft\",\"m\")),5)))","v":""}]
[{"$f":"IF('Backend Calcs Metric'!P185=\"\",\"\",(ROUND((CONVERT('Backend Calcs Metric'!P185,\"in\",\"mm\")),0)))","v":""},{"$f":"IF('Backend Calcs Metric'!S185=\"\",\"\",(ROUND((CONVERT('Backend Calcs Metric'!S185,\"ft3\",\"m3\")),5)))","v":""},{"$f":"IF('Backend Calcs Metric'!T185=\"\",\"\",(ROUND((CONVERT('Backend Calcs Metric'!T185,\"ft3\",\"m3\")),5)))","v":""},{"$f":"IF('Backend Calcs Metric'!U185=\"\",\"\",(ROUND((CONVERT('Backend Calcs Metric'!U185,\"ft3\",\"m3\")),5)))","v":""},{"$f":"IF('Backend Calcs Metric'!V185=\"\",\"\",(ROUND((CONVERT('Backend Calcs Metric'!V185,\"ft3\",\"m3\")),5)))","v":""},{"$f":"IF('Backend Calcs Metric'!W185=\"\",\"\",(ROUND((CONVERT('Backend Calcs Metric'!W185,\"ft3\",\"m3\")),5)))","v":{"$error":"#VALUE!"}},{"$f":"IF('Backend Calcs Metric'!X185=\"\",\"\",(ROUND((CONVERT('Backend Calcs Metric'!X185,\"ft3\",\"m3\")),5)))","v":""},{"$f":"IF('Backend Calcs Metric'!Y185=\"\",\"\",(ROUND((CONVERT('Backend Calcs Metric'!Y185,\"ft3\",\"m3\")),5)))","v":""},{"$f":"IF('Backend Calcs Metric'!Y185=\"\",\"\",(ROUND((CONVERT('Backend Calcs Metric'!Y185,\"ft3\",\"m3\")),2)))","v":""},{"$f":"IF('Backend Calcs Metric'!AA185=\"\",\"\",(ROUND((CONVERT('Backend Calcs Metric'!Z185,\"ft\",\"m\")),5)))","v":""}]
[{"$f":"IF('Backend Calcs Metric'!P186=\"\",\"\",(ROUND((CONVERT('Backend Calcs Metric'!P186,\"in\",\"mm\")),0)))","v":""},{"$f":"IF('Backend Calcs Metric'!S186=\"\",\"\",(ROUND((CONVERT('Backend Calcs Metric'!S186,\"ft3\",\"m3\")),5)))","v":""},{"$f":"IF('Backend Calcs Metric'!T186=\"\",\"\",(ROUND((CONVERT('Backend Calcs Metric'!T186,\"ft3\",\"m3\")),5)))","v":""},{"$f":"IF('Backend Calcs Metric'!U186=\"\",\"\",(ROUND((CONVERT('Backend Calcs Metric'!U186,\"ft3\",\"m3\")),5)))","v":""},{"$f":"IF('Backend Calcs Metric'!V186=\"\",\"\",(ROUND((CONVERT('Backend Calcs Metric'!V186,\"ft3\",\"m3\")),5)))","v":""},{"$f":"IF('Backend Calcs Metric'!W186=\"\",\"\",(ROUND((CONVERT('Backend Calcs Metric'!W186,\"ft3\",\"m3\")),5)))","v":{"$error":"#VALUE!"}},{"$f":"IF('Backend Calcs Metric'!X186=\"\",\"\",(ROUND((CONVERT('Backend Calcs Metric'!X186,\"ft3\",\"m3\")),5)))","v":""},{"$f":"IF('Backend Calcs Metric'!Y186=\"\",\"\",(ROUND((CONVERT('Backend Calcs Metric'!Y186,\"ft3\",\"m3\")),5)))","v":""},{"$f":"IF('Backend Calcs Metric'!Y186=\"\",\"\",(ROUND((CONVERT('Backend Calcs Metric'!Y186,\"ft3\",\"m3\")),2)))","v":""},{"$f":"IF('Backend Calcs Metric'!AA186=\"\",\"\",(ROUND((CONVERT('Backend Calcs Metric'!Z186,\"ft\",\"m\")),5)))","v":""}]
[{"$f":"IF('Backend Calcs Metric'!P187=\"\",\"\",(ROUND((CONVERT('Backend Calcs Metric'!P187,\"in\",\"mm\")),0)))","v":""},{"$f":"IF('Backend Calcs Metric'!S187=\"\",\"\",(ROUND((CONVERT('Backend Calcs Metric'!S187,\"ft3\",\"m3\")),5)))","v":""},{"$f":"IF('Backend Calcs Metric'!T187=\"\",\"\",(ROUND((CONVERT('Backend Calcs Metric'!T187,\"ft3\",\"m3\")),5)))","v":""},{"$f":"IF('Backend Calcs Metric'!U187=\"\",\"\",(ROUND((CONVERT('Backend Calcs Metric'!U187,\"ft3\",\"m3\")),5)))","v":""},{"$f":"IF('Backend Calcs Metric'!V187=\"\",\"\",(ROUND((CONVERT('Backend Calcs Metric'!V187,\"ft3\",\"m3\")),5)))","v":""},{"$f":"IF('Backend Calcs Metric'!W187=\"\",\"\",(ROUND((CONVERT('Backend Calcs Metric'!W187,\"ft3\",\"m3\")),5)))","v":{"$error":"#VALUE!"}},{"$f":"IF('Backend Calcs Metric'!X187=\"\",\"\",(ROUND((CONVERT('Backend Calcs Metric'!X187,\"ft3\",\"m3\")),5)))","v":""},{"$f":"IF('Backend Calcs Metric'!Y187=\"\",\"\",(ROUND((CONVERT('Backend Calcs Metric'!Y187,\"ft3\",\"m3\")),5)))","v":""},{"$f":"IF('Backend Calcs Metric'!Y187=\"\",\"\",(ROUND((CONVERT('Backend Calcs Metric'!Y187,\"ft3\",\"m3\")),2)))","v":""},{"$f":"IF('Backend Calcs Metric'!AA187=\"\",\"\",(ROUND((CONVERT('Backend Calcs Metric'!Z187,\"ft\",\"m\")),5)))","v":""}]
[{"$f":"IF('Backend Calcs Metric'!P188=\"\",\"\",(ROUND((CONVERT('Backend Calcs Metric'!P188,\"in\",\"mm\")),0)))","v":""},{"$f":"IF('Backend Calcs Metric'!S188=\"\",\"\",(ROUND((CONVERT('Backend Calcs Metric'!S188,\"ft3\",\"m3\")),5)))","v":""},{"$f":"IF('Backend Calcs Metric'!T188=\"\",\"\",(ROUND((CONVERT('Backend Calcs Metric'!T188,\"ft3\",\"m3\")),5)))","v":""},{"$f":"IF('Backend Calcs Metric'!U188=\"\",\"\",(ROUND((CONVERT('Backend Calcs Metric'!U188,\"ft3\",\"m3\")),5)))","v":""},{"$f":"IF('Backend Calcs Metric'!V188=\"\",\"\",(ROUND((CONVERT('Backend Calcs Metric'!V188,\"ft3\",\"m3\")),5)))","v":""},{"$f":"IF('Backend Calcs Metric'!W188=\"\",\"\",(ROUND((CONVERT('Backend Calcs Metric'!W188,\"ft3\",\"m3\")),5)))","v":{"$error":"#VALUE!"}},{"$f":"IF('Backend Calcs Metric'!X188=\"\",\"\",(ROUND((CONVERT('Backend Calcs Metric'!X188,\"ft3\",\"m3\")),5)))","v":""},{"$f":"IF('Backend Calcs Metric'!Y188=\"\",\"\",(ROUND((CONVERT('Backend Calcs Metric'!Y188,\"ft3\",\"m3\")),5)))","v":""},{"$f":"IF('Backend Calcs Metric'!Y188=\"\",\"\",(ROUND((CONVERT('Backend Calcs Metric'!Y188,\"ft3\",\"m3\")),2)))","v":""},{"$f":"IF('Backend Calcs Metric'!AA188=\"\",\"\",(ROUND((CONVERT('Backend Calcs Metric'!Z188,\"ft\",\"m\")),5)))","v":""}]
[{"$f":"IF('Backend Calcs Metric'!P189=\"\",\"\",(ROUND((CONVERT('Backend Calcs Metric'!P189,\"in\",\"mm\")),0)))","v":""},{"$f":"IF('Backend Calcs Metric'!S189=\"\",\"\",(ROUND((CONVERT('Backend Calcs Metric'!S189,\"ft3\",\"m3\")),5)))","v":""},{"$f":"IF('Backend Calcs Metric'!T189=\"\",\"\",(ROUND((CONVERT('Backend Calcs Metric'!T189,\"ft3\",\"m3\")),5)))","v":""},{"$f":"IF('Backend Calcs Metric'!U189=\"\",\"\",(ROUND((CONVERT('Backend Calcs Metric'!U189,\"ft3\",\"m3\")),5)))","v":""},{"$f":"IF('Backend Calcs Metric'!V189=\"\",\"\",(ROUND((CONVERT('Backend Calcs Metric'!V189,\"ft3\",\"m3\")),5)))","v":""},{"$f":"IF('Backend Calcs Metric'!W189=\"\",\"\",(ROUND((CONVERT('Backend Calcs Metric'!W189,\"ft3\",\"m3\")),5)))","v":{"$error":"#VALUE!"}},{"$f":"IF('Backend Calcs Metric'!X189=\"\",\"\",(ROUND((CONVERT('Backend Calcs Metric'!X189,\"ft3\",\"m3\")),5)))","v":""},{"$f":"IF('Backend Calcs Metric'!Y189=\"\",\"\",(ROUND((CONVERT('Backend Calcs Metric'!Y189,\"ft3\",\"m3\")),5)))","v":""},{"$f":"IF('Backend Calcs Metric'!Y189=\"\",\"\",(ROUND((CONVERT('Backend Calcs Metric'!Y189,\"ft3\",\"m3\")),2)))","v":""},{"$f":"IF('Backend Calcs Metric'!AA189=\"\",\"\",(ROUND((CONVERT('Backend Calcs Metric'!Z189,\"ft\",\"m\")),5)))","v":""}]
[{"$f":"IF('Backend Calcs Metric'!P190=\"\",\"\",(ROUND((CONVERT('Backend Calcs Metric'!P190,\"in\",\"mm\")),0)))","v":""},{"$f":"IF('Backend Calcs Metric'!S190=\"\",\"\",(ROUND((CONVERT('Backend Calcs Metric'!S190,\"ft3\",\"m3\")),5)))","v":""},{"$f":"IF('Backend Calcs Metric'!T190=\"\",\"\",(ROUND((CONVERT('Backend Calcs Metric'!T190,\"ft3\",\"m3\")),5)))","v":""},{"$f":"IF('Backend Calcs Metric'!U190=\"\",\"\",(ROUND((CONVERT('Backend Calcs Metric'!U190,\"ft3\",\"m3\")),5)))","v":""},{"$f":"IF('Backend Calcs Metric'!V190=\"\",\"\",(ROUND((CONVERT('Backend Calcs Metric'!V190,\"ft3\",\"m3\")),5)))","v":""},{"$f":"IF('Backend Calcs Metric'!W190=\"\",\"\",(ROUND((CONVERT('Backend Calcs Metric'!W190,\"ft3\",\"m3\")),5)))","v":{"$error":"#VALUE!"}},{"$f":"IF('Backend Calcs Metric'!X190=\"\",\"\",(ROUND((CONVERT('Backend Calcs Metric'!X190,\"ft3\",\"m3\")),5)))","v":""},{"$f":"IF('Backend Calcs Metric'!Y190=\"\",\"\",(ROUND((CONVERT('Backend Calcs Metric'!Y190,\"ft3\",\"m3\")),5)))","v":""},{"$f":"IF('Backend Calcs Metric'!Y190=\"\",\"\",(ROUND((CONVERT('Backend Calcs Metric'!Y190,\"ft3\",\"m3\")),2)))","v":""},{"$f":"IF('Backend Calcs Metric'!AA190=\"\",\"\",(ROUND((CONVERT('Backend Calcs Metric'!Z190,\"ft\",\"m\")),5)))","v":""}]
[{"$f":"IF('Backend Calcs Metric'!P191=\"\",\"\",(ROUND((CONVERT('Backend Calcs Metric'!P191,\"in\",\"mm\")),0)))","v":""},{"$f":"IF('Backend Calcs Metric'!S191=\"\",\"\",(ROUND((CONVERT('Backend Calcs Metric'!S191,\"ft3\",\"m3\")),5)))","v":""},{"$f":"IF('Backend Calcs Metric'!T191=\"\",\"\",(ROUND((CONVERT('Backend Calcs Metric'!T191,\"ft3\",\"m3\")),5)))","v":""},{"$f":"IF('Backend Calcs Metric'!U191=\"\",\"\",(ROUND((CONVERT('Backend Calcs Metric'!U191,\"ft3\",\"m3\")),5)))","v":""},{"$f":"IF('Backend Calcs Metric'!V191=\"\",\"\",(ROUND((CONVERT('Backend Calcs Metric'!V191,\"ft3\",\"m3\")),5)))","v":""},{"$f":"IF('Backend Calcs Metric'!W191=\"\",\"\",(ROUND((CONVERT('Backend Calcs Metric'!W191,\"ft3\",\"m3\")),5)))","v":{"$error":"#VALUE!"}},{"$f":"IF('Backend Calcs Metric'!X191=\"\",\"\",(ROUND((CONVERT('Backend Calcs Metric'!X191,\"ft3\",\"m3\")),5)))","v":""},{"$f":"IF('Backend Calcs Metric'!Y191=\"\",\"\",(ROUND((CONVERT('Backend Calcs Metric'!Y191,\"ft3\",\"m3\")),5)))","v":""},{"$f":"IF('Backend Calcs Metric'!Y191=\"\",\"\",(ROUND((CONVERT('Backend Calcs Metric'!Y191,\"ft3\",\"m3\")),2)))","v":""},{"$f":"IF('Backend Calcs Metric'!AA191=\"\",\"\",(ROUND((CONVERT('Backend Calcs Metric'!Z191,\"ft\",\"m\")),5)))","v":""}]
[{"$f":"IF('Backend Calcs Metric'!P192=\"\",\"\",(ROUND((CONVERT('Backend Calcs Metric'!P192,\"in\",\"mm\")),0)))","v":""},{"$f":"IF('Backend Calcs Metric'!S192=\"\",\"\",(ROUND((CONVERT('Backend Calcs Metric'!S192,\"ft3\",\"m3\")),5)))","v":""},{"$f":"IF('Backend Calcs Metric'!T192=\"\",\"\",(ROUND((CONVERT('Backend Calcs Metric'!T192,\"ft3\",\"m3\")),5)))","v":""},{"$f":"IF('Backend Calcs Metric'!U192=\"\",\"\",(ROUND((CONVERT('Backend Calcs Metric'!U192,\"ft3\",\"m3\")),5)))","v":""},{"$f":"IF('Backend Calcs Metric'!V192=\"\",\"\",(ROUND((CONVERT('Backend Calcs Metric'!V192,\"ft3\",\"m3\")),5)))","v":""},{"$f":"IF('Backend Calcs Metric'!W192=\"\",\"\",(ROUND((CONVERT('Backend Calcs Metric'!W192,\"ft3\",\"m3\")),5)))","v":{"$error":"#VALUE!"}},{"$f":"IF('Backend Calcs Metric'!X192=\"\",\"\",(ROUND((CONVERT('Backend Calcs Metric'!X192,\"ft3\",\"m3\")),5)))","v":""},{"$f":"IF('Backend Calcs Metric'!Y192=\"\",\"\",(ROUND((CONVERT('Backend Calcs Metric'!Y192,\"ft3\",\"m3\")),5)))","v":""},{"$f":"IF('Backend Calcs Metric'!Y192=\"\",\"\",(ROUND((CONVERT('Backend Calcs Metric'!Y192,\"ft3\",\"m3\")),2)))","v":""},{"$f":"IF('Backend Calcs Metric'!AA192=\"\",\"\",(ROUND((CONVERT('Backend Calcs Metric'!Z192,\"ft\",\"m\")),5)))","v":""}]
[{"$f":"IF('Backend Calcs Metric'!P193=\"\",\"\",(ROUND((CONVERT('Backend Calcs Metric'!P193,\"in\",\"mm\")),0)))","v":""},{"$f":"IF('Backend Calcs Metric'!S193=\"\",\"\",(ROUND((CONVERT('Backend Calcs Metric'!S193,\"ft3\",\"m3\")),5)))","v":""},{"$f":"IF('Backend Calcs Metric'!T193=\"\",\"\",(ROUND((CONVERT('Backend Calcs Metric'!T193,\"ft3\",\"m3\")),5)))","v":""},{"$f":"IF('Backend Calcs Metric'!U193=\"\",\"\",(ROUND((CONVERT('Backend Calcs Metric'!U193,\"ft3\",\"m3\")),5)))","v":""},{"$f":"IF('Backend Calcs Metric'!V193=\"\",\"\",(ROUND((CONVERT('Backend Calcs Metric'!V193,\"ft3\",\"m3\")),5)))","v":""},{"$f":"IF('Backend Calcs Metric'!W193=\"\",\"\",(ROUND((CONVERT('Backend Calcs Metric'!W193,\"ft3\",\"m3\")),5)))","v":{"$error":"#VALUE!"}},{"$f":"IF('Backend Calcs Metric'!X193=\"\",\"\",(ROUND((CONVERT('Backend Calcs Metric'!X193,\"ft3\",\"m3\")),5)))","v":""},{"$f":"IF('Backend Calcs Metric'!Y193=\"\",\"\",(ROUND((CONVERT('Backend Calcs Metric'!Y193,\"ft3\",\"m3\")),5)))","v":""},{"$f":"IF('Backend Calcs Metric'!Y193=\"\",\"\",(ROUND((CONVERT('Backend Calcs Metric'!Y193,\"ft3\",\"m3\")),2)))","v":""},{"$f":"IF('Backend Calcs Metric'!AA193=\"\",\"\",(ROUND((CONVERT('Backend Calcs Metric'!Z193,\"ft\",\"m\")),5)))","v":""}]
[{"$f":"IF('Backend Calcs Metric'!P194=\"\",\"\",(ROUND((CONVERT('Backend Calcs Metric'!P194,\"in\",\"mm\")),0)))","v":""},{"$f":"IF('Backend Calcs Metric'!S194=\"\",\"\",(ROUND((CONVERT('Backend Calcs Metric'!S194,\"ft3\",\"m3\")),5)))","v":""},{"$f":"IF('Backend Calcs Metric'!T194=\"\",\"\",(ROUND((CONVERT('Backend Calcs Metric'!T194,\"ft3\",\"m3\")),5)))","v":""},{"$f":"IF('Backend Calcs Metric'!U194=\"\",\"\",(ROUND((CONVERT('Backend Calcs Metric'!U194,\"ft3\",\"m3\")),5)))","v":""},{"$f":"IF('Backend Calcs Metric'!V194=\"\",\"\",(ROUND((CONVERT('Backend Calcs Metric'!V194,\"ft3\",\"m3\")),5)))","v":""},{"$f":"IF('Backend Calcs Metric'!W194=\"\",\"\",(ROUND((CONVERT('Backend Calcs Metric'!W194,\"ft3\",\"m3\")),5)))","v":{"$error":"#VALUE!"}},{"$f":"IF('Backend Calcs Metric'!X194=\"\",\"\",(ROUND((CONVERT('Backend Calcs Metric'!X194,\"ft3\",\"m3\")),5)))","v":""},{"$f":"IF('Backend Calcs Metric'!Y194=\"\",\"\",(ROUND((CONVERT('Backend Calcs Metric'!Y194,\"ft3\",\"m3\")),5)))","v":""},{"$f":"IF('Backend Calcs Metric'!Y194=\"\",\"\",(ROUND((CONVERT('Backend Calcs Metric'!Y194,\"ft3\",\"m3\")),2)))","v":""},{"$f":"IF('Backend Calcs Metric'!AA194=\"\",\"\",(ROUND((CONVERT('Backend Calcs Metric'!Z194,\"ft\",\"m\")),5)))","v":""}]
[{"$f":"IF('Backend Calcs Metric'!P195=\"\",\"\",(ROUND((CONVERT('Backend Calcs Metric'!P195,\"in\",\"mm\")),0)))","v":""},{"$f":"IF('Backend Calcs Metric'!S195=\"\",\"\",(ROUND((CONVERT('Backend Calcs Metric'!S195,\"ft3\",\"m3\")),5)))","v":""},{"$f":"IF('Backend Calcs Metric'!T195=\"\",\"\",(ROUND((CONVERT('Backend Calcs Metric'!T195,\"ft3\",\"m3\")),5)))","v":""},{"$f":"IF('Backend Calcs Metric'!U195=\"\",\"\",(ROUND((CONVERT('Backend Calcs Metric'!U195,\"ft3\",\"m3\")),5)))","v":""},{"$f":"IF('Backend Calcs Metric'!V195=\"\",\"\",(ROUND((CONVERT('Backend Calcs Metric'!V195,\"ft3\",\"m3\")),5)))","v":""},{"$f":"IF('Backend Calcs Metric'!W195=\"\",\"\",(ROUND((CONVERT('Backend Calcs Metric'!W195,\"ft3\",\"m3\")),5)))","v":{"$error":"#VALUE!"}},{"$f":"IF('Backend Calcs Metric'!X195=\"\",\"\",(ROUND((CONVERT('Backend Calcs Metric'!X195,\"ft3\",\"m3\")),5)))","v":""},{"$f":"IF('Backend Calcs Metric'!Y195=\"\",\"\",(ROUND((CONVERT('Backend Calcs Metric'!Y195,\"ft3\",\"m3\")),5)))","v":""},{"$f":"IF('Backend Calcs Metric'!Y195=\"\",\"\",(ROUND((CONVERT('Backend Calcs Metric'!Y195,\"ft3\",\"m3\")),2)))","v":""},{"$f":"IF('Backend Calcs Metric'!AA195=\"\",\"\",(ROUND((CONVERT('Backend Calcs Metric'!Z195,\"ft\",\"m\")),5)))","v":""}]
[{"$f":"IF('Backend Calcs Metric'!P196=\"\",\"\",(ROUND((CONVERT('Backend Calcs Metric'!P196,\"in\",\"mm\")),0)))","v":""},{"$f":"IF('Backend Calcs Metric'!S196=\"\",\"\",(ROUND((CONVERT('Backend Calcs Metric'!S196,\"ft3\",\"m3\")),5)))","v":""},{"$f":"IF('Backend Calcs Metric'!T196=\"\",\"\",(ROUND((CONVERT('Backend Calcs Metric'!T196,\"ft3\",\"m3\")),5)))","v":""},{"$f":"IF('Backend Calcs Metric'!U196=\"\",\"\",(ROUND((CONVERT('Backend Calcs Metric'!U196,\"ft3\",\"m3\")),5)))","v":""},{"$f":"IF('Backend Calcs Metric'!V196=\"\",\"\",(ROUND((CONVERT('Backend Calcs Metric'!V196,\"ft3\",\"m3\")),5)))","v":""},{"$f":"IF('Backend Calcs Metric'!W196=\"\",\"\",(ROUND((CONVERT('Backend Calcs Metric'!W196,\"ft3\",\"m3\")),5)))","v":{"$error":"#VALUE!"}},{"$f":"IF('Backend Calcs Metric'!X196=\"\",\"\",(ROUND((CONVERT('Backend Calcs Metric'!X196,\"ft3\",\"m3\")),5)))","v":""},{"$f":"IF('Backend Calcs Metric'!Y196=\"\",\"\",(ROUND((CONVERT('Backend Calcs Metric'!Y196,\"ft3\",\"m3\")),5)))","v":""},{"$f":"IF('Backend Calcs Metric'!Y196=\"\",\"\",(ROUND((CONVERT('Backend Calcs Metric'!Y196,\"ft3\",\"m3\")),2)))","v":""},{"$f":"IF('Backend Calcs Metric'!AA196=\"\",\"\",(ROUND((CONVERT('Backend Calcs Metric'!Z196,\"ft\",\"m\")),5)))","v":""}]
[{"$f":"IF('Backend Calcs Metric'!P197=\"\",\"\",(ROUND((CONVERT('Backend Calcs Metric'!P197,\"in\",\"mm\")),0)))","v":""},{"$f":"IF('Backend Calcs Metric'!S197=\"\",\"\",(ROUND((CONVERT('Backend Calcs Metric'!S197,\"ft3\",\"m3\")),5)))","v":""},{"$f":"IF('Backend Calcs Metric'!T197=\"\",\"\",(ROUND((CONVERT('Backend Calcs Metric'!T197,\"ft3\",\"m3\")),5)))","v":""},{"$f":"IF('Backend Calcs Metric'!U197=\"\",\"\",(ROUND((CONVERT('Backend Calcs Metric'!U197,\"ft3\",\"m3\")),5)))","v":""},{"$f":"IF('Backend Calcs Metric'!V197=\"\",\"\",(ROUND((CONVERT('Backend Calcs Metric'!V197,\"ft3\",\"m3\")),5)))","v":""},{"$f":"IF('Backend Calcs Metric'!W197=\"\",\"\",(ROUND((CONVERT('Backend Calcs Metric'!W197,\"ft3\",\"m3\")),5)))","v":{"$error":"#VALUE!"}},{"$f":"IF('Backend Calcs Metric'!X197=\"\",\"\",(ROUND((CONVERT('Backend Calcs Metric'!X197,\"ft3\",\"m3\")),5)))","v":""},{"$f":"IF('Backend Calcs Metric'!Y197=\"\",\"\",(ROUND((CONVERT('Backend Calcs Metric'!Y197,\"ft3\",\"m3\")),5)))","v":""},{"$f":"IF('Backend Calcs Metric'!Y197=\"\",\"\",(ROUND((CONVERT('Backend Calcs Metric'!Y197,\"ft3\",\"m3\")),2)))","v":""},{"$f":"IF('Backend Calcs Metric'!AA197=\"\",\"\",(ROUND((CONVERT('Backend Calcs Metric'!Z197,\"ft\",\"m\")),5)))","v":""}]
[{"$f":"IF('Backend Calcs Metric'!P198=\"\",\"\",(ROUND((CONVERT('Backend Calcs Metric'!P198,\"in\",\"mm\")),0)))","v":""},{"$f":"IF('Backend Calcs Metric'!S198=\"\",\"\",(ROUND((CONVERT('Backend Calcs Metric'!S198,\"ft3\",\"m3\")),5)))","v":""},{"$f":"IF('Backend Calcs Metric'!T198=\"\",\"\",(ROUND((CONVERT('Backend Calcs Metric'!T198,\"ft3\",\"m3\")),5)))","v":""},{"$f":"IF('Backend Calcs Metric'!U198=\"\",\"\",(ROUND((CONVERT('Backend Calcs Metric'!U198,\"ft3\",\"m3\")),5)))","v":""},{"$f":"IF('Backend Calcs Metric'!V198=\"\",\"\",(ROUND((CONVERT('Backend Calcs Metric'!V198,\"ft3\",\"m3\")),5)))","v":""},{"$f":"IF('Backend Calcs Metric'!W198=\"\",\"\",(ROUND((CONVERT('Backend Calcs Metric'!W198,\"ft3\",\"m3\")),5)))","v":{"$error":"#VALUE!"}},{"$f":"IF('Backend Calcs Metric'!X198=\"\",\"\",(ROUND((CONVERT('Backend Calcs Metric'!X198,\"ft3\",\"m3\")),5)))","v":""},{"$f":"IF('Backend Calcs Metric'!Y198=\"\",\"\",(ROUND((CONVERT('Backend Calcs Metric'!Y198,\"ft3\",\"m3\")),5)))","v":""},{"$f":"IF('Backend Calcs Metric'!Y198=\"\",\"\",(ROUND((CONVERT('Backend Calcs Metric'!Y198,\"ft3\",\"m3\")),2)))","v":""},{"$f":"IF('Backend Calcs Metric'!AA198=\"\",\"\",(ROUND((CONVERT('Backend Calcs Metric'!Z198,\"ft\",\"m\")),5)))","v":""}]
[{"$f":"IF('Backend Calcs Metric'!P199=\"\",\"\",(ROUND((CONVERT('Backend Calcs Metric'!P199,\"in\",\"mm\")),0)))","v":""},{"$f":"IF('Backend Calcs Metric'!S199=\"\",\"\",(ROUND((CONVERT('Backend Calcs Metric'!S199,\"ft3\",\"m3\")),5)))","v":""},{"$f":"IF('Backend Calcs Metric'!T199=\"\",\"\",(ROUND((CONVERT('Backend Calcs Metric'!T199,\"ft3\",\"m3\")),5)))","v":""},{"$f":"IF('Backend Calcs Metric'!U199=\"\",\"\",(ROUND((CONVERT('Backend Calcs Metric'!U199,\"ft3\",\"m3\")),5)))","v":""},{"$f":"IF('Backend Calcs Metric'!V199=\"\",\"\",(ROUND((CONVERT('Backend Calcs Metric'!V199,\"ft3\",\"m3\")),5)))","v":""},{"$f":"IF('Backend Calcs Metric'!W199=\"\",\"\",(ROUND((CONVERT('Backend Calcs Metric'!W199,\"ft3\",\"m3\")),5)))","v":{"$error":"#VALUE!"}},{"$f":"IF('Backend Calcs Metric'!X199=\"\",\"\",(ROUND((CONVERT('Backend Calcs Metric'!X199,\"ft3\",\"m3\")),5)))","v":""},{"$f":"IF('Backend Calcs Metric'!Y199=\"\",\"\",(ROUND((CONVERT('Backend Calcs Metric'!Y199,\"ft3\",\"m3\")),5)))","v":""},{"$f":"IF('Backend Calcs Metric'!Y199=\"\",\"\",(ROUND((CONVERT('Backend Calcs Metric'!Y199,\"ft3\",\"m3\")),2)))","v":""},{"$f":"IF('Backend Calcs Metric'!AA199=\"\",\"\",(ROUND((CONVERT('Backend Calcs Metric'!Z199,\"ft\",\"m\")),5)))","v":""}]
[{"$f":"IF('Backend Calcs Metric'!P200=\"\",\"\",(ROUND((CONVERT('Backend Calcs Metric'!P200,\"in\",\"mm\")),0)))","v":""},{"$f":"IF('Backend Calcs Metric'!S200=\"\",\"\",(ROUND((CONVERT('Backend Calcs Metric'!S200,\"ft3\",\"m3\")),5)))","v":""},{"$f":"IF('Backend Calcs Metric'!T200=\"\",\"\",(ROUND((CONVERT('Backend Calcs Metric'!T200,\"ft3\",\"m3\")),5)))","v":""},{"$f":"IF('Backend Calcs Metric'!U200=\"\",\"\",(ROUND((CONVERT('Backend Calcs Metric'!U200,\"ft3\",\"m3\")),5)))","v":""},{"$f":"IF('Backend Calcs Metric'!V200=\"\",\"\",(ROUND((CONVERT('Backend Calcs Metric'!V200,\"ft3\",\"m3\")),5)))","v":""},{"$f":"IF('Backend Calcs Metric'!W200=\"\",\"\",(ROUND((CONVERT('Backend Calcs Metric'!W200,\"ft3\",\"m3\")),5)))","v":{"$error":"#VALUE!"}},{"$f":"IF('Backend Calcs Metric'!X200=\"\",\"\",(ROUND((CONVERT('Backend Calcs Metric'!X200,\"ft3\",\"m3\")),5)))","v":""},{"$f":"IF('Backend Calcs Metric'!Y200=\"\",\"\",(ROUND((CONVERT('Backend Calcs Metric'!Y200,\"ft3\",\"m3\")),5)))","v":""},{"$f":"IF('Backend Calcs Metric'!Y200=\"\",\"\",(ROUND((CONVERT('Backend Calcs Metric'!Y200,\"ft3\",\"m3\")),2)))","v":""},{"$f":"IF('Backend Calcs Metric'!AA200=\"\",\"\",(ROUND((CONVERT('Backend Calcs Metric'!Z200,\"ft\",\"m\")),5)))","v":""}]
[{"$f":"IF('Backend Calcs Metric'!P201=\"\",\"\",(ROUND((CONVERT('Backend Calcs Metric'!P201,\"in\",\"mm\")),0)))","v":""},{"$f":"IF('Backend Calcs Metric'!S201=\"\",\"\",(ROUND((CONVERT('Backend Calcs Metric'!S201,\"ft3\",\"m3\")),5)))","v":""},{"$f":"IF('Backend Calcs Metric'!T201=\"\",\"\",(ROUND((CONVERT('Backend Calcs Metric'!T201,\"ft3\",\"m3\")),5)))","v":""},{"$f":"IF('Backend Calcs Metric'!U201=\"\",\"\",(ROUND((CONVERT('Backend Calcs Metric'!U201,\"ft3\",\"m3\")),5)))","v":""},{"$f":"IF('Backend Calcs Metric'!V201=\"\",\"\",(ROUND((CONVERT('Backend Calcs Metric'!V201,\"ft3\",\"m3\")),5)))","v":""},{"$f":"IF('Backend Calcs Metric'!W201=\"\",\"\",(ROUND((CONVERT('Backend Calcs Metric'!W201,\"ft3\",\"m3\")),5)))","v":{"$error":"#VALUE!"}},{"$f":"IF('Backend Calcs Metric'!X201=\"\",\"\",(ROUND((CONVERT('Backend Calcs Metric'!X201,\"ft3\",\"m3\")),5)))","v":""},{"$f":"IF('Backend Calcs Metric'!Y201=\"\",\"\",(ROUND((CONVERT('Backend Calcs Metric'!Y201,\"ft3\",\"m3\")),5)))","v":""},{"$f":"IF('Backend Calcs Metric'!Y201=\"\",\"\",(ROUND((CONVERT('Backend Calcs Metric'!Y201,\"ft3\",\"m3\")),2)))","v":""},{"$f":"IF('Backend Calcs Metric'!AA201=\"\",\"\",(ROUND((CONVERT('Backend Calcs Metric'!Z201,\"ft\",\"m\")),5)))","v":""}]
[{"$f":"IF('Backend Calcs Metric'!P202=\"\",\"\",(ROUND((CONVERT('Backend Calcs Metric'!P202,\"in\",\"mm\")),0)))","v":""},{"$f":"IF('Backend Calcs Metric'!S202=\"\",\"\",(ROUND((CONVERT('Backend Calcs Metric'!S202,\"ft3\",\"m3\")),5)))","v":""},{"$f":"IF('Backend Calcs Metric'!T202=\"\",\"\",(ROUND((CONVERT('Backend Calcs Metric'!T202,\"ft3\",\"m3\")),5)))","v":""},{"$f":"IF('Backend Calcs Metric'!U202=\"\",\"\",(ROUND((CONVERT('Backend Calcs Metric'!U202,\"ft3\",\"m3\")),5)))","v":""},{"$f":"IF('Backend Calcs Metric'!V202=\"\",\"\",(ROUND((CONVERT('Backend Calcs Metric'!V202,\"ft3\",\"m3\")),5)))","v":""},{"$f":"IF('Backend Calcs Metric'!W202=\"\",\"\",(ROUND((CONVERT('Backend Calcs Metric'!W202,\"ft3\",\"m3\")),5)))","v":{"$error":"#VALUE!"}},{"$f":"IF('Backend Calcs Metric'!X202=\"\",\"\",(ROUND((CONVERT('Backend Calcs Metric'!X202,\"ft3\",\"m3\")),5)))","v":""},{"$f":"IF('Backend Calcs Metric'!Y202=\"\",\"\",(ROUND((CONVERT('Backend Calcs Metric'!Y202,\"ft3\",\"m3\")),5)))","v":""},{"$f":"IF('Backend Calcs Metric'!Y202=\"\",\"\",(ROUND((CONVERT('Backend Calcs Metric'!Y202,\"ft3\",\"m3\")),2)))","v":""},{"$f":"IF('Backend Calcs Metric'!AA202=\"\",\"\",(ROUND((CONVERT('Backend Calcs Metric'!Z202,\"ft\",\"m\")),5)))","v":""}]
[{"$f":"IF('Backend Calcs Metric'!P203=\"\",\"\",(ROUND((CONVERT('Backend Calcs Metric'!P203,\"in\",\"mm\")),0)))","v":""},{"$f":"IF('Backend Calcs Metric'!S203=\"\",\"\",(ROUND((CONVERT('Backend Calcs Metric'!S203,\"ft3\",\"m3\")),5)))","v":""},{"$f":"IF('Backend Calcs Metric'!T203=\"\",\"\",(ROUND((CONVERT('Backend Calcs Metric'!T203,\"ft3\",\"m3\")),5)))","v":""},{"$f":"IF('Backend Calcs Metric'!U203=\"\",\"\",(ROUND((CONVERT('Backend Calcs Metric'!U203,\"ft3\",\"m3\")),5)))","v":""},{"$f":"IF('Backend Calcs Metric'!V203=\"\",\"\",(ROUND((CONVERT('Backend Calcs Metric'!V203,\"ft3\",\"m3\")),5)))","v":""},{"$f":"IF('Backend Calcs Metric'!W203=\"\",\"\",(ROUND((CONVERT('Backend Calcs Metric'!W203,\"ft3\",\"m3\")),5)))","v":{"$error":"#VALUE!"}},{"$f":"IF('Backend Calcs Metric'!X203=\"\",\"\",(ROUND((CONVERT('Backend Calcs Metric'!X203,\"ft3\",\"m3\")),5)))","v":""},{"$f":"IF('Backend Calcs Metric'!Y203=\"\",\"\",(ROUND((CONVERT('Backend Calcs Metric'!Y203,\"ft3\",\"m3\")),5)))","v":""},{"$f":"IF('Backend Calcs Metric'!Y203=\"\",\"\",(ROUND((CONVERT('Backend Calcs Metric'!Y203,\"ft3\",\"m3\")),2)))","v":""},{"$f":"IF('Backend Calcs Metric'!AA203=\"\",\"\",(ROUND((CONVERT('Backend Calcs Metric'!Z203,\"ft\",\"m\")),5)))","v":""}]
[{"$f":"IF('Backend Calcs Metric'!P204=\"\",\"\",(ROUND((CONVERT('Backend Calcs Metric'!P204,\"in\",\"mm\")),0)))","v":""},{"$f":"IF('Backend Calcs Metric'!S204=\"\",\"\",(ROUND((CONVERT('Backend Calcs Metric'!S204,\"ft3\",\"m3\")),5)))","v":""},{"$f":"IF('Backend Calcs Metric'!T204=\"\",\"\",(ROUND((CONVERT('Backend Calcs Metric'!T204,\"ft3\",\"m3\")),5)))","v":""},{"$f":"IF('Backend Calcs Metric'!U204=\"\",\"\",(ROUND((CONVERT('Backend Calcs Metric'!U204,\"ft3\",\"m3\")),5)))","v":""},{"$f":"IF('Backend Calcs Metric'!V204=\"\",\"\",(ROUND((CONVERT('Backend Calcs Metric'!V204,\"ft3\",\"m3\")),5)))","v":""},{"$f":"IF('Backend Calcs Metric'!W204=\"\",\"\",(ROUND((CONVERT('Backend Calcs Metric'!W204,\"ft3\",\"m3\")),5)))","v":{"$error":"#VALUE!"}},{"$f":"IF('Backend Calcs Metric'!X204=\"\",\"\",(ROUND((CONVERT('Backend Calcs Metric'!X204,\"ft3\",\"m3\")),5)))","v":""},{"$f":"IF('Backend Calcs Metric'!Y204=\"\",\"\",(ROUND((CONVERT('Backend Calcs Metric'!Y204,\"ft3\",\"m3\")),5)))","v":""},{"$f":"IF('Backend Calcs Metric'!Y204=\"\",\"\",(ROUND((CONVERT('Backend Calcs Metric'!Y204,\"ft3\",\"m3\")),2)))","v":""},{"$f":"IF('Backend Calcs Metric'!AA204=\"\",\"\",(ROUND((CONVERT('Backend Calcs Metric'!Z204,\"ft\",\"m\")),5)))","v":""}]
[{"$f":"IF('Backend Calcs Metric'!P205=\"\",\"\",(ROUND((CONVERT('Backend Calcs Metric'!P205,\"in\",\"mm\")),0)))","v":""},{"$f":"IF('Backend Calcs Metric'!S205=\"\",\"\",(ROUND((CONVERT('Backend Calcs Metric'!S205,\"ft3\",\"m3\")),5)))","v":""},{"$f":"IF('Backend Calcs Metric'!T205=\"\",\"\",(ROUND((CONVERT('Backend Calcs Metric'!T205,\"ft3\",\"m3\")),5)))","v":""},{"$f":"IF('Backend Calcs Metric'!U205=\"\",\"\",(ROUND((CONVERT('Backend Calcs Metric'!U205,\"ft3\",\"m3\")),5)))","v":""},{"$f":"IF('Backend Calcs Metric'!V205=\"\",\"\",(ROUND((CONVERT('Backend Calcs Metric'!V205,\"ft3\",\"m3\")),5)))","v":""},{"$f":"IF('Backend Calcs Metric'!W205=\"\",\"\",(ROUND((CONVERT('Backend Calcs Metric'!W205,\"ft3\",\"m3\")),5)))","v":{"$error":"#VALUE!"}},{"$f":"IF('Backend Calcs Metric'!X205=\"\",\"\",(ROUND((CONVERT('Backend Calcs Metric'!X205,\"ft3\",\"m3\")),5)))","v":""},{"$f":"IF('Backend Calcs Metric'!Y205=\"\",\"\",(ROUND((CONVERT('Backend Calcs Metric'!Y205,\"ft3\",\"m3\")),5)))","v":""},{"$f":"IF('Backend Calcs Metric'!Y205=\"\",\"\",(ROUND((CONVERT('Backend Calcs Metric'!Y205,\"ft3\",\"m3\")),2)))","v":""},{"$f":"IF('Backend Calcs Metric'!AA205=\"\",\"\",(ROUND((CONVERT('Backend Calcs Metric'!Z205,\"ft\",\"m\")),5)))","v":""}]
[{"$f":"IF('Backend Calcs Metric'!P206=\"\",\"\",(ROUND((CONVERT('Backend Calcs Metric'!P206,\"in\",\"mm\")),0)))","v":""},{"$f":"IF('Backend Calcs Metric'!S206=\"\",\"\",(ROUND((CONVERT('Backend Calcs Metric'!S206,\"ft3\",\"m3\")),5)))","v":""},{"$f":"IF('Backend Calcs Metric'!T206=\"\",\"\",(ROUND((CONVERT('Backend Calcs Metric'!T206,\"ft3\",\"m3\")),5)))","v":""},{"$f":"IF('Backend Calcs Metric'!U206=\"\",\"\",(ROUND((CONVERT('Backend Calcs Metric'!U206,\"ft3\",\"m3\")),5)))","v":""},{"$f":"IF('Backend Calcs Metric'!V206=\"\",\"\",(ROUND((CONVERT('Backend Calcs Metric'!V206,\"ft3\",\"m3\")),5)))","v":""},{"$f":"IF('Backend Calcs Metric'!W206=\"\",\"\",(ROUND((CONVERT('Backend Calcs Metric'!W206,\"ft3\",\"m3\")),5)))","v":{"$error":"#VALUE!"}},{"$f":"IF('Backend Calcs Metric'!X206=\"\",\"\",(ROUND((CONVERT('Backend Calcs Metric'!X206,\"ft3\",\"m3\")),5)))","v":""},{"$f":"IF('Backend Calcs Metric'!Y206=\"\",\"\",(ROUND((CONVERT('Backend Calcs Metric'!Y206,\"ft3\",\"m3\")),5)))","v":""},{"$f":"IF('Backend Calcs Metric'!Y206=\"\",\"\",(ROUND((CONVERT('Backend Calcs Metric'!Y206,\"ft3\",\"m3\")),2)))","v":""},{"$f":"IF('Backend Calcs Metric'!AA206=\"\",\"\",(ROUND((CONVERT('Backend Calcs Metric'!Z206,\"ft\",\"m\")),5)))","v":""}]
[{"$f":"IF('Backend Calcs Metric'!P207=\"\",\"\",(ROUND((CONVERT('Backend Calcs Metric'!P207,\"in\",\"mm\")),0)))","v":""},{"$f":"IF('Backend Calcs Metric'!S207=\"\",\"\",(ROUND((CONVERT('Backend Calcs Metric'!S207,\"ft3\",\"m3\")),5)))","v":""},{"$f":"IF('Backend Calcs Metric'!T207=\"\",\"\",(ROUND((CONVERT('Backend Calcs Metric'!T207,\"ft3\",\"m3\")),5)))","v":""},{"$f":"IF('Backend Calcs Metric'!U207=\"\",\"\",(ROUND((CONVERT('Backend Calcs Metric'!U207,\"ft3\",\"m3\")),5)))","v":""},{"$f":"IF('Backend Calcs Metric'!V207=\"\",\"\",(ROUND((CONVERT('Backend Calcs Metric'!V207,\"ft3\",\"m3\")),5)))","v":""},{"$f":"IF('Backend Calcs Metric'!W207=\"\",\"\",(ROUND((CONVERT('Backend Calcs Metric'!W207,\"ft3\",\"m3\")),5)))","v":{"$error":"#VALUE!"}},{"$f":"IF('Backend Calcs Metric'!X207=\"\",\"\",(ROUND((CONVERT('Backend Calcs Metric'!X207,\"ft3\",\"m3\")),5)))","v":""},{"$f":"IF('Backend Calcs Metric'!Y207=\"\",\"\",(ROUND((CONVERT('Backend Calcs Metric'!Y207,\"ft3\",\"m3\")),5)))","v":""},{"$f":"IF('Backend Calcs Metric'!Y207=\"\",\"\",(ROUND((CONVERT('Backend Calcs Metric'!Y207,\"ft3\",\"m3\")),2)))","v":""},{"$f":"IF('Backend Calcs Metric'!AA207=\"\",\"\",(ROUND((CONVERT('Backend Calcs Metric'!Z207,\"ft\",\"m\")),5)))","v":""}]
[{"$f":"IF('Backend Calcs Metric'!P208=\"\",\"\",(ROUND((CONVERT('Backend Calcs Metric'!P208,\"in\",\"mm\")),0)))","v":""},{"$f":"IF('Backend Calcs Metric'!S208=\"\",\"\",(ROUND((CONVERT('Backend Calcs Metric'!S208,\"ft3\",\"m3\")),5)))","v":""},{"$f":"IF('Backend Calcs Metric'!T208=\"\",\"\",(ROUND((CONVERT('Backend Calcs Metric'!T208,\"ft3\",\"m3\")),5)))","v":""},{"$f":"IF('Backend Calcs Metric'!U208=\"\",\"\",(ROUND((CONVERT('Backend Calcs Metric'!U208,\"ft3\",\"m3\")),5)))","v":""},{"$f":"IF('Backend Calcs Metric'!V208=\"\",\"\",(ROUND((CONVERT('Backend Calcs Metric'!V208,\"ft3\",\"m3\")),5)))","v":""},{"$f":"IF('Backend Calcs Metric'!W208=\"\",\"\",(ROUND((CONVERT('Backend Calcs Metric'!W208,\"ft3\",\"m3\")),5)))","v":{"$error":"#VALUE!"}},{"$f":"IF('Backend Calcs Metric'!X208=\"\",\"\",(ROUND((CONVERT('Backend Calcs Metric'!X208,\"ft3\",\"m3\")),5)))","v":""},{"$f":"IF('Backend Calcs Metric'!Y208=\"\",\"\",(ROUND((CONVERT('Backend Calcs Metric'!Y208,\"ft3\",\"m3\")),5)))","v":""},{"$f":"IF('Backend Calcs Metric'!Y208=\"\",\"\",(ROUND((CONVERT('Backend Calcs Metric'!Y208,\"ft3\",\"m3\")),2)))","v":""},{"$f":"IF('Backend Calcs Metric'!AA208=\"\",\"\",(ROUND((CONVERT('Backend Calcs Metric'!Z208,\"ft\",\"m\")),5)))","v":""}]
[{"$f":"IF('Backend Calcs Metric'!P209=\"\",\"\",(ROUND((CONVERT('Backend Calcs Metric'!P209,\"in\",\"mm\")),0)))","v":""},{"$f":"IF('Backend Calcs Metric'!S209=\"\",\"\",(ROUND((CONVERT('Backend Calcs Metric'!S209,\"ft3\",\"m3\")),5)))","v":""},{"$f":"IF('Backend Calcs Metric'!T209=\"\",\"\",(ROUND((CONVERT('Backend Calcs Metric'!T209,\"ft3\",\"m3\")),5)))","v":""},{"$f":"IF('Backend Calcs Metric'!U209=\"\",\"\",(ROUND((CONVERT('Backend Calcs Metric'!U209,\"ft3\",\"m3\")),5)))","v":""},{"$f":"IF('Backend Calcs Metric'!V209=\"\",\"\",(ROUND((CONVERT('Backend Calcs Metric'!V209,\"ft3\",\"m3\")),5)))","v":""},{"$f":"IF('Backend Calcs Metric'!W209=\"\",\"\",(ROUND((CONVERT('Backend Calcs Metric'!W209,\"ft3\",\"m3\")),5)))","v":{"$error":"#VALUE!"}},{"$f":"IF('Backend Calcs Metric'!X209=\"\",\"\",(ROUND((CONVERT('Backend Calcs Metric'!X209,\"ft3\",\"m3\")),5)))","v":""},{"$f":"IF('Backend Calcs Metric'!Y209=\"\",\"\",(ROUND((CONVERT('Backend Calcs Metric'!Y209,\"ft3\",\"m3\")),5)))","v":""},{"$f":"IF('Backend Calcs Metric'!Y209=\"\",\"\",(ROUND((CONVERT('Backend Calcs Metric'!Y209,\"ft3\",\"m3\")),2)))","v":""},{"$f":"IF('Backend Calcs Metric'!AA209=\"\",\"\",(ROUND((CONVERT('Backend Calcs Metric'!Z209,\"ft\",\"m\")),5)))","v":""}]
[{"$f":"IF('Backend Calcs Metric'!P210=\"\",\"\",(ROUND((CONVERT('Backend Calcs Metric'!P210,\"in\",\"mm\")),0)))","v":""},{"$f":"IF('Backend Calcs Metric'!S210=\"\",\"\",(ROUND((CONVERT('Backend Calcs Metric'!S210,\"ft3\",\"m3\")),5)))","v":""},{"$f":"IF('Backend Calcs Metric'!T210=\"\",\"\",(ROUND((CONVERT('Backend Calcs Metric'!T210,\"ft3\",\"m3\")),5)))","v":""},{"$f":"IF('Backend Calcs Metric'!U210=\"\",\"\",(ROUND((CONVERT('Backend Calcs Metric'!U210,\"ft3\",\"m3\")),5)))","v":""},{"$f":"IF('Backend Calcs Metric'!V210=\"\",\"\",(ROUND((CONVERT('Backend Calcs Metric'!V210,\"ft3\",\"m3\")),5)))","v":""},{"$f":"IF('Backend Calcs Metric'!W210=\"\",\"\",(ROUND((CONVERT('Backend Calcs Metric'!W210,\"ft3\",\"m3\")),5)))","v":{"$error":"#VALUE!"}},{"$f":"IF('Backend Calcs Metric'!X210=\"\",\"\",(ROUND((CONVERT('Backend Calcs Metric'!X210,\"ft3\",\"m3\")),5)))","v":""},{"$f":"IF('Backend Calcs Metric'!Y210=\"\",\"\",(ROUND((CONVERT('Backend Calcs Metric'!Y210,\"ft3\",\"m3\")),5)))","v":""},{"$f":"IF('Backend Calcs Metric'!Y210=\"\",\"\",(ROUND((CONVERT('Backend Calcs Metric'!Y210,\"ft3\",\"m3\")),2)))","v":""},{"$f":"IF('Backend Calcs Metric'!AA210=\"\",\"\",(ROUND((CONVERT('Backend Calcs Metric'!Z210,\"ft\",\"m\")),5)))","v":""}]
[{"$f":"IF('Backend Calcs Metric'!P211=\"\",\"\",(ROUND((CONVERT('Backend Calcs Metric'!P211,\"in\",\"mm\")),0)))","v":""},{"$f":"IF('Backend Calcs Metric'!S211=\"\",\"\",(ROUND((CONVERT('Backend Calcs Metric'!S211,\"ft3\",\"m3\")),5)))","v":""},{"$f":"IF('Backend Calcs Metric'!T211=\"\",\"\",(ROUND((CONVERT('Backend Calcs Metric'!T211,\"ft3\",\"m3\")),5)))","v":""},{"$f":"IF('Backend Calcs Metric'!U211=\"\",\"\",(ROUND((CONVERT('Backend Calcs Metric'!U211,\"ft3\",\"m3\")),5)))","v":""},{"$f":"IF('Backend Calcs Metric'!V211=\"\",\"\",(ROUND((CONVERT('Backend Calcs Metric'!V211,\"ft3\",\"m3\")),5)))","v":""},{"$f":"IF('Backend Calcs Metric'!W211=\"\",\"\",(ROUND((CONVERT('Backend Calcs Metric'!W211,\"ft3\",\"m3\")),5)))","v":{"$error":"#VALUE!"}},{"$f":"IF('Backend Calcs Metric'!X211=\"\",\"\",(ROUND((CONVERT('Backend Calcs Metric'!X211,\"ft3\",\"m3\")),5)))","v":""},{"$f":"IF('Backend Calcs Metric'!Y211=\"\",\"\",(ROUND((CONVERT('Backend Calcs Metric'!Y211,\"ft3\",\"m3\")),5)))","v":""},{"$f":"IF('Backend Calcs Metric'!Y211=\"\",\"\",(ROUND((CONVERT('Backend Calcs Metric'!Y211,\"ft3\",\"m3\")),2)))","v":""},{"$f":"IF('Backend Calcs Metric'!AA211=\"\",\"\",(ROUND((CONVERT('Backend Calcs Metric'!Z211,\"ft\",\"m\")),5)))","v":""}]
[{"$f":"IF('Backend Calcs Metric'!P212=\"\",\"\",(ROUND((CONVERT('Backend Calcs Metric'!P212,\"in\",\"mm\")),0)))","v":""},{"$f":"IF('Backend Calcs Metric'!S212=\"\",\"\",(ROUND((CONVERT('Backend Calcs Metric'!S212,\"ft3\",\"m3\")),5)))","v":""},{"$f":"IF('Backend Calcs Metric'!T212=\"\",\"\",(ROUND((CONVERT('Backend Calcs Metric'!T212,\"ft3\",\"m3\")),5)))","v":""},{"$f":"IF('Backend Calcs Metric'!U212=\"\",\"\",(ROUND((CONVERT('Backend Calcs Metric'!U212,\"ft3\",\"m3\")),5)))","v":""},{"$f":"IF('Backend Calcs Metric'!V212=\"\",\"\",(ROUND((CONVERT('Backend Calcs Metric'!V212,\"ft3\",\"m3\")),5)))","v":""},{"$f":"IF('Backend Calcs Metric'!W212=\"\",\"\",(ROUND((CONVERT('Backend Calcs Metric'!W212,\"ft3\",\"m3\")),5)))","v":{"$error":"#VALUE!"}},{"$f":"IF('Backend Calcs Metric'!X212=\"\",\"\",(ROUND((CONVERT('Backend Calcs Metric'!X212,\"ft3\",\"m3\")),5)))","v":""},{"$f":"IF('Backend Calcs Metric'!Y212=\"\",\"\",(ROUND((CONVERT('Backend Calcs Metric'!Y212,\"ft3\",\"m3\")),5)))","v":""},{"$f":"IF('Backend Calcs Metric'!Y212=\"\",\"\",(ROUND((CONVERT('Backend Calcs Metric'!Y212,\"ft3\",\"m3\")),2)))","v":""},{"$f":"IF('Backend Calcs Metric'!AA212=\"\",\"\",(ROUND((CONVERT('Backend Calcs Metric'!Z212,\"ft\",\"m\")),5)))","v":""}]
[{"$f":"IF('Backend Calcs Metric'!P213=\"\",\"\",(ROUND((CONVERT('Backend Calcs Metric'!P213,\"in\",\"mm\")),0)))","v":""},{"$f":"IF('Backend Calcs Metric'!S213=\"\",\"\",(ROUND((CONVERT('Backend Calcs Metric'!S213,\"ft3\",\"m3\")),5)))","v":""},{"$f":"IF('Backend Calcs Metric'!T213=\"\",\"\",(ROUND((CONVERT('Backend Calcs Metric'!T213,\"ft3\",\"m3\")),5)))","v":""},{"$f":"IF('Backend Calcs Metric'!U213=\"\",\"\",(ROUND((CONVERT('Backend Calcs Metric'!U213,\"ft3\",\"m3\")),5)))","v":""},{"$f":"IF('Backend Calcs Metric'!V213=\"\",\"\",(ROUND((CONVERT('Backend Calcs Metric'!V213,\"ft3\",\"m3\")),5)))","v":""},{"$f":"IF('Backend Calcs Metric'!W213=\"\",\"\",(ROUND((CONVERT('Backend Calcs Metric'!W213,\"ft3\",\"m3\")),5)))","v":{"$error":"#VALUE!"}},{"$f":"IF('Backend Calcs Metric'!X213=\"\",\"\",(ROUND((CONVERT('Backend Calcs Metric'!X213,\"ft3\",\"m3\")),5)))","v":""},{"$f":"IF('Backend Calcs Metric'!Y213=\"\",\"\",(ROUND((CONVERT('Backend Calcs Metric'!Y213,\"ft3\",\"m3\")),5)))","v":""},{"$f":"IF('Backend Calcs Metric'!Y213=\"\",\"\",(ROUND((CONVERT('Backend Calcs Metric'!Y213,\"ft3\",\"m3\")),2)))","v":""},{"$f":"IF('Backend Calcs Metric'!AA213=\"\",\"\",(ROUND((CONVERT('Backend Calcs Metric'!Z213,\"ft\",\"m\")),5)))","v":""}]
[{"$f":"IF('Backend Calcs Metric'!P214=\"\",\"\",(ROUND((CONVERT('Backend Calcs Metric'!P214,\"in\",\"mm\")),0)))","v":""},{"$f":"IF('Backend Calcs Metric'!S214=\"\",\"\",(ROUND((CONVERT('Backend Calcs Metric'!S214,\"ft3\",\"m3\")),5)))","v":""},{"$f":"IF('Backend Calcs Metric'!T214=\"\",\"\",(ROUND((CONVERT('Backend Calcs Metric'!T214,\"ft3\",\"m3\")),5)))","v":""},{"$f":"IF('Backend Calcs Metric'!U214=\"\",\"\",(ROUND((CONVERT('Backend Calcs Metric'!U214,\"ft3\",\"m3\")),5)))","v":""},{"$f":"IF('Backend Calcs Metric'!V214=\"\",\"\",(ROUND((CONVERT('Backend Calcs Metric'!V214,\"ft3\",\"m3\")),5)))","v":""},{"$f":"IF('Backend Calcs Metric'!W214=\"\",\"\",(ROUND((CONVERT('Backend Calcs Metric'!W214,\"ft3\",\"m3\")),5)))","v":{"$error":"#VALUE!"}},{"$f":"IF('Backend Calcs Metric'!X214=\"\",\"\",(ROUND((CONVERT('Backend Calcs Metric'!X214,\"ft3\",\"m3\")),5)))","v":""},{"$f":"IF('Backend Calcs Metric'!Y214=\"\",\"\",(ROUND((CONVERT('Backend Calcs Metric'!Y214,\"ft3\",\"m3\")),5)))","v":""},{"$f":"IF('Backend Calcs Metric'!Y214=\"\",\"\",(ROUND((CONVERT('Backend Calcs Metric'!Y214,\"ft3\",\"m3\")),2)))","v":""},{"$f":"IF('Backend Calcs Metric'!AA214=\"\",\"\",(ROUND((CONVERT('Backend Calcs Metric'!Z214,\"ft\",\"m\")),5)))","v":""}]
[{"$f":"IF('Backend Calcs Metric'!P215=\"\",\"\",(ROUND((CONVERT('Backend Calcs Metric'!P215,\"in\",\"mm\")),0)))","v":""},{"$f":"IF('Backend Calcs Metric'!S215=\"\",\"\",(ROUND((CONVERT('Backend Calcs Metric'!S215,\"ft3\",\"m3\")),5)))","v":""},{"$f":"IF('Backend Calcs Metric'!T215=\"\",\"\",(ROUND((CONVERT('Backend Calcs Metric'!T215,\"ft3\",\"m3\")),5)))","v":""},{"$f":"IF('Backend Calcs Metric'!U215=\"\",\"\",(ROUND((CONVERT('Backend Calcs Metric'!U215,\"ft3\",\"m3\")),5)))","v":""},{"$f":"IF('Backend Calcs Metric'!V215=\"\",\"\",(ROUND((CONVERT('Backend Calcs Metric'!V215,\"ft3\",\"m3\")),5)))","v":""},{"$f":"IF('Backend Calcs Metric'!W215=\"\",\"\",(ROUND((CONVERT('Backend Calcs Metric'!W215,\"ft3\",\"m3\")),5)))","v":{"$error":"#VALUE!"}},{"$f":"IF('Backend Calcs Metric'!X215=\"\",\"\",(ROUND((CONVERT('Backend Calcs Metric'!X215,\"ft3\",\"m3\")),5)))","v":""},{"$f":"IF('Backend Calcs Metric'!Y215=\"\",\"\",(ROUND((CONVERT('Backend Calcs Metric'!Y215,\"ft3\",\"m3\")),5)))","v":""},{"$f":"IF('Backend Calcs Metric'!Y215=\"\",\"\",(ROUND((CONVERT('Backend Calcs Metric'!Y215,\"ft3\",\"m3\")),2)))","v":""},{"$f":"IF('Backend Calcs Metric'!AA215=\"\",\"\",(ROUND((CONVERT('Backend Calcs Metric'!Z215,\"ft\",\"m\")),5)))","v":""}]
[{"$f":"IF('Backend Calcs Metric'!P216=\"\",\"\",(ROUND((CONVERT('Backend Calcs Metric'!P216,\"in\",\"mm\")),0)))","v":""},{"$f":"IF('Backend Calcs Metric'!S216=\"\",\"\",(ROUND((CONVERT('Backend Calcs Metric'!S216,\"ft3\",\"m3\")),5)))","v":""},{"$f":"IF('Backend Calcs Metric'!T216=\"\",\"\",(ROUND((CONVERT('Backend Calcs Metric'!T216,\"ft3\",\"m3\")),5)))","v":""},{"$f":"IF('Backend Calcs Metric'!U216=\"\",\"\",(ROUND((CONVERT('Backend Calcs Metric'!U216,\"ft3\",\"m3\")),5)))","v":""},{"$f":"IF('Backend Calcs Metric'!V216=\"\",\"\",(ROUND((CONVERT('Backend Calcs Metric'!V216,\"ft3\",\"m3\")),5)))","v":""},{"$f":"IF('Backend Calcs Metric'!W216=\"\",\"\",(ROUND((CONVERT('Backend Calcs Metric'!W216,\"ft3\",\"m3\")),5)))","v":{"$error":"#VALUE!"}},{"$f":"IF('Backend Calcs Metric'!X216=\"\",\"\",(ROUND((CONVERT('Backend Calcs Metric'!X216,\"ft3\",\"m3\")),5)))","v":""},{"$f":"IF('Backend Calcs Metric'!Y216=\"\",\"\",(ROUND((CONVERT('Backend Calcs Metric'!Y216,\"ft3\",\"m3\")),5)))","v":""},{"$f":"IF('Backend Calcs Metric'!Y216=\"\",\"\",(ROUND((CONVERT('Backend Calcs Metric'!Y216,\"ft3\",\"m3\")),2)))","v":""},{"$f":"IF('Backend Calcs Metric'!AA216=\"\",\"\",(ROUND((CONVERT('Backend Calcs Metric'!Z216,\"ft\",\"m\")),5)))","v":""}]
[{"$f":"IF('Backend Calcs Metric'!P217=\"\",\"\",(ROUND((CONVERT('Backend Calcs Metric'!P217,\"in\",\"mm\")),0)))","v":""},{"$f":"IF('Backend Calcs Metric'!S217=\"\",\"\",(ROUND((CONVERT('Backend Calcs Metric'!S217,\"ft3\",\"m3\")),5)))","v":""},{"$f":"IF('Backend Calcs Metric'!T217=\"\",\"\",(ROUND((CONVERT('Backend Calcs Metric'!T217,\"ft3\",\"m3\")),5)))","v":""},{"$f":"IF('Backend Calcs Metric'!U217=\"\",\"\",(ROUND((CONVERT('Backend Calcs Metric'!U217,\"ft3\",\"m3\")),5)))","v":""},{"$f":"IF('Backend Calcs Metric'!V217=\"\",\"\",(ROUND((CONVERT('Backend Calcs Metric'!V217,\"ft3\",\"m3\")),5)))","v":""},{"$f":"IF('Backend Calcs Metric'!W217=\"\",\"\",(ROUND((CONVERT('Backend Calcs Metric'!W217,\"ft3\",\"m3\")),5)))","v":{"$error":"#VALUE!"}},{"$f":"IF('Backend Calcs Metric'!X217=\"\",\"\",(ROUND((CONVERT('Backend Calcs Metric'!X217,\"ft3\",\"m3\")),5)))","v":""},{"$f":"IF('Backend Calcs Metric'!Y217=\"\",\"\",(ROUND((CONVERT('Backend Calcs Metric'!Y217,\"ft3\",\"m3\")),5)))","v":""},{"$f":"IF('Backend Calcs Metric'!Y217=\"\",\"\",(ROUND((CONVERT('Backend Calcs Metric'!Y217,\"ft3\",\"m3\")),2)))","v":""},{"$f":"IF('Backend Calcs Metric'!AA217=\"\",\"\",(ROUND((CONVERT('Backend Calcs Metric'!Z217,\"ft\",\"m\")),5)))","v":""}]
[{"$f":"IF('Backend Calcs Metric'!P218=\"\",\"\",(ROUND((CONVERT('Backend Calcs Metric'!P218,\"in\",\"mm\")),0)))","v":""},{"$f":"IF('Backend Calcs Metric'!S218=\"\",\"\",(ROUND((CONVERT('Backend Calcs Metric'!S218,\"ft3\",\"m3\")),5)))","v":""},{"$f":"IF('Backend Calcs Metric'!T218=\"\",\"\",(ROUND((CONVERT('Backend Calcs Metric'!T218,\"ft3\",\"m3\")),5)))","v":""},{"$f":"IF('Backend Calcs Metric'!U218=\"\",\"\",(ROUND((CONVERT('Backend Calcs Metric'!U218,\"ft3\",\"m3\")),5)))","v":""},{"$f":"IF('Backend Calcs Metric'!V218=\"\",\"\",(ROUND((CONVERT('Backend Calcs Metric'!V218,\"ft3\",\"m3\")),5)))","v":""},{"$f":"IF('Backend Calcs Metric'!W218=\"\",\"\",(ROUND((CONVERT('Backend Calcs Metric'!W218,\"ft3\",\"m3\")),5)))","v":{"$error":"#VALUE!"}},{"$f":"IF('Backend Calcs Metric'!X218=\"\",\"\",(ROUND((CONVERT('Backend Calcs Metric'!X218,\"ft3\",\"m3\")),5)))","v":""},{"$f":"IF('Backend Calcs Metric'!Y218=\"\",\"\",(ROUND((CONVERT('Backend Calcs Metric'!Y218,\"ft3\",\"m3\")),5)))","v":""},{"$f":"IF('Backend Calcs Metric'!Y218=\"\",\"\",(ROUND((CONVERT('Backend Calcs Metric'!Y218,\"ft3\",\"m3\")),2)))","v":""},{"$f":"IF('Backend Calcs Metric'!AA218=\"\",\"\",(ROUND((CONVERT('Backend Calcs Metric'!Z218,\"ft\",\"m\")),5)))","v":""}]
[{"$f":"IF('Backend Calcs Metric'!P219=\"\",\"\",(ROUND((CONVERT('Backend Calcs Metric'!P219,\"in\",\"mm\")),0)))","v":""},{"$f":"IF('Backend Calcs Metric'!S219=\"\",\"\",(ROUND((CONVERT('Backend Calcs Metric'!S219,\"ft3\",\"m3\")),5)))","v":""},{"$f":"IF('Backend Calcs Metric'!T219=\"\",\"\",(ROUND((CONVERT('Backend Calcs Metric'!T219,\"ft3\",\"m3\")),5)))","v":""},{"$f":"IF('Backend Calcs Metric'!U219=\"\",\"\",(ROUND((CONVERT('Backend Calcs Metric'!U219,\"ft3\",\"m3\")),5)))","v":""},{"$f":"IF('Backend Calcs Metric'!V219=\"\",\"\",(ROUND((CONVERT('Backend Calcs Metric'!V219,\"ft3\",\"m3\")),5)))","v":""},{"$f":"IF('Backend Calcs Metric'!W219=\"\",\"\",(ROUND((CONVERT('Backend Calcs Metric'!W219,\"ft3\",\"m3\")),5)))","v":{"$error":"#VALUE!"}},{"$f":"IF('Backend Calcs Metric'!X219=\"\",\"\",(ROUND((CONVERT('Backend Calcs Metric'!X219,\"ft3\",\"m3\")),5)))","v":""},{"$f":"IF('Backend Calcs Metric'!Y219=\"\",\"\",(ROUND((CONVERT('Backend Calcs Metric'!Y219,\"ft3\",\"m3\")),5)))","v":""},{"$f":"IF('Backend Calcs Metric'!Y219=\"\",\"\",(ROUND((CONVERT('Backend Calcs Metric'!Y219,\"ft3\",\"m3\")),2)))","v":""},{"$f":"IF('Backend Calcs Metric'!AA219=\"\",\"\",(ROUND((CONVERT('Backend Calcs Metric'!Z219,\"ft\",\"m\")),5)))","v":""}]
[{"$f":"IF('Backend Calcs Metric'!P220=\"\",\"\",(ROUND((CONVERT('Backend Calcs Metric'!P220,\"in\",\"mm\")),0)))","v":""},{"$f":"IF('Backend Calcs Metric'!S220=\"\",\"\",(ROUND((CONVERT('Backend Calcs Metric'!S220,\"ft3\",\"m3\")),5)))","v":""},{"$f":"IF('Backend Calcs Metric'!T220=\"\",\"\",(ROUND((CONVERT('Backend Calcs Metric'!T220,\"ft3\",\"m3\")),5)))","v":""},{"$f":"IF('Backend Calcs Metric'!U220=\"\",\"\",(ROUND((CONVERT('Backend Calcs Metric'!U220,\"ft3\",\"m3\")),5)))","v":""},{"$f":"IF('Backend Calcs Metric'!V220=\"\",\"\",(ROUND((CONVERT('Backend Calcs Metric'!V220,\"ft3\",\"m3\")),5)))","v":""},{"$f":"IF('Backend Calcs Metric'!W220=\"\",\"\",(ROUND((CONVERT('Backend Calcs Metric'!W220,\"ft3\",\"m3\")),5)))","v":{"$error":"#VALUE!"}},{"$f":"IF('Backend Calcs Metric'!X220=\"\",\"\",(ROUND((CONVERT('Backend Calcs Metric'!X220,\"ft3\",\"m3\")),5)))","v":""},{"$f":"IF('Backend Calcs Metric'!Y220=\"\",\"\",(ROUND((CONVERT('Backend Calcs Metric'!Y220,\"ft3\",\"m3\")),5)))","v":""},{"$f":"IF('Backend Calcs Metric'!Y220=\"\",\"\",(ROUND((CONVERT('Backend Calcs Metric'!Y220,\"ft3\",\"m3\")),2)))","v":""},{"$f":"IF('Backend Calcs Metric'!AA220=\"\",\"\",(ROUND((CONVERT('Backend Calcs Metric'!Z220,\"ft\",\"m\")),5)))","v":""}]
[{"$f":"IF('Backend Calcs Metric'!P221=\"\",\"\",(ROUND((CONVERT('Backend Calcs Metric'!P221,\"in\",\"mm\")),0)))","v":""},{"$f":"IF('Backend Calcs Metric'!S221=\"\",\"\",(ROUND((CONVERT('Backend Calcs Metric'!S221,\"ft3\",\"m3\")),5)))","v":""},{"$f":"IF('Backend Calcs Metric'!T221=\"\",\"\",(ROUND((CONVERT('Backend Calcs Metric'!T221,\"ft3\",\"m3\")),5)))","v":""},{"$f":"IF('Backend Calcs Metric'!U221=\"\",\"\",(ROUND((CONVERT('Backend Calcs Metric'!U221,\"ft3\",\"m3\")),5)))","v":""},{"$f":"IF('Backend Calcs Metric'!V221=\"\",\"\",(ROUND((CONVERT('Backend Calcs Metric'!V221,\"ft3\",\"m3\")),5)))","v":""},{"$f":"IF('Backend Calcs Metric'!W221=\"\",\"\",(ROUND((CONVERT('Backend Calcs Metric'!W221,\"ft3\",\"m3\")),5)))","v":{"$error":"#VALUE!"}},{"$f":"IF('Backend Calcs Metric'!X221=\"\",\"\",(ROUND((CONVERT('Backend Calcs Metric'!X221,\"ft3\",\"m3\")),5)))","v":""},{"$f":"IF('Backend Calcs Metric'!Y221=\"\",\"\",(ROUND((CONVERT('Backend Calcs Metric'!Y221,\"ft3\",\"m3\")),5)))","v":""},{"$f":"IF('Backend Calcs Metric'!Y221=\"\",\"\",(ROUND((CONVERT('Backend Calcs Metric'!Y221,\"ft3\",\"m3\")),2)))","v":""},{"$f":"IF('Backend Calcs Metric'!AA221=\"\",\"\",(ROUND((CONVERT('Backend Calcs Metric'!Z221,\"ft\",\"m\")),5)))","v":""}]
[{"$f":"IF('Backend Calcs Metric'!P222=\"\",\"\",(ROUND((CONVERT('Backend Calcs Metric'!P222,\"in\",\"mm\")),0)))","v":""},{"$f":"IF('Backend Calcs Metric'!S222=\"\",\"\",(ROUND((CONVERT('Backend Calcs Metric'!S222,\"ft3\",\"m3\")),5)))","v":""},{"$f":"IF('Backend Calcs Metric'!T222=\"\",\"\",(ROUND((CONVERT('Backend Calcs Metric'!T222,\"ft3\",\"m3\")),5)))","v":""},{"$f":"IF('Backend Calcs Metric'!U222=\"\",\"\",(ROUND((CONVERT('Backend Calcs Metric'!U222,\"ft3\",\"m3\")),5)))","v":""},{"$f":"IF('Backend Calcs Metric'!V222=\"\",\"\",(ROUND((CONVERT('Backend Calcs Metric'!V222,\"ft3\",\"m3\")),5)))","v":""},{"$f":"IF('Backend Calcs Metric'!W222=\"\",\"\",(ROUND((CONVERT('Backend Calcs Metric'!W222,\"ft3\",\"m3\")),5)))","v":{"$error":"#VALUE!"}},{"$f":"IF('Backend Calcs Metric'!X222=\"\",\"\",(ROUND((CONVERT('Backend Calcs Metric'!X222,\"ft3\",\"m3\")),5)))","v":""},{"$f":"IF('Backend Calcs Metric'!Y222=\"\",\"\",(ROUND((CONVERT('Backend Calcs Metric'!Y222,\"ft3\",\"m3\")),5)))","v":""},{"$f":"IF('Backend Calcs Metric'!Y222=\"\",\"\",(ROUND((CONVERT('Backend Calcs Metric'!Y222,\"ft3\",\"m3\")),2)))","v":""},{"$f":"IF('Backend Calcs Metric'!AA222=\"\",\"\",(ROUND((CONVERT('Backend Calcs Metric'!Z222,\"ft\",\"m\")),5)))","v":""}]
[{"$f":"IF('Backend Calcs Metric'!P223=\"\",\"\",(ROUND((CONVERT('Backend Calcs Metric'!P223,\"in\",\"mm\")),0)))","v":""},{"$f":"IF('Backend Calcs Metric'!S223=\"\",\"\",(ROUND((CONVERT('Backend Calcs Metric'!S223,\"ft3\",\"m3\")),5)))","v":""},{"$f":"IF('Backend Calcs Metric'!T223=\"\",\"\",(ROUND((CONVERT('Backend Calcs Metric'!T223,\"ft3\",\"m3\")),5)))","v":""},{"$f":"IF('Backend Calcs Metric'!U223=\"\",\"\",(ROUND((CONVERT('Backend Calcs Metric'!U223,\"ft3\",\"m3\")),5)))","v":""},{"$f":"IF('Backend Calcs Metric'!V223=\"\",\"\",(ROUND((CONVERT('Backend Calcs Metric'!V223,\"ft3\",\"m3\")),5)))","v":""},{"$f":"IF('Backend Calcs Metric'!W223=\"\",\"\",(ROUND((CONVERT('Backend Calcs Metric'!W223,\"ft3\",\"m3\")),5)))","v":{"$error":"#VALUE!"}},{"$f":"IF('Backend Calcs Metric'!X223=\"\",\"\",(ROUND((CONVERT('Backend Calcs Metric'!X223,\"ft3\",\"m3\")),5)))","v":""},{"$f":"IF('Backend Calcs Metric'!Y223=\"\",\"\",(ROUND((CONVERT('Backend Calcs Metric'!Y223,\"ft3\",\"m3\")),5)))","v":""},{"$f":"IF('Backend Calcs Metric'!Y223=\"\",\"\",(ROUND((CONVERT('Backend Calcs Metric'!Y223,\"ft3\",\"m3\")),2)))","v":""},{"$f":"IF('Backend Calcs Metric'!AA223=\"\",\"\",(ROUND((CONVERT('Backend Calcs Metric'!Z223,\"ft\",\"m\")),5)))","v":""}]
[{"$f":"IF('Backend Calcs Metric'!P224=\"\",\"\",(ROUND((CONVERT('Backend Calcs Metric'!P224,\"in\",\"mm\")),0)))","v":""},{"$f":"IF('Backend Calcs Metric'!S224=\"\",\"\",(ROUND((CONVERT('Backend Calcs Metric'!S224,\"ft3\",\"m3\")),5)))","v":""},{"$f":"IF('Backend Calcs Metric'!T224=\"\",\"\",(ROUND((CONVERT('Backend Calcs Metric'!T224,\"ft3\",\"m3\")),5)))","v":""},{"$f":"IF('Backend Calcs Metric'!U224=\"\",\"\",(ROUND((CONVERT('Backend Calcs Metric'!U224,\"ft3\",\"m3\")),5)))","v":""},{"$f":"IF('Backend Calcs Metric'!V224=\"\",\"\",(ROUND((CONVERT('Backend Calcs Metric'!V224,\"ft3\",\"m3\")),5)))","v":""},{"$f":"IF('Backend Calcs Metric'!W224=\"\",\"\",(ROUND((CONVERT('Backend Calcs Metric'!W224,\"ft3\",\"m3\")),5)))","v":{"$error":"#VALUE!"}},{"$f":"IF('Backend Calcs Metric'!X224=\"\",\"\",(ROUND((CONVERT('Backend Calcs Metric'!X224,\"ft3\",\"m3\")),5)))","v":""},{"$f":"IF('Backend Calcs Metric'!Y224=\"\",\"\",(ROUND((CONVERT('Backend Calcs Metric'!Y224,\"ft3\",\"m3\")),5)))","v":""},{"$f":"IF('Backend Calcs Metric'!Y224=\"\",\"\",(ROUND((CONVERT('Backend Calcs Metric'!Y224,\"ft3\",\"m3\")),2)))","v":""},{"$f":"IF('Backend Calcs Metric'!AA224=\"\",\"\",(ROUND((CONVERT('Backend Calcs Metric'!Z224,\"ft\",\"m\")),5)))","v":""}]
[{"$f":"IF('Backend Calcs Metric'!P225=\"\",\"\",(ROUND((CONVERT('Backend Calcs Metric'!P225,\"in\",\"mm\")),0)))","v":""},{"$f":"IF('Backend Calcs Metric'!S225=\"\",\"\",(ROUND((CONVERT('Backend Calcs Metric'!S225,\"ft3\",\"m3\")),5)))","v":""},{"$f":"IF('Backend Calcs Metric'!T225=\"\",\"\",(ROUND((CONVERT('Backend Calcs Metric'!T225,\"ft3\",\"m3\")),5)))","v":""},{"$f":"IF('Backend Calcs Metric'!U225=\"\",\"\",(ROUND((CONVERT('Backend Calcs Metric'!U225,\"ft3\",\"m3\")),5)))","v":""},{"$f":"IF('Backend Calcs Metric'!V225=\"\",\"\",(ROUND((CONVERT('Backend Calcs Metric'!V225,\"ft3\",\"m3\")),5)))","v":""},{"$f":"IF('Backend Calcs Metric'!W225=\"\",\"\",(ROUND((CONVERT('Backend Calcs Metric'!W225,\"ft3\",\"m3\")),5)))","v":{"$error":"#VALUE!"}},{"$f":"IF('Backend Calcs Metric'!X225=\"\",\"\",(ROUND((CONVERT('Backend Calcs Metric'!X225,\"ft3\",\"m3\")),5)))","v":""},{"$f":"IF('Backend Calcs Metric'!Y225=\"\",\"\",(ROUND((CONVERT('Backend Calcs Metric'!Y225,\"ft3\",\"m3\")),5)))","v":""},{"$f":"IF('Backend Calcs Metric'!Y225=\"\",\"\",(ROUND((CONVERT('Backend Calcs Metric'!Y225,\"ft3\",\"m3\")),2)))","v":""},{"$f":"IF('Backend Calcs Metric'!AA225=\"\",\"\",(ROUND((CONVERT('Backend Calcs Metric'!Z225,\"ft\",\"m\")),5)))","v":""}]
[{"$f":"IF('Backend Calcs Metric'!P226=\"\",\"\",(ROUND((CONVERT('Backend Calcs Metric'!P226,\"in\",\"mm\")),0)))","v":""},{"$f":"IF('Backend Calcs Metric'!S226=\"\",\"\",(ROUND((CONVERT('Backend Calcs Metric'!S226,\"ft3\",\"m3\")),5)))","v":""},{"$f":"IF('Backend Calcs Metric'!T226=\"\",\"\",(ROUND((CONVERT('Backend Calcs Metric'!T226,\"ft3\",\"m3\")),5)))","v":""},{"$f":"IF('Backend Calcs Metric'!U226=\"\",\"\",(ROUND((CONVERT('Backend Calcs Metric'!U226,\"ft3\",\"m3\")),5)))","v":""},{"$f":"IF('Backend Calcs Metric'!V226=\"\",\"\",(ROUND((CONVERT('Backend Calcs Metric'!V226,\"ft3\",\"m3\")),5)))","v":""},{"$f":"IF('Backend Calcs Metric'!W226=\"\",\"\",(ROUND((CONVERT('Backend Calcs Metric'!W226,\"ft3\",\"m3\")),5)))","v":{"$error":"#VALUE!"}},{"$f":"IF('Backend Calcs Metric'!X226=\"\",\"\",(ROUND((CONVERT('Backend Calcs Metric'!X226,\"ft3\",\"m3\")),5)))","v":""},{"$f":"IF('Backend Calcs Metric'!Y226=\"\",\"\",(ROUND((CONVERT('Backend Calcs Metric'!Y226,\"ft3\",\"m3\")),5)))","v":""},{"$f":"IF('Backend Calcs Metric'!Y226=\"\",\"\",(ROUND((CONVERT('Backend Calcs Metric'!Y226,\"ft3\",\"m3\")),2)))","v":""},{"$f":"IF('Backend Calcs Metric'!AA226=\"\",\"\",(ROUND((CONVERT('Backend Calcs Metric'!Z226,\"ft\",\"m\")),5)))","v":""}]
[{"$f":"IF('Backend Calcs Metric'!P227=\"\",\"\",(ROUND((CONVERT('Backend Calcs Metric'!P227,\"in\",\"mm\")),0)))","v":""},{"$f":"IF('Backend Calcs Metric'!S227=\"\",\"\",(ROUND((CONVERT('Backend Calcs Metric'!S227,\"ft3\",\"m3\")),5)))","v":""},{"$f":"IF('Backend Calcs Metric'!T227=\"\",\"\",(ROUND((CONVERT('Backend Calcs Metric'!T227,\"ft3\",\"m3\")),5)))","v":""},{"$f":"IF('Backend Calcs Metric'!U227=\"\",\"\",(ROUND((CONVERT('Backend Calcs Metric'!U227,\"ft3\",\"m3\")),5)))","v":""},{"$f":"IF('Backend Calcs Metric'!V227=\"\",\"\",(ROUND((CONVERT('Backend Calcs Metric'!V227,\"ft3\",\"m3\")),5)))","v":""},{"$f":"IF('Backend Calcs Metric'!W227=\"\",\"\",(ROUND((CONVERT('Backend Calcs Metric'!W227,\"ft3\",\"m3\")),5)))","v":{"$error":"#VALUE!"}},{"$f":"IF('Backend Calcs Metric'!X227=\"\",\"\",(ROUND((CONVERT('Backend Calcs Metric'!X227,\"ft3\",\"m3\")),5)))","v":""},{"$f":"IF('Backend Calcs Metric'!Y227=\"\",\"\",(ROUND((CONVERT('Backend Calcs Metric'!Y227,\"ft3\",\"m3\")),5)))","v":""},{"$f":"IF('Backend Calcs Metric'!Y227=\"\",\"\",(ROUND((CONVERT('Backend Calcs Metric'!Y227,\"ft3\",\"m3\")),2)))","v":""},{"$f":"IF('Backend Calcs Metric'!AA227=\"\",\"\",(ROUND((CONVERT('Backend Calcs Metric'!Z227,\"ft\",\"m\")),5)))","v":""}]
[{"$f":"IF('Backend Calcs Metric'!P228=\"\",\"\",(ROUND((CONVERT('Backend Calcs Metric'!P228,\"in\",\"mm\")),0)))","v":""},{"$f":"IF('Backend Calcs Metric'!S228=\"\",\"\",(ROUND((CONVERT('Backend Calcs Metric'!S228,\"ft3\",\"m3\")),5)))","v":""},{"$f":"IF('Backend Calcs Metric'!T228=\"\",\"\",(ROUND((CONVERT('Backend Calcs Metric'!T228,\"ft3\",\"m3\")),5)))","v":""},{"$f":"IF('Backend Calcs Metric'!U228=\"\",\"\",(ROUND((CONVERT('Backend Calcs Metric'!U228,\"ft3\",\"m3\")),5)))","v":""},{"$f":"IF('Backend Calcs Metric'!V228=\"\",\"\",(ROUND((CONVERT('Backend Calcs Metric'!V228,\"ft3\",\"m3\")),5)))","v":""},{"$f":"IF('Backend Calcs Metric'!W228=\"\",\"\",(ROUND((CONVERT('Backend Calcs Metric'!W228,\"ft3\",\"m3\")),5)))","v":{"$error":"#VALUE!"}},{"$f":"IF('Backend Calcs Metric'!X228=\"\",\"\",(ROUND((CONVERT('Backend Calcs Metric'!X228,\"ft3\",\"m3\")),5)))","v":""},{"$f":"IF('Backend Calcs Metric'!Y228=\"\",\"\",(ROUND((CONVERT('Backend Calcs Metric'!Y228,\"ft3\",\"m3\")),5)))","v":""},{"$f":"IF('Backend Calcs Metric'!Y228=\"\",\"\",(ROUND((CONVERT('Backend Calcs Metric'!Y228,\"ft3\",\"m3\")),2)))","v":""},{"$f":"IF('Backend Calcs Metric'!AA228=\"\",\"\",(ROUND((CONVERT('Backend Calcs Metric'!Z228,\"ft\",\"m\")),5)))","v":""}]
[{"$f":"IF('Backend Calcs Metric'!P229=\"\",\"\",(ROUND((CONVERT('Backend Calcs Metric'!P229,\"in\",\"mm\")),0)))","v":""},{"$f":"IF('Backend Calcs Metric'!S229=\"\",\"\",(ROUND((CONVERT('Backend Calcs Metric'!S229,\"ft3\",\"m3\")),5)))","v":""},{"$f":"IF('Backend Calcs Metric'!T229=\"\",\"\",(ROUND((CONVERT('Backend Calcs Metric'!T229,\"ft3\",\"m3\")),5)))","v":""},{"$f":"IF('Backend Calcs Metric'!U229=\"\",\"\",(ROUND((CONVERT('Backend Calcs Metric'!U229,\"ft3\",\"m3\")),5)))","v":""},{"$f":"IF('Backend Calcs Metric'!V229=\"\",\"\",(ROUND((CONVERT('Backend Calcs Metric'!V229,\"ft3\",\"m3\")),5)))","v":""},{"$f":"IF('Backend Calcs Metric'!W229=\"\",\"\",(ROUND((CONVERT('Backend Calcs Metric'!W229,\"ft3\",\"m3\")),5)))","v":{"$error":"#VALUE!"}},{"$f":"IF('Backend Calcs Metric'!X229=\"\",\"\",(ROUND((CONVERT('Backend Calcs Metric'!X229,\"ft3\",\"m3\")),5)))","v":""},{"$f":"IF('Backend Calcs Metric'!Y229=\"\",\"\",(ROUND((CONVERT('Backend Calcs Metric'!Y229,\"ft3\",\"m3\")),5)))","v":""},{"$f":"IF('Backend Calcs Metric'!Y229=\"\",\"\",(ROUND((CONVERT('Backend Calcs Metric'!Y229,\"ft3\",\"m3\")),2)))","v":""},{"$f":"IF('Backend Calcs Metric'!AA229=\"\",\"\",(ROUND((CONVERT('Backend Calcs Metric'!Z229,\"ft\",\"m\")),5)))","v":""}]
[{"$f":"IF('Backend Calcs Metric'!P230=\"\",\"\",(ROUND((CONVERT('Backend Calcs Metric'!P230,\"in\",\"mm\")),0)))","v":""},{"$f":"IF('Backend Calcs Metric'!S230=\"\",\"\",(ROUND((CONVERT('Backend Calcs Metric'!S230,\"ft3\",\"m3\")),5)))","v":""},{"$f":"IF('Backend Calcs Metric'!T230=\"\",\"\",(ROUND((CONVERT('Backend Calcs Metric'!T230,\"ft3\",\"m3\")),5)))","v":""},{"$f":"IF('Backend Calcs Metric'!U230=\"\",\"\",(ROUND((CONVERT('Backend Calcs Metric'!U230,\"ft3\",\"m3\")),5)))","v":""},{"$f":"IF('Backend Calcs Metric'!V230=\"\",\"\",(ROUND((CONVERT('Backend Calcs Metric'!V230,\"ft3\",\"m3\")),5)))","v":""},{"$f":"IF('Backend Calcs Metric'!W230=\"\",\"\",(ROUND((CONVERT('Backend Calcs Metric'!W230,\"ft3\",\"m3\")),5)))","v":{"$error":"#VALUE!"}},{"$f":"IF('Backend Calcs Metric'!X230=\"\",\"\",(ROUND((CONVERT('Backend Calcs Metric'!X230,\"ft3\",\"m3\")),5)))","v":""},{"$f":"IF('Backend Calcs Metric'!Y230=\"\",\"\",(ROUND((CONVERT('Backend Calcs Metric'!Y230,\"ft3\",\"m3\")),5)))","v":""},{"$f":"IF('Backend Calcs Metric'!Y230=\"\",\"\",(ROUND((CONVERT('Backend Calcs Metric'!Y230,\"ft3\",\"m3\")),2)))","v":""},{"$f":"IF('Backend Calcs Metric'!AA230=\"\",\"\",(ROUND((CONVERT('Backend Calcs Metric'!Z230,\"ft\",\"m\")),5)))","v":""}]
[{"$f":"IF('Backend Calcs Metric'!P231=\"\",\"\",(ROUND((CONVERT('Backend Calcs Metric'!P231,\"in\",\"mm\")),0)))","v":""},{"$f":"IF('Backend Calcs Metric'!S231=\"\",\"\",(ROUND((CONVERT('Backend Calcs Metric'!S231,\"ft3\",\"m3\")),5)))","v":""},{"$f":"IF('Backend Calcs Metric'!T231=\"\",\"\",(ROUND((CONVERT('Backend Calcs Metric'!T231,\"ft3\",\"m3\")),5)))","v":""},{"$f":"IF('Backend Calcs Metric'!U231=\"\",\"\",(ROUND((CONVERT('Backend Calcs Metric'!U231,\"ft3\",\"m3\")),5)))","v":""},{"$f":"IF('Backend Calcs Metric'!V231=\"\",\"\",(ROUND((CONVERT('Backend Calcs Metric'!V231,\"ft3\",\"m3\")),5)))","v":""},{"$f":"IF('Backend Calcs Metric'!W231=\"\",\"\",(ROUND((CONVERT('Backend Calcs Metric'!W231,\"ft3\",\"m3\")),5)))","v":{"$error":"#VALUE!"}},{"$f":"IF('Backend Calcs Metric'!X231=\"\",\"\",(ROUND((CONVERT('Backend Calcs Metric'!X231,\"ft3\",\"m3\")),5)))","v":""},{"$f":"IF('Backend Calcs Metric'!Y231=\"\",\"\",(ROUND((CONVERT('Backend Calcs Metric'!Y231,\"ft3\",\"m3\")),5)))","v":""},{"$f":"IF('Backend Calcs Metric'!Y231=\"\",\"\",(ROUND((CONVERT('Backend Calcs Metric'!Y231,\"ft3\",\"m3\")),2)))","v":""},{"$f":"IF('Backend Calcs Metric'!AA231=\"\",\"\",(ROUND((CONVERT('Backend Calcs Metric'!Z231,\"ft\",\"m\")),5)))","v":""}]
[{"$f":"IF('Backend Calcs Metric'!P232=\"\",\"\",(ROUND((CONVERT('Backend Calcs Metric'!P232,\"in\",\"mm\")),0)))","v":""},{"$f":"IF('Backend Calcs Metric'!S232=\"\",\"\",(ROUND((CONVERT('Backend Calcs Metric'!S232,\"ft3\",\"m3\")),5)))","v":""},{"$f":"IF('Backend Calcs Metric'!T232=\"\",\"\",(ROUND((CONVERT('Backend Calcs Metric'!T232,\"ft3\",\"m3\")),5)))","v":""},{"$f":"IF('Backend Calcs Metric'!U232=\"\",\"\",(ROUND((CONVERT('Backend Calcs Metric'!U232,\"ft3\",\"m3\")),5)))","v":""},{"$f":"IF('Backend Calcs Metric'!V232=\"\",\"\",(ROUND((CONVERT('Backend Calcs Metric'!V232,\"ft3\",\"m3\")),5)))","v":""},{"$f":"IF('Backend Calcs Metric'!W232=\"\",\"\",(ROUND((CONVERT('Backend Calcs Metric'!W232,\"ft3\",\"m3\")),5)))","v":{"$error":"#VALUE!"}},{"$f":"IF('Backend Calcs Metric'!X232=\"\",\"\",(ROUND((CONVERT('Backend Calcs Metric'!X232,\"ft3\",\"m3\")),5)))","v":""},{"$f":"IF('Backend Calcs Metric'!Y232=\"\",\"\",(ROUND((CONVERT('Backend Calcs Metric'!Y232,\"ft3\",\"m3\")),5)))","v":""},{"$f":"IF('Backend Calcs Metric'!Y232=\"\",\"\",(ROUND((CONVERT('Backend Calcs Metric'!Y232,\"ft3\",\"m3\")),2)))","v":""},{"$f":"IF('Backend Calcs Metric'!AA232=\"\",\"\",(ROUND((CONVERT('Backend Calcs Metric'!Z232,\"ft\",\"m\")),5)))","v":""}]
[{"$f":"IF('Backend Calcs Metric'!P233=\"\",\"\",(ROUND((CONVERT('Backend Calcs Metric'!P233,\"in\",\"mm\")),0)))","v":""},{"$f":"IF('Backend Calcs Metric'!S233=\"\",\"\",(ROUND((CONVERT('Backend Calcs Metric'!S233,\"ft3\",\"m3\")),5)))","v":""},{"$f":"IF('Backend Calcs Metric'!T233=\"\",\"\",(ROUND((CONVERT('Backend Calcs Metric'!T233,\"ft3\",\"m3\")),5)))","v":""},{"$f":"IF('Backend Calcs Metric'!U233=\"\",\"\",(ROUND((CONVERT('Backend Calcs Metric'!U233,\"ft3\",\"m3\")),5)))","v":""},{"$f":"IF('Backend Calcs Metric'!V233=\"\",\"\",(ROUND((CONVERT('Backend Calcs Metric'!V233,\"ft3\",\"m3\")),5)))","v":""},{"$f":"IF('Backend Calcs Metric'!W233=\"\",\"\",(ROUND((CONVERT('Backend Calcs Metric'!W233,\"ft3\",\"m3\")),5)))","v":{"$error":"#VALUE!"}},{"$f":"IF('Backend Calcs Metric'!X233=\"\",\"\",(ROUND((CONVERT('Backend Calcs Metric'!X233,\"ft3\",\"m3\")),5)))","v":""},{"$f":"IF('Backend Calcs Metric'!Y233=\"\",\"\",(ROUND((CONVERT('Backend Calcs Metric'!Y233,\"ft3\",\"m3\")),5)))","v":""},{"$f":"IF('Backend Calcs Metric'!Y233=\"\",\"\",(ROUND((CONVERT('Backend Calcs Metric'!Y233,\"ft3\",\"m3\")),2)))","v":""},{"$f":"IF('Backend Calcs Metric'!AA233=\"\",\"\",(ROUND((CONVERT('Backend Calcs Metric'!Z233,\"ft\",\"m\")),5)))","v":""}]
[{"$f":"IF('Backend Calcs Metric'!P234=\"\",\"\",(ROUND((CONVERT('Backend Calcs Metric'!P234,\"in\",\"mm\")),0)))","v":""},{"$f":"IF('Backend Calcs Metric'!S234=\"\",\"\",(ROUND((CONVERT('Backend Calcs Metric'!S234,\"ft3\",\"m3\")),5)))","v":""},{"$f":"IF('Backend Calcs Metric'!T234=\"\",\"\",(ROUND((CONVERT('Backend Calcs Metric'!T234,\"ft3\",\"m3\")),5)))","v":""},{"$f":"IF('Backend Calcs Metric'!U234=\"\",\"\",(ROUND((CONVERT('Backend Calcs Metric'!U234,\"ft3\",\"m3\")),5)))","v":""},{"$f":"IF('Backend Calcs Metric'!V234=\"\",\"\",(ROUND((CONVERT('Backend Calcs Metric'!V234,\"ft3\",\"m3\")),5)))","v":""},{"$f":"IF('Backend Calcs Metric'!W234=\"\",\"\",(ROUND((CONVERT('Backend Calcs Metric'!W234,\"ft3\",\"m3\")),5)))","v":{"$error":"#VALUE!"}},{"$f":"IF('Backend Calcs Metric'!X234=\"\",\"\",(ROUND((CONVERT('Backend Calcs Metric'!X234,\"ft3\",\"m3\")),5)))","v":""},{"$f":"IF('Backend Calcs Metric'!Y234=\"\",\"\",(ROUND((CONVERT('Backend Calcs Metric'!Y234,\"ft3\",\"m3\")),5)))","v":""},{"$f":"IF('Backend Calcs Metric'!Y234=\"\",\"\",(ROUND((CONVERT('Backend Calcs Metric'!Y234,\"ft3\",\"m3\")),2)))","v":""},{"$f":"IF('Backend Calcs Metric'!AA234=\"\",\"\",(ROUND((CONVERT('Backend Calcs Metric'!Z234,\"ft\",\"m\")),5)))","v":""}]
[{"$f":"IF('Backend Calcs Metric'!P235=\"\",\"\",(ROUND((CONVERT('Backend Calcs Metric'!P235,\"in\",\"mm\")),0)))","v":""},{"$f":"IF('Backend Calcs Metric'!S235=\"\",\"\",(ROUND((CONVERT('Backend Calcs Metric'!S235,\"ft3\",\"m3\")),5)))","v":""},{"$f":"IF('Backend Calcs Metric'!T235=\"\",\"\",(ROUND((CONVERT('Backend Calcs Metric'!T235,\"ft3\",\"m3\")),5)))","v":""},{"$f":"IF('Backend Calcs Metric'!U235=\"\",\"\",(ROUND((CONVERT('Backend Calcs Metric'!U235,\"ft3\",\"m3\")),5)))","v":""},{"$f":"IF('Backend Calcs Metric'!V235=\"\",\"\",(ROUND((CONVERT('Backend Calcs Metric'!V235,\"ft3\",\"m3\")),5)))","v":""},{"$f":"IF('Backend Calcs Metric'!W235=\"\",\"\",(ROUND((CONVERT('Backend Calcs Metric'!W235,\"ft3\",\"m3\")),5)))","v":{"$error":"#VALUE!"}},{"$f":"IF('Backend Calcs Metric'!X235=\"\",\"\",(ROUND((CONVERT('Backend Calcs Metric'!X235,\"ft3\",\"m3\")),5)))","v":""},{"$f":"IF('Backend Calcs Metric'!Y235=\"\",\"\",(ROUND((CONVERT('Backend Calcs Metric'!Y235,\"ft3\",\"m3\")),5)))","v":""},{"$f":"IF('Backend Calcs Metric'!Y235=\"\",\"\",(ROUND((CONVERT('Backend Calcs Metric'!Y235,\"ft3\",\"m3\")),2)))","v":""},{"$f":"IF('Backend Calcs Metric'!AA235=\"\",\"\",(ROUND((CONVERT('Backend Calcs Metric'!Z235,\"ft\",\"m\")),5)))","v":""}]
[{"$f":"IF('Backend Calcs Metric'!P236=\"\",\"\",(ROUND((CONVERT('Backend Calcs Metric'!P236,\"in\",\"mm\")),0)))","v":""},{"$f":"IF('Backend Calcs Metric'!S236=\"\",\"\",(ROUND((CONVERT('Backend Calcs Metric'!S236,\"ft3\",\"m3\")),5)))","v":""},{"$f":"IF('Backend Calcs Metric'!T236=\"\",\"\",(ROUND((CONVERT('Backend Calcs Metric'!T236,\"ft3\",\"m3\")),5)))","v":""},{"$f":"IF('Backend Calcs Metric'!U236=\"\",\"\",(ROUND((CONVERT('Backend Calcs Metric'!U236,\"ft3\",\"m3\")),5)))","v":""},{"$f":"IF('Backend Calcs Metric'!V236=\"\",\"\",(ROUND((CONVERT('Backend Calcs Metric'!V236,\"ft3\",\"m3\")),5)))","v":""},{"$f":"IF('Backend Calcs Metric'!W236=\"\",\"\",(ROUND((CONVERT('Backend Calcs Metric'!W236,\"ft3\",\"m3\")),5)))","v":{"$error":"#VALUE!"}},{"$f":"IF('Backend Calcs Metric'!X236=\"\",\"\",(ROUND((CONVERT('Backend Calcs Metric'!X236,\"ft3\",\"m3\")),5)))","v":""},{"$f":"IF('Backend Calcs Metric'!Y236=\"\",\"\",(ROUND((CONVERT('Backend Calcs Metric'!Y236,\"ft3\",\"m3\")),5)))","v":""},{"$f":"IF('Backend Calcs Metric'!Y236=\"\",\"\",(ROUND((CONVERT('Backend Calcs Metric'!Y236,\"ft3\",\"m3\")),2)))","v":""},{"$f":"IF('Backend Calcs Metric'!AA236=\"\",\"\",(ROUND((CONVERT('Backend Calcs Metric'!Z236,\"ft\",\"m\")),5)))","v":""}]
[{"$f":"IF('Backend Calcs Metric'!P237=\"\",\"\",(ROUND((CONVERT('Backend Calcs Metric'!P237,\"in\",\"mm\")),0)))","v":""},{"$f":"IF('Backend Calcs Metric'!S237=\"\",\"\",(ROUND((CONVERT('Backend Calcs Metric'!S237,\"ft3\",\"m3\")),5)))","v":""},{"$f":"IF('Backend Calcs Metric'!T237=\"\",\"\",(ROUND((CONVERT('Backend Calcs Metric'!T237,\"ft3\",\"m3\")),5)))","v":""},{"$f":"IF('Backend Calcs Metric'!U237=\"\",\"\",(ROUND((CONVERT('Backend Calcs Metric'!U237,\"ft3\",\"m3\")),5)))","v":""},{"$f":"IF('Backend Calcs Metric'!V237=\"\",\"\",(ROUND((CONVERT('Backend Calcs Metric'!V237,\"ft3\",\"m3\")),5)))","v":""},{"$f":"IF('Backend Calcs Metric'!W237=\"\",\"\",(ROUND((CONVERT('Backend Calcs Metric'!W237,\"ft3\",\"m3\")),5)))","v":{"$error":"#VALUE!"}},{"$f":"IF('Backend Calcs Metric'!X237=\"\",\"\",(ROUND((CONVERT('Backend Calcs Metric'!X237,\"ft3\",\"m3\")),5)))","v":""},{"$f":"IF('Backend Calcs Metric'!Y237=\"\",\"\",(ROUND((CONVERT('Backend Calcs Metric'!Y237,\"ft3\",\"m3\")),5)))","v":""},{"$f":"IF('Backend Calcs Metric'!Y237=\"\",\"\",(ROUND((CONVERT('Backend Calcs Metric'!Y237,\"ft3\",\"m3\")),2)))","v":""},{"$f":"IF('Backend Calcs Metric'!AA237=\"\",\"\",(ROUND((CONVERT('Backend Calcs Metric'!Z237,\"ft\",\"m\")),5)))","v":""}]
[{"$f":"IF('Backend Calcs Metric'!P238=\"\",\"\",(ROUND((CONVERT('Backend Calcs Metric'!P238,\"in\",\"mm\")),0)))","v":""},{"$f":"IF('Backend Calcs Metric'!S238=\"\",\"\",(ROUND((CONVERT('Backend Calcs Metric'!S238,\"ft3\",\"m3\")),5)))","v":""},{"$f":"IF('Backend Calcs Metric'!T238=\"\",\"\",(ROUND((CONVERT('Backend Calcs Metric'!T238,\"ft3\",\"m3\")),5)))","v":""},{"$f":"IF('Backend Calcs Metric'!U238=\"\",\"\",(ROUND((CONVERT('Backend Calcs Metric'!U238,\"ft3\",\"m3\")),5)))","v":""},{"$f":"IF('Backend Calcs Metric'!V238=\"\",\"\",(ROUND((CONVERT('Backend Calcs Metric'!V238,\"ft3\",\"m3\")),5)))","v":""},{"$f":"IF('Backend Calcs Metric'!W238=\"\",\"\",(ROUND((CONVERT('Backend Calcs Metric'!W238,\"ft3\",\"m3\")),5)))","v":{"$error":"#VALUE!"}},{"$f":"IF('Backend Calcs Metric'!X238=\"\",\"\",(ROUND((CONVERT('Backend Calcs Metric'!X238,\"ft3\",\"m3\")),5)))","v":""},{"$f":"IF('Backend Calcs Metric'!Y238=\"\",\"\",(ROUND((CONVERT('Backend Calcs Metric'!Y238,\"ft3\",\"m3\")),5)))","v":""},{"$f":"IF('Backend Calcs Metric'!Y238=\"\",\"\",(ROUND((CONVERT('Backend Calcs Metric'!Y238,\"ft3\",\"m3\")),2)))","v":""},{"$f":"IF('Backend Calcs Metric'!AA238=\"\",\"\",(ROUND((CONVERT('Backend Calcs Metric'!Z238,\"ft\",\"m\")),5)))","v":""}]
[{"$f":"IF('Backend Calcs Metric'!P239=\"\",\"\",(ROUND((CONVERT('Backend Calcs Metric'!P239,\"in\",\"mm\")),0)))","v":""},{"$f":"IF('Backend Calcs Metric'!S239=\"\",\"\",(ROUND((CONVERT('Backend Calcs Metric'!S239,\"ft3\",\"m3\")),5)))","v":""},{"$f":"IF('Backend Calcs Metric'!T239=\"\",\"\",(ROUND((CONVERT('Backend Calcs Metric'!T239,\"ft3\",\"m3\")),5)))","v":""},{"$f":"IF('Backend Calcs Metric'!U239=\"\",\"\",(ROUND((CONVERT('Backend Calcs Metric'!U239,\"ft3\",\"m3\")),5)))","v":""},{"$f":"IF('Backend Calcs Metric'!V239=\"\",\"\",(ROUND((CONVERT('Backend Calcs Metric'!V239,\"ft3\",\"m3\")),5)))","v":""},{"$f":"IF('Backend Calcs Metric'!W239=\"\",\"\",(ROUND((CONVERT('Backend Calcs Metric'!W239,\"ft3\",\"m3\")),5)))","v":{"$error":"#VALUE!"}},{"$f":"IF('Backend Calcs Metric'!X239=\"\",\"\",(ROUND((CONVERT('Backend Calcs Metric'!X239,\"ft3\",\"m3\")),5)))","v":""},{"$f":"IF('Backend Calcs Metric'!Y239=\"\",\"\",(ROUND((CONVERT('Backend Calcs Metric'!Y239,\"ft3\",\"m3\")),5)))","v":""},{"$f":"IF('Backend Calcs Metric'!Y239=\"\",\"\",(ROUND((CONVERT('Backend Calcs Metric'!Y239,\"ft3\",\"m3\")),2)))","v":""},{"$f":"IF('Backend Calcs Metric'!AA239=\"\",\"\",(ROUND((CONVERT('Backend Calcs Metric'!Z239,\"ft\",\"m\")),5)))","v":""}]
[{"$f":"IF('Backend Calcs Metric'!P240=\"\",\"\",(ROUND((CONVERT('Backend Calcs Metric'!P240,\"in\",\"mm\")),0)))","v":""},{"$f":"IF('Backend Calcs Metric'!S240=\"\",\"\",(ROUND((CONVERT('Backend Calcs Metric'!S240,\"ft3\",\"m3\")),5)))","v":""},{"$f":"IF('Backend Calcs Metric'!T240=\"\",\"\",(ROUND((CONVERT('Backend Calcs Metric'!T240,\"ft3\",\"m3\")),5)))","v":""},{"$f":"IF('Backend Calcs Metric'!U240=\"\",\"\",(ROUND((CONVERT('Backend Calcs Metric'!U240,\"ft3\",\"m3\")),5)))","v":""},{"$f":"IF('Backend Calcs Metric'!V240=\"\",\"\",(ROUND((CONVERT('Backend Calcs Metric'!V240,\"ft3\",\"m3\")),5)))","v":""},{"$f":"IF('Backend Calcs Metric'!W240=\"\",\"\",(ROUND((CONVERT('Backend Calcs Metric'!W240,\"ft3\",\"m3\")),5)))","v":{"$error":"#VALUE!"}},{"$f":"IF('Backend Calcs Metric'!X240=\"\",\"\",(ROUND((CONVERT('Backend Calcs Metric'!X240,\"ft3\",\"m3\")),5)))","v":""},{"$f":"IF('Backend Calcs Metric'!Y240=\"\",\"\",(ROUND((CONVERT('Backend Calcs Metric'!Y240,\"ft3\",\"m3\")),5)))","v":""},{"$f":"IF('Backend Calcs Metric'!Y240=\"\",\"\",(ROUND((CONVERT('Backend Calcs Metric'!Y240,\"ft3\",\"m3\")),2)))","v":""},{"$f":"IF('Backend Calcs Metric'!AA240=\"\",\"\",(ROUND((CONVERT('Backend Calcs Metric'!Z240,\"ft\",\"m\")),5)))","v":""}]
[{"$f":"IF('Backend Calcs Metric'!P241=\"\",\"\",(ROUND((CONVERT('Backend Calcs Metric'!P241,\"in\",\"mm\")),0)))","v":""},{"$f":"IF('Backend Calcs Metric'!S241=\"\",\"\",(ROUND((CONVERT('Backend Calcs Metric'!S241,\"ft3\",\"m3\")),5)))","v":""},{"$f":"IF('Backend Calcs Metric'!T241=\"\",\"\",(ROUND((CONVERT('Backend Calcs Metric'!T241,\"ft3\",\"m3\")),5)))","v":""},{"$f":"IF('Backend Calcs Metric'!U241=\"\",\"\",(ROUND((CONVERT('Backend Calcs Metric'!U241,\"ft3\",\"m3\")),5)))","v":""},{"$f":"IF('Backend Calcs Metric'!V241=\"\",\"\",(ROUND((CONVERT('Backend Calcs Metric'!V241,\"ft3\",\"m3\")),5)))","v":""},{"$f":"IF('Backend Calcs Metric'!W241=\"\",\"\",(ROUND((CONVERT('Backend Calcs Metric'!W241,\"ft3\",\"m3\")),5)))","v":{"$error":"#VALUE!"}},{"$f":"IF('Backend Calcs Metric'!X241=\"\",\"\",(ROUND((CONVERT('Backend Calcs Metric'!X241,\"ft3\",\"m3\")),5)))","v":""},{"$f":"IF('Backend Calcs Metric'!Y241=\"\",\"\",(ROUND((CONVERT('Backend Calcs Metric'!Y241,\"ft3\",\"m3\")),5)))","v":""},{"$f":"IF('Backend Calcs Metric'!Y241=\"\",\"\",(ROUND((CONVERT('Backend Calcs Metric'!Y241,\"ft3\",\"m3\")),2)))","v":""},{"$f":"IF('Backend Calcs Metric'!AA241=\"\",\"\",(ROUND((CONVERT('Backend Calcs Metric'!Z241,\"ft\",\"m\")),5)))","v":""}]
[{"$f":"IF('Backend Calcs Metric'!P242=\"\",\"\",(ROUND((CONVERT('Backend Calcs Metric'!P242,\"in\",\"mm\")),0)))","v":""},{"$f":"IF('Backend Calcs Metric'!S242=\"\",\"\",(ROUND((CONVERT('Backend Calcs Metric'!S242,\"ft3\",\"m3\")),5)))","v":""},{"$f":"IF('Backend Calcs Metric'!T242=\"\",\"\",(ROUND((CONVERT('Backend Calcs Metric'!T242,\"ft3\",\"m3\")),5)))","v":""},{"$f":"IF('Backend Calcs Metric'!U242=\"\",\"\",(ROUND((CONVERT('Backend Calcs Metric'!U242,\"ft3\",\"m3\")),5)))","v":""},{"$f":"IF('Backend Calcs Metric'!V242=\"\",\"\",(ROUND((CONVERT('Backend Calcs Metric'!V242,\"ft3\",\"m3\")),5)))","v":""},{"$f":"IF('Backend Calcs Metric'!W242=\"\",\"\",(ROUND((CONVERT('Backend Calcs Metric'!W242,\"ft3\",\"m3\")),5)))","v":{"$error":"#VALUE!"}},{"$f":"IF('Backend Calcs Metric'!X242=\"\",\"\",(ROUND((CONVERT('Backend Calcs Metric'!X242,\"ft3\",\"m3\")),5)))","v":""},{"$f":"IF('Backend Calcs Metric'!Y242=\"\",\"\",(ROUND((CONVERT('Backend Calcs Metric'!Y242,\"ft3\",\"m3\")),5)))","v":""},{"$f":"IF('Backend Calcs Metric'!Y242=\"\",\"\",(ROUND((CONVERT('Backend Calcs Metric'!Y242,\"ft3\",\"m3\")),2)))","v":""},{"$f":"IF('Backend Calcs Metric'!AA242=\"\",\"\",(ROUND((CONVERT('Backend Calcs Metric'!Z242,\"ft\",\"m\")),5)))","v":""}]
[{"$f":"IF('Backend Calcs Metric'!P243=\"\",\"\",(ROUND((CONVERT('Backend Calcs Metric'!P243,\"in\",\"mm\")),0)))","v":""},{"$f":"IF('Backend Calcs Metric'!S243=\"\",\"\",(ROUND((CONVERT('Backend Calcs Metric'!S243,\"ft3\",\"m3\")),5)))","v":""},{"$f":"IF('Backend Calcs Metric'!T243=\"\",\"\",(ROUND((CONVERT('Backend Calcs Metric'!T243,\"ft3\",\"m3\")),5)))","v":""},{"$f":"IF('Backend Calcs Metric'!U243=\"\",\"\",(ROUND((CONVERT('Backend Calcs Metric'!U243,\"ft3\",\"m3\")),5)))","v":""},{"$f":"IF('Backend Calcs Metric'!V243=\"\",\"\",(ROUND((CONVERT('Backend Calcs Metric'!V243,\"ft3\",\"m3\")),5)))","v":""},{"$f":"IF('Backend Calcs Metric'!W243=\"\",\"\",(ROUND((CONVERT('Backend Calcs Metric'!W243,\"ft3\",\"m3\")),5)))","v":{"$error":"#VALUE!"}},{"$f":"IF('Backend Calcs Metric'!X243=\"\",\"\",(ROUND((CONVERT('Backend Calcs Metric'!X243,\"ft3\",\"m3\")),5)))","v":""},{"$f":"IF('Backend Calcs Metric'!Y243=\"\",\"\",(ROUND((CONVERT('Backend Calcs Metric'!Y243,\"ft3\",\"m3\")),5)))","v":""},{"$f":"IF('Backend Calcs Metric'!Y243=\"\",\"\",(ROUND((CONVERT('Backend Calcs Metric'!Y243,\"ft3\",\"m3\")),2)))","v":""},{"$f":"IF('Backend Calcs Metric'!AA243=\"\",\"\",(ROUND((CONVERT('Backend Calcs Metric'!Z243,\"ft\",\"m\")),5)))","v":""}]
[{"$f":"IF('Backend Calcs Metric'!P244=\"\",\"\",(ROUND((CONVERT('Backend Calcs Metric'!P244,\"in\",\"mm\")),0)))","v":""},{"$f":"IF('Backend Calcs Metric'!S244=\"\",\"\",(ROUND((CONVERT('Backend Calcs Metric'!S244,\"ft3\",\"m3\")),5)))","v":""},{"$f":"IF('Backend Calcs Metric'!T244=\"\",\"\",(ROUND((CONVERT('Backend Calcs Metric'!T244,\"ft3\",\"m3\")),5)))","v":""},{"$f":"IF('Backend Calcs Metric'!U244=\"\",\"\",(ROUND((CONVERT('Backend Calcs Metric'!U244,\"ft3\",\"m3\")),5)))","v":""},{"$f":"IF('Backend Calcs Metric'!V244=\"\",\"\",(ROUND((CONVERT('Backend Calcs Metric'!V244,\"ft3\",\"m3\")),5)))","v":""},{"$f":"IF('Backend Calcs Metric'!W244=\"\",\"\",(ROUND((CONVERT('Backend Calcs Metric'!W244,\"ft3\",\"m3\")),5)))","v":{"$error":"#VALUE!"}},{"$f":"IF('Backend Calcs Metric'!X244=\"\",\"\",(ROUND((CONVERT('Backend Calcs Metric'!X244,\"ft3\",\"m3\")),5)))","v":""},{"$f":"IF('Backend Calcs Metric'!Y244=\"\",\"\",(ROUND((CONVERT('Backend Calcs Metric'!Y244,\"ft3\",\"m3\")),5)))","v":""},{"$f":"IF('Backend Calcs Metric'!Y244=\"\",\"\",(ROUND((CONVERT('Backend Calcs Metric'!Y244,\"ft3\",\"m3\")),2)))","v":""},{"$f":"IF('Backend Calcs Metric'!AA244=\"\",\"\",(ROUND((CONVERT('Backend Calcs Metric'!Z244,\"ft\",\"m\")),5)))","v":""}]
[{"$f":"IF('Backend Calcs Metric'!P245=\"\",\"\",(ROUND((CONVERT('Backend Calcs Metric'!P245,\"in\",\"mm\")),0)))","v":""},{"$f":"IF('Backend Calcs Metric'!S245=\"\",\"\",(ROUND((CONVERT('Backend Calcs Metric'!S245,\"ft3\",\"m3\")),5)))","v":""},{"$f":"IF('Backend Calcs Metric'!T245=\"\",\"\",(ROUND((CONVERT('Backend Calcs Metric'!T245,\"ft3\",\"m3\")),5)))","v":""},{"$f":"IF('Backend Calcs Metric'!U245=\"\",\"\",(ROUND((CONVERT('Backend Calcs Metric'!U245,\"ft3\",\"m3\")),5)))","v":""},{"$f":"IF('Backend Calcs Metric'!V245=\"\",\"\",(ROUND((CONVERT('Backend Calcs Metric'!V245,\"ft3\",\"m3\")),5)))","v":""},{"$f":"IF('Backend Calcs Metric'!W245=\"\",\"\",(ROUND((CONVERT('Backend Calcs Metric'!W245,\"ft3\",\"m3\")),5)))","v":{"$error":"#VALUE!"}},{"$f":"IF('Backend Calcs Metric'!X245=\"\",\"\",(ROUND((CONVERT('Backend Calcs Metric'!X245,\"ft3\",\"m3\")),5)))","v":""},{"$f":"IF('Backend Calcs Metric'!Y245=\"\",\"\",(ROUND((CONVERT('Backend Calcs Metric'!Y245,\"ft3\",\"m3\")),5)))","v":""},{"$f":"IF('Backend Calcs Metric'!Y245=\"\",\"\",(ROUND((CONVERT('Backend Calcs Metric'!Y245,\"ft3\",\"m3\")),2)))","v":""},{"$f":"IF('Backend Calcs Metric'!AA245=\"\",\"\",(ROUND((CONVERT('Backend Calcs Metric'!Z245,\"ft\",\"m\")),5)))","v":""}]
[{"$f":"IF('Backend Calcs Metric'!P246=\"\",\"\",(ROUND((CONVERT('Backend Calcs Metric'!P246,\"in\",\"mm\")),0)))","v":""},{"$f":"IF('Backend Calcs Metric'!S246=\"\",\"\",(ROUND((CONVERT('Backend Calcs Metric'!S246,\"ft3\",\"m3\")),5)))","v":""},{"$f":"IF('Backend Calcs Metric'!T246=\"\",\"\",(ROUND((CONVERT('Backend Calcs Metric'!T246,\"ft3\",\"m3\")),5)))","v":""},{"$f":"IF('Backend Calcs Metric'!U246=\"\",\"\",(ROUND((CONVERT('Backend Calcs Metric'!U246,\"ft3\",\"m3\")),5)))","v":""},{"$f":"IF('Backend Calcs Metric'!V246=\"\",\"\",(ROUND((CONVERT('Backend Calcs Metric'!V246,\"ft3\",\"m3\")),5)))","v":""},{"$f":"IF('Backend Calcs Metric'!W246=\"\",\"\",(ROUND((CONVERT('Backend Calcs Metric'!W246,\"ft3\",\"m3\")),5)))","v":{"$error":"#VALUE!"}},{"$f":"IF('Backend Calcs Metric'!X246=\"\",\"\",(ROUND((CONVERT('Backend Calcs Metric'!X246,\"ft3\",\"m3\")),5)))","v":""},{"$f":"IF('Backend Calcs Metric'!Y246=\"\",\"\",(ROUND((CONVERT('Backend Calcs Metric'!Y246,\"ft3\",\"m3\")),5)))","v":""},{"$f":"IF('Backend Calcs Metric'!Y246=\"\",\"\",(ROUND((CONVERT('Backend Calcs Metric'!Y246,\"ft3\",\"m3\")),2)))","v":""},{"$f":"IF('Backend Calcs Metric'!AA246=\"\",\"\",(ROUND((CONVERT('Backend Calcs Metric'!Z246,\"ft\",\"m\")),5)))","v":""}]
[{"$f":"IF('Backend Calcs Metric'!P247=\"\",\"\",(ROUND((CONVERT('Backend Calcs Metric'!P247,\"in\",\"mm\")),0)))","v":""},{"$f":"IF('Backend Calcs Metric'!S247=\"\",\"\",(ROUND((CONVERT('Backend Calcs Metric'!S247,\"ft3\",\"m3\")),5)))","v":""},{"$f":"IF('Backend Calcs Metric'!T247=\"\",\"\",(ROUND((CONVERT('Backend Calcs Metric'!T247,\"ft3\",\"m3\")),5)))","v":""},{"$f":"IF('Backend Calcs Metric'!U247=\"\",\"\",(ROUND((CONVERT('Backend Calcs Metric'!U247,\"ft3\",\"m3\")),5)))","v":""},{"$f":"IF('Backend Calcs Metric'!V247=\"\",\"\",(ROUND((CONVERT('Backend Calcs Metric'!V247,\"ft3\",\"m3\")),5)))","v":""},{"$f":"IF('Backend Calcs Metric'!W247=\"\",\"\",(ROUND((CONVERT('Backend Calcs Metric'!W247,\"ft3\",\"m3\")),5)))","v":{"$error":"#VALUE!"}},{"$f":"IF('Backend Calcs Metric'!X247=\"\",\"\",(ROUND((CONVERT('Backend Calcs Metric'!X247,\"ft3\",\"m3\")),5)))","v":""},{"$f":"IF('Backend Calcs Metric'!Y247=\"\",\"\",(ROUND((CONVERT('Backend Calcs Metric'!Y247,\"ft3\",\"m3\")),5)))","v":""},{"$f":"IF('Backend Calcs Metric'!Y247=\"\",\"\",(ROUND((CONVERT('Backend Calcs Metric'!Y247,\"ft3\",\"m3\")),2)))","v":""},{"$f":"IF('Backend Calcs Metric'!AA247=\"\",\"\",(ROUND((CONVERT('Backend Calcs Metric'!Z247,\"ft\",\"m\")),5)))","v":""}]
[{"$f":"IF('Backend Calcs Metric'!P248=\"\",\"\",(ROUND((CONVERT('Backend Calcs Metric'!P248,\"in\",\"mm\")),0)))","v":""},{"$f":"IF('Backend Calcs Metric'!S248=\"\",\"\",(ROUND((CONVERT('Backend Calcs Metric'!S248,\"ft3\",\"m3\")),5)))","v":""},{"$f":"IF('Backend Calcs Metric'!T248=\"\",\"\",(ROUND((CONVERT('Backend Calcs Metric'!T248,\"ft3\",\"m3\")),5)))","v":""},{"$f":"IF('Backend Calcs Metric'!U248=\"\",\"\",(ROUND((CONVERT('Backend Calcs Metric'!U248,\"ft3\",\"m3\")),5)))","v":""},{"$f":"IF('Backend Calcs Metric'!V248=\"\",\"\",(ROUND((CONVERT('Backend Calcs Metric'!V248,\"ft3\",\"m3\")),5)))","v":""},{"$f":"IF('Backend Calcs Metric'!W248=\"\",\"\",(ROUND((CONVERT('Backend Calcs Metric'!W248,\"ft3\",\"m3\")),5)))","v":{"$error":"#VALUE!"}},{"$f":"IF('Backend Calcs Metric'!X248=\"\",\"\",(ROUND((CONVERT('Backend Calcs Metric'!X248,\"ft3\",\"m3\")),5)))","v":""},{"$f":"IF('Backend Calcs Metric'!Y248=\"\",\"\",(ROUND((CONVERT('Backend Calcs Metric'!Y248,\"ft3\",\"m3\")),5)))","v":""},{"$f":"IF('Backend Calcs Metric'!Y248=\"\",\"\",(ROUND((CONVERT('Backend Calcs Metric'!Y248,\"ft3\",\"m3\")),2)))","v":""},{"$f":"IF('Backend Calcs Metric'!AA248=\"\",\"\",(ROUND((CONVERT('Backend Calcs Metric'!Z248,\"ft\",\"m\")),5)))","v":""}]
[{"$f":"IF('Backend Calcs Metric'!P249=\"\",\"\",(ROUND((CONVERT('Backend Calcs Metric'!P249,\"in\",\"mm\")),0)))","v":""},{"$f":"IF('Backend Calcs Metric'!S249=\"\",\"\",(ROUND((CONVERT('Backend Calcs Metric'!S249,\"ft3\",\"m3\")),5)))","v":""},{"$f":"IF('Backend Calcs Metric'!T249=\"\",\"\",(ROUND((CONVERT('Backend Calcs Metric'!T249,\"ft3\",\"m3\")),5)))","v":""},{"$f":"IF('Backend Calcs Metric'!U249=\"\",\"\",(ROUND((CONVERT('Backend Calcs Metric'!U249,\"ft3\",\"m3\")),5)))","v":""},{"$f":"IF('Backend Calcs Metric'!V249=\"\",\"\",(ROUND((CONVERT('Backend Calcs Metric'!V249,\"ft3\",\"m3\")),5)))","v":""},{"$f":"IF('Backend Calcs Metric'!W249=\"\",\"\",(ROUND((CONVERT('Backend Calcs Metric'!W249,\"ft3\",\"m3\")),5)))","v":{"$error":"#VALUE!"}},{"$f":"IF('Backend Calcs Metric'!X249=\"\",\"\",(ROUND((CONVERT('Backend Calcs Metric'!X249,\"ft3\",\"m3\")),5)))","v":""},{"$f":"IF('Backend Calcs Metric'!Y249=\"\",\"\",(ROUND((CONVERT('Backend Calcs Metric'!Y249,\"ft3\",\"m3\")),5)))","v":""},{"$f":"IF('Backend Calcs Metric'!Y249=\"\",\"\",(ROUND((CONVERT('Backend Calcs Metric'!Y249,\"ft3\",\"m3\")),2)))","v":""},{"$f":"IF('Backend Calcs Metric'!AA249=\"\",\"\",(ROUND((CONVERT('Backend Calcs Metric'!Z249,\"ft\",\"m\")),5)))","v":""}]
[{"$f":"IF('Backend Calcs Metric'!P250=\"\",\"\",(ROUND((CONVERT('Backend Calcs Metric'!P250,\"in\",\"mm\")),0)))","v":""},{"$f":"IF('Backend Calcs Metric'!S250=\"\",\"\",(ROUND((CONVERT('Backend Calcs Metric'!S250,\"ft3\",\"m3\")),5)))","v":""},{"$f":"IF('Backend Calcs Metric'!T250=\"\",\"\",(ROUND((CONVERT('Backend Calcs Metric'!T250,\"ft3\",\"m3\")),5)))","v":""},{"$f":"IF('Backend Calcs Metric'!U250=\"\",\"\",(ROUND((CONVERT('Backend Calcs Metric'!U250,\"ft3\",\"m3\")),5)))","v":""},{"$f":"IF('Backend Calcs Metric'!V250=\"\",\"\",(ROUND((CONVERT('Backend Calcs Metric'!V250,\"ft3\",\"m3\")),5)))","v":""},{"$f":"IF('Backend Calcs Metric'!W250=\"\",\"\",(ROUND((CONVERT('Backend Calcs Metric'!W250,\"ft3\",\"m3\")),5)))","v":{"$error":"#VALUE!"}},{"$f":"IF('Backend Calcs Metric'!X250=\"\",\"\",(ROUND((CONVERT('Backend Calcs Metric'!X250,\"ft3\",\"m3\")),5)))","v":""},{"$f":"IF('Backend Calcs Metric'!Y250=\"\",\"\",(ROUND((CONVERT('Backend Calcs Metric'!Y250,\"ft3\",\"m3\")),5)))","v":""},{"$f":"IF('Backend Calcs Metric'!Y250=\"\",\"\",(ROUND((CONVERT('Backend Calcs Metric'!Y250,\"ft3\",\"m3\")),2)))","v":""},{"$f":"IF('Backend Calcs Metric'!AA250=\"\",\"\",(ROUND((CONVERT('Backend Calcs Metric'!Z250,\"ft\",\"m\")),5)))","v":""}]
[{"$f":"IF('Backend Calcs Metric'!P251=\"\",\"\",(ROUND((CONVERT('Backend Calcs Metric'!P251,\"in\",\"mm\")),0)))","v":""},{"$f":"IF('Backend Calcs Metric'!S251=\"\",\"\",(ROUND((CONVERT('Backend Calcs Metric'!S251,\"ft3\",\"m3\")),5)))","v":""},{"$f":"IF('Backend Calcs Metric'!T251=\"\",\"\",(ROUND((CONVERT('Backend Calcs Metric'!T251,\"ft3\",\"m3\")),5)))","v":""},{"$f":"IF('Backend Calcs Metric'!U251=\"\",\"\",(ROUND((CONVERT('Backend Calcs Metric'!U251,\"ft3\",\"m3\")),5)))","v":""},{"$f":"IF('Backend Calcs Metric'!V251=\"\",\"\",(ROUND((CONVERT('Backend Calcs Metric'!V251,\"ft3\",\"m3\")),5)))","v":""},{"$f":"IF('Backend Calcs Metric'!W251=\"\",\"\",(ROUND((CONVERT('Backend Calcs Metric'!W251,\"ft3\",\"m3\")),5)))","v":{"$error":"#VALUE!"}},{"$f":"IF('Backend Calcs Metric'!X251=\"\",\"\",(ROUND((CONVERT('Backend Calcs Metric'!X251,\"ft3\",\"m3\")),5)))","v":""},{"$f":"IF('Backend Calcs Metric'!Y251=\"\",\"\",(ROUND((CONVERT('Backend Calcs Metric'!Y251,\"ft3\",\"m3\")),5)))","v":""},{"$f":"IF('Backend Calcs Metric'!Y251=\"\",\"\",(ROUND((CONVERT('Backend Calcs Metric'!Y251,\"ft3\",\"m3\")),2)))","v":""},{"$f":"IF('Backend Calcs Metric'!AA251=\"\",\"\",(ROUND((CONVERT('Backend Calcs Metric'!Z251,\"ft\",\"m\")),5)))","v":""}]
[{"$f":"IF('Backend Calcs Metric'!P252=\"\",\"\",(ROUND((CONVERT('Backend Calcs Metric'!P252,\"in\",\"mm\")),0)))","v":""},{"$f":"IF('Backend Calcs Metric'!S252=\"\",\"\",(ROUND((CONVERT('Backend Calcs Metric'!S252,\"ft3\",\"m3\")),5)))","v":""},{"$f":"IF('Backend Calcs Metric'!T252=\"\",\"\",(ROUND((CONVERT('Backend Calcs Metric'!T252,\"ft3\",\"m3\")),5)))","v":""},{"$f":"IF('Backend Calcs Metric'!U252=\"\",\"\",(ROUND((CONVERT('Backend Calcs Metric'!U252,\"ft3\",\"m3\")),5)))","v":""},{"$f":"IF('Backend Calcs Metric'!V252=\"\",\"\",(ROUND((CONVERT('Backend Calcs Metric'!V252,\"ft3\",\"m3\")),5)))","v":""},{"$f":"IF('Backend Calcs Metric'!W252=\"\",\"\",(ROUND((CONVERT('Backend Calcs Metric'!W252,\"ft3\",\"m3\")),5)))","v":{"$error":"#VALUE!"}},{"$f":"IF('Backend Calcs Metric'!X252=\"\",\"\",(ROUND((CONVERT('Backend Calcs Metric'!X252,\"ft3\",\"m3\")),5)))","v":""},{"$f":"IF('Backend Calcs Metric'!Y252=\"\",\"\",(ROUND((CONVERT('Backend Calcs Metric'!Y252,\"ft3\",\"m3\")),5)))","v":""},{"$f":"IF('Backend Calcs Metric'!Y252=\"\",\"\",(ROUND((CONVERT('Backend Calcs Metric'!Y252,\"ft3\",\"m3\")),2)))","v":""},{"$f":"IF('Backend Calcs Metric'!AA252=\"\",\"\",(ROUND((CONVERT('Backend Calcs Metric'!Z252,\"ft\",\"m\")),5)))","v":""}]
[{"$f":"IF('Backend Calcs Metric'!P253=\"\",\"\",(ROUND((CONVERT('Backend Calcs Metric'!P253,\"in\",\"mm\")),0)))","v":""},{"$f":"IF('Backend Calcs Metric'!S253=\"\",\"\",(ROUND((CONVERT('Backend Calcs Metric'!S253,\"ft3\",\"m3\")),5)))","v":""},{"$f":"IF('Backend Calcs Metric'!T253=\"\",\"\",(ROUND((CONVERT('Backend Calcs Metric'!T253,\"ft3\",\"m3\")),5)))","v":""},{"$f":"IF('Backend Calcs Metric'!U253=\"\",\"\",(ROUND((CONVERT('Backend Calcs Metric'!U253,\"ft3\",\"m3\")),5)))","v":""},{"$f":"IF('Backend Calcs Metric'!V253=\"\",\"\",(ROUND((CONVERT('Backend Calcs Metric'!V253,\"ft3\",\"m3\")),5)))","v":""},{"$f":"IF('Backend Calcs Metric'!W253=\"\",\"\",(ROUND((CONVERT('Backend Calcs Metric'!W253,\"ft3\",\"m3\")),5)))","v":{"$error":"#VALUE!"}},{"$f":"IF('Backend Calcs Metric'!X253=\"\",\"\",(ROUND((CONVERT('Backend Calcs Metric'!X253,\"ft3\",\"m3\")),5)))","v":""},{"$f":"IF('Backend Calcs Metric'!Y253=\"\",\"\",(ROUND((CONVERT('Backend Calcs Metric'!Y253,\"ft3\",\"m3\")),5)))","v":""},{"$f":"IF('Backend Calcs Metric'!Y253=\"\",\"\",(ROUND((CONVERT('Backend Calcs Metric'!Y253,\"ft3\",\"m3\")),2)))","v":""},{"$f":"IF('Backend Calcs Metric'!AA253=\"\",\"\",(ROUND((CONVERT('Backend Calcs Metric'!Z253,\"ft\",\"m\")),5)))","v":""}]
[{"$f":"IF('Backend Calcs Metric'!P254=\"\",\"\",(ROUND((CONVERT('Backend Calcs Metric'!P254,\"in\",\"mm\")),0)))","v":""},{"$f":"IF('Backend Calcs Metric'!S254=\"\",\"\",(ROUND((CONVERT('Backend Calcs Metric'!S254,\"ft3\",\"m3\")),5)))","v":""},{"$f":"IF('Backend Calcs Metric'!T254=\"\",\"\",(ROUND((CONVERT('Backend Calcs Metric'!T254,\"ft3\",\"m3\")),5)))","v":""},{"$f":"IF('Backend Calcs Metric'!U254=\"\",\"\",(ROUND((CONVERT('Backend Calcs Metric'!U254,\"ft3\",\"m3\")),5)))","v":""},{"$f":"IF('Backend Calcs Metric'!V254=\"\",\"\",(ROUND((CONVERT('Backend Calcs Metric'!V254,\"ft3\",\"m3\")),5)))","v":""},{"$f":"IF('Backend Calcs Metric'!W254=\"\",\"\",(ROUND((CONVERT('Backend Calcs Metric'!W254,\"ft3\",\"m3\")),5)))","v":{"$error":"#VALUE!"}},{"$f":"IF('Backend Calcs Metric'!X254=\"\",\"\",(ROUND((CONVERT('Backend Calcs Metric'!X254,\"ft3\",\"m3\")),5)))","v":""},{"$f":"IF('Backend Calcs Metric'!Y254=\"\",\"\",(ROUND((CONVERT('Backend Calcs Metric'!Y254,\"ft3\",\"m3\")),5)))","v":""},{"$f":"IF('Backend Calcs Metric'!Y254=\"\",\"\",(ROUND((CONVERT('Backend Calcs Metric'!Y254,\"ft3\",\"m3\")),2)))","v":""},{"$f":"IF('Backend Calcs Metric'!AA254=\"\",\"\",(ROUND((CONVERT('Backend Calcs Metric'!Z254,\"ft\",\"m\")),5)))","v":""}]
[{"$f":"IF('Backend Calcs Metric'!P255=\"\",\"\",(ROUND((CONVERT('Backend Calcs Metric'!P255,\"in\",\"mm\")),0)))","v":""},{"$f":"IF('Backend Calcs Metric'!S255=\"\",\"\",(ROUND((CONVERT('Backend Calcs Metric'!S255,\"ft3\",\"m3\")),5)))","v":""},{"$f":"IF('Backend Calcs Metric'!T255=\"\",\"\",(ROUND((CONVERT('Backend Calcs Metric'!T255,\"ft3\",\"m3\")),5)))","v":""},{"$f":"IF('Backend Calcs Metric'!U255=\"\",\"\",(ROUND((CONVERT('Backend Calcs Metric'!U255,\"ft3\",\"m3\")),5)))","v":""},{"$f":"IF('Backend Calcs Metric'!V255=\"\",\"\",(ROUND((CONVERT('Backend Calcs Metric'!V255,\"ft3\",\"m3\")),5)))","v":""},{"$f":"IF('Backend Calcs Metric'!W255=\"\",\"\",(ROUND((CONVERT('Backend Calcs Metric'!W255,\"ft3\",\"m3\")),5)))","v":{"$error":"#VALUE!"}},{"$f":"IF('Backend Calcs Metric'!X255=\"\",\"\",(ROUND((CONVERT('Backend Calcs Metric'!X255,\"ft3\",\"m3\")),5)))","v":""},{"$f":"IF('Backend Calcs Metric'!Y255=\"\",\"\",(ROUND((CONVERT('Backend Calcs Metric'!Y255,\"ft3\",\"m3\")),5)))","v":""},{"$f":"IF('Backend Calcs Metric'!Y255=\"\",\"\",(ROUND((CONVERT('Backend Calcs Metric'!Y255,\"ft3\",\"m3\")),2)))","v":""},{"$f":"IF('Backend Calcs Metric'!AA255=\"\",\"\",(ROUND((CONVERT('Backend Calcs Metric'!Z255,\"ft\",\"m\")),5)))","v":""}]
[{"$f":"IF('Backend Calcs Metric'!P256=\"\",\"\",(ROUND((CONVERT('Backend Calcs Metric'!P256,\"in\",\"mm\")),0)))","v":""},{"$f":"IF('Backend Calcs Metric'!S256=\"\",\"\",(ROUND((CONVERT('Backend Calcs Metric'!S256,\"ft3\",\"m3\")),5)))","v":""},{"$f":"IF('Backend Calcs Metric'!T256=\"\",\"\",(ROUND((CONVERT('Backend Calcs Metric'!T256,\"ft3\",\"m3\")),5)))","v":""},{"$f":"IF('Backend Calcs Metric'!U256=\"\",\"\",(ROUND((CONVERT('Backend Calcs Metric'!U256,\"ft3\",\"m3\")),5)))","v":""},{"$f":"IF('Backend Calcs Metric'!V256=\"\",\"\",(ROUND((CONVERT('Backend Calcs Metric'!V256,\"ft3\",\"m3\")),5)))","v":""},{"$f":"IF('Backend Calcs Metric'!W256=\"\",\"\",(ROUND((CONVERT('Backend Calcs Metric'!W256,\"ft3\",\"m3\")),5)))","v":{"$error":"#VALUE!"}},{"$f":"IF('Backend Calcs Metric'!X256=\"\",\"\",(ROUND((CONVERT('Backend Calcs Metric'!X256,\"ft3\",\"m3\")),5)))","v":""},{"$f":"IF('Backend Calcs Metric'!Y256=\"\",\"\",(ROUND((CONVERT('Backend Calcs Metric'!Y256,\"ft3\",\"m3\")),5)))","v":""},{"$f":"IF('Backend Calcs Metric'!Y256=\"\",\"\",(ROUND((CONVERT('Backend Calcs Metric'!Y256,\"ft3\",\"m3\")),2)))","v":""},{"$f":"IF('Backend Calcs Metric'!AA256=\"\",\"\",(ROUND((CONVERT('Backend Calcs Metric'!Z256,\"ft\",\"m\")),5)))","v":""}]
[{"$f":"IF('Backend Calcs Metric'!P257=\"\",\"\",(ROUND((CONVERT('Backend Calcs Metric'!P257,\"in\",\"mm\")),0)))","v":""},{"$f":"IF('Backend Calcs Metric'!S257=\"\",\"\",(ROUND((CONVERT('Backend Calcs Metric'!S257,\"ft3\",\"m3\")),5)))","v":""},{"$f":"IF('Backend Calcs Metric'!T257=\"\",\"\",(ROUND((CONVERT('Backend Calcs Metric'!T257,\"ft3\",\"m3\")),5)))","v":""},{"$f":"IF('Backend Calcs Metric'!U257=\"\",\"\",(ROUND((CONVERT('Backend Calcs Metric'!U257,\"ft3\",\"m3\")),5)))","v":""},{"$f":"IF('Backend Calcs Metric'!V257=\"\",\"\",(ROUND((CONVERT('Backend Calcs Metric'!V257,\"ft3\",\"m3\")),5)))","v":""},{"$f":"IF('Backend Calcs Metric'!W257=\"\",\"\",(ROUND((CONVERT('Backend Calcs Metric'!W257,\"ft3\",\"m3\")),5)))","v":{"$error":"#VALUE!"}},{"$f":"IF('Backend Calcs Metric'!X257=\"\",\"\",(ROUND((CONVERT('Backend Calcs Metric'!X257,\"ft3\",\"m3\")),5)))","v":""},{"$f":"IF('Backend Calcs Metric'!Y257=\"\",\"\",(ROUND((CONVERT('Backend Calcs Metric'!Y257,\"ft3\",\"m3\")),5)))","v":""},{"$f":"IF('Backend Calcs Metric'!Y257=\"\",\"\",(ROUND((CONVERT('Backend Calcs Metric'!Y257,\"ft3\",\"m3\")),2)))","v":""},{"$f":"IF('Backend Calcs Metric'!AA257=\"\",\"\",(ROUND((CONVERT('Backend Calcs Metric'!Z257,\"ft\",\"m\")),5)))","v":""}]
[{"$f":"IF('Backend Calcs Metric'!P258=\"\",\"\",(ROUND((CONVERT('Backend Calcs Metric'!P258,\"in\",\"mm\")),0)))","v":""},{"$f":"IF('Backend Calcs Metric'!S258=\"\",\"\",(ROUND((CONVERT('Backend Calcs Metric'!S258,\"ft3\",\"m3\")),5)))","v":""},{"$f":"IF('Backend Calcs Metric'!T258=\"\",\"\",(ROUND((CONVERT('Backend Calcs Metric'!T258,\"ft3\",\"m3\")),5)))","v":""},{"$f":"IF('Backend Calcs Metric'!U258=\"\",\"\",(ROUND((CONVERT('Backend Calcs Metric'!U258,\"ft3\",\"m3\")),5)))","v":""},{"$f":"IF('Backend Calcs Metric'!V258=\"\",\"\",(ROUND((CONVERT('Backend Calcs Metric'!V258,\"ft3\",\"m3\")),5)))","v":""},{"$f":"IF('Backend Calcs Metric'!W258=\"\",\"\",(ROUND((CONVERT('Backend Calcs Metric'!W258,\"ft3\",\"m3\")),5)))","v":{"$error":"#VALUE!"}},{"$f":"IF('Backend Calcs Metric'!X258=\"\",\"\",(ROUND((CONVERT('Backend Calcs Metric'!X258,\"ft3\",\"m3\")),5)))","v":""},{"$f":"IF('Backend Calcs Metric'!Y258=\"\",\"\",(ROUND((CONVERT('Backend Calcs Metric'!Y258,\"ft3\",\"m3\")),5)))","v":""},{"$f":"IF('Backend Calcs Metric'!Y258=\"\",\"\",(ROUND((CONVERT('Backend Calcs Metric'!Y258,\"ft3\",\"m3\")),2)))","v":""},{"$f":"IF('Backend Calcs Metric'!AA258=\"\",\"\",(ROUND((CONVERT('Backend Calcs Metric'!Z258,\"ft\",\"m\")),5)))","v":""}]
[{"$f":"IF('Backend Calcs Metric'!P259=\"\",\"\",(ROUND((CONVERT('Backend Calcs Metric'!P259,\"in\",\"mm\")),0)))","v":""},{"$f":"IF('Backend Calcs Metric'!S259=\"\",\"\",(ROUND((CONVERT('Backend Calcs Metric'!S259,\"ft3\",\"m3\")),5)))","v":""},{"$f":"IF('Backend Calcs Metric'!T259=\"\",\"\",(ROUND((CONVERT('Backend Calcs Metric'!T259,\"ft3\",\"m3\")),5)))","v":""},{"$f":"IF('Backend Calcs Metric'!U259=\"\",\"\",(ROUND((CONVERT('Backend Calcs Metric'!U259,\"ft3\",\"m3\")),5)))","v":""},{"$f":"IF('Backend Calcs Metric'!V259=\"\",\"\",(ROUND((CONVERT('Backend Calcs Metric'!V259,\"ft3\",\"m3\")),5)))","v":""},{"$f":"IF('Backend Calcs Metric'!W259=\"\",\"\",(ROUND((CONVERT('Backend Calcs Metric'!W259,\"ft3\",\"m3\")),5)))","v":{"$error":"#VALUE!"}},{"$f":"IF('Backend Calcs Metric'!X259=\"\",\"\",(ROUND((CONVERT('Backend Calcs Metric'!X259,\"ft3\",\"m3\")),5)))","v":""},{"$f":"IF('Backend Calcs Metric'!Y259=\"\",\"\",(ROUND((CONVERT('Backend Calcs Metric'!Y259,\"ft3\",\"m3\")),5)))","v":""},{"$f":"IF('Backend Calcs Metric'!Y259=\"\",\"\",(ROUND((CONVERT('Backend Calcs Metric'!Y259,\"ft3\",\"m3\")),2)))","v":""},{"$f":"IF('Backend Calcs Metric'!AA259=\"\",\"\",(ROUND((CONVERT('Backend Calcs Metric'!Z259,\"ft\",\"m\")),5)))","v":""}]
[{"$f":"IF('Backend Calcs Metric'!P260=\"\",\"\",(ROUND((CONVERT('Backend Calcs Metric'!P260,\"in\",\"mm\")),0)))","v":""},{"$f":"IF('Backend Calcs Metric'!S260=\"\",\"\",(ROUND((CONVERT('Backend Calcs Metric'!S260,\"ft3\",\"m3\")),5)))","v":""},{"$f":"IF('Backend Calcs Metric'!T260=\"\",\"\",(ROUND((CONVERT('Backend Calcs Metric'!T260,\"ft3\",\"m3\")),5)))","v":""},{"$f":"IF('Backend Calcs Metric'!U260=\"\",\"\",(ROUND((CONVERT('Backend Calcs Metric'!U260,\"ft3\",\"m3\")),5)))","v":""},{"$f":"IF('Backend Calcs Metric'!V260=\"\",\"\",(ROUND((CONVERT('Backend Calcs Metric'!V260,\"ft3\",\"m3\")),5)))","v":""},{"$f":"IF('Backend Calcs Metric'!W260=\"\",\"\",(ROUND((CONVERT('Backend Calcs Metric'!W260,\"ft3\",\"m3\")),5)))","v":{"$error":"#VALUE!"}},{"$f":"IF('Backend Calcs Metric'!X260=\"\",\"\",(ROUND((CONVERT('Backend Calcs Metric'!X260,\"ft3\",\"m3\")),5)))","v":""},{"$f":"IF('Backend Calcs Metric'!Y260=\"\",\"\",(ROUND((CONVERT('Backend Calcs Metric'!Y260,\"ft3\",\"m3\")),5)))","v":""},{"$f":"IF('Backend Calcs Metric'!Y260=\"\",\"\",(ROUND((CONVERT('Backend Calcs Metric'!Y260,\"ft3\",\"m3\")),2)))","v":""},{"$f":"IF('Backend Calcs Metric'!AA260=\"\",\"\",(ROUND((CONVERT('Backend Calcs Metric'!Z260,\"ft\",\"m\")),5)))","v":""}]
[{"$f":"IF('Backend Calcs Metric'!P261=\"\",\"\",(ROUND((CONVERT('Backend Calcs Metric'!P261,\"in\",\"mm\")),0)))","v":""},{"$f":"IF('Backend Calcs Metric'!S261=\"\",\"\",(ROUND((CONVERT('Backend Calcs Metric'!S261,\"ft3\",\"m3\")),5)))","v":""},{"$f":"IF('Backend Calcs Metric'!T261=\"\",\"\",(ROUND((CONVERT('Backend Calcs Metric'!T261,\"ft3\",\"m3\")),5)))","v":""},{"$f":"IF('Backend Calcs Metric'!U261=\"\",\"\",(ROUND((CONVERT('Backend Calcs Metric'!U261,\"ft3\",\"m3\")),5)))","v":""},{"$f":"IF('Backend Calcs Metric'!V261=\"\",\"\",(ROUND((CONVERT('Backend Calcs Metric'!V261,\"ft3\",\"m3\")),5)))","v":""},{"$f":"IF('Backend Calcs Metric'!W261=\"\",\"\",(ROUND((CONVERT('Backend Calcs Metric'!W261,\"ft3\",\"m3\")),5)))","v":{"$error":"#VALUE!"}},{"$f":"IF('Backend Calcs Metric'!X261=\"\",\"\",(ROUND((CONVERT('Backend Calcs Metric'!X261,\"ft3\",\"m3\")),5)))","v":""},{"$f":"IF('Backend Calcs Metric'!Y261=\"\",\"\",(ROUND((CONVERT('Backend Calcs Metric'!Y261,\"ft3\",\"m3\")),5)))","v":""},{"$f":"IF('Backend Calcs Metric'!Y261=\"\",\"\",(ROUND((CONVERT('Backend Calcs Metric'!Y261,\"ft3\",\"m3\")),2)))","v":""},{"$f":"IF('Backend Calcs Metric'!AA261=\"\",\"\",(ROUND((CONVERT('Backend Calcs Metric'!Z261,\"ft\",\"m\")),5)))","v":""}]
[{"$f":"IF('Backend Calcs Metric'!P262=\"\",\"\",(ROUND((CONVERT('Backend Calcs Metric'!P262,\"in\",\"mm\")),0)))","v":""},{"$f":"IF('Backend Calcs Metric'!S262=\"\",\"\",(ROUND((CONVERT('Backend Calcs Metric'!S262,\"ft3\",\"m3\")),5)))","v":""},{"$f":"IF('Backend Calcs Metric'!T262=\"\",\"\",(ROUND((CONVERT('Backend Calcs Metric'!T262,\"ft3\",\"m3\")),5)))","v":""},{"$f":"IF('Backend Calcs Metric'!U262=\"\",\"\",(ROUND((CONVERT('Backend Calcs Metric'!U262,\"ft3\",\"m3\")),5)))","v":""},{"$f":"IF('Backend Calcs Metric'!V262=\"\",\"\",(ROUND((CONVERT('Backend Calcs Metric'!V262,\"ft3\",\"m3\")),5)))","v":""},{"$f":"IF('Backend Calcs Metric'!W262=\"\",\"\",(ROUND((CONVERT('Backend Calcs Metric'!W262,\"ft3\",\"m3\")),5)))","v":{"$error":"#VALUE!"}},{"$f":"IF('Backend Calcs Metric'!X262=\"\",\"\",(ROUND((CONVERT('Backend Calcs Metric'!X262,\"ft3\",\"m3\")),5)))","v":""},{"$f":"IF('Backend Calcs Metric'!Y262=\"\",\"\",(ROUND((CONVERT('Backend Calcs Metric'!Y262,\"ft3\",\"m3\")),5)))","v":""},{"$f":"IF('Backend Calcs Metric'!Y262=\"\",\"\",(ROUND((CONVERT('Backend Calcs Metric'!Y262,\"ft3\",\"m3\")),2)))","v":""},{"$f":"IF('Backend Calcs Metric'!AA262=\"\",\"\",(ROUND((CONVERT('Backend Calcs Metric'!Z262,\"ft\",\"m\")),5)))","v":""}]
[{"$f":"IF('Backend Calcs Metric'!P263=\"\",\"\",(ROUND((CONVERT('Backend Calcs Metric'!P263,\"in\",\"mm\")),0)))","v":""},{"$f":"IF('Backend Calcs Metric'!S263=\"\",\"\",(ROUND((CONVERT('Backend Calcs Metric'!S263,\"ft3\",\"m3\")),5)))","v":""},{"$f":"IF('Backend Calcs Metric'!T263=\"\",\"\",(ROUND((CONVERT('Backend Calcs Metric'!T263,\"ft3\",\"m3\")),5)))","v":""},{"$f":"IF('Backend Calcs Metric'!U263=\"\",\"\",(ROUND((CONVERT('Backend Calcs Metric'!U263,\"ft3\",\"m3\")),5)))","v":""},{"$f":"IF('Backend Calcs Metric'!V263=\"\",\"\",(ROUND((CONVERT('Backend Calcs Metric'!V263,\"ft3\",\"m3\")),5)))","v":""},{"$f":"IF('Backend Calcs Metric'!W263=\"\",\"\",(ROUND((CONVERT('Backend Calcs Metric'!W263,\"ft3\",\"m3\")),5)))","v":{"$error":"#VALUE!"}},{"$f":"IF('Backend Calcs Metric'!X263=\"\",\"\",(ROUND((CONVERT('Backend Calcs Metric'!X263,\"ft3\",\"m3\")),5)))","v":""},{"$f":"IF('Backend Calcs Metric'!Y263=\"\",\"\",(ROUND((CONVERT('Backend Calcs Metric'!Y263,\"ft3\",\"m3\")),5)))","v":""},{"$f":"IF('Backend Calcs Metric'!Y263=\"\",\"\",(ROUND((CONVERT('Backend Calcs Metric'!Y263,\"ft3\",\"m3\")),2)))","v":""},{"$f":"IF('Backend Calcs Metric'!AA263=\"\",\"\",(ROUND((CONVERT('Backend Calcs Metric'!Z263,\"ft\",\"m\")),5)))","v":""}]
[{"$f":"IF('Backend Calcs Metric'!P264=\"\",\"\",(ROUND((CONVERT('Backend Calcs Metric'!P264,\"in\",\"mm\")),0)))","v":""},{"$f":"IF('Backend Calcs Metric'!S264=\"\",\"\",(ROUND((CONVERT('Backend Calcs Metric'!S264,\"ft3\",\"m3\")),5)))","v":""},{"$f":"IF('Backend Calcs Metric'!T264=\"\",\"\",(ROUND((CONVERT('Backend Calcs Metric'!T264,\"ft3\",\"m3\")),5)))","v":""},{"$f":"IF('Backend Calcs Metric'!U264=\"\",\"\",(ROUND((CONVERT('Backend Calcs Metric'!U264,\"ft3\",\"m3\")),5)))","v":""},{"$f":"IF('Backend Calcs Metric'!V264=\"\",\"\",(ROUND((CONVERT('Backend Calcs Metric'!V264,\"ft3\",\"m3\")),5)))","v":""},{"$f":"IF('Backend Calcs Metric'!W264=\"\",\"\",(ROUND((CONVERT('Backend Calcs Metric'!W264,\"ft3\",\"m3\")),5)))","v":{"$error":"#VALUE!"}},{"$f":"IF('Backend Calcs Metric'!X264=\"\",\"\",(ROUND((CONVERT('Backend Calcs Metric'!X264,\"ft3\",\"m3\")),5)))","v":""},{"$f":"IF('Backend Calcs Metric'!Y264=\"\",\"\",(ROUND((CONVERT('Backend Calcs Metric'!Y264,\"ft3\",\"m3\")),5)))","v":""},{"$f":"IF('Backend Calcs Metric'!Y264=\"\",\"\",(ROUND((CONVERT('Backend Calcs Metric'!Y264,\"ft3\",\"m3\")),2)))","v":""},{"$f":"IF('Backend Calcs Metric'!AA264=\"\",\"\",(ROUND((CONVERT('Backend Calcs Metric'!Z264,\"ft\",\"m\")),5)))","v":""}]
[{"$f":"IF('Backend Calcs Metric'!P265=\"\",\"\",(ROUND((CONVERT('Backend Calcs Metric'!P265,\"in\",\"mm\")),0)))","v":""},{"$f":"IF('Backend Calcs Metric'!S265=\"\",\"\",(ROUND((CONVERT('Backend Calcs Metric'!S265,\"ft3\",\"m3\")),5)))","v":""},{"$f":"IF('Backend Calcs Metric'!T265=\"\",\"\",(ROUND((CONVERT('Backend Calcs Metric'!T265,\"ft3\",\"m3\")),5)))","v":""},{"$f":"IF('Backend Calcs Metric'!U265=\"\",\"\",(ROUND((CONVERT('Backend Calcs Metric'!U265,\"ft3\",\"m3\")),5)))","v":""},{"$f":"IF('Backend Calcs Metric'!V265=\"\",\"\",(ROUND((CONVERT('Backend Calcs Metric'!V265,\"ft3\",\"m3\")),5)))","v":""},{"$f":"IF('Backend Calcs Metric'!W265=\"\",\"\",(ROUND((CONVERT('Backend Calcs Metric'!W265,\"ft3\",\"m3\")),5)))","v":{"$error":"#VALUE!"}},{"$f":"IF('Backend Calcs Metric'!X265=\"\",\"\",(ROUND((CONVERT('Backend Calcs Metric'!X265,\"ft3\",\"m3\")),5)))","v":""},{"$f":"IF('Backend Calcs Metric'!Y265=\"\",\"\",(ROUND((CONVERT('Backend Calcs Metric'!Y265,\"ft3\",\"m3\")),5)))","v":""},{"$f":"IF('Backend Calcs Metric'!Y265=\"\",\"\",(ROUND((CONVERT('Backend Calcs Metric'!Y265,\"ft3\",\"m3\")),2)))","v":""},{"$f":"IF('Backend Calcs Metric'!AA265=\"\",\"\",(ROUND((CONVERT('Backend Calcs Metric'!Z265,\"ft\",\"m\")),5)))","v":""}]
[{"$f":"IF('Backend Calcs Metric'!P266=\"\",\"\",(ROUND((CONVERT('Backend Calcs Metric'!P266,\"in\",\"mm\")),0)))","v":""},{"$f":"IF('Backend Calcs Metric'!S266=\"\",\"\",(ROUND((CONVERT('Backend Calcs Metric'!S266,\"ft3\",\"m3\")),5)))","v":""},{"$f":"IF('Backend Calcs Metric'!T266=\"\",\"\",(ROUND((CONVERT('Backend Calcs Metric'!T266,\"ft3\",\"m3\")),5)))","v":""},{"$f":"IF('Backend Calcs Metric'!U266=\"\",\"\",(ROUND((CONVERT('Backend Calcs Metric'!U266,\"ft3\",\"m3\")),5)))","v":""},{"$f":"IF('Backend Calcs Metric'!V266=\"\",\"\",(ROUND((CONVERT('Backend Calcs Metric'!V266,\"ft3\",\"m3\")),5)))","v":""},{"$f":"IF('Backend Calcs Metric'!W266=\"\",\"\",(ROUND((CONVERT('Backend Calcs Metric'!W266,\"ft3\",\"m3\")),5)))","v":{"$error":"#VALUE!"}},{"$f":"IF('Backend Calcs Metric'!X266=\"\",\"\",(ROUND((CONVERT('Backend Calcs Metric'!X266,\"ft3\",\"m3\")),5)))","v":""},{"$f":"IF('Backend Calcs Metric'!Y266=\"\",\"\",(ROUND((CONVERT('Backend Calcs Metric'!Y266,\"ft3\",\"m3\")),5)))","v":""},{"$f":"IF('Backend Calcs Metric'!Y266=\"\",\"\",(ROUND((CONVERT('Backend Calcs Metric'!Y266,\"ft3\",\"m3\")),2)))","v":""},{"$f":"IF('Backend Calcs Metric'!AA266=\"\",\"\",(ROUND((CONVERT('Backend Calcs Metric'!Z266,\"ft\",\"m\")),5)))","v":""}]
[{"$f":"IF('Backend Calcs Metric'!P267=\"\",\"\",(ROUND((CONVERT('Backend Calcs Metric'!P267,\"in\",\"mm\")),0)))","v":""},{"$f":"IF('Backend Calcs Metric'!S267=\"\",\"\",(ROUND((CONVERT('Backend Calcs Metric'!S267,\"ft3\",\"m3\")),5)))","v":""},{"$f":"IF('Backend Calcs Metric'!T267=\"\",\"\",(ROUND((CONVERT('Backend Calcs Metric'!T267,\"ft3\",\"m3\")),5)))","v":""},{"$f":"IF('Backend Calcs Metric'!U267=\"\",\"\",(ROUND((CONVERT('Backend Calcs Metric'!U267,\"ft3\",\"m3\")),5)))","v":""},{"$f":"IF('Backend Calcs Metric'!V267=\"\",\"\",(ROUND((CONVERT('Backend Calcs Metric'!V267,\"ft3\",\"m3\")),5)))","v":""},{"$f":"IF('Backend Calcs Metric'!W267=\"\",\"\",(ROUND((CONVERT('Backend Calcs Metric'!W267,\"ft3\",\"m3\")),5)))","v":{"$error":"#VALUE!"}},{"$f":"IF('Backend Calcs Metric'!X267=\"\",\"\",(ROUND((CONVERT('Backend Calcs Metric'!X267,\"ft3\",\"m3\")),5)))","v":""},{"$f":"IF('Backend Calcs Metric'!Y267=\"\",\"\",(ROUND((CONVERT('Backend Calcs Metric'!Y267,\"ft3\",\"m3\")),5)))","v":""},{"$f":"IF('Backend Calcs Metric'!Y267=\"\",\"\",(ROUND((CONVERT('Backend Calcs Metric'!Y267,\"ft3\",\"m3\")),2)))","v":""},{"$f":"IF('Backend Calcs Metric'!AA267=\"\",\"\",(ROUND((CONVERT('Backend Calcs Metric'!Z267,\"ft\",\"m\")),5)))","v":""}]
[{"$f":"IF('Backend Calcs Metric'!P268=\"\",\"\",(ROUND((CONVERT('Backend Calcs Metric'!P268,\"in\",\"mm\")),0)))","v":""},{"$f":"IF('Backend Calcs Metric'!S268=\"\",\"\",(ROUND((CONVERT('Backend Calcs Metric'!S268,\"ft3\",\"m3\")),5)))","v":""},{"$f":"IF('Backend Calcs Metric'!T268=\"\",\"\",(ROUND((CONVERT('Backend Calcs Metric'!T268,\"ft3\",\"m3\")),5)))","v":""},{"$f":"IF('Backend Calcs Metric'!U268=\"\",\"\",(ROUND((CONVERT('Backend Calcs Metric'!U268,\"ft3\",\"m3\")),5)))","v":""},{"$f":"IF('Backend Calcs Metric'!V268=\"\",\"\",(ROUND((CONVERT('Backend Calcs Metric'!V268,\"ft3\",\"m3\")),5)))","v":""},{"$f":"IF('Backend Calcs Metric'!W268=\"\",\"\",(ROUND((CONVERT('Backend Calcs Metric'!W268,\"ft3\",\"m3\")),5)))","v":{"$error":"#VALUE!"}},{"$f":"IF('Backend Calcs Metric'!X268=\"\",\"\",(ROUND((CONVERT('Backend Calcs Metric'!X268,\"ft3\",\"m3\")),5)))","v":""},{"$f":"IF('Backend Calcs Metric'!Y268=\"\",\"\",(ROUND((CONVERT('Backend Calcs Metric'!Y268,\"ft3\",\"m3\")),5)))","v":""},{"$f":"IF('Backend Calcs Metric'!Y268=\"\",\"\",(ROUND((CONVERT('Backend Calcs Metric'!Y268,\"ft3\",\"m3\")),2)))","v":""},{"$f":"IF('Backend Calcs Metric'!AA268=\"\",\"\",(ROUND((CONVERT('Backend Calcs Metric'!Z268,\"ft\",\"m\")),5)))","v":""}]
[{"$f":"IF('Backend Calcs Metric'!P269=\"\",\"\",(ROUND((CONVERT('Backend Calcs Metric'!P269,\"in\",\"mm\")),0)))","v":""},{"$f":"IF('Backend Calcs Metric'!S269=\"\",\"\",(ROUND((CONVERT('Backend Calcs Metric'!S269,\"ft3\",\"m3\")),5)))","v":""},{"$f":"IF('Backend Calcs Metric'!T269=\"\",\"\",(ROUND((CONVERT('Backend Calcs Metric'!T269,\"ft3\",\"m3\")),5)))","v":""},{"$f":"IF('Backend Calcs Metric'!U269=\"\",\"\",(ROUND((CONVERT('Backend Calcs Metric'!U269,\"ft3\",\"m3\")),5)))","v":""},{"$f":"IF('Backend Calcs Metric'!V269=\"\",\"\",(ROUND((CONVERT('Backend Calcs Metric'!V269,\"ft3\",\"m3\")),5)))","v":""},{"$f":"IF('Backend Calcs Metric'!W269=\"\",\"\",(ROUND((CONVERT('Backend Calcs Metric'!W269,\"ft3\",\"m3\")),5)))","v":{"$error":"#VALUE!"}},{"$f":"IF('Backend Calcs Metric'!X269=\"\",\"\",(ROUND((CONVERT('Backend Calcs Metric'!X269,\"ft3\",\"m3\")),5)))","v":""},{"$f":"IF('Backend Calcs Metric'!Y269=\"\",\"\",(ROUND((CONVERT('Backend Calcs Metric'!Y269,\"ft3\",\"m3\")),5)))","v":""},{"$f":"IF('Backend Calcs Metric'!Y269=\"\",\"\",(ROUND((CONVERT('Backend Calcs Metric'!Y269,\"ft3\",\"m3\")),2)))","v":""},{"$f":"IF('Backend Calcs Metric'!AA269=\"\",\"\",(ROUND((CONVERT('Backend Calcs Metric'!Z269,\"ft\",\"m\")),5)))","v":""}]
[{"$f":"IF('Backend Calcs Metric'!P270=\"\",\"\",(ROUND((CONVERT('Backend Calcs Metric'!P270,\"in\",\"mm\")),0)))","v":""},{"$f":"IF('Backend Calcs Metric'!S270=\"\",\"\",(ROUND((CONVERT('Backend Calcs Metric'!S270,\"ft3\",\"m3\")),5)))","v":""},{"$f":"IF('Backend Calcs Metric'!T270=\"\",\"\",(ROUND((CONVERT('Backend Calcs Metric'!T270,\"ft3\",\"m3\")),5)))","v":""},{"$f":"IF('Backend Calcs Metric'!U270=\"\",\"\",(ROUND((CONVERT('Backend Calcs Metric'!U270,\"ft3\",\"m3\")),5)))","v":""},{"$f":"IF('Backend Calcs Metric'!V270=\"\",\"\",(ROUND((CONVERT('Backend Calcs Metric'!V270,\"ft3\",\"m3\")),5)))","v":""},{"$f":"IF('Backend Calcs Metric'!W270=\"\",\"\",(ROUND((CONVERT('Backend Calcs Metric'!W270,\"ft3\",\"m3\")),5)))","v":{"$error":"#VALUE!"}},{"$f":"IF('Backend Calcs Metric'!X270=\"\",\"\",(ROUND((CONVERT('Backend Calcs Metric'!X270,\"ft3\",\"m3\")),5)))","v":""},{"$f":"IF('Backend Calcs Metric'!Y270=\"\",\"\",(ROUND((CONVERT('Backend Calcs Metric'!Y270,\"ft3\",\"m3\")),5)))","v":""},{"$f":"IF('Backend Calcs Metric'!Y270=\"\",\"\",(ROUND((CONVERT('Backend Calcs Metric'!Y270,\"ft3\",\"m3\")),2)))","v":""},{"$f":"IF('Backend Calcs Metric'!AA270=\"\",\"\",(ROUND((CONVERT('Backend Calcs Metric'!Z270,\"ft\",\"m\")),5)))","v":""}]
[{"$f":"IF('Backend Calcs Metric'!P271=\"\",\"\",(ROUND((CONVERT('Backend Calcs Metric'!P271,\"in\",\"mm\")),0)))","v":""},{"$f":"IF('Backend Calcs Metric'!S271=\"\",\"\",(ROUND((CONVERT('Backend Calcs Metric'!S271,\"ft3\",\"m3\")),5)))","v":""},{"$f":"IF('Backend Calcs Metric'!T271=\"\",\"\",(ROUND((CONVERT('Backend Calcs Metric'!T271,\"ft3\",\"m3\")),5)))","v":""},{"$f":"IF('Backend Calcs Metric'!U271=\"\",\"\",(ROUND((CONVERT('Backend Calcs Metric'!U271,\"ft3\",\"m3\")),5)))","v":""},{"$f":"IF('Backend Calcs Metric'!V271=\"\",\"\",(ROUND((CONVERT('Backend Calcs Metric'!V271,\"ft3\",\"m3\")),5)))","v":""},{"$f":"IF('Backend Calcs Metric'!W271=\"\",\"\",(ROUND((CONVERT('Backend Calcs Metric'!W271,\"ft3\",\"m3\")),5)))","v":{"$error":"#VALUE!"}},{"$f":"IF('Backend Calcs Metric'!X271=\"\",\"\",(ROUND((CONVERT('Backend Calcs Metric'!X271,\"ft3\",\"m3\")),5)))","v":""},{"$f":"IF('Backend Calcs Metric'!Y271=\"\",\"\",(ROUND((CONVERT('Backend Calcs Metric'!Y271,\"ft3\",\"m3\")),5)))","v":""},{"$f":"IF('Backend Calcs Metric'!Y271=\"\",\"\",(ROUND((CONVERT('Backend Calcs Metric'!Y271,\"ft3\",\"m3\")),2)))","v":""},{"$f":"IF('Backend Calcs Metric'!AA271=\"\",\"\",(ROUND((CONVERT('Backend Calcs Metric'!Z271,\"ft\",\"m\")),5)))","v":""}]
[{"$f":"IF('Backend Calcs Metric'!P272=\"\",\"\",(ROUND((CONVERT('Backend Calcs Metric'!P272,\"in\",\"mm\")),0)))","v":""},{"$f":"IF('Backend Calcs Metric'!S272=\"\",\"\",(ROUND((CONVERT('Backend Calcs Metric'!S272,\"ft3\",\"m3\")),5)))","v":""},{"$f":"IF('Backend Calcs Metric'!T272=\"\",\"\",(ROUND((CONVERT('Backend Calcs Metric'!T272,\"ft3\",\"m3\")),5)))","v":""},{"$f":"IF('Backend Calcs Metric'!U272=\"\",\"\",(ROUND((CONVERT('Backend Calcs Metric'!U272,\"ft3\",\"m3\")),5)))","v":""},{"$f":"IF('Backend Calcs Metric'!V272=\"\",\"\",(ROUND((CONVERT('Backend Calcs Metric'!V272,\"ft3\",\"m3\")),5)))","v":""},{"$f":"IF('Backend Calcs Metric'!W272=\"\",\"\",(ROUND((CONVERT('Backend Calcs Metric'!W272,\"ft3\",\"m3\")),5)))","v":{"$error":"#VALUE!"}},{"$f":"IF('Backend Calcs Metric'!X272=\"\",\"\",(ROUND((CONVERT('Backend Calcs Metric'!X272,\"ft3\",\"m3\")),5)))","v":""},{"$f":"IF('Backend Calcs Metric'!Y272=\"\",\"\",(ROUND((CONVERT('Backend Calcs Metric'!Y272,\"ft3\",\"m3\")),5)))","v":""},{"$f":"IF('Backend Calcs Metric'!Y272=\"\",\"\",(ROUND((CONVERT('Backend Calcs Metric'!Y272,\"ft3\",\"m3\")),2)))","v":""},{"$f":"IF('Backend Calcs Metric'!AA272=\"\",\"\",(ROUND((CONVERT('Backend Calcs Metric'!Z272,\"ft\",\"m\")),5)))","v":""}]
[{"$f":"IF('Backend Calcs Metric'!P273=\"\",\"\",(ROUND((CONVERT('Backend Calcs Metric'!P273,\"in\",\"mm\")),0)))","v":""},{"$f":"IF('Backend Calcs Metric'!S273=\"\",\"\",(ROUND((CONVERT('Backend Calcs Metric'!S273,\"ft3\",\"m3\")),5)))","v":""},{"$f":"IF('Backend Calcs Metric'!T273=\"\",\"\",(ROUND((CONVERT('Backend Calcs Metric'!T273,\"ft3\",\"m3\")),5)))","v":""},{"$f":"IF('Backend Calcs Metric'!U273=\"\",\"\",(ROUND((CONVERT('Backend Calcs Metric'!U273,\"ft3\",\"m3\")),5)))","v":""},{"$f":"IF('Backend Calcs Metric'!V273=\"\",\"\",(ROUND((CONVERT('Backend Calcs Metric'!V273,\"ft3\",\"m3\")),5)))","v":""},{"$f":"IF('Backend Calcs Metric'!W273=\"\",\"\",(ROUND((CONVERT('Backend Calcs Metric'!W273,\"ft3\",\"m3\")),5)))","v":{"$error":"#VALUE!"}},{"$f":"IF('Backend Calcs Metric'!X273=\"\",\"\",(ROUND((CONVERT('Backend Calcs Metric'!X273,\"ft3\",\"m3\")),5)))","v":""},{"$f":"IF('Backend Calcs Metric'!Y273=\"\",\"\",(ROUND((CONVERT('Backend Calcs Metric'!Y273,\"ft3\",\"m3\")),5)))","v":""},{"$f":"IF('Backend Calcs Metric'!Y273=\"\",\"\",(ROUND((CONVERT('Backend Calcs Metric'!Y273,\"ft3\",\"m3\")),2)))","v":""},{"$f":"IF('Backend Calcs Metric'!AA273=\"\",\"\",(ROUND((CONVERT('Backend Calcs Metric'!Z273,\"ft\",\"m\")),5)))","v":""}]
[{"$f":"IF('Backend Calcs Metric'!P274=\"\",\"\",(ROUND((CONVERT('Backend Calcs Metric'!P274,\"in\",\"mm\")),0)))","v":""},{"$f":"IF('Backend Calcs Metric'!S274=\"\",\"\",(ROUND((CONVERT('Backend Calcs Metric'!S274,\"ft3\",\"m3\")),5)))","v":""},{"$f":"IF('Backend Calcs Metric'!T274=\"\",\"\",(ROUND((CONVERT('Backend Calcs Metric'!T274,\"ft3\",\"m3\")),5)))","v":""},{"$f":"IF('Backend Calcs Metric'!U274=\"\",\"\",(ROUND((CONVERT('Backend Calcs Metric'!U274,\"ft3\",\"m3\")),5)))","v":""},{"$f":"IF('Backend Calcs Metric'!V274=\"\",\"\",(ROUND((CONVERT('Backend Calcs Metric'!V274,\"ft3\",\"m3\")),5)))","v":""},{"$f":"IF('Backend Calcs Metric'!W274=\"\",\"\",(ROUND((CONVERT('Backend Calcs Metric'!W274,\"ft3\",\"m3\")),5)))","v":{"$error":"#VALUE!"}},{"$f":"IF('Backend Calcs Metric'!X274=\"\",\"\",(ROUND((CONVERT('Backend Calcs Metric'!X274,\"ft3\",\"m3\")),5)))","v":""},{"$f":"IF('Backend Calcs Metric'!Y274=\"\",\"\",(ROUND((CONVERT('Backend Calcs Metric'!Y274,\"ft3\",\"m3\")),5)))","v":""},{"$f":"IF('Backend Calcs Metric'!Y274=\"\",\"\",(ROUND((CONVERT('Backend Calcs Metric'!Y274,\"ft3\",\"m3\")),2)))","v":""},{"$f":"IF('Backend Calcs Metric'!AA274=\"\",\"\",(ROUND((CONVERT('Backend Calcs Metric'!Z274,\"ft\",\"m\")),5)))","v":""}]
[{"$f":"IF('Backend Calcs Metric'!P275=\"\",\"\",(ROUND((CONVERT('Backend Calcs Metric'!P275,\"in\",\"mm\")),0)))","v":""},{"$f":"IF('Backend Calcs Metric'!S275=\"\",\"\",(ROUND((CONVERT('Backend Calcs Metric'!S275,\"ft3\",\"m3\")),5)))","v":""},{"$f":"IF('Backend Calcs Metric'!T275=\"\",\"\",(ROUND((CONVERT('Backend Calcs Metric'!T275,\"ft3\",\"m3\")),5)))","v":""},{"$f":"IF('Backend Calcs Metric'!U275=\"\",\"\",(ROUND((CONVERT('Backend Calcs Metric'!U275,\"ft3\",\"m3\")),5)))","v":""},{"$f":"IF('Backend Calcs Metric'!V275=\"\",\"\",(ROUND((CONVERT('Backend Calcs Metric'!V275,\"ft3\",\"m3\")),5)))","v":""},{"$f":"IF('Backend Calcs Metric'!W275=\"\",\"\",(ROUND((CONVERT('Backend Calcs Metric'!W275,\"ft3\",\"m3\")),5)))","v":{"$error":"#VALUE!"}},{"$f":"IF('Backend Calcs Metric'!X275=\"\",\"\",(ROUND((CONVERT('Backend Calcs Metric'!X275,\"ft3\",\"m3\")),5)))","v":""},{"$f":"IF('Backend Calcs Metric'!Y275=\"\",\"\",(ROUND((CONVERT('Backend Calcs Metric'!Y275,\"ft3\",\"m3\")),5)))","v":""},{"$f":"IF('Backend Calcs Metric'!Y275=\"\",\"\",(ROUND((CONVERT('Backend Calcs Metric'!Y275,\"ft3\",\"m3\")),2)))","v":""},{"$f":"IF('Backend Calcs Metric'!AA275=\"\",\"\",(ROUND((CONVERT('Backend Calcs Metric'!Z275,\"ft\",\"m\")),5)))","v":""}]
[{"$f":"IF('Backend Calcs Metric'!P276=\"\",\"\",(ROUND((CONVERT('Backend Calcs Metric'!P276,\"in\",\"mm\")),0)))","v":""},{"$f":"IF('Backend Calcs Metric'!S276=\"\",\"\",(ROUND((CONVERT('Backend Calcs Metric'!S276,\"ft3\",\"m3\")),5)))","v":""},{"$f":"IF('Backend Calcs Metric'!T276=\"\",\"\",(ROUND((CONVERT('Backend Calcs Metric'!T276,\"ft3\",\"m3\")),5)))","v":""},{"$f":"IF('Backend Calcs Metric'!U276=\"\",\"\",(ROUND((CONVERT('Backend Calcs Metric'!U276,\"ft3\",\"m3\")),5)))","v":""},{"$f":"IF('Backend Calcs Metric'!V276=\"\",\"\",(ROUND((CONVERT('Backend Calcs Metric'!V276,\"ft3\",\"m3\")),5)))","v":""},{"$f":"IF('Backend Calcs Metric'!W276=\"\",\"\",(ROUND((CONVERT('Backend Calcs Metric'!W276,\"ft3\",\"m3\")),5)))","v":{"$error":"#VALUE!"}},{"$f":"IF('Backend Calcs Metric'!X276=\"\",\"\",(ROUND((CONVERT('Backend Calcs Metric'!X276,\"ft3\",\"m3\")),5)))","v":""},{"$f":"IF('Backend Calcs Metric'!Y276=\"\",\"\",(ROUND((CONVERT('Backend Calcs Metric'!Y276,\"ft3\",\"m3\")),5)))","v":""},{"$f":"IF('Backend Calcs Metric'!Y276=\"\",\"\",(ROUND((CONVERT('Backend Calcs Metric'!Y276,\"ft3\",\"m3\")),2)))","v":""},{"$f":"IF('Backend Calcs Metric'!AA276=\"\",\"\",(ROUND((CONVERT('Backend Calcs Metric'!Z276,\"ft\",\"m\")),5)))","v":""}]
[{"$f":"IF('Backend Calcs Metric'!P277=\"\",\"\",(ROUND((CONVERT('Backend Calcs Metric'!P277,\"in\",\"mm\")),0)))","v":""},{"$f":"IF('Backend Calcs Metric'!S277=\"\",\"\",(ROUND((CONVERT('Backend Calcs Metric'!S277,\"ft3\",\"m3\")),5)))","v":""},{"$f":"IF('Backend Calcs Metric'!T277=\"\",\"\",(ROUND((CONVERT('Backend Calcs Metric'!T277,\"ft3\",\"m3\")),5)))","v":""},{"$f":"IF('Backend Calcs Metric'!U277=\"\",\"\",(ROUND((CONVERT('Backend Calcs Metric'!U277,\"ft3\",\"m3\")),5)))","v":""},{"$f":"IF('Backend Calcs Metric'!V277=\"\",\"\",(ROUND((CONVERT('Backend Calcs Metric'!V277,\"ft3\",\"m3\")),5)))","v":""},{"$f":"IF('Backend Calcs Metric'!W277=\"\",\"\",(ROUND((CONVERT('Backend Calcs Metric'!W277,\"ft3\",\"m3\")),5)))","v":{"$error":"#VALUE!"}},{"$f":"IF('Backend Calcs Metric'!X277=\"\",\"\",(ROUND((CONVERT('Backend Calcs Metric'!X277,\"ft3\",\"m3\")),5)))","v":""},{"$f":"IF('Backend Calcs Metric'!Y277=\"\",\"\",(ROUND((CONVERT('Backend Calcs Metric'!Y277,\"ft3\",\"m3\")),5)))","v":""},{"$f":"IF('Backend Calcs Metric'!Y277=\"\",\"\",(ROUND((CONVERT('Backend Calcs Metric'!Y277,\"ft3\",\"m3\")),2)))","v":""},{"$f":"IF('Backend Calcs Metric'!AA277=\"\",\"\",(ROUND((CONVERT('Backend Calcs Metric'!Z277,\"ft\",\"m\")),5)))","v":""}]
[{"$f":"IF('Backend Calcs Metric'!P278=\"\",\"\",(ROUND((CONVERT('Backend Calcs Metric'!P278,\"in\",\"mm\")),0)))","v":""},{"$f":"IF('Backend Calcs Metric'!S278=\"\",\"\",(ROUND((CONVERT('Backend Calcs Metric'!S278,\"ft3\",\"m3\")),5)))","v":""},{"$f":"IF('Backend Calcs Metric'!T278=\"\",\"\",(ROUND((CONVERT('Backend Calcs Metric'!T278,\"ft3\",\"m3\")),5)))","v":""},{"$f":"IF('Backend Calcs Metric'!U278=\"\",\"\",(ROUND((CONVERT('Backend Calcs Metric'!U278,\"ft3\",\"m3\")),5)))","v":""},{"$f":"IF('Backend Calcs Metric'!V278=\"\",\"\",(ROUND((CONVERT('Backend Calcs Metric'!V278,\"ft3\",\"m3\")),5)))","v":""},{"$f":"IF('Backend Calcs Metric'!W278=\"\",\"\",(ROUND((CONVERT('Backend Calcs Metric'!W278,\"ft3\",\"m3\")),5)))","v":{"$error":"#VALUE!"}},{"$f":"IF('Backend Calcs Metric'!X278=\"\",\"\",(ROUND((CONVERT('Backend Calcs Metric'!X278,\"ft3\",\"m3\")),5)))","v":""},{"$f":"IF('Backend Calcs Metric'!Y278=\"\",\"\",(ROUND((CONVERT('Backend Calcs Metric'!Y278,\"ft3\",\"m3\")),5)))","v":""},{"$f":"IF('Backend Calcs Metric'!Y278=\"\",\"\",(ROUND((CONVERT('Backend Calcs Metric'!Y278,\"ft3\",\"m3\")),2)))","v":""},{"$f":"IF('Backend Calcs Metric'!AA278=\"\",\"\",(ROUND((CONVERT('Backend Calcs Metric'!Z278,\"ft\",\"m\")),5)))","v":""}]
[{"$f":"IF('Backend Calcs Metric'!P279=\"\",\"\",(ROUND((CONVERT('Backend Calcs Metric'!P279,\"in\",\"mm\")),0)))","v":""},{"$f":"IF('Backend Calcs Metric'!S279=\"\",\"\",(ROUND((CONVERT('Backend Calcs Metric'!S279,\"ft3\",\"m3\")),5)))","v":""},{"$f":"IF('Backend Calcs Metric'!T279=\"\",\"\",(ROUND((CONVERT('Backend Calcs Metric'!T279,\"ft3\",\"m3\")),5)))","v":""},{"$f":"IF('Backend Calcs Metric'!U279=\"\",\"\",(ROUND((CONVERT('Backend Calcs Metric'!U279,\"ft3\",\"m3\")),5)))","v":""},{"$f":"IF('Backend Calcs Metric'!V279=\"\",\"\",(ROUND((CONVERT('Backend Calcs Metric'!V279,\"ft3\",\"m3\")),5)))","v":""},{"$f":"IF('Backend Calcs Metric'!W279=\"\",\"\",(ROUND((CONVERT('Backend Calcs Metric'!W279,\"ft3\",\"m3\")),5)))","v":{"$error":"#VALUE!"}},{"$f":"IF('Backend Calcs Metric'!X279=\"\",\"\",(ROUND((CONVERT('Backend Calcs Metric'!X279,\"ft3\",\"m3\")),5)))","v":""},{"$f":"IF('Backend Calcs Metric'!Y279=\"\",\"\",(ROUND((CONVERT('Backend Calcs Metric'!Y279,\"ft3\",\"m3\")),5)))","v":""},{"$f":"IF('Backend Calcs Metric'!Y279=\"\",\"\",(ROUND((CONVERT('Backend Calcs Metric'!Y279,\"ft3\",\"m3\")),2)))","v":""},{"$f":"IF('Backend Calcs Metric'!AA279=\"\",\"\",(ROUND((CONVERT('Backend Calcs Metric'!Z279,\"ft\",\"m\")),5)))","v":""}]
[{"$f":"IF('Backend Calcs Metric'!P280=\"\",\"\",(ROUND((CONVERT('Backend Calcs Metric'!P280,\"in\",\"mm\")),0)))","v":""},{"$f":"IF('Backend Calcs Metric'!S280=\"\",\"\",(ROUND((CONVERT('Backend Calcs Metric'!S280,\"ft3\",\"m3\")),5)))","v":""},{"$f":"IF('Backend Calcs Metric'!T280=\"\",\"\",(ROUND((CONVERT('Backend Calcs Metric'!T280,\"ft3\",\"m3\")),5)))","v":""},{"$f":"IF('Backend Calcs Metric'!U280=\"\",\"\",(ROUND((CONVERT('Backend Calcs Metric'!U280,\"ft3\",\"m3\")),5)))","v":""},{"$f":"IF('Backend Calcs Metric'!V280=\"\",\"\",(ROUND((CONVERT('Backend Calcs Metric'!V280,\"ft3\",\"m3\")),5)))","v":""},{"$f":"IF('Backend Calcs Metric'!W280=\"\",\"\",(ROUND((CONVERT('Backend Calcs Metric'!W280,\"ft3\",\"m3\")),5)))","v":{"$error":"#VALUE!"}},{"$f":"IF('Backend Calcs Metric'!X280=\"\",\"\",(ROUND((CONVERT('Backend Calcs Metric'!X280,\"ft3\",\"m3\")),5)))","v":""},{"$f":"IF('Backend Calcs Metric'!Y280=\"\",\"\",(ROUND((CONVERT('Backend Calcs Metric'!Y280,\"ft3\",\"m3\")),5)))","v":""},{"$f":"IF('Backend Calcs Metric'!Y280=\"\",\"\",(ROUND((CONVERT('Backend Calcs Metric'!Y280,\"ft3\",\"m3\")),2)))","v":""},{"$f":"IF('Backend Calcs Metric'!AA280=\"\",\"\",(ROUND((CONVERT('Backend Calcs Metric'!Z280,\"ft\",\"m\")),5)))","v":""}]
[{"$f":"IF('Backend Calcs Metric'!P281=\"\",\"\",(ROUND((CONVERT('Backend Calcs Metric'!P281,\"in\",\"mm\")),0)))","v":""},{"$f":"IF('Backend Calcs Metric'!S281=\"\",\"\",(ROUND((CONVERT('Backend Calcs Metric'!S281,\"ft3\",\"m3\")),5)))","v":""},{"$f":"IF('Backend Calcs Metric'!T281=\"\",\"\",(ROUND((CONVERT('Backend Calcs Metric'!T281,\"ft3\",\"m3\")),5)))","v":""},{"$f":"IF('Backend Calcs Metric'!U281=\"\",\"\",(ROUND((CONVERT('Backend Calcs Metric'!U281,\"ft3\",\"m3\")),5)))","v":""},{"$f":"IF('Backend Calcs Metric'!V281=\"\",\"\",(ROUND((CONVERT('Backend Calcs Metric'!V281,\"ft3\",\"m3\")),5)))","v":""},{"$f":"IF('Backend Calcs Metric'!W281=\"\",\"\",(ROUND((CONVERT('Backend Calcs Metric'!W281,\"ft3\",\"m3\")),5)))","v":{"$error":"#VALUE!"}},{"$f":"IF('Backend Calcs Metric'!X281=\"\",\"\",(ROUND((CONVERT('Backend Calcs Metric'!X281,\"ft3\",\"m3\")),5)))","v":""},{"$f":"IF('Backend Calcs Metric'!Y281=\"\",\"\",(ROUND((CONVERT('Backend Calcs Metric'!Y281,\"ft3\",\"m3\")),5)))","v":""},{"$f":"IF('Backend Calcs Metric'!Y281=\"\",\"\",(ROUND((CONVERT('Backend Calcs Metric'!Y281,\"ft3\",\"m3\")),2)))","v":""},{"$f":"IF('Backend Calcs Metric'!AA281=\"\",\"\",(ROUND((CONVERT('Backend Calcs Metric'!Z281,\"ft\",\"m\")),5)))","v":""}]
[{"$f":"IF('Backend Calcs Metric'!P282=\"\",\"\",(ROUND((CONVERT('Backend Calcs Metric'!P282,\"in\",\"mm\")),0)))","v":""},{"$f":"IF('Backend Calcs Metric'!S282=\"\",\"\",(ROUND((CONVERT('Backend Calcs Metric'!S282,\"ft3\",\"m3\")),5)))","v":""},{"$f":"IF('Backend Calcs Metric'!T282=\"\",\"\",(ROUND((CONVERT('Backend Calcs Metric'!T282,\"ft3\",\"m3\")),5)))","v":""},{"$f":"IF('Backend Calcs Metric'!U282=\"\",\"\",(ROUND((CONVERT('Backend Calcs Metric'!U282,\"ft3\",\"m3\")),5)))","v":""},{"$f":"IF('Backend Calcs Metric'!V282=\"\",\"\",(ROUND((CONVERT('Backend Calcs Metric'!V282,\"ft3\",\"m3\")),5)))","v":""},{"$f":"IF('Backend Calcs Metric'!W282=\"\",\"\",(ROUND((CONVERT('Backend Calcs Metric'!W282,\"ft3\",\"m3\")),5)))","v":{"$error":"#VALUE!"}},{"$f":"IF('Backend Calcs Metric'!X282=\"\",\"\",(ROUND((CONVERT('Backend Calcs Metric'!X282,\"ft3\",\"m3\")),5)))","v":""},{"$f":"IF('Backend Calcs Metric'!Y282=\"\",\"\",(ROUND((CONVERT('Backend Calcs Metric'!Y282,\"ft3\",\"m3\")),5)))","v":""},{"$f":"IF('Backend Calcs Metric'!Y282=\"\",\"\",(ROUND((CONVERT('Backend Calcs Metric'!Y282,\"ft3\",\"m3\")),2)))","v":""},{"$f":"IF('Backend Calcs Metric'!AA282=\"\",\"\",(ROUND((CONVERT('Backend Calcs Metric'!Z282,\"ft\",\"m\")),5)))","v":""}]
[{"$f":"IF('Backend Calcs Metric'!P283=\"\",\"\",(ROUND((CONVERT('Backend Calcs Metric'!P283,\"in\",\"mm\")),0)))","v":""},{"$f":"IF('Backend Calcs Metric'!S283=\"\",\"\",(ROUND((CONVERT('Backend Calcs Metric'!S283,\"ft3\",\"m3\")),5)))","v":""},{"$f":"IF('Backend Calcs Metric'!T283=\"\",\"\",(ROUND((CONVERT('Backend Calcs Metric'!T283,\"ft3\",\"m3\")),5)))","v":""},{"$f":"IF('Backend Calcs Metric'!U283=\"\",\"\",(ROUND((CONVERT('Backend Calcs Metric'!U283,\"ft3\",\"m3\")),5)))","v":""},{"$f":"IF('Backend Calcs Metric'!V283=\"\",\"\",(ROUND((CONVERT('Backend Calcs Metric'!V283,\"ft3\",\"m3\")),5)))","v":""},{"$f":"IF('Backend Calcs Metric'!W283=\"\",\"\",(ROUND((CONVERT('Backend Calcs Metric'!W283,\"ft3\",\"m3\")),5)))","v":{"$error":"#VALUE!"}},{"$f":"IF('Backend Calcs Metric'!X283=\"\",\"\",(ROUND((CONVERT('Backend Calcs Metric'!X283,\"ft3\",\"m3\")),5)))","v":""},{"$f":"IF('Backend Calcs Metric'!Y283=\"\",\"\",(ROUND((CONVERT('Backend Calcs Metric'!Y283,\"ft3\",\"m3\")),5)))","v":""},{"$f":"IF('Backend Calcs Metric'!Y283=\"\",\"\",(ROUND((CONVERT('Backend Calcs Metric'!Y283,\"ft3\",\"m3\")),2)))","v":""},{"$f":"IF('Backend Calcs Metric'!AA283=\"\",\"\",(ROUND((CONVERT('Backend Calcs Metric'!Z283,\"ft\",\"m\")),5)))","v":""}]
[{"$f":"IF('Backend Calcs Metric'!P284=\"\",\"\",(ROUND((CONVERT('Backend Calcs Metric'!P284,\"in\",\"mm\")),0)))","v":""},{"$f":"IF('Backend Calcs Metric'!S284=\"\",\"\",(ROUND((CONVERT('Backend Calcs Metric'!S284,\"ft3\",\"m3\")),5)))","v":""},{"$f":"IF('Backend Calcs Metric'!T284=\"\",\"\",(ROUND((CONVERT('Backend Calcs Metric'!T284,\"ft3\",\"m3\")),5)))","v":""},{"$f":"IF('Backend Calcs Metric'!U284=\"\",\"\",(ROUND((CONVERT('Backend Calcs Metric'!U284,\"ft3\",\"m3\")),5)))","v":""},{"$f":"IF('Backend Calcs Metric'!V284=\"\",\"\",(ROUND((CONVERT('Backend Calcs Metric'!V284,\"ft3\",\"m3\")),5)))","v":""},{"$f":"IF('Backend Calcs Metric'!W284=\"\",\"\",(ROUND((CONVERT('Backend Calcs Metric'!W284,\"ft3\",\"m3\")),5)))","v":{"$error":"#VALUE!"}},{"$f":"IF('Backend Calcs Metric'!X284=\"\",\"\",(ROUND((CONVERT('Backend Calcs Metric'!X284,\"ft3\",\"m3\")),5)))","v":""},{"$f":"IF('Backend Calcs Metric'!Y284=\"\",\"\",(ROUND((CONVERT('Backend Calcs Metric'!Y284,\"ft3\",\"m3\")),5)))","v":""},{"$f":"IF('Backend Calcs Metric'!Y284=\"\",\"\",(ROUND((CONVERT('Backend Calcs Metric'!Y284,\"ft3\",\"m3\")),2)))","v":""},{"$f":"IF('Backend Calcs Metric'!AA284=\"\",\"\",(ROUND((CONVERT('Backend Calcs Metric'!Z284,\"ft\",\"m\")),5)))","v":""}]
[{"$f":"IF('Backend Calcs Metric'!P285=\"\",\"\",(ROUND((CONVERT('Backend Calcs Metric'!P285,\"in\",\"mm\")),0)))","v":""},{"$f":"IF('Backend Calcs Metric'!S285=\"\",\"\",(ROUND((CONVERT('Backend Calcs Metric'!S285,\"ft3\",\"m3\")),5)))","v":""},{"$f":"IF('Backend Calcs Metric'!T285=\"\",\"\",(ROUND((CONVERT('Backend Calcs Metric'!T285,\"ft3\",\"m3\")),5)))","v":""},{"$f":"IF('Backend Calcs Metric'!U285=\"\",\"\",(ROUND((CONVERT('Backend Calcs Metric'!U285,\"ft3\",\"m3\")),5)))","v":""},{"$f":"IF('Backend Calcs Metric'!V285=\"\",\"\",(ROUND((CONVERT('Backend Calcs Metric'!V285,\"ft3\",\"m3\")),5)))","v":""},{"$f":"IF('Backend Calcs Metric'!W285=\"\",\"\",(ROUND((CONVERT('Backend Calcs Metric'!W285,\"ft3\",\"m3\")),5)))","v":{"$error":"#VALUE!"}},{"$f":"IF('Backend Calcs Metric'!X285=\"\",\"\",(ROUND((CONVERT('Backend Calcs Metric'!X285,\"ft3\",\"m3\")),5)))","v":""},{"$f":"IF('Backend Calcs Metric'!Y285=\"\",\"\",(ROUND((CONVERT('Backend Calcs Metric'!Y285,\"ft3\",\"m3\")),5)))","v":""},{"$f":"IF('Backend Calcs Metric'!Y285=\"\",\"\",(ROUND((CONVERT('Backend Calcs Metric'!Y285,\"ft3\",\"m3\")),2)))","v":""},{"$f":"IF('Backend Calcs Metric'!AA285=\"\",\"\",(ROUND((CONVERT('Backend Calcs Metric'!Z285,\"ft\",\"m\")),5)))","v":""}]
[{"$f":"IF('Backend Calcs Metric'!P286=\"\",\"\",(ROUND((CONVERT('Backend Calcs Metric'!P286,\"in\",\"mm\")),0)))","v":""},{"$f":"IF('Backend Calcs Metric'!S286=\"\",\"\",(ROUND((CONVERT('Backend Calcs Metric'!S286,\"ft3\",\"m3\")),5)))","v":""},{"$f":"IF('Backend Calcs Metric'!T286=\"\",\"\",(ROUND((CONVERT('Backend Calcs Metric'!T286,\"ft3\",\"m3\")),5)))","v":""},{"$f":"IF('Backend Calcs Metric'!U286=\"\",\"\",(ROUND((CONVERT('Backend Calcs Metric'!U286,\"ft3\",\"m3\")),5)))","v":""},{"$f":"IF('Backend Calcs Metric'!V286=\"\",\"\",(ROUND((CONVERT('Backend Calcs Metric'!V286,\"ft3\",\"m3\")),5)))","v":""},{"$f":"IF('Backend Calcs Metric'!W286=\"\",\"\",(ROUND((CONVERT('Backend Calcs Metric'!W286,\"ft3\",\"m3\")),5)))","v":{"$error":"#VALUE!"}},{"$f":"IF('Backend Calcs Metric'!X286=\"\",\"\",(ROUND((CONVERT('Backend Calcs Metric'!X286,\"ft3\",\"m3\")),5)))","v":""},{"$f":"IF('Backend Calcs Metric'!Y286=\"\",\"\",(ROUND((CONVERT('Backend Calcs Metric'!Y286,\"ft3\",\"m3\")),5)))","v":""},{"$f":"IF('Backend Calcs Metric'!Y286=\"\",\"\",(ROUND((CONVERT('Backend Calcs Metric'!Y286,\"ft3\",\"m3\")),2)))","v":""},{"$f":"IF('Backend Calcs Metric'!AA286=\"\",\"\",(ROUND((CONVERT('Backend Calcs Metric'!Z286,\"ft\",\"m\")),5)))","v":""}]
[{"$f":"IF('Backend Calcs Metric'!P287=\"\",\"\",(ROUND((CONVERT('Backend Calcs Metric'!P287,\"in\",\"mm\")),0)))","v":""},{"$f":"IF('Backend Calcs Metric'!S287=\"\",\"\",(ROUND((CONVERT('Backend Calcs Metric'!S287,\"ft3\",\"m3\")),5)))","v":""},{"$f":"IF('Backend Calcs Metric'!T287=\"\",\"\",(ROUND((CONVERT('Backend Calcs Metric'!T287,\"ft3\",\"m3\")),5)))","v":""},{"$f":"IF('Backend Calcs Metric'!U287=\"\",\"\",(ROUND((CONVERT('Backend Calcs Metric'!U287,\"ft3\",\"m3\")),5)))","v":""},{"$f":"IF('Backend Calcs Metric'!V287=\"\",\"\",(ROUND((CONVERT('Backend Calcs Metric'!V287,\"ft3\",\"m3\")),5)))","v":""},{"$f":"IF('Backend Calcs Metric'!W287=\"\",\"\",(ROUND((CONVERT('Backend Calcs Metric'!W287,\"ft3\",\"m3\")),5)))","v":{"$error":"#VALUE!"}},{"$f":"IF('Backend Calcs Metric'!X287=\"\",\"\",(ROUND((CONVERT('Backend Calcs Metric'!X287,\"ft3\",\"m3\")),5)))","v":""},{"$f":"IF('Backend Calcs Metric'!Y287=\"\",\"\",(ROUND((CONVERT('Backend Calcs Metric'!Y287,\"ft3\",\"m3\")),5)))","v":""},{"$f":"IF('Backend Calcs Metric'!Y287=\"\",\"\",(ROUND((CONVERT('Backend Calcs Metric'!Y287,\"ft3\",\"m3\")),2)))","v":""},{"$f":"IF('Backend Calcs Metric'!AA287=\"\",\"\",(ROUND((CONVERT('Backend Calcs Metric'!Z287,\"ft\",\"m\")),5)))","v":""}]
[{"$f":"IF('Backend Calcs Metric'!P288=\"\",\"\",(ROUND((CONVERT('Backend Calcs Metric'!P288,\"in\",\"mm\")),0)))","v":""},{"$f":"IF('Backend Calcs Metric'!S288=\"\",\"\",(ROUND((CONVERT('Backend Calcs Metric'!S288,\"ft3\",\"m3\")),5)))","v":""},{"$f":"IF('Backend Calcs Metric'!T288=\"\",\"\",(ROUND((CONVERT('Backend Calcs Metric'!T288,\"ft3\",\"m3\")),5)))","v":""},{"$f":"IF('Backend Calcs Metric'!U288=\"\",\"\",(ROUND((CONVERT('Backend Calcs Metric'!U288,\"ft3\",\"m3\")),5)))","v":""},{"$f":"IF('Backend Calcs Metric'!V288=\"\",\"\",(ROUND((CONVERT('Backend Calcs Metric'!V288,\"ft3\",\"m3\")),5)))","v":""},{"$f":"IF('Backend Calcs Metric'!W288=\"\",\"\",(ROUND((CONVERT('Backend Calcs Metric'!W288,\"ft3\",\"m3\")),5)))","v":{"$error":"#VALUE!"}},{"$f":"IF('Backend Calcs Metric'!X288=\"\",\"\",(ROUND((CONVERT('Backend Calcs Metric'!X288,\"ft3\",\"m3\")),5)))","v":""},{"$f":"IF('Backend Calcs Metric'!Y288=\"\",\"\",(ROUND((CONVERT('Backend Calcs Metric'!Y288,\"ft3\",\"m3\")),5)))","v":""},{"$f":"IF('Backend Calcs Metric'!Y288=\"\",\"\",(ROUND((CONVERT('Backend Calcs Metric'!Y288,\"ft3\",\"m3\")),2)))","v":""},{"$f":"IF('Backend Calcs Metric'!AA288=\"\",\"\",(ROUND((CONVERT('Backend Calcs Metric'!Z288,\"ft\",\"m\")),5)))","v":""}]
[{"$f":"IF('Backend Calcs Metric'!P289=\"\",\"\",(ROUND((CONVERT('Backend Calcs Metric'!P289,\"in\",\"mm\")),0)))","v":""},{"$f":"IF('Backend Calcs Metric'!S289=\"\",\"\",(ROUND((CONVERT('Backend Calcs Metric'!S289,\"ft3\",\"m3\")),5)))","v":""},{"$f":"IF('Backend Calcs Metric'!T289=\"\",\"\",(ROUND((CONVERT('Backend Calcs Metric'!T289,\"ft3\",\"m3\")),5)))","v":""},{"$f":"IF('Backend Calcs Metric'!U289=\"\",\"\",(ROUND((CONVERT('Backend Calcs Metric'!U289,\"ft3\",\"m3\")),5)))","v":""},{"$f":"IF('Backend Calcs Metric'!V289=\"\",\"\",(ROUND((CONVERT('Backend Calcs Metric'!V289,\"ft3\",\"m3\")),5)))","v":""},{"$f":"IF('Backend Calcs Metric'!W289=\"\",\"\",(ROUND((CONVERT('Backend Calcs Metric'!W289,\"ft3\",\"m3\")),5)))","v":{"$error":"#VALUE!"}},{"$f":"IF('Backend Calcs Metric'!X289=\"\",\"\",(ROUND((CONVERT('Backend Calcs Metric'!X289,\"ft3\",\"m3\")),5)))","v":""},{"$f":"IF('Backend Calcs Metric'!Y289=\"\",\"\",(ROUND((CONVERT('Backend Calcs Metric'!Y289,\"ft3\",\"m3\")),5)))","v":""},{"$f":"IF('Backend Calcs Metric'!Y289=\"\",\"\",(ROUND((CONVERT('Backend Calcs Metric'!Y289,\"ft3\",\"m3\")),2)))","v":""},{"$f":"IF('Backend Calcs Metric'!AA289=\"\",\"\",(ROUND((CONVERT('Backend Calcs Metric'!Z289,\"ft\",\"m\")),5)))","v":""}]
[{"$f":"IF('Backend Calcs Metric'!P290=\"\",\"\",(ROUND((CONVERT('Backend Calcs Metric'!P290,\"in\",\"mm\")),0)))","v":""},{"$f":"IF('Backend Calcs Metric'!S290=\"\",\"\",(ROUND((CONVERT('Backend Calcs Metric'!S290,\"ft3\",\"m3\")),5)))","v":""},{"$f":"IF('Backend Calcs Metric'!T290=\"\",\"\",(ROUND((CONVERT('Backend Calcs Metric'!T290,\"ft3\",\"m3\")),5)))","v":""},{"$f":"IF('Backend Calcs Metric'!U290=\"\",\"\",(ROUND((CONVERT('Backend Calcs Metric'!U290,\"ft3\",\"m3\")),5)))","v":""},{"$f":"IF('Backend Calcs Metric'!V290=\"\",\"\",(ROUND((CONVERT('Backend Calcs Metric'!V290,\"ft3\",\"m3\")),5)))","v":""},{"$f":"IF('Backend Calcs Metric'!W290=\"\",\"\",(ROUND((CONVERT('Backend Calcs Metric'!W290,\"ft3\",\"m3\")),5)))","v":{"$error":"#VALUE!"}},{"$f":"IF('Backend Calcs Metric'!X290=\"\",\"\",(ROUND((CONVERT('Backend Calcs Metric'!X290,\"ft3\",\"m3\")),5)))","v":""},{"$f":"IF('Backend Calcs Metric'!Y290=\"\",\"\",(ROUND((CONVERT('Backend Calcs Metric'!Y290,\"ft3\",\"m3\")),5)))","v":""},{"$f":"IF('Backend Calcs Metric'!Y290=\"\",\"\",(ROUND((CONVERT('Backend Calcs Metric'!Y290,\"ft3\",\"m3\")),2)))","v":""},{"$f":"IF('Backend Calcs Metric'!AA290=\"\",\"\",(ROUND((CONVERT('Backend Calcs Metric'!Z290,\"ft\",\"m\")),5)))","v":""}]
[{"$f":"IF('Backend Calcs Metric'!P291=\"\",\"\",(ROUND((CONVERT('Backend Calcs Metric'!P291,\"in\",\"mm\")),0)))","v":""},{"$f":"IF('Backend Calcs Metric'!S291=\"\",\"\",(ROUND((CONVERT('Backend Calcs Metric'!S291,\"ft3\",\"m3\")),5)))","v":""},{"$f":"IF('Backend Calcs Metric'!T291=\"\",\"\",(ROUND((CONVERT('Backend Calcs Metric'!T291,\"ft3\",\"m3\")),5)))","v":""},{"$f":"IF('Backend Calcs Metric'!U291=\"\",\"\",(ROUND((CONVERT('Backend Calcs Metric'!U291,\"ft3\",\"m3\")),5)))","v":""},{"$f":"IF('Backend Calcs Metric'!V291=\"\",\"\",(ROUND((CONVERT('Backend Calcs Metric'!V291,\"ft3\",\"m3\")),5)))","v":""},{"$f":"IF('Backend Calcs Metric'!W291=\"\",\"\",(ROUND((CONVERT('Backend Calcs Metric'!W291,\"ft3\",\"m3\")),5)))","v":{"$error":"#VALUE!"}},{"$f":"IF('Backend Calcs Metric'!X291=\"\",\"\",(ROUND((CONVERT('Backend Calcs Metric'!X291,\"ft3\",\"m3\")),5)))","v":""},{"$f":"IF('Backend Calcs Metric'!Y291=\"\",\"\",(ROUND((CONVERT('Backend Calcs Metric'!Y291,\"ft3\",\"m3\")),5)))","v":""},{"$f":"IF('Backend Calcs Metric'!Y291=\"\",\"\",(ROUND((CONVERT('Backend Calcs Metric'!Y291,\"ft3\",\"m3\")),2)))","v":""},{"$f":"IF('Backend Calcs Metric'!AA291=\"\",\"\",(ROUND((CONVERT('Backend Calcs Metric'!Z291,\"ft\",\"m\")),5)))","v":""}]
[{"$f":"IF('Backend Calcs Metric'!P292=\"\",\"\",(ROUND((CONVERT('Backend Calcs Metric'!P292,\"in\",\"mm\")),0)))","v":""},{"$f":"IF('Backend Calcs Metric'!S292=\"\",\"\",(ROUND((CONVERT('Backend Calcs Metric'!S292,\"ft3\",\"m3\")),5)))","v":""},{"$f":"IF('Backend Calcs Metric'!T292=\"\",\"\",(ROUND((CONVERT('Backend Calcs Metric'!T292,\"ft3\",\"m3\")),5)))","v":""},{"$f":"IF('Backend Calcs Metric'!U292=\"\",\"\",(ROUND((CONVERT('Backend Calcs Metric'!U292,\"ft3\",\"m3\")),5)))","v":""},{"$f":"IF('Backend Calcs Metric'!V292=\"\",\"\",(ROUND((CONVERT('Backend Calcs Metric'!V292,\"ft3\",\"m3\")),5)))","v":""},{"$f":"IF('Backend Calcs Metric'!W292=\"\",\"\",(ROUND((CONVERT('Backend Calcs Metric'!W292,\"ft3\",\"m3\")),5)))","v":{"$error":"#VALUE!"}},{"$f":"IF('Backend Calcs Metric'!X292=\"\",\"\",(ROUND((CONVERT('Backend Calcs Metric'!X292,\"ft3\",\"m3\")),5)))","v":""},{"$f":"IF('Backend Calcs Metric'!Y292=\"\",\"\",(ROUND((CONVERT('Backend Calcs Metric'!Y292,\"ft3\",\"m3\")),5)))","v":""},{"$f":"IF('Backend Calcs Metric'!Y292=\"\",\"\",(ROUND((CONVERT('Backend Calcs Metric'!Y292,\"ft3\",\"m3\")),2)))","v":""},{"$f":"IF('Backend Calcs Metric'!AA292=\"\",\"\",(ROUND((CONVERT('Backend Calcs Metric'!Z292,\"ft\",\"m\")),5)))","v":""}]
[{"$f":"IF('Backend Calcs Metric'!P293=\"\",\"\",(ROUND((CONVERT('Backend Calcs Metric'!P293,\"in\",\"mm\")),0)))","v":""},{"$f":"IF('Backend Calcs Metric'!S293=\"\",\"\",(ROUND((CONVERT('Backend Calcs Metric'!S293,\"ft3\",\"m3\")),5)))","v":""},{"$f":"IF('Backend Calcs Metric'!T293=\"\",\"\",(ROUND((CONVERT('Backend Calcs Metric'!T293,\"ft3\",\"m3\")),5)))","v":""},{"$f":"IF('Backend Calcs Metric'!U293=\"\",\"\",(ROUND((CONVERT('Backend Calcs Metric'!U293,\"ft3\",\"m3\")),5)))","v":""},{"$f":"IF('Backend Calcs Metric'!V293=\"\",\"\",(ROUND((CONVERT('Backend Calcs Metric'!V293,\"ft3\",\"m3\")),5)))","v":""},{"$f":"IF('Backend Calcs Metric'!W293=\"\",\"\",(ROUND((CONVERT('Backend Calcs Metric'!W293,\"ft3\",\"m3\")),5)))","v":{"$error":"#VALUE!"}},{"$f":"IF('Backend Calcs Metric'!X293=\"\",\"\",(ROUND((CONVERT('Backend Calcs Metric'!X293,\"ft3\",\"m3\")),5)))","v":""},{"$f":"IF('Backend Calcs Metric'!Y293=\"\",\"\",(ROUND((CONVERT('Backend Calcs Metric'!Y293,\"ft3\",\"m3\")),5)))","v":""},{"$f":"IF('Backend Calcs Metric'!Y293=\"\",\"\",(ROUND((CONVERT('Backend Calcs Metric'!Y293,\"ft3\",\"m3\")),2)))","v":""},{"$f":"IF('Backend Calcs Metric'!AA293=\"\",\"\",(ROUND((CONVERT('Backend Calcs Metric'!Z293,\"ft\",\"m\")),5)))","v":""}]
[{"$f":"IF('Backend Calcs Metric'!P294=\"\",\"\",(ROUND((CONVERT('Backend Calcs Metric'!P294,\"in\",\"mm\")),0)))","v":""},{"$f":"IF('Backend Calcs Metric'!S294=\"\",\"\",(ROUND((CONVERT('Backend Calcs Metric'!S294,\"ft3\",\"m3\")),5)))","v":""},{"$f":"IF('Backend Calcs Metric'!T294=\"\",\"\",(ROUND((CONVERT('Backend Calcs Metric'!T294,\"ft3\",\"m3\")),5)))","v":""},{"$f":"IF('Backend Calcs Metric'!U294=\"\",\"\",(ROUND((CONVERT('Backend Calcs Metric'!U294,\"ft3\",\"m3\")),5)))","v":""},{"$f":"IF('Backend Calcs Metric'!V294=\"\",\"\",(ROUND((CONVERT('Backend Calcs Metric'!V294,\"ft3\",\"m3\")),5)))","v":""},{"$f":"IF('Backend Calcs Metric'!W294=\"\",\"\",(ROUND((CONVERT('Backend Calcs Metric'!W294,\"ft3\",\"m3\")),5)))","v":{"$error":"#VALUE!"}},{"$f":"IF('Backend Calcs Metric'!X294=\"\",\"\",(ROUND((CONVERT('Backend Calcs Metric'!X294,\"ft3\",\"m3\")),5)))","v":""},{"$f":"IF('Backend Calcs Metric'!Y294=\"\",\"\",(ROUND((CONVERT('Backend Calcs Metric'!Y294,\"ft3\",\"m3\")),5)))","v":""},{"$f":"IF('Backend Calcs Metric'!Y294=\"\",\"\",(ROUND((CONVERT('Backend Calcs Metric'!Y294,\"ft3\",\"m3\")),2)))","v":""},{"$f":"IF('Backend Calcs Metric'!AA294=\"\",\"\",(ROUND((CONVERT('Backend Calcs Metric'!Z294,\"ft\",\"m\")),5)))","v":""}]
[{"$f":"IF('Backend Calcs Metric'!P295=\"\",\"\",(ROUND((CONVERT('Backend Calcs Metric'!P295,\"in\",\"mm\")),0)))","v":""},{"$f":"IF('Backend Calcs Metric'!S295=\"\",\"\",(ROUND((CONVERT('Backend Calcs Metric'!S295,\"ft3\",\"m3\")),5)))","v":""},{"$f":"IF('Backend Calcs Metric'!T295=\"\",\"\",(ROUND((CONVERT('Backend Calcs Metric'!T295,\"ft3\",\"m3\")),5)))","v":""},{"$f":"IF('Backend Calcs Metric'!U295=\"\",\"\",(ROUND((CONVERT('Backend Calcs Metric'!U295,\"ft3\",\"m3\")),5)))","v":""},{"$f":"IF('Backend Calcs Metric'!V295=\"\",\"\",(ROUND((CONVERT('Backend Calcs Metric'!V295,\"ft3\",\"m3\")),5)))","v":""},{"$f":"IF('Backend Calcs Metric'!W295=\"\",\"\",(ROUND((CONVERT('Backend Calcs Metric'!W295,\"ft3\",\"m3\")),5)))","v":{"$error":"#VALUE!"}},{"$f":"IF('Backend Calcs Metric'!X295=\"\",\"\",(ROUND((CONVERT('Backend Calcs Metric'!X295,\"ft3\",\"m3\")),5)))","v":""},{"$f":"IF('Backend Calcs Metric'!Y295=\"\",\"\",(ROUND((CONVERT('Backend Calcs Metric'!Y295,\"ft3\",\"m3\")),5)))","v":""},{"$f":"IF('Backend Calcs Metric'!Y295=\"\",\"\",(ROUND((CONVERT('Backend Calcs Metric'!Y295,\"ft3\",\"m3\")),2)))","v":""},{"$f":"IF('Backend Calcs Metric'!AA295=\"\",\"\",(ROUND((CONVERT('Backend Calcs Metric'!Z295,\"ft\",\"m\")),5)))","v":""}]
[{"$f":"IF('Backend Calcs Metric'!P296=\"\",\"\",(ROUND((CONVERT('Backend Calcs Metric'!P296,\"in\",\"mm\")),0)))","v":""},{"$f":"IF('Backend Calcs Metric'!S296=\"\",\"\",(ROUND((CONVERT('Backend Calcs Metric'!S296,\"ft3\",\"m3\")),5)))","v":""},{"$f":"IF('Backend Calcs Metric'!T296=\"\",\"\",(ROUND((CONVERT('Backend Calcs Metric'!T296,\"ft3\",\"m3\")),5)))","v":""},{"$f":"IF('Backend Calcs Metric'!U296=\"\",\"\",(ROUND((CONVERT('Backend Calcs Metric'!U296,\"ft3\",\"m3\")),5)))","v":""},{"$f":"IF('Backend Calcs Metric'!V296=\"\",\"\",(ROUND((CONVERT('Backend Calcs Metric'!V296,\"ft3\",\"m3\")),5)))","v":""},{"$f":"IF('Backend Calcs Metric'!W296=\"\",\"\",(ROUND((CONVERT('Backend Calcs Metric'!W296,\"ft3\",\"m3\")),5)))","v":{"$error":"#VALUE!"}},{"$f":"IF('Backend Calcs Metric'!X296=\"\",\"\",(ROUND((CONVERT('Backend Calcs Metric'!X296,\"ft3\",\"m3\")),5)))","v":""},{"$f":"IF('Backend Calcs Metric'!Y296=\"\",\"\",(ROUND((CONVERT('Backend Calcs Metric'!Y296,\"ft3\",\"m3\")),5)))","v":""},{"$f":"IF('Backend Calcs Metric'!Y296=\"\",\"\",(ROUND((CONVERT('Backend Calcs Metric'!Y296,\"ft3\",\"m3\")),2)))","v":""},{"$f":"IF('Backend Calcs Metric'!AA296=\"\",\"\",(ROUND((CONVERT('Backend Calcs Metric'!Z296,\"ft\",\"m\")),5)))","v":""}]
[{"$f":"IF('Backend Calcs Metric'!P297=\"\",\"\",(ROUND((CONVERT('Backend Calcs Metric'!P297,\"in\",\"mm\")),0)))","v":""},{"$f":"IF('Backend Calcs Metric'!S297=\"\",\"\",(ROUND((CONVERT('Backend Calcs Metric'!S297,\"ft3\",\"m3\")),5)))","v":""},{"$f":"IF('Backend Calcs Metric'!T297=\"\",\"\",(ROUND((CONVERT('Backend Calcs Metric'!T297,\"ft3\",\"m3\")),5)))","v":""},{"$f":"IF('Backend Calcs Metric'!U297=\"\",\"\",(ROUND((CONVERT('Backend Calcs Metric'!U297,\"ft3\",\"m3\")),5)))","v":""},{"$f":"IF('Backend Calcs Metric'!V297=\"\",\"\",(ROUND((CONVERT('Backend Calcs Metric'!V297,\"ft3\",\"m3\")),5)))","v":""},{"$f":"IF('Backend Calcs Metric'!W297=\"\",\"\",(ROUND((CONVERT('Backend Calcs Metric'!W297,\"ft3\",\"m3\")),5)))","v":{"$error":"#VALUE!"}},{"$f":"IF('Backend Calcs Metric'!X297=\"\",\"\",(ROUND((CONVERT('Backend Calcs Metric'!X297,\"ft3\",\"m3\")),5)))","v":""},{"$f":"IF('Backend Calcs Metric'!Y297=\"\",\"\",(ROUND((CONVERT('Backend Calcs Metric'!Y297,\"ft3\",\"m3\")),5)))","v":""},{"$f":"IF('Backend Calcs Metric'!Y297=\"\",\"\",(ROUND((CONVERT('Backend Calcs Metric'!Y297,\"ft3\",\"m3\")),2)))","v":""},{"$f":"IF('Backend Calcs Metric'!AA297=\"\",\"\",(ROUND((CONVERT('Backend Calcs Metric'!Z297,\"ft\",\"m\")),5)))","v":""}]
[{"$f":"IF('Backend Calcs Metric'!P298=\"\",\"\",(ROUND((CONVERT('Backend Calcs Metric'!P298,\"in\",\"mm\")),0)))","v":""},{"$f":"IF('Backend Calcs Metric'!S298=\"\",\"\",(ROUND((CONVERT('Backend Calcs Metric'!S298,\"ft3\",\"m3\")),5)))","v":""},{"$f":"IF('Backend Calcs Metric'!T298=\"\",\"\",(ROUND((CONVERT('Backend Calcs Metric'!T298,\"ft3\",\"m3\")),5)))","v":""},{"$f":"IF('Backend Calcs Metric'!U298=\"\",\"\",(ROUND((CONVERT('Backend Calcs Metric'!U298,\"ft3\",\"m3\")),5)))","v":""},{"$f":"IF('Backend Calcs Metric'!V298=\"\",\"\",(ROUND((CONVERT('Backend Calcs Metric'!V298,\"ft3\",\"m3\")),5)))","v":""},{"$f":"IF('Backend Calcs Metric'!W298=\"\",\"\",(ROUND((CONVERT('Backend Calcs Metric'!W298,\"ft3\",\"m3\")),5)))","v":{"$error":"#VALUE!"}},{"$f":"IF('Backend Calcs Metric'!X298=\"\",\"\",(ROUND((CONVERT('Backend Calcs Metric'!X298,\"ft3\",\"m3\")),5)))","v":""},{"$f":"IF('Backend Calcs Metric'!Y298=\"\",\"\",(ROUND((CONVERT('Backend Calcs Metric'!Y298,\"ft3\",\"m3\")),5)))","v":""},{"$f":"IF('Backend Calcs Metric'!Y298=\"\",\"\",(ROUND((CONVERT('Backend Calcs Metric'!Y298,\"ft3\",\"m3\")),2)))","v":""},{"$f":"IF('Backend Calcs Metric'!AA298=\"\",\"\",(ROUND((CONVERT('Backend Calcs Metric'!Z298,\"ft\",\"m\")),5)))","v":""}]
[{"$f":"IF('Backend Calcs Metric'!P299=\"\",\"\",(ROUND((CONVERT('Backend Calcs Metric'!P299,\"in\",\"mm\")),0)))","v":""},{"$f":"IF('Backend Calcs Metric'!S299=\"\",\"\",(ROUND((CONVERT('Backend Calcs Metric'!S299,\"ft3\",\"m3\")),5)))","v":""},{"$f":"IF('Backend Calcs Metric'!T299=\"\",\"\",(ROUND((CONVERT('Backend Calcs Metric'!T299,\"ft3\",\"m3\")),5)))","v":""},{"$f":"IF('Backend Calcs Metric'!U299=\"\",\"\",(ROUND((CONVERT('Backend Calcs Metric'!U299,\"ft3\",\"m3\")),5)))","v":""},{"$f":"IF('Backend Calcs Metric'!V299=\"\",\"\",(ROUND((CONVERT('Backend Calcs Metric'!V299,\"ft3\",\"m3\")),5)))","v":""},{"$f":"IF('Backend Calcs Metric'!W299=\"\",\"\",(ROUND((CONVERT('Backend Calcs Metric'!W299,\"ft3\",\"m3\")),5)))","v":{"$error":"#VALUE!"}},{"$f":"IF('Backend Calcs Metric'!X299=\"\",\"\",(ROUND((CONVERT('Backend Calcs Metric'!X299,\"ft3\",\"m3\")),5)))","v":""},{"$f":"IF('Backend Calcs Metric'!Y299=\"\",\"\",(ROUND((CONVERT('Backend Calcs Metric'!Y299,\"ft3\",\"m3\")),5)))","v":""},{"$f":"IF('Backend Calcs Metric'!Y299=\"\",\"\",(ROUND((CONVERT('Backend Calcs Metric'!Y299,\"ft3\",\"m3\")),2)))","v":""},{"$f":"IF('Backend Calcs Metric'!AA299=\"\",\"\",(ROUND((CONVERT('Backend Calcs Metric'!Z299,\"ft\",\"m\")),5)))","v":""}]
[{"$f":"IF('Backend Calcs Metric'!P300=\"\",\"\",(ROUND((CONVERT('Backend Calcs Metric'!P300,\"in\",\"mm\")),0)))","v":""},{"$f":"IF('Backend Calcs Metric'!S300=\"\",\"\",(ROUND((CONVERT('Backend Calcs Metric'!S300,\"ft3\",\"m3\")),5)))","v":""},{"$f":"IF('Backend Calcs Metric'!T300=\"\",\"\",(ROUND((CONVERT('Backend Calcs Metric'!T300,\"ft3\",\"m3\")),5)))","v":""},{"$f":"IF('Backend Calcs Metric'!U300=\"\",\"\",(ROUND((CONVERT('Backend Calcs Metric'!U300,\"ft3\",\"m3\")),5)))","v":""},{"$f":"IF('Backend Calcs Metric'!V300=\"\",\"\",(ROUND((CONVERT('Backend Calcs Metric'!V300,\"ft3\",\"m3\")),5)))","v":""},{"$f":"IF('Backend Calcs Metric'!W300=\"\",\"\",(ROUND((CONVERT('Backend Calcs Metric'!W300,\"ft3\",\"m3\")),5)))","v":{"$error":"#VALUE!"}},{"$f":"IF('Backend Calcs Metric'!X300=\"\",\"\",(ROUND((CONVERT('Backend Calcs Metric'!X300,\"ft3\",\"m3\")),5)))","v":""},{"$f":"IF('Backend Calcs Metric'!Y300=\"\",\"\",(ROUND((CONVERT('Backend Calcs Metric'!Y300,\"ft3\",\"m3\")),5)))","v":""},{"$f":"IF('Backend Calcs Metric'!Y300=\"\",\"\",(ROUND((CONVERT('Backend Calcs Metric'!Y300,\"ft3\",\"m3\")),2)))","v":""},{"$f":"IF('Backend Calcs Metric'!AA300=\"\",\"\",(ROUND((CONVERT('Backend Calcs Metric'!Z300,\"ft\",\"m\")),5)))","v":""}]
[{"$f":"IF('Backend Calcs Metric'!P301=\"\",\"\",(ROUND((CONVERT('Backend Calcs Metric'!P301,\"in\",\"mm\")),0)))","v":""},{"$f":"IF('Backend Calcs Metric'!S301=\"\",\"\",(ROUND((CONVERT('Backend Calcs Metric'!S301,\"ft3\",\"m3\")),5)))","v":""},{"$f":"IF('Backend Calcs Metric'!T301=\"\",\"\",(ROUND((CONVERT('Backend Calcs Metric'!T301,\"ft3\",\"m3\")),5)))","v":""},{"$f":"IF('Backend Calcs Metric'!U301=\"\",\"\",(ROUND((CONVERT('Backend Calcs Metric'!U301,\"ft3\",\"m3\")),5)))","v":""},{"$f":"IF('Backend Calcs Metric'!V301=\"\",\"\",(ROUND((CONVERT('Backend Calcs Metric'!V301,\"ft3\",\"m3\")),5)))","v":""},{"$f":"IF('Backend Calcs Metric'!W301=\"\",\"\",(ROUND((CONVERT('Backend Calcs Metric'!W301,\"ft3\",\"m3\")),5)))","v":{"$error":"#VALUE!"}},{"$f":"IF('Backend Calcs Metric'!X301=\"\",\"\",(ROUND((CONVERT('Backend Calcs Metric'!X301,\"ft3\",\"m3\")),5)))","v":""},{"$f":"IF('Backend Calcs Metric'!Y301=\"\",\"\",(ROUND((CONVERT('Backend Calcs Metric'!Y301,\"ft3\",\"m3\")),5)))","v":""},{"$f":"IF('Backend Calcs Metric'!Y301=\"\",\"\",(ROUND((CONVERT('Backend Calcs Metric'!Y301,\"ft3\",\"m3\")),2)))","v":""},{"$f":"IF('Backend Calcs Metric'!AA301=\"\",\"\",(ROUND((CONVERT('Backend Calcs Metric'!Z301,\"ft\",\"m\")),5)))","v":""}]
[{"$f":"IF('Backend Calcs Metric'!P302=\"\",\"\",(ROUND((CONVERT('Backend Calcs Metric'!P302,\"in\",\"mm\")),0)))","v":""},{"$f":"IF('Backend Calcs Metric'!S302=\"\",\"\",(ROUND((CONVERT('Backend Calcs Metric'!S302,\"ft3\",\"m3\")),5)))","v":""},{"$f":"IF('Backend Calcs Metric'!T302=\"\",\"\",(ROUND((CONVERT('Backend Calcs Metric'!T302,\"ft3\",\"m3\")),5)))","v":""},{"$f":"IF('Backend Calcs Metric'!U302=\"\",\"\",(ROUND((CONVERT('Backend Calcs Metric'!U302,\"ft3\",\"m3\")),5)))","v":""},{"$f":"IF('Backend Calcs Metric'!V302=\"\",\"\",(ROUND((CONVERT('Backend Calcs Metric'!V302,\"ft3\",\"m3\")),5)))","v":""},{"$f":"IF('Backend Calcs Metric'!W302=\"\",\"\",(ROUND((CONVERT('Backend Calcs Metric'!W302,\"ft3\",\"m3\")),5)))","v":{"$error":"#VALUE!"}},{"$f":"IF('Backend Calcs Metric'!X302=\"\",\"\",(ROUND((CONVERT('Backend Calcs Metric'!X302,\"ft3\",\"m3\")),5)))","v":""},{"$f":"IF('Backend Calcs Metric'!Y302=\"\",\"\",(ROUND((CONVERT('Backend Calcs Metric'!Y302,\"ft3\",\"m3\")),5)))","v":""},{"$f":"IF('Backend Calcs Metric'!Y302=\"\",\"\",(ROUND((CONVERT('Backend Calcs Metric'!Y302,\"ft3\",\"m3\")),2)))","v":""},{"$f":"IF('Backend Calcs Metric'!AA302=\"\",\"\",(ROUND((CONVERT('Backend Calcs Metric'!Z302,\"ft\",\"m\")),5)))","v":""}]
[{"$f":"IF('Backend Calcs Metric'!P303=\"\",\"\",(ROUND((CONVERT('Backend Calcs Metric'!P303,\"in\",\"mm\")),0)))","v":""},{"$f":"IF('Backend Calcs Metric'!S303=\"\",\"\",(ROUND((CONVERT('Backend Calcs Metric'!S303,\"ft3\",\"m3\")),5)))","v":""},{"$f":"IF('Backend Calcs Metric'!T303=\"\",\"\",(ROUND((CONVERT('Backend Calcs Metric'!T303,\"ft3\",\"m3\")),5)))","v":""},{"$f":"IF('Backend Calcs Metric'!U303=\"\",\"\",(ROUND((CONVERT('Backend Calcs Metric'!U303,\"ft3\",\"m3\")),5)))","v":""},{"$f":"IF('Backend Calcs Metric'!V303=\"\",\"\",(ROUND((CONVERT('Backend Calcs Metric'!V303,\"ft3\",\"m3\")),5)))","v":""},{"$f":"IF('Backend Calcs Metric'!W303=\"\",\"\",(ROUND((CONVERT('Backend Calcs Metric'!W303,\"ft3\",\"m3\")),5)))","v":{"$error":"#VALUE!"}},{"$f":"IF('Backend Calcs Metric'!X303=\"\",\"\",(ROUND((CONVERT('Backend Calcs Metric'!X303,\"ft3\",\"m3\")),5)))","v":""},{"$f":"IF('Backend Calcs Metric'!Y303=\"\",\"\",(ROUND((CONVERT('Backend Calcs Metric'!Y303,\"ft3\",\"m3\")),5)))","v":""},{"$f":"IF('Backend Calcs Metric'!Y303=\"\",\"\",(ROUND((CONVERT('Backend Calcs Metric'!Y303,\"ft3\",\"m3\")),2)))","v":""},{"$f":"IF('Backend Calcs Metric'!AA303=\"\",\"\",(ROUND((CONVERT('Backend Calcs Metric'!Z303,\"ft\",\"m\")),5)))","v":""}]
[{"$f":"IF('Backend Calcs Metric'!P304=\"\",\"\",(ROUND((CONVERT('Backend Calcs Metric'!P304,\"in\",\"mm\")),0)))","v":""},{"$f":"IF('Backend Calcs Metric'!S304=\"\",\"\",(ROUND((CONVERT('Backend Calcs Metric'!S304,\"ft3\",\"m3\")),5)))","v":""},{"$f":"IF('Backend Calcs Metric'!T304=\"\",\"\",(ROUND((CONVERT('Backend Calcs Metric'!T304,\"ft3\",\"m3\")),5)))","v":""},{"$f":"IF('Backend Calcs Metric'!U304=\"\",\"\",(ROUND((CONVERT('Backend Calcs Metric'!U304,\"ft3\",\"m3\")),5)))","v":""},{"$f":"IF('Backend Calcs Metric'!V304=\"\",\"\",(ROUND((CONVERT('Backend Calcs Metric'!V304,\"ft3\",\"m3\")),5)))","v":""},{"$f":"IF('Backend Calcs Metric'!W304=\"\",\"\",(ROUND((CONVERT('Backend Calcs Metric'!W304,\"ft3\",\"m3\")),5)))","v":{"$error":"#VALUE!"}},{"$f":"IF('Backend Calcs Metric'!X304=\"\",\"\",(ROUND((CONVERT('Backend Calcs Metric'!X304,\"ft3\",\"m3\")),5)))","v":""},{"$f":"IF('Backend Calcs Metric'!Y304=\"\",\"\",(ROUND((CONVERT('Backend Calcs Metric'!Y304,\"ft3\",\"m3\")),5)))","v":""},{"$f":"IF('Backend Calcs Metric'!Y304=\"\",\"\",(ROUND((CONVERT('Backend Calcs Metric'!Y304,\"ft3\",\"m3\")),2)))","v":""},{"$f":"IF('Backend Calcs Metric'!AA304=\"\",\"\",(ROUND((CONVERT('Backend Calcs Metric'!Z304,\"ft\",\"m\")),5)))","v":""}]
[{"$f":"IF('Backend Calcs Metric'!P305=\"\",\"\",(ROUND((CONVERT('Backend Calcs Metric'!P305,\"in\",\"mm\")),0)))","v":""},{"$f":"IF('Backend Calcs Metric'!S305=\"\",\"\",(ROUND((CONVERT('Backend Calcs Metric'!S305,\"ft3\",\"m3\")),5)))","v":""},{"$f":"IF('Backend Calcs Metric'!T305=\"\",\"\",(ROUND((CONVERT('Backend Calcs Metric'!T305,\"ft3\",\"m3\")),5)))","v":""},{"$f":"IF('Backend Calcs Metric'!U305=\"\",\"\",(ROUND((CONVERT('Backend Calcs Metric'!U305,\"ft3\",\"m3\")),5)))","v":""},{"$f":"IF('Backend Calcs Metric'!V305=\"\",\"\",(ROUND((CONVERT('Backend Calcs Metric'!V305,\"ft3\",\"m3\")),5)))","v":""},{"$f":"IF('Backend Calcs Metric'!W305=\"\",\"\",(ROUND((CONVERT('Backend Calcs Metric'!W305,\"ft3\",\"m3\")),5)))","v":{"$error":"#VALUE!"}},{"$f":"IF('Backend Calcs Metric'!X305=\"\",\"\",(ROUND((CONVERT('Backend Calcs Metric'!X305,\"ft3\",\"m3\")),5)))","v":""},{"$f":"IF('Backend Calcs Metric'!Y305=\"\",\"\",(ROUND((CONVERT('Backend Calcs Metric'!Y305,\"ft3\",\"m3\")),5)))","v":""},{"$f":"IF('Backend Calcs Metric'!Y305=\"\",\"\",(ROUND((CONVERT('Backend Calcs Metric'!Y305,\"ft3\",\"m3\")),2)))","v":""},{"$f":"IF('Backend Calcs Metric'!AA305=\"\",\"\",(ROUND((CONVERT('Backend Calcs Metric'!Z305,\"ft\",\"m\")),5)))","v":""}]
[{"$f":"IF('Backend Calcs Metric'!P306=\"\",\"\",(ROUND((CONVERT('Backend Calcs Metric'!P306,\"in\",\"mm\")),0)))","v":""},{"$f":"IF('Backend Calcs Metric'!S306=\"\",\"\",(ROUND((CONVERT('Backend Calcs Metric'!S306,\"ft3\",\"m3\")),5)))","v":""},{"$f":"IF('Backend Calcs Metric'!T306=\"\",\"\",(ROUND((CONVERT('Backend Calcs Metric'!T306,\"ft3\",\"m3\")),5)))","v":""},{"$f":"IF('Backend Calcs Metric'!U306=\"\",\"\",(ROUND((CONVERT('Backend Calcs Metric'!U306,\"ft3\",\"m3\")),5)))","v":""},{"$f":"IF('Backend Calcs Metric'!V306=\"\",\"\",(ROUND((CONVERT('Backend Calcs Metric'!V306,\"ft3\",\"m3\")),5)))","v":""},{"$f":"IF('Backend Calcs Metric'!W306=\"\",\"\",(ROUND((CONVERT('Backend Calcs Metric'!W306,\"ft3\",\"m3\")),5)))","v":{"$error":"#VALUE!"}},{"$f":"IF('Backend Calcs Metric'!X306=\"\",\"\",(ROUND((CONVERT('Backend Calcs Metric'!X306,\"ft3\",\"m3\")),5)))","v":""},{"$f":"IF('Backend Calcs Metric'!Y306=\"\",\"\",(ROUND((CONVERT('Backend Calcs Metric'!Y306,\"ft3\",\"m3\")),5)))","v":""},{"$f":"IF('Backend Calcs Metric'!Y306=\"\",\"\",(ROUND((CONVERT('Backend Calcs Metric'!Y306,\"ft3\",\"m3\")),2)))","v":""},{"$f":"IF('Backend Calcs Metric'!AA306=\"\",\"\",(ROUND((CONVERT('Backend Calcs Metric'!Z306,\"ft\",\"m\")),5)))","v":""}]
[{"$f":"IF('Backend Calcs Metric'!P307=\"\",\"\",(ROUND((CONVERT('Backend Calcs Metric'!P307,\"in\",\"mm\")),0)))","v":""},{"$f":"IF('Backend Calcs Metric'!S307=\"\",\"\",(ROUND((CONVERT('Backend Calcs Metric'!S307,\"ft3\",\"m3\")),5)))","v":""},{"$f":"IF('Backend Calcs Metric'!T307=\"\",\"\",(ROUND((CONVERT('Backend Calcs Metric'!T307,\"ft3\",\"m3\")),5)))","v":""},{"$f":"IF('Backend Calcs Metric'!U307=\"\",\"\",(ROUND((CONVERT('Backend Calcs Metric'!U307,\"ft3\",\"m3\")),5)))","v":""},{"$f":"IF('Backend Calcs Metric'!V307=\"\",\"\",(ROUND((CONVERT('Backend Calcs Metric'!V307,\"ft3\",\"m3\")),5)))","v":""},{"$f":"IF('Backend Calcs Metric'!W307=\"\",\"\",(ROUND((CONVERT('Backend Calcs Metric'!W307,\"ft3\",\"m3\")),5)))","v":{"$error":"#VALUE!"}},{"$f":"IF('Backend Calcs Metric'!X307=\"\",\"\",(ROUND((CONVERT('Backend Calcs Metric'!X307,\"ft3\",\"m3\")),5)))","v":""},{"$f":"IF('Backend Calcs Metric'!Y307=\"\",\"\",(ROUND((CONVERT('Backend Calcs Metric'!Y307,\"ft3\",\"m3\")),5)))","v":""},{"$f":"IF('Backend Calcs Metric'!Y307=\"\",\"\",(ROUND((CONVERT('Backend Calcs Metric'!Y307,\"ft3\",\"m3\")),2)))","v":""},{"$f":"IF('Backend Calcs Metric'!AA307=\"\",\"\",(ROUND((CONVERT('Backend Calcs Metric'!Z307,\"ft\",\"m\")),5)))","v":""}]
[{"$f":"IF('Backend Calcs Metric'!P308=\"\",\"\",(ROUND((CONVERT('Backend Calcs Metric'!P308,\"in\",\"mm\")),0)))","v":""},{"$f":"IF('Backend Calcs Metric'!S308=\"\",\"\",(ROUND((CONVERT('Backend Calcs Metric'!S308,\"ft3\",\"m3\")),5)))","v":""},{"$f":"IF('Backend Calcs Metric'!T308=\"\",\"\",(ROUND((CONVERT('Backend Calcs Metric'!T308,\"ft3\",\"m3\")),5)))","v":""},{"$f":"IF('Backend Calcs Metric'!U308=\"\",\"\",(ROUND((CONVERT('Backend Calcs Metric'!U308,\"ft3\",\"m3\")),5)))","v":""},{"$f":"IF('Backend Calcs Metric'!V308=\"\",\"\",(ROUND((CONVERT('Backend Calcs Metric'!V308,\"ft3\",\"m3\")),5)))","v":""},{"$f":"IF('Backend Calcs Metric'!W308=\"\",\"\",(ROUND((CONVERT('Backend Calcs Metric'!W308,\"ft3\",\"m3\")),5)))","v":{"$error":"#VALUE!"}},{"$f":"IF('Backend Calcs Metric'!X308=\"\",\"\",(ROUND((CONVERT('Backend Calcs Metric'!X308,\"ft3\",\"m3\")),5)))","v":""},{"$f":"IF('Backend Calcs Metric'!Y308=\"\",\"\",(ROUND((CONVERT('Backend Calcs Metric'!Y308,\"ft3\",\"m3\")),5)))","v":""},{"$f":"IF('Backend Calcs Metric'!Y308=\"\",\"\",(ROUND((CONVERT('Backend Calcs Metric'!Y308,\"ft3\",\"m3\")),2)))","v":""},{"$f":"IF('Backend Calcs Metric'!AA308=\"\",\"\",(ROUND((CONVERT('Backend Calcs Metric'!Z308,\"ft\",\"m\")),5)))","v":""}]
[{"$f":"IF('Backend Calcs Metric'!P309=\"\",\"\",(ROUND((CONVERT('Backend Calcs Metric'!P309,\"in\",\"mm\")),0)))","v":""},{"$f":"IF('Backend Calcs Metric'!S309=\"\",\"\",(ROUND((CONVERT('Backend Calcs Metric'!S309,\"ft3\",\"m3\")),5)))","v":""},{"$f":"IF('Backend Calcs Metric'!T309=\"\",\"\",(ROUND((CONVERT('Backend Calcs Metric'!T309,\"ft3\",\"m3\")),5)))","v":""},{"$f":"IF('Backend Calcs Metric'!U309=\"\",\"\",(ROUND((CONVERT('Backend Calcs Metric'!U309,\"ft3\",\"m3\")),5)))","v":""},{"$f":"IF('Backend Calcs Metric'!V309=\"\",\"\",(ROUND((CONVERT('Backend Calcs Metric'!V309,\"ft3\",\"m3\")),5)))","v":""},{"$f":"IF('Backend Calcs Metric'!W309=\"\",\"\",(ROUND((CONVERT('Backend Calcs Metric'!W309,\"ft3\",\"m3\")),5)))","v":{"$error":"#VALUE!"}},{"$f":"IF('Backend Calcs Metric'!X309=\"\",\"\",(ROUND((CONVERT('Backend Calcs Metric'!X309,\"ft3\",\"m3\")),5)))","v":""},{"$f":"IF('Backend Calcs Metric'!Y309=\"\",\"\",(ROUND((CONVERT('Backend Calcs Metric'!Y309,\"ft3\",\"m3\")),5)))","v":""},{"$f":"IF('Backend Calcs Metric'!Y309=\"\",\"\",(ROUND((CONVERT('Backend Calcs Metric'!Y309,\"ft3\",\"m3\")),2)))","v":""},{"$f":"IF('Backend Calcs Metric'!AA309=\"\",\"\",(ROUND((CONVERT('Backend Calcs Metric'!Z309,\"ft\",\"m\")),5)))","v":""}]
[{"$f":"IF('Backend Calcs Metric'!P310=\"\",\"\",(ROUND((CONVERT('Backend Calcs Metric'!P310,\"in\",\"mm\")),0)))","v":""},{"$f":"IF('Backend Calcs Metric'!S310=\"\",\"\",(ROUND((CONVERT('Backend Calcs Metric'!S310,\"ft3\",\"m3\")),5)))","v":""},{"$f":"IF('Backend Calcs Metric'!T310=\"\",\"\",(ROUND((CONVERT('Backend Calcs Metric'!T310,\"ft3\",\"m3\")),5)))","v":""},{"$f":"IF('Backend Calcs Metric'!U310=\"\",\"\",(ROUND((CONVERT('Backend Calcs Metric'!U310,\"ft3\",\"m3\")),5)))","v":""},{"$f":"IF('Backend Calcs Metric'!V310=\"\",\"\",(ROUND((CONVERT('Backend Calcs Metric'!V310,\"ft3\",\"m3\")),5)))","v":""},{"$f":"IF('Backend Calcs Metric'!W310=\"\",\"\",(ROUND((CONVERT('Backend Calcs Metric'!W310,\"ft3\",\"m3\")),5)))","v":{"$error":"#VALUE!"}},{"$f":"IF('Backend Calcs Metric'!X310=\"\",\"\",(ROUND((CONVERT('Backend Calcs Metric'!X310,\"ft3\",\"m3\")),5)))","v":""},{"$f":"IF('Backend Calcs Metric'!Y310=\"\",\"\",(ROUND((CONVERT('Backend Calcs Metric'!Y310,\"ft3\",\"m3\")),5)))","v":""},{"$f":"IF('Backend Calcs Metric'!Y310=\"\",\"\",(ROUND((CONVERT('Backend Calcs Metric'!Y310,\"ft3\",\"m3\")),2)))","v":""},{"$f":"IF('Backend Calcs Metric'!AA310=\"\",\"\",(ROUND((CONVERT('Backend Calcs Metric'!Z310,\"ft\",\"m\")),5)))","v":""}]
[{"$f":"IF('Backend Calcs Metric'!P311=\"\",\"\",(ROUND((CONVERT('Backend Calcs Metric'!P311,\"in\",\"mm\")),0)))","v":""},{"$f":"IF('Backend Calcs Metric'!S311=\"\",\"\",(ROUND((CONVERT('Backend Calcs Metric'!S311,\"ft3\",\"m3\")),5)))","v":""},{"$f":"IF('Backend Calcs Metric'!T311=\"\",\"\",(ROUND((CONVERT('Backend Calcs Metric'!T311,\"ft3\",\"m3\")),5)))","v":""},{"$f":"IF('Backend Calcs Metric'!U311=\"\",\"\",(ROUND((CONVERT('Backend Calcs Metric'!U311,\"ft3\",\"m3\")),5)))","v":""},{"$f":"IF('Backend Calcs Metric'!V311=\"\",\"\",(ROUND((CONVERT('Backend Calcs Metric'!V311,\"ft3\",\"m3\")),5)))","v":""},{"$f":"IF('Backend Calcs Metric'!W311=\"\",\"\",(ROUND((CONVERT('Backend Calcs Metric'!W311,\"ft3\",\"m3\")),5)))","v":{"$error":"#VALUE!"}},{"$f":"IF('Backend Calcs Metric'!X311=\"\",\"\",(ROUND((CONVERT('Backend Calcs Metric'!X311,\"ft3\",\"m3\")),5)))","v":""},{"$f":"IF('Backend Calcs Metric'!Y311=\"\",\"\",(ROUND((CONVERT('Backend Calcs Metric'!Y311,\"ft3\",\"m3\")),5)))","v":""},{"$f":"IF('Backend Calcs Metric'!Y311=\"\",\"\",(ROUND((CONVERT('Backend Calcs Metric'!Y311,\"ft3\",\"m3\")),2)))","v":""},{"$f":"IF('Backend Calcs Metric'!AA311=\"\",\"\",(ROUND((CONVERT('Backend Calcs Metric'!Z311,\"ft\",\"m\")),5)))","v":""}]
[{"$f":"IF('Backend Calcs Metric'!P312=\"\",\"\",(ROUND((CONVERT('Backend Calcs Metric'!P312,\"in\",\"mm\")),0)))","v":""},{"$f":"IF('Backend Calcs Metric'!S312=\"\",\"\",(ROUND((CONVERT('Backend Calcs Metric'!S312,\"ft3\",\"m3\")),5)))","v":""},{"$f":"IF('Backend Calcs Metric'!T312=\"\",\"\",(ROUND((CONVERT('Backend Calcs Metric'!T312,\"ft3\",\"m3\")),5)))","v":""},{"$f":"IF('Backend Calcs Metric'!U312=\"\",\"\",(ROUND((CONVERT('Backend Calcs Metric'!U312,\"ft3\",\"m3\")),5)))","v":""},{"$f":"IF('Backend Calcs Metric'!V312=\"\",\"\",(ROUND((CONVERT('Backend Calcs Metric'!V312,\"ft3\",\"m3\")),5)))","v":""},{"$f":"IF('Backend Calcs Metric'!W312=\"\",\"\",(ROUND((CONVERT('Backend Calcs Metric'!W312,\"ft3\",\"m3\")),5)))","v":{"$error":"#VALUE!"}},{"$f":"IF('Backend Calcs Metric'!X312=\"\",\"\",(ROUND((CONVERT('Backend Calcs Metric'!X312,\"ft3\",\"m3\")),5)))","v":""},{"$f":"IF('Backend Calcs Metric'!Y312=\"\",\"\",(ROUND((CONVERT('Backend Calcs Metric'!Y312,\"ft3\",\"m3\")),5)))","v":""},{"$f":"IF('Backend Calcs Metric'!Y312=\"\",\"\",(ROUND((CONVERT('Backend Calcs Metric'!Y312,\"ft3\",\"m3\")),2)))","v":""},{"$f":"IF('Backend Calcs Metric'!AA312=\"\",\"\",(ROUND((CONVERT('Backend Calcs Metric'!Z312,\"ft\",\"m\")),5)))","v":""}]
[{"$f":"IF('Backend Calcs Metric'!P313=\"\",\"\",(ROUND((CONVERT('Backend Calcs Metric'!P313,\"in\",\"mm\")),0)))","v":""},{"$f":"IF('Backend Calcs Metric'!S313=\"\",\"\",(ROUND((CONVERT('Backend Calcs Metric'!S313,\"ft3\",\"m3\")),5)))","v":""},{"$f":"IF('Backend Calcs Metric'!T313=\"\",\"\",(ROUND((CONVERT('Backend Calcs Metric'!T313,\"ft3\",\"m3\")),5)))","v":""},{"$f":"IF('Backend Calcs Metric'!U313=\"\",\"\",(ROUND((CONVERT('Backend Calcs Metric'!U313,\"ft3\",\"m3\")),5)))","v":""},{"$f":"IF('Backend Calcs Metric'!V313=\"\",\"\",(ROUND((CONVERT('Backend Calcs Metric'!V313,\"ft3\",\"m3\")),5)))","v":""},{"$f":"IF('Backend Calcs Metric'!W313=\"\",\"\",(ROUND((CONVERT('Backend Calcs Metric'!W313,\"ft3\",\"m3\")),5)))","v":{"$error":"#VALUE!"}},{"$f":"IF('Backend Calcs Metric'!X313=\"\",\"\",(ROUND((CONVERT('Backend Calcs Metric'!X313,\"ft3\",\"m3\")),5)))","v":""},{"$f":"IF('Backend Calcs Metric'!Y313=\"\",\"\",(ROUND((CONVERT('Backend Calcs Metric'!Y313,\"ft3\",\"m3\")),5)))","v":""},{"$f":"IF('Backend Calcs Metric'!Y313=\"\",\"\",(ROUND((CONVERT('Backend Calcs Metric'!Y313,\"ft3\",\"m3\")),2)))","v":""},{"$f":"IF('Backend Calcs Metric'!AA313=\"\",\"\",(ROUND((CONVERT('Backend Calcs Metric'!Z313,\"ft\",\"m\")),5)))","v":""}]
[{"$f":"IF('Backend Calcs Metric'!P314=\"\",\"\",(ROUND((CONVERT('Backend Calcs Metric'!P314,\"in\",\"mm\")),0)))","v":""},{"$f":"IF('Backend Calcs Metric'!S314=\"\",\"\",(ROUND((CONVERT('Backend Calcs Metric'!S314,\"ft3\",\"m3\")),5)))","v":""},{"$f":"IF('Backend Calcs Metric'!T314=\"\",\"\",(ROUND((CONVERT('Backend Calcs Metric'!T314,\"ft3\",\"m3\")),5)))","v":""},{"$f":"IF('Backend Calcs Metric'!U314=\"\",\"\",(ROUND((CONVERT('Backend Calcs Metric'!U314,\"ft3\",\"m3\")),5)))","v":""},{"$f":"IF('Backend Calcs Metric'!V314=\"\",\"\",(ROUND((CONVERT('Backend Calcs Metric'!V314,\"ft3\",\"m3\")),5)))","v":""},{"$f":"IF('Backend Calcs Metric'!W314=\"\",\"\",(ROUND((CONVERT('Backend Calcs Metric'!W314,\"ft3\",\"m3\")),5)))","v":{"$error":"#VALUE!"}},{"$f":"IF('Backend Calcs Metric'!X314=\"\",\"\",(ROUND((CONVERT('Backend Calcs Metric'!X314,\"ft3\",\"m3\")),5)))","v":""},{"$f":"IF('Backend Calcs Metric'!Y314=\"\",\"\",(ROUND((CONVERT('Backend Calcs Metric'!Y314,\"ft3\",\"m3\")),5)))","v":""},{"$f":"IF('Backend Calcs Metric'!Y314=\"\",\"\",(ROUND((CONVERT('Backend Calcs Metric'!Y314,\"ft3\",\"m3\")),2)))","v":""},{"$f":"IF('Backend Calcs Metric'!AA314=\"\",\"\",(ROUND((CONVERT('Backend Calcs Metric'!Z314,\"ft\",\"m\")),5)))","v":""}]
[{"$f":"IF('Backend Calcs Metric'!P315=\"\",\"\",(ROUND((CONVERT('Backend Calcs Metric'!P315,\"in\",\"mm\")),0)))","v":""},{"$f":"IF('Backend Calcs Metric'!S315=\"\",\"\",(ROUND((CONVERT('Backend Calcs Metric'!S315,\"ft3\",\"m3\")),5)))","v":""},{"$f":"IF('Backend Calcs Metric'!T315=\"\",\"\",(ROUND((CONVERT('Backend Calcs Metric'!T315,\"ft3\",\"m3\")),5)))","v":""},{"$f":"IF('Backend Calcs Metric'!U315=\"\",\"\",(ROUND((CONVERT('Backend Calcs Metric'!U315,\"ft3\",\"m3\")),5)))","v":""},{"$f":"IF('Backend Calcs Metric'!V315=\"\",\"\",(ROUND((CONVERT('Backend Calcs Metric'!V315,\"ft3\",\"m3\")),5)))","v":""},{"$f":"IF('Backend Calcs Metric'!W315=\"\",\"\",(ROUND((CONVERT('Backend Calcs Metric'!W315,\"ft3\",\"m3\")),5)))","v":{"$error":"#VALUE!"}},{"$f":"IF('Backend Calcs Metric'!X315=\"\",\"\",(ROUND((CONVERT('Backend Calcs Metric'!X315,\"ft3\",\"m3\")),5)))","v":""},{"$f":"IF('Backend Calcs Metric'!Y315=\"\",\"\",(ROUND((CONVERT('Backend Calcs Metric'!Y315,\"ft3\",\"m3\")),5)))","v":""},{"$f":"IF('Backend Calcs Metric'!Y315=\"\",\"\",(ROUND((CONVERT('Backend Calcs Metric'!Y315,\"ft3\",\"m3\")),2)))","v":""},{"$f":"IF('Backend Calcs Metric'!AA315=\"\",\"\",(ROUND((CONVERT('Backend Calcs Metric'!Z315,\"ft\",\"m\")),5)))","v":""}]
[{"$f":"IF('Backend Calcs Metric'!P316=\"\",\"\",(ROUND((CONVERT('Backend Calcs Metric'!P316,\"in\",\"mm\")),0)))","v":""},{"$f":"IF('Backend Calcs Metric'!S316=\"\",\"\",(ROUND((CONVERT('Backend Calcs Metric'!S316,\"ft3\",\"m3\")),5)))","v":""},{"$f":"IF('Backend Calcs Metric'!T316=\"\",\"\",(ROUND((CONVERT('Backend Calcs Metric'!T316,\"ft3\",\"m3\")),5)))","v":""},{"$f":"IF('Backend Calcs Metric'!U316=\"\",\"\",(ROUND((CONVERT('Backend Calcs Metric'!U316,\"ft3\",\"m3\")),5)))","v":""},{"$f":"IF('Backend Calcs Metric'!V316=\"\",\"\",(ROUND((CONVERT('Backend Calcs Metric'!V316,\"ft3\",\"m3\")),5)))","v":""},{"$f":"IF('Backend Calcs Metric'!W316=\"\",\"\",(ROUND((CONVERT('Backend Calcs Metric'!W316,\"ft3\",\"m3\")),5)))","v":{"$error":"#VALUE!"}},{"$f":"IF('Backend Calcs Metric'!X316=\"\",\"\",(ROUND((CONVERT('Backend Calcs Metric'!X316,\"ft3\",\"m3\")),5)))","v":""},{"$f":"IF('Backend Calcs Metric'!Y316=\"\",\"\",(ROUND((CONVERT('Backend Calcs Metric'!Y316,\"ft3\",\"m3\")),5)))","v":""},{"$f":"IF('Backend Calcs Metric'!Y316=\"\",\"\",(ROUND((CONVERT('Backend Calcs Metric'!Y316,\"ft3\",\"m3\")),2)))","v":""},{"$f":"IF('Backend Calcs Metric'!AA316=\"\",\"\",(ROUND((CONVERT('Backend Calcs Metric'!Z316,\"ft\",\"m\")),5)))","v":""}]
[{"$f":"IF('Backend Calcs Metric'!P317=\"\",\"\",(ROUND((CONVERT('Backend Calcs Metric'!P317,\"in\",\"mm\")),0)))","v":""},{"$f":"IF('Backend Calcs Metric'!S317=\"\",\"\",(ROUND((CONVERT('Backend Calcs Metric'!S317,\"ft3\",\"m3\")),5)))","v":""},{"$f":"IF('Backend Calcs Metric'!T317=\"\",\"\",(ROUND((CONVERT('Backend Calcs Metric'!T317,\"ft3\",\"m3\")),5)))","v":""},{"$f":"IF('Backend Calcs Metric'!U317=\"\",\"\",(ROUND((CONVERT('Backend Calcs Metric'!U317,\"ft3\",\"m3\")),5)))","v":""},{"$f":"IF('Backend Calcs Metric'!V317=\"\",\"\",(ROUND((CONVERT('Backend Calcs Metric'!V317,\"ft3\",\"m3\")),5)))","v":""},{"$f":"IF('Backend Calcs Metric'!W317=\"\",\"\",(ROUND((CONVERT('Backend Calcs Metric'!W317,\"ft3\",\"m3\")),5)))","v":{"$error":"#VALUE!"}},{"$f":"IF('Backend Calcs Metric'!X317=\"\",\"\",(ROUND((CONVERT('Backend Calcs Metric'!X317,\"ft3\",\"m3\")),5)))","v":""},null,{"$f":"IF('Backend Calcs Metric'!Y317=\"\",\"\",(ROUND((CONVERT('Backend Calcs Metric'!Y317,\"ft3\",\"m3\")),2)))","v":""},{"$f":"IF('Backend Calcs Metric'!AA317=\"\",\"\",(ROUND((CONVERT('Backend Calcs Metric'!Z317,\"ft\",\"m\")),5)))","v":""}]

{"sheet":"Backend Calcs Standard","index":2,"n_rows":320,"n_cols":28,"rows_kept":320,"cut":false,"hidden":true,"merged":[[10,15,10,16]]}
[null,null,{"$f":"((VLOOKUP(C4,J1:K5,2,FALSE))*2.54)+C9+C10","v":135.30000000000001},null,null,null,null,null,null,"Chamber Size","Chamber Height (in)","Chamber Height (ft)","Chamber Width (in)","Chamber Width (ft)","Chamber Installed Width (in)","Chamber Installed Width (ft)","Chamber Length (installed) (in)","Chamber Length (installed) (ft)","Chamber Spacing (in)","Chamber Spacing (ft)",null,"END CAP STONE LENGTH (in)","Length of Installed End Cap (in)","Length of Installed End Cap (ft)"]
[null,null,null,null,null,null,null,null,null,"HS31",16,{"$f":"ROUND(K2/12,1)","v":1.3},33.9,{"$f":"M2/12","v":2.8249999999999997},{"$f":"M2+S2","v":39.9},{"$f":"O2/12","v":3.3249999999999997},85.4,{"$f":"Q2*(1/12)","v":7.1166666666666671},6,{"$f":"S2*(1/12)","v":0.5},null,{"$f":"W2+12","v":18.2},6.2,{"$f":"W2*(1/12)","v":0.51666666666666661}]
[null,null,null,null,null,null,null,null,null,"HS75",30,{"$f":"ROUND(K3/12,1)","v":2.5},51,{"$f":"M3/12","v":4.25},{"$f":"M3+S3","v":57},{"$f":"O3/12","v":4.75},84.9,{"$f":"Q3*(1/12)","v":7.0750000000000002},6,{"$f":"S3*(1/12)","v":0.5},null,{"$f":"W3+12","v":22.1},10.1,{"$f":"W3*(1/12)","v":0.84166666666666656}]
[3,"Chamber type",{"$f":"IF(A4=1,\"HS31\",IF(A4=2,\"HS75\",IF(A4=3,\"HS180\",\"HS290\")))","v":"HS180"},null,null,"Inferred no. of rows",{"$f":"$C$6/2","v":5},"rows",null,"HS180",45,3.8,77.8,{"$f":"M4/12","v":6.4833333333333334},82.8,{"$f":"O4/12","v":6.8999999999999995},85.3,{"$f":"Q4*(1/12)","v":7.1083333333333325},5,{"$f":"S4*(1/12)","v":0.41666666666666663},null,{"$f":"W4+6","v":28.1},22.1,{"$f":"W4*(1/12)","v":1.8416666666666668},null,"Perimeter","Standard or Metric"]
[null,"Number of chambers",{"$f":"'Stage-Storage (Standard)'!E4","v":25},null,null,"System Length",{"$f":"(((C5/G4)*IF(C4=\"HS180\",Q4,IF(C4=\"HS75\",Q3,IF(C4=\"HS290\",Q5,Q2)))+(2*IF(C4=\"HS180\",W4,IF(C4=\"HS75\",W3,IF(C4=\"HS290\",W5,W2))))))","v":470.7},"in",null,"HS290",60,5,100.5,{"$f":"M5/12","v":8.375},{"$f":"M5+S5","v":109},{"$f":"O5/12","v":9.0833333333333339},48.3,{"$f":"Q5*(1/12)","v":4.0249999999999995},8.5,{"$f":"S5*(1/12)","v":0.70833333333333326},null,{"$f":"W5+12","v":44.4},32.4,{"$f":"W5*(1/12)","v":2.6999999999999997},null,"Yes","Standard"]
[null,"Number of endcaps",{"$f":"'Stage-Storage (Standard)'!E5","v":10},null,null,"System Width",{"$f":"IF(C4=\"HS180\",((G4*M4+S4*(G4-1))),IF(C4=\"HS75\",((G4*M3+S3*(G4-1))),IF(C4=\"HS290\",(G4*M5+S5*(G4-1)),(G4*M2+S2*(G4-1)))))","v":409},"in",null,null,null,null,null,null,null,null,null,null,null,null,null,null,null,null,null,"No","Metric"]
[null,"Stone Voids (Porosity)",{"$f":"'Stage-Storage (Standard)'!E6","v":0.4},null,null,"System Area",{"$f":"$G$6*$G$5","v":192516.3},"sq.in"]
[null,"Base of stone Elevation",{"$f":"'Stage-Storage (Standard)'!E7","v":0},{"$f":"IF(A12=1,C8,C8*3.28084)","v":0},null,"Trench Length",{"$f":"IF(C4=\"HS180\",$G$5+12,IF(C4=\"HS75\",$G$5+24,IF(C4=\"HS290\",G5+12,G5+24)))","v":482.7},"in"]
[null,"Stone Below",{"$f":"'Stage-Storage (Standard)'!E8","v":9},{"$f":"IF(A12=1,C9,C9*0.393701)","v":9},null,"Trench Width",{"$f":"IF(C4=\"HS180\",$G$6+24,IF(C4=\"HS75\",$G$6+24,IF(C4=\"HS290\",G6+24,G6+24)))","v":433},"in",null,null,null,null,null,null,null,null,null,null,null,null,null,null,{"$f":"((IF($C$4=\"HS180\",$S$4*1,IF($C$4=\"HS75\",$S$3*1,IF($C$4=\"HS290\",$S$5*1,$S$2*1))))/12)*(($G$5/12)/12*$C$7)","v":0.54479166666666679}]
[null,"Stone Above",{"$f":"'Stage-Storage (Standard)'!E9","v":12},{"$f":"IF(A12=1,C10,C10*0.393701)","v":12},null,"Trench Area",{"$f":"G8*G9","v":209009.1},"sq.in"]
[1,"Perimeter?",{"$f":"IF(A11=1, \"Yes\", \"No\")","v":"Yes"},2,null,null,null,null,null,null,null,"Perimeter Volume:",{"$f":"(($J$12*144)-$G$7)/1728*$C$7","v":5.1360416666666699},"cu.ft",null,"Conversions"]
[1,"Standard/Metric",{"$f":"\"Standard\"","v":"Standard"},null,null,"Trench Area",{"$f":"ROUND(G10/144,0)","v":1451},{"$f":"IF($A$12=1,\"sq.ft\",\"sq.m\")","v":"sq.ft"},"Real Area",{"$f":"C15/Q13","v":1491},"sq.ft",null,null,null,null,"in -> in/m",{"$f":"IF(A12=1,1,0.0254)","v":1}]
[null,"Total System Height",{"$f":"(VLOOKUP(C4,J1:K5,2,FALSE))+C9+C10","v":66},"in",null,"System Area",{"$f":"G7/144","v":1336.9187499999998},{"$f":"IF($A$12=1,\"sq.ft\",\"sq.m\")","v":"sq.ft"},{"$f":"CONVERT(G12,\"ft2\",\"m2\")","v":134.80231103999998},null,null,"1 cu.ft =",2.83168E-2,"cu.m",null,"ft2 -> ft2/m2",{"$f":"IF(A12=1,1,1/10.7639)","v":1}]
[null,"Chamber Height",{"$f":"IF(C4=\"HS75\",K3,IF(C4=\"HS180\",K4,IF(C4=\"HS290\",K5,K2)))","v":45},null,null,null,null,null,{"$f":"CONVERT(G13,\"ft2\",\"m2\")","v":124.20381610799997}]
[null,"Real Area",{"$f":"IF($A$11=1,'Stage-Storage (Standard)'!D11,'Stage-Storage (Standard)'!D11)","v":1491},null,null,"Area must be greater than:",null,{"$f":"IF(A11=1,CONCATENATE(G12,\" \",H12),\" \")","v":"1451 sq.ft"},null,null,null,null,null,null,null,null,null,null,"1 chamber","1 endcap","mult chamber","mult endcap"]
[null,"Slice Name","HS180 Chamber Storage/Slice (ft3)","HS180 \nEnd Cap Storage/Slice (ft3)","HS75\n Chamber Storage/Slice (ft3)","HS75 \nEnd Cap Storage/Slice (ft3)","HS290 Chamber Storage/Slice (ft3)","HS290               End Cap Storage/Slice (ft^3)","HS31 Chamber Storage/Slice (ft^3)","HS31              End Cap Storage/Slice (ft^3)",null,null,null,null,"Elevation (inches)","System Height (in)","Position Marker","Chamber Slice Name","Incr. Single Chamber Storage","Incr. Single End Cap Storage","Incr. Total Chamber Storage","Incr. Total End Cap Storage","Stone Void Storage at this Slice","Total Incremental CH,EC, & STONE","Cumulative System Storage (cu.ft)","Elevation","Incremental Chamber Stone Void Volume","Incremental End Cap Stone Void Volume"]
["top of chamber",1,0.182731481481481,0,0.12497685185185185,0,0,0,5.74E-2,1.6999999999999999E-3,null,null,null,null,{"$f":"IF(P17=\"\",\"\",IF(P17=0,$C$8,($C$8+P17/100)))","v":0.66},{"$f":"ROUNDUP(C13,0)","v":66},{"$f":"IF(P17=\"\",\"\",IF($A$4=1,IF($C$13-P17<$D$10,(\"ABOVE\"), IF($D$9<P17,(\"CHAM\"),\"BELOW\")),IF($C$13-P17<$D$10,(\"ABOVE\"), IF($D$9<P17,(\"CHAM\"),\"BELOW\"))))","v":"ABOVE"},{"$f":"IF(P17=\"\",\"\",IF(Q17=\"ABOVE\",0,IF(Q17=\"BELOW\",0,IF(R16>=1,R16+1,1))))","v":0},{"$f":"IF(R17=\"\",\"\",(IF(R17=0,0,VLOOKUP(R17,$B$17:$J$132,IF($C$4=\"HS180\",2,IF(C$4=\"HS75\",4,IF(C$4=\"HS290\",6,IF(C$4=\"HS31\",8))))))))","v":0},{"$f":"IF(R17=\"\",\"\",(IF(R17=0,0,VLOOKUP(R17,$B$17:$J$132,IF($C$4=\"HS180\",3,IF(C$4=\"HS75\",5,IF(C$4=\"HS290\",7,9)))))))","v":0},{"$f":"IF(S17=\"\",\"\",S17*$C$5)","v":0},{"$f":"IF(T17=\"\",\"\",T17*$C$6)","v":0},{"$f":"MAX(IF($A$11=2,IF(P17=0,0,(IF(Q17=\"\",\"\",(AA17*$C$5)+(AB17*$C$6)))),IF(P17=0,0,(IF(Q17=\"\",\"\",(AA17*$C$5)+(AB17*$C$6)+$M$11))))-((((IF($C$4=\"HS180\",$S$4*1,IF($C$4=\"HS75\",$S$3*1,IF($C$4=\"HS290\",$S$5*1,$S$2*1))))/144)*($G$5/12)))*$C$7,0)","v":49.699999999999996},{"$f":"IF(P17=\"\",\"\",(U17+V17+W17))","v":49.699999999999996},{"$f":"IF(P18=\"\",0,(Y18+X17))","v":5075.7678472222206},{"$f":"IF(P17=\"\",\"\",(IF(P17=0,$C$8,(P17*(1/12)+$C$8))))","v":5.5},{"$f":"IF(P17=\"\",\"\",(IF($C$4=\"HS180\",((($O$4*$Q$4)/1728)-S17)*($C$7),(IF($C$4=\"HS75\",((($O$3*$Q$3)/1728)-S17)*($C$7),(IF($C$4=\"HS290\",((($O$5*$Q$5)/1728)-S17)*($C$7),((($O$2*$Q$2)/1728)-S17)*($C$7))))))))","v":1.6349166666666666},{"$f":"IF(P17=\"\",\"\",(IF($C$4=\"HS180\",((($O$4*$W$4)/1728)-T17)*($C$7),(IF($C$4=\"HS75\",((($O$3*$W$3)/1728)-T17)*($C$7),(IF($C$4=\"HS290\",((($O$5*$W$5)/1728)-T17)*($C$7),((($O$2*$W$2)/1728)-T17)*($C$7))))))))","v":0.42358333333333342}]
[null,2,0.31384259259259262,{"$f":"15.33-15.32","v":9.9999999999997868E-3},0.30066550925925922,0.01,7.0000000000000007E-2,0.02,0.20680000000000001,6.0000000000000001E-3,null,null,null,null,{"$f":"IF(P18=\"\",\"\",IF(P18=0,$C$8,($C$8+P18/100)))","v":0.65},{"$f":"IF(P17=\"\",\"\",IF(P17-1>=0,P17-1,\"\"))","v":65},{"$f":"IF(P18=\"\",\"\",IF($A$4=1,IF($C$13-P18<$D$10,(\"ABOVE\"), IF($D$9<P18,(\"CHAM\"),\"BELOW\")),IF($C$13-P18<$D$10,(\"ABOVE\"), IF($D$9<P18,(\"CHAM\"),\"BELOW\"))))","v":"ABOVE"},0,{"$f":"IF(R18=\"\",\"\",(IF(R18=0,0,VLOOKUP(R18,$B$17:$J$132,IF($C$4=\"HS180\",2,IF(C$4=\"HS75\",4,IF(C$4=\"HS290\",6,IF(C$4=\"HS31\",8))))))))","v":0},{"$f":"IF(R18=\"\",\"\",(IF(R18=0,0,VLOOKUP(R18,$B$17:$J$132,IF($C$4=\"HS180\",3,IF(C$4=\"HS75\",5,IF(C$4=\"HS290\",7,9)))))))","v":0},{"$f":"IF(S18=\"\",\"\",S18*$C$5)","v":0},{"$f":"IF(T18=\"\",\"\",T18*$C$6)","v":0},{"$f":"MAX(IF($A$11=2,IF(P18=0,0,(IF(Q18=\"\",\"\",(AA18*$C$5)+(AB18*$C$6)))),IF(P18=0,0,(IF(Q18=\"\",\"\",(AA18*$C$5)+(AB18*$C$6)+$M$11))))-((((IF($C$4=\"HS180\",$S$4*1,IF($C$4=\"HS75\",$S$3*1,IF($C$4=\"HS290\",$S$5*1,$S$2*1))))/144)*($G$5/12)))*$C$7,0)","v":49.699999999999996},{"$f":"IF(P18=\"\",\"\",(U18+V18+W18))","v":49.699999999999996},{"$f":"IF(P19=\"\",0,(Y19+X18))","v":5026.0678472222207},{"$f":"IF(P18=\"\",\"\",(IF(P18=0,$C$8,(P18*(1/12)+$C$8))))","v":5.4166666666666661},{"$f":"IF(P18=\"\",\"\",(IF($C$4=\"HS180\",((($O$4*$Q$4)/1728)-S18)*($C$7),(IF($C$4=\"HS75\",((($O$3*$Q$3)/1728)-S18)*($C$7),(IF($C$4=\"HS290\",((($O$5*$Q$5)/1728)-S18)*($C$7),((($O$2*$Q$2)/1728)-S18)*($C$7))))))))","v":1.6349166666666666},{"$f":"IF(P18=\"\",\"\",(IF($C$4=\"HS180\",((($O$4*$W$4)/1728)-T18)*($C$7),(IF($C$4=\"HS75\",((($O$3*$W$3)/1728)-T18)*($C$7),(IF($C$4=\"HS290\",((($O$5*$W$5)/1728)-T18)*($C$7),((($O$2*$W$2)/1728)-T18)*($C$7))))))))","v":0.42358333333333342}]
[null,3,0.44235532407407402,{"$f":"15.32-15.29","v":3.0000000000001137E-2},0.61634259259259261,0.02,0.18,0.04,0.37159999999999999,1.24E-2,null,null,null,null,0.64,{"$f":"IF(P18=\"\",\"\",IF(P18-1>=0,P18-1,\"\"))","v":64},"ABOVE",0,0,0,{"$f":"IF(S19=\"\",\"\",S19*$C$5)","v":0},{"$f":"IF(T19=\"\",\"\",T19*$C$6)","v":0},49.699999999999996,49.699999999999996,4976.3678472222209,5.333333333333333,1.6349166666666666,0.42358333333333342]
[null,4,0.62631365740740741,{"$f":"15.29-15.24","v":4.9999999999998934E-2},0.85162037037037031,0.03,0.27,7.0000000000000007E-2,0.62239999999999995,1.7299999999999999E-2,null,null,null,null,0.63,63,"ABOVE",0,0,0,0,0,49.699999999999996,49.699999999999996,4926.6678472222211,5.25,1.6349166666666666,0.42358333333333342]
[null,5,1.0240046296296297,{"$f":"15.24-15.17","v":7.0000000000000284E-2},1.011556712962963,0.04,0.35,0.09,0.7732,2.1499999999999998E-2,null,null,null,null,0.62,62,"ABOVE",0,0,0,0,0,49.699999999999996,49.699999999999996,4876.9678472222213,5.1666666666666661,1.6349166666666666,0.42358333333333342]
[null,6,1.2720486111111111,{"$f":"15.17-15.09","v":8.0000000000000071E-2},1.1383796296296296,0.05,0.46,0.11,0.8871,2.5100000000000001E-2,null,null,null,null,0.61,61,"ABOVE",0,0,0,0,0,49.699999999999996,49.699999999999996,4827.2678472222215,5.083333333333333,1.6349166666666666,0.42358333333333342]
[null,7,1.4614930555555556,{"$f":"15.09-14.99","v":9.9999999999999645E-2},1.2436747685185185,0.06,0.72,0.14000000000000001,0.97760000000000002,2.8400000000000002E-2,null,null,null,null,0.6,60,"ABOVE",0,0,0,0,0,49.699999999999996,49.699999999999996,4777.5678472222216,5,1.6349166666666666,0.42358333333333342]
[null,8,1.6197048611111111,{"$f":"14.99-14.87","v":0.12000000000000099},1.3330324074074074,0.06,0.91,0.18,1.0532999999999999,3.1300000000000001E-2,null,null,null,null,0.59,59,"ABOVE",0,0,0,0,0,49.699999999999996,49.699999999999996,4727.8678472222218,4.9166666666666661,1.6349166666666666,0.42358333333333342]
[null,9,1.7567418981481482,{"$f":"14.87-14.72","v":0.14999999999999858},1.4107581018518518,7.0000000000000007E-2,1.04,0.2,1.1151,3.4000000000000002E-2,null,null,null,null,0.57999999999999996,58,"ABOVE",0,0,0,0,0,49.699999999999996,49.699999999999996,4678.167847222222,4.833333333333333,1.6349166666666666,0.42358333333333342]
[null,10,1.8778587962962963,{"$f":"14.72-14.56","v":0.16000000000000014},1.4812094907407409,0.08,1.1499999999999999,0.24,1.1637999999999999,3.6400000000000002E-2,null,null,null,null,0.56999999999999995,57,"ABOVE",0,0,0,0,0,49.699999999999996,49.699999999999996,4628.4678472222222,4.75,1.6349166666666666,0.42358333333333342]
[null,11,1.9862442129629629,{"$f":"14.56-14.39","v":0.16999999999999993},1.546875,0.08,1.24,0.28000000000000003,1.2051000000000001,3.8600000000000002E-2,null,null,null,null,0.56000000000000005,56,"ABOVE",0,0,0,0,0,49.699999999999996,49.699999999999996,4578.7678472222224,4.6666666666666661,1.6349166666666666,0.42358333333333342]
[null,12,2.0839756944444443,{"$f":"14.39-14.2","v":0.19000000000000128},1.6081597222222224,0.09,1.32,0.32,1.2406999999999999,4.07E-2,null,null,null,null,0.55000000000000004,55,"ABOVE",0,0,0,0,0,49.699999999999996,49.699999999999996,4529.0678472222226,4.583333333333333,1.6349166666666666,0.42358333333333342]
[null,13,2.1730324074074074,{"$f":"14.2-14","v":0.19999999999999929},1.6653125,0.1,1.4,0.34,1.2757000000000001,4.2599999999999999E-2,null,null,null,null,0.54,54,"CHAM",1,0.182731481481481,0,4.5682870370370248,0,47.87268518518519,52.440972222222214,4479.3678472222227,4.5,1.5618240740740743,0.42358333333333342]
[null,14,2.255271990740741,{"$f":"14-13.78","v":0.22000000000000064},1.7185648148148147,0.1,1.46,0.37,1.3090999999999999,4.4400000000000002E-2,null,null,null,null,0.53,53,"CHAM",2,0.31384259259259262,9.9999999999997868E-3,7.8460648148148158,9.9999999999997868E-2,46.521574074074074,54.467638888888885,4426.9268750000001,4.4166666666666661,1.5093796296296296,0.41958333333333347]
[null,15,2.3325810185185185,{"$f":"13.78-13.55","v":0.22999999999999865},1.7681539351851852,0.11,1.53,0.39,1.3422000000000001,4.6300000000000001E-2,null,null,null,null,0.52,52,"CHAM",3,0.44235532407407402,3.0000000000001137E-2,11.058883101851851,0.30000000000001137,45.156446759259261,56.515329861111127,4372.4592361111108,4.333333333333333,1.4579745370370372,0.41158333333333297]
[null,16,2.4059143518518518,{"$f":"13.55-13.3","v":0.25},1.8142476851851852,0.11,1.58,0.42,1.3717999999999999,4.2299999999999997E-2,null,null,null,null,0.51,51,"CHAM",{"$f":"IF(P32=\"\",\"\",IF(Q32=\"ABOVE\",0,IF(Q32=\"BELOW\",0,IF(R31>=1,R31+1,1))))","v":4},0.62631365740740741,4.9999999999998934E-2,15.657841435185185,0.49999999999998934,43.236863425925925,59.394704861111101,4315.9439062499996,4.25,1.3843912037037036,0.40358333333333385]
[null,17,2.4755092592592596,{"$f":"13.3-13.03","v":0.27000000000000135},1.8546585648148148,0.12,1.63,0.44,null,null,null,null,null,null,0.5,50,"CHAM",5,1.0240046296296297,7.0000000000000284E-2,25.60011574074074,0.70000000000000284,39.179953703703703,65.480069444444439,4256.5492013888888,4.1666666666666661,1.2253148148148147,0.39558333333333329]
[null,18,2.5415509259259261,{"$f":"13.03-12.75","v":0.27999999999999936},1.8971180555555553,0.12,1.69,0.48,null,null,null,null,null,null,0.49,49,"CHAM",6,1.2720486111111111,8.0000000000000071E-2,31.801215277777779,0.80000000000000071,36.659513888888895,69.260729166666678,4191.0691319444441,4.083333333333333,1.1260972222222223,0.39158333333333339]
[null,19,2.6042245370370374,{"$f":"12.75-12.45","v":0.30000000000000071},1.9348958333333333,0.12,1.73,0.51,null,null,null,null,null,null,0.48,48,"CHAM",7,1.4614930555555556,9.9999999999999645E-2,36.537326388888893,0.99999999999999645,34.685069444444444,72.222395833333337,4121.8084027777777,4,1.0503194444444444,0.38358333333333355]
[null,20,2.6636284722222223,{"$f":"12.45-12.13","v":0.31999999999999851},1.9703414351851851,0.13,1.78,0.53,null,null,null,null,null,null,0.47,47,"CHAM",8,1.6197048611111111,0.12000000000000099,40.492621527777779,1.2000000000000099,33.022951388888885,74.715572916666673,4049.5860069444443,3.9166666666666665,0.98703472222222222,0.37558333333333299]
[null,21,2.7199305555555555,{"$f":"12.13-11.8","v":0.33000000000000007},2.0035069444444442,0.13,1.81,0.56000000000000005,null,null,null,null,null,null,0.46,46,"CHAM",9,1.7567418981481482,0.14999999999999858,43.918547453703702,1.4999999999999858,31.532581018518531,76.951128472222223,3974.8704340277777,3.833333333333333,0.93221990740740734,0.36358333333333398]
[null,22,2.7732696759259259,{"$f":"11.8-11.45","v":0.35000000000000142},2.0344907407407407,0.13,1.85,0.57999999999999996,null,null,null,null,null,null,0.45,45,"CHAM",10,1.8778587962962963,0.16000000000000014,46.946469907407405,1.6000000000000014,30.281412037037043,78.827881944444442,{"$f":"IF(P38=\"\",\"\",IF(P38=0,0,(Y39+X38)))","v":3897.9193055555556},3.75,0.88377314814814811,0.35958333333333337]
[null,23,2.8236979166666667,{"$f":"11.45-11.08","v":0.36999999999999922},2.0639699074074076,0.14000000000000001,1.89,0.6,null,null,null,null,null,null,0.44,44,"CHAM",11,1.9862442129629629,0.16999999999999993,49.656105324074076,1.6999999999999993,29.157557870370372,80.513663194444447,3819.0914236111112,3.6666666666666665,0.84041898148148142,0.35558333333333342]
[null,24,2.8713541666666664,{"$f":"11.08-10.71","v":0.36999999999999922},2.0925752314814812,0.14000000000000001,1.92,0.62,null,null,null,null,null,null,0.43,43,"CHAM",12,2.0839756944444443,0.19000000000000128,52.099392361111107,1.9000000000000128,28.100243055555559,82.099635416666672,3738.5777604166669,3.583333333333333,0.80132638888888885,0.34758333333333291]
[null,25,2.9163078703703706,{"$f":"10.71-10.31","v":0.40000000000000036},2.1211458333333333,0.14000000000000001,1.95,0.65,null,null,null,null,null,null,0.42,42,"CHAM",13,2.1730324074074074,0.19999999999999929,54.325810185185183,1.9999999999999929,27.169675925925933,83.495486111111106,3656.4781250000001,3.5,0.76570370370370355,0.34358333333333368]
[null,26,2.9644386574074075,{"$f":"10.31-9.9","v":0.41000000000000014},2.1489930555555556,0.14000000000000001,1.98,0.67,null,null,null,null,null,null,0.41,41,"CHAM",14,2.255271990740741,0.22000000000000064,56.381799768518526,2.2000000000000064,26.267280092592589,84.849079861111122,3572.9826388888891,3.4166666666666665,0.73280787037037021,0.33558333333333312]
[null,27,2.9983912037037039,{"$f":"9.9-9.48","v":0.41999999999999993},2.1754224537037037,0.14000000000000001,2.0099999999999998,0.69,null,null,null,null,null,null,0.4,40,"CHAM",15,2.3325810185185185,0.22999999999999865,58.314525462962962,2.2999999999999865,25.454189814814825,86.06871527777777,3488.1335590277781,3.333333333333333,0.70188425925925912,0.33158333333333395]
[null,28,3.0355381944444444,{"$f":"9.48-9.04","v":0.44000000000000128},2.2011342592592591,0.14000000000000001,2.04,0.71,null,null,null,null,null,null,0.39,39,"CHAM",16,2.4059143518518518,0.25,60.147858796296291,2.5,24.640856481481489,87.288715277777783,3402.0648437500004,3.25,0.67255092592592591,0.32358333333333339]
[null,29,3.0707060185185187,{"$f":"9.04-8.59","v":0.44999999999999929},2.2261458333333333,0.15,2.06,0.73,null,null,null,null,null,null,0.38,38,"CHAM",17,2.4755092592592596,0.27000000000000135,61.887731481481488,2.7000000000000135,23.864907407407404,88.452638888888899,3314.7761284722228,3.1666666666666665,0.64471296296296277,0.31558333333333288]
[null,30,3.1052256944444445,{"$f":"8.59-8.13","v":0.45999999999999908},0,0,2.08,0.75,null,null,null,null,null,null,{"$f":"IF(P46=\"\",\"\",IF(P46=0,$C$8,($D$8+P46/100)))","v":0.37},37,"CHAM",18,2.5415509259259261,0.27999999999999936,{"$f":"IF(S46=\"\",\"\",S46*$C$5)","v":63.538773148148152},2.7999999999999936,23.164490740740746,89.503263888888895,3226.3234895833339,3.083333333333333,0.61829629629629612,0.31158333333333366]
[null,31,3.1384027777777779,{"$f":"8.13-7.66","v":0.47000000000000064},null,null,2.1,0.76,null,null,null,null,null,null,0.36,36,"CHAM",19,2.6042245370370374,0.30000000000000071,65.105613425925938,3.0000000000000071,22.45775462962963,90.563368055555586,3136.8202256944451,3,0.59322685185185164,0.30358333333333309]
[null,32,3.1705324074074075,{"$f":"7.66-7.17","v":0.49000000000000021},null,null,2.12,0.78,null,null,null,null,null,null,0.35,35,"CHAM",20,2.6636284722222223,0.31999999999999851,66.590711805555557,3.1999999999999851,21.783715277777787,91.574427083333333,3046.2568576388894,2.9166666666666665,0.56946527777777767,0.29558333333333398]
[null,33,3.201701388888889,{"$f":"7.17-6.67","v":0.5},null,null,2.14,0.8,null,null,null,null,null,null,0.34,34,"CHAM",21,2.7199305555555555,0.33000000000000007,67.998263888888886,3.3000000000000007,21.180694444444448,92.478958333333338,2954.682430555556,2.833333333333333,0.54694444444444434,0.29158333333333336]
[null,34,3.2321354166666669,{"$f":"6.67-6.16","v":0.50999999999999979},null,null,2.16,0.81,null,null,null,null,null,null,0.33,33,"CHAM",22,2.7732696759259259,0.35000000000000142,69.331741898148152,3.5000000000000142,20.567303240740738,93.399045138888908,2862.2034722222229,2.75,0.5256087962962962,0.2835833333333328]
[null,35,3.2612789351851852,{"$f":"6.16-5.64","v":0.52000000000000046},null,null,2.17,0.83,null,null,null,null,null,null,0.32,32,"CHAM",23,2.8236979166666667,0.36999999999999922,70.592447916666671,3.6999999999999922,19.983020833333338,94.275468750000002,2768.8044270833338,2.6666666666666665,0.50543749999999987,0.27558333333333368]
[null,36,3.2916435185185184,{"$f":"5.64-5.11","v":0.52999999999999936},null,null,2.19,0.84,null,null,null,null,null,null,0.31,31,"CHAM",24,2.8713541666666664,0.36999999999999922,71.783854166666657,3.6999999999999922,19.506458333333342,94.990312499999987,{"$f":"IF(P52=\"\",\"\",IF(P52=0,0,(Y53+X52)))","v":2674.5289583333338},2.583333333333333,0.486375,0.27558333333333368]
[null,37,3.3206250000000002,{"$f":"5.11-4.57","v":0.54},null,null,2.2000000000000002,0.85,null,null,null,null,null,null,0.3,30,"CHAM",{"$f":"IF(P53=\"\",\"\",IF(Q53=\"ABOVE\",0,IF(Q53=\"BELOW\",0,IF(R52>=1,R52+1,1))))","v":25},2.9163078703703706,0.40000000000000036,72.907696759259267,4.0000000000000036,18.936921296296294,95.844618055555557,2579.5386458333337,2.5,0.46839351851851829,0.26358333333333323]
[null,38,3.3492361111111109,{"$f":"4.57-4.02","v":0.55000000000000071},null,null,2.21,0.87,null,null,null,null,null,null,0.28999999999999998,29,"CHAM",26,2.9644386574074075,0.41000000000000014,74.11096643518519,4.1000000000000014,18.415613425925926,96.626579861111111,2483.694027777778,2.4166666666666665,0.44914120370370353,0.25958333333333333]
[null,39,3.376689814814815,{"$f":"4.02-3.46","v":0.55999999999999961},null,null,2.23,0.88,null,null,null,null,null,null,0.28000000000000003,28,"CHAM",27,2.9983912037037039,0.41999999999999993,74.959780092592595,4.1999999999999993,18.036087962962963,97.195868055555565,{"$f":"IF(P55=\"\",\"\",IF(P55=0,0,(Y56+X55)))","v":2387.0674479166669},2.333333333333333,0.43556018518518497,0.25558333333333344]
[null,40,3.4046990740740739,{"$f":"3.46-2.9","v":0.56000000000000005},null,null,2.2400000000000002,0.89,null,null,null,null,null,null,0.27,27,"CHAM",28,3.0355381944444444,0.44000000000000128,75.888454861111114,4.4000000000000128,17.584618055555552,97.873072916666672,{"$f":"IF(P56=\"\",\"\",IF(P56=0,0,(Y57+X56)))","v":2289.8715798611115},2.25,0.42070138888888881,0.24758333333333288]
[null,41,3.4329108796296293,{"$f":"2.9-2.33","v":0.56999999999999984},null,null,2.25,0.9,null,null,null,null,null,null,0.26,26,"CHAM",29,3.0707060185185187,0.44999999999999929,76.767650462962962,4.4999999999999929,17.192939814814821,98.460590277777783,{"$f":"IF(P57=\"\",\"\",IF(P57=0,0,(Y58+X57)))","v":2191.9985069444447},2.1666666666666665,0.40663425925925911,0.24358333333333368]
[null,42,3.4620428240740742,{"$f":"2.33-1.75","v":0.58000000000000007},null,null,2.2599999999999998,0.91,null,null,null,null,null,null,0.25,25,"CHAM",30,3.1052256944444445,0.45999999999999908,77.630642361111114,4.5999999999999908,16.807743055555562,99.038385416666671,2093.5379166666671,2.083333333333333,0.39282638888888877,0.23958333333333376]
[null,43,3.4899537037037041,{"$f":"1.75-1.17","v":0.58000000000000007},null,null,2.2799999999999998,0.92,null,null,null,null,null,null,0.24,24,"CHAM",{"$f":"IF(P59=\"\",\"\",IF(Q59=\"ABOVE\",0,IF(Q59=\"BELOW\",0,IF(R58>=1,R58+1,1))))","v":31},3.1384027777777779,0.47000000000000064,78.460069444444443,4.7000000000000064,16.435972222222222,99.596041666666665,1994.4995312500002,2,0.37955555555555542,0.23558333333333314]
[null,44,3.5176157407407405,{"$f":"1.17-0.59","v":0.57999999999999996},null,null,2.29,0.93,null,null,null,null,null,null,{"$f":"IF(P60=\"\",\"\",IF(P60=0,$C$8,($C$8+P60/100)))","v":0.23},23,{"$f":"IF(P60=\"\",\"\",IF($A$4=1,IF($C$13-P60<$D$10,(\"ABOVE\"), IF($D$9<P60,(\"CHAM\"),\"BELOW\")),IF($C$13-P60<$D$10,(\"ABOVE\"), IF($D$9<P60,(\"CHAM\"),\"BELOW\"))))","v":"CHAM"},{"$f":"IF(P60=\"\",\"\",IF(Q60=\"ABOVE\",0,IF(Q60=\"BELOW\",0,IF(R59>=1,R59+1,1))))","v":32},{"$f":"IF(R60=\"\",\"\",(IF(R60=0,0,VLOOKUP(R60,$B$17:$J$132,IF($C$4=\"HS180\",2,IF(C$4=\"HS75\",4,IF(C$4=\"HS290\",6,IF(C$4=\"HS31\",8))))))))","v":3.1705324074074075},0.49000000000000021,{"$f":"IF(S60=\"\",\"\",S60*$C$5)","v":79.26331018518519},{"$f":"IF(T60=\"\",\"\",T60*$C$6)","v":4.9000000000000021},16.034675925925924,{"$f":"IF(P60=\"\",\"\",(U60+V60+W60))","v":100.19798611111112},{"$f":"IF(P60=\"\",\"\",IF(P60=0,0,(Y61+X60)))","v":1894.9034895833336},{"$f":"IF(P60=\"\",\"\",(IF(P60=0,$C$8,(P60*(1/12)+$C$8))))","v":1.9166666666666665},0.36670370370370353,0.2275833333333333]
[null,45,3.545167824074074,0.59,null,null,2.2999999999999998,0.94,null,null,null,null,null,null,0.22,22,"CHAM",33,3.201701388888889,0.5,80.042534722222229,5,15.682986111111111,100.72552083333333,1794.7055034722225,1.8333333333333333,0.35423611111111097,0.22358333333333338]
[null,46,null,null,null,null,2.31,0.95,null,null,null,null,null,null,0.21,21,"CHAM",34,3.2321354166666669,0.50999999999999979,80.803385416666671,5.0999999999999979,15.338645833333333,101.24203125,1693.9799826388892,1.75,0.34206249999999977,0.21958333333333346]
[null,47,null,null,null,null,2.3199999999999998,0.96,null,null,null,null,null,null,0.2,20,"CHAM",35,3.2612789351851852,0.52000000000000046,81.531973379629633,5.2000000000000046,15.007210648148147,101.73918402777778,1592.7379513888891,1.6666666666666665,0.33040509259259249,0.21558333333333321]
[null,48,null,null,null,null,2.33,0.97,null,null,null,null,null,null,0.19,19,"CHAM",36,3.2916435185185184,0.52999999999999936,82.291087962962962,5.2999999999999936,14.663564814814821,102.25465277777778,1490.9987673611113,1.5833333333333333,0.31825925925925919,0.21158333333333365]
[null,49,null,null,null,null,2.35,0.98,null,null,null,null,null,null,0.18,18,"CHAM",37,3.3206250000000002,0.54,83.015625,5.4,14.33375,102.749375,1388.7441145833334,1.5,0.30666666666666648,0.20758333333333337]
[null,50,null,null,null,null,2.36,0.99,null,null,null,null,null,null,0.17,17,"CHAM",38,3.3492361111111109,0.55000000000000071,83.730902777777771,5.5000000000000071,14.00763888888889,103.23854166666666,1285.9947395833333,1.4166666666666665,0.29522222222222222,0.20358333333333312]
[null,51,null,null,null,null,2.37,0.99,null,null,null,null,null,null,0.16,16,"CHAM",39,3.376689814814815,0.55999999999999961,84.417245370370381,5.5999999999999961,13.693101851851852,103.71034722222223,1182.7561979166667,1.3333333333333333,0.28424074074074052,0.19958333333333356]
[null,52,null,null,null,null,2.38,1,null,null,null,null,null,null,0.15,15,"CHAM",40,3.4046990740740739,0.56000000000000005,85.117476851851848,5.6000000000000005,13.41300925925926,104.1304861111111,1079.0458506944444,1.25,0.27303703703703697,0.19958333333333336]
[null,53,null,null,null,null,2.39,1.01,null,null,null,null,null,null,0.14000000000000001,14,"CHAM",41,3.4329108796296293,0.56999999999999984,85.822771990740733,5.6999999999999984,13.090891203703707,104.61366319444444,974.91536458333326,1.1666666666666665,0.26175231481481481,0.19558333333333344]
[null,54,null,null,null,null,2.4,1.02,null,null,null,null,null,null,0.13,13,"CHAM",42,3.4620428240740742,0.58000000000000007,86.551070601851848,5.8000000000000007,12.759571759259257,105.1106423611111,870.30170138888877,1.0833333333333333,0.25009953703703686,0.19158333333333336]
[null,55,null,null,null,null,2.41,1.02,null,null,null,null,null,null,0.12,12,"CHAM",43,3.4899537037037041,0.58000000000000007,87.248842592592595,5.8000000000000007,12.480462962962958,105.52930555555555,765.19105902777767,1,0.23893518518518492,0.19158333333333336]
[null,56,null,null,null,null,2.42,1.03,null,null,null,null,null,null,0.11,11,"CHAM",44,3.5176157407407405,0.57999999999999996,87.940393518518505,5.8,12.203842592592595,105.9442361111111,659.66175347222213,0.91666666666666663,0.22787037037037036,0.19158333333333341]
[null,57,null,null,null,null,2.4300000000000002,1.03,null,null,null,null,null,null,0.1,10,"CHAM",45,3.545167824074074,0.59,88.629195601851848,5.8999999999999995,11.888321759259261,106.41751736111111,553.71751736111105,0.83333333333333326,0.21684953703703691,0.18758333333333341]
[null,58,null,null,null,null,2.4500000000000002,1.04,null,null,null,null,null,null,0.09,9,"BELOW",0,0,0,0,0,49.699999999999996,49.699999999999996,447.29999999999995,0.75,1.6349166666666666,0.42358333333333342]
[null,59,null,null,null,null,2.46,1.05,null,null,null,null,null,null,0.08,8,"BELOW",0,0,0,0,0,49.699999999999996,49.699999999999996,397.59999999999997,0.66666666666666663,1.6349166666666666,0.42358333333333342]
[null,60,null,null,null,null,3.05,0.92,null,null,null,null,null,null,7.0000000000000007E-2,7,"BELOW",0,0,0,0,0,49.699999999999996,49.699999999999996,347.9,0.58333333333333326,1.6349166666666666,0.42358333333333342]
[null,61,null,null,null,null,null,null,null,null,null,null,null,null,0.06,6,"BELOW",0,0,0,0,0,49.699999999999996,49.699999999999996,298.2,0.5,1.6349166666666666,0.42358333333333342]
[null,62,null,null,null,null,null,null,null,null,null,null,null,null,0.05,5,"BELOW",0,0,0,0,0,49.699999999999996,49.699999999999996,248.49999999999997,0.41666666666666663,1.6349166666666666,0.42358333333333342]
[null,63,null,null,null,null,null,null,null,null,null,null,null,null,0.04,4,"BELOW",0,0,0,0,0,49.699999999999996,49.699999999999996,198.79999999999998,0.33333333333333331,1.6349166666666666,0.42358333333333342]
[null,64,null,null,null,null,null,null,null,null,null,null,null,null,0.03,3,"BELOW",0,0,0,0,0,49.699999999999996,49.699999999999996,149.1,0.25,1.6349166666666666,0.42358333333333342]
[null,65,null,null,null,null,null,null,null,null,null,null,null,null,0.02,2,"BELOW",0,0,0,0,0,49.699999999999996,49.699999999999996,99.399999999999991,0.16666666666666666,1.6349166666666666,0.42358333333333342]
[null,66,null,null,null,null,null,null,null,null,null,null,null,null,0.01,1,"BELOW",0,0,{"$f":"IF(R82=\"\",\"\",(IF(R82=0,0,VLOOKUP(R82,$B$17:$J$132,IF($C$4=\"HS180\",3,IF(C$4=\"HS75\",5,IF(C$4=\"HS290\",7,9)))))))","v":0},0,0,{"$f":"MAX(IF($A$11=2,IF(P82=0,0,(IF(Q82=\"\",\"\",(AA82*$C$5)+(AB82*$C$6)))),IF(P82=0,0,(IF(Q82=\"\",\"\",(AA82*$C$5)+(AB82*$C$6)+$M$11))))-((((IF($C$4=\"HS180\",$S$4*1,IF($C$4=\"HS75\",$S$3*1,IF($C$4=\"HS290\",$S$5*1,$S$2*1))))/144)*($G$5/12)))*$C$7,0)","v":49.699999999999996},49.699999999999996,49.699999999999996,8.3333333333333329E-2,{"$f":"IF(P82=\"\",\"\",(IF($C$4=\"HS180\",((($O$4*$Q$4)/1728)-S82)*($C$7),(IF($C$4=\"HS75\",((($O$3*$Q$3)/1728)-S82)*($C$7),(IF($C$4=\"HS290\",((($O$5*$Q$5)/1728)-S82)*($C$7),((($O$2*$Q$2)/1728)-S82)*($C$7))))))))","v":1.6349166666666666},{"$f":"IF(P82=\"\",\"\",(IF($C$4=\"HS180\",((($O$4*$W$4)/1728)-T82)*($C$7),(IF($C$4=\"HS75\",((($O$3*$W$3)/1728)-T82)*($C$7),(IF($C$4=\"HS290\",((($O$5*$W$5)/1728)-T82)*($C$7),((($O$2*$W$2)/1728)-T82)*($C$7))))))))","v":0.42358333333333342}]
[null,67,null,null,null,null,null,null,null,null,null,null,null,null,0,{"$f":"IF(P82=\"\",\"\",IF(P82-1>=0,P82-1,\"\"))","v":0},"BELOW",0,0,0,0,0,0,0,0,0,1.6349166666666666,0.42358333333333342]
[null,68,null,null,null,null,null,null,null,null,null,null,null,null,{"$f":"IF(P84=\"\",\"\",IF(P84=0,$C$8,($C$8+P84/100)))","v":""},"",{"$f":"IF(P84=\"\",\"\",IF($A$4=1,IF($C$13-P84<$D$10,(\"ABOVE\"), IF($D$9<P84,(\"CHAM\"),\"BELOW\")),IF($C$13-P84<$D$10,(\"ABOVE\"), IF($D$9<P84,(\"CHAM\"),\"BELOW\"))))","v":""},{"$f":"IF(P84=\"\",\"\",IF(Q84=\"ABOVE\",0,IF(Q84=\"BELOW\",0,IF(R83>=1,R83+1,1))))","v":""},{"$f":"IF(R84=\"\",\"\",(IF(R84=0,0,VLOOKUP(R84,$B$17:$J$132,IF($C$4=\"HS180\",2,IF(C$4=\"HS75\",4,IF(C$4=\"HS290\",6,IF(C$4=\"HS31\",8))))))))","v":""},{"$f":"IF(R84=\"\",\"\",(IF(R84=0,0,VLOOKUP(R84,$B$17:$J$132,IF($C$4=\"HS180\",3,IF(C$4=\"HS75\",5,IF(C$4=\"HS290\",7,9)))))))","v":""},{"$f":"IF(S84=\"\",\"\",S84*$C$5)","v":""},{"$f":"IF(T84=\"\",\"\",T84*$C$6)","v":""},{"$f":"MAX(IF($A$11=2,IF(P84=0,0,(IF(Q84=\"\",\"\",(AA84*$C$5)+(AB84*$C$6)))),IF(P84=0,0,(IF(Q84=\"\",\"\",(AA84*$C$5)+(AB84*$C$6)+$M$11))))-((((IF($C$4=\"HS180\",$S$4*1,IF($C$4=\"HS75\",$S$3*1,IF($C$4=\"HS290\",$S$5*1,$S$2*1))))/144)*($G$5/12)))*$C$7,0)","v":{"$error":"#VALUE!"}},{"$f":"IF(P84=\"\",\"\",(U84+V84+W84))","v":""},{"$f":"IF(P84=\"\",\"\",IF(P84=0,0,(Y85+X84)))","v":""},{"$f":"IF(P84=\"\",\"\",(IF(P84=0,$C$8,(P84*(1/12)+$C$8))))","v":""},{"$f":"IF(P84=\"\",\"\",(IF($C$4=\"HS180\",((($O$4*$Q$4)/1728)-S84)*($C$7),(IF($C$4=\"HS75\",((($O$3*$Q$3)/1728)-S84)*($C$7),(IF($C$4=\"HS290\",((($O$5*$Q$5)/1728)-S84)*($C$7),((($O$2*$Q$2)/1728)-S84)*($C$7))))))))","v":""},{"$f":"IF(P84=\"\",\"\",(IF($C$4=\"HS180\",((($O$4*$W$4)/1728)-T84)*($C$7),(IF($C$4=\"HS75\",((($O$3*$W$3)/1728)-T84)*($C$7),(IF($C$4=\"HS290\",((($O$5*$W$5)/1728)-T84)*($C$7),((($O$2*$W$2)/1728)-T84)*($C$7))))))))","v":""}]
[null,69,null,null,null,null,null,null,null,null,null,null,null,null,"","","","","","","","",{"$error":"#VALUE!"},"","","","",""]
[null,70,null,null,null,null,null,null,null,null,null,null,null,null,"","","","","","","","",{"$error":"#VALUE!"},"","","","",""]
[null,71,null,null,null,null,null,null,null,null,null,null,null,null,"","","","","","","","",{"$error":"#VALUE!"},"","","","",""]
[null,72,null,null,null,null,null,null,null,null,null,null,null,null,"","","","","","","","",{"$error":"#VALUE!"},"","","","",""]
[null,73,null,null,null,null,null,null,null,null,null,null,null,null,"","","","","","","","",{"$error":"#VALUE!"},"","","","",""]
[null,74,null,null,null,null,null,null,null,null,null,null,null,null,"","","","","","","","",{"$error":"#VALUE!"},"","","","",""]
[null,75,null,null,null,null,null,null,null,null,null,null,null,null,"","","","","","","","",{"$error":"#VALUE!"},"","","","",""]
[null,76,null,null,null,null,null,null,null,null,null,null,null,null,"","","","","","","","",{"$error":"#VALUE!"},"","","","",""]
[null,77,null,null,null,null,null,null,null,null,null,null,null,null,"","","","","","","","",{"$error":"#VALUE!"},"","","","",""]
[null,78,null,null,null,null,null,null,null,null,null,null,null,null,"","","","","","","","",{"$error":"#VALUE!"},"","","","",""]
[null,79,null,null,null,null,null,null,null,null,null,null,null,null,"","","","","","","","",{"$error":"#VALUE!"},"","","","",""]
[null,80,null,null,null,null,null,null,null,null,null,null,null,null,"","","","","","","","",{"$error":"#VALUE!"},"","","","",""]
[null,81,null,null,null,null,null,null,null,null,null,null,null,null,"","","","","","","","",{"$error":"#VALUE!"},"",{"$f":"IF(P97=\"\",\"\",IF(P97=0,0,(Y98+X97)))","v":""},"","",""]
[null,82,null,null,null,null,null,null,null,null,null,null,null,null,"","","","","","","","",{"$error":"#VALUE!"},"","","","",""]
[null,83,null,null,null,null,null,null,null,null,null,null,null,null,"","","","","","","","",{"$error":"#VALUE!"},"","","","",""]
[null,84,null,null,null,null,null,null,null,null,null,null,null,null,"","","","","","","","",{"$error":"#VALUE!"},"","","","",""]
[null,85,null,null,null,null,null,null,null,null,null,null,null,null,"","","","","","","","",{"$error":"#VALUE!"},"","","","",""]
[null,86,null,null,null,null,null,null,{"$f":"IF(J102=\"\",\"\",IF(J102=0,$C$8,($C$8+J102/100)))","v":""},{"$f":"IFERROR(IF($A$12=1,IF(P101-1>=0, P101-1,\"\"),IF(P101-2.54>=0,P101-2.54,\"\")),\"\")","v":""},{"$f":"IF(J102=\"\",\"\",IF(#REF!-J102<=$C$10/IF($A$12=1,1,10),\"ABOVE\",IF(#REF!-J102<=($C$14+$C$10/IF($A$12=1,1,10)),\"CHAM\",\"BELOW\")))","v":""},{"$f":"IF(J102=\"\",\"\",IF(K102=\"ABOVE\",0,IF(K102=\"BELOW\",0,IF(R101>=1,R101+1,1))))","v":""},{"$f":"IF(L102=\"\",\"\",(IF(L102=0,0,VLOOKUP(L102,$B$17:$F$132,IF($C$4=\"HS180\",2,4),FALSE))))","v":""},{"$f":"IF(L102=\"\",\"\",(IF(L102=0,0,VLOOKUP(L102,$B$17:$F$132,IF($C$4=\"HS180\",3,5),FALSE))))","v":""},"","","","","","","","",{"$error":"#VALUE!"},"","","","",""]
[null,87,null,null,null,null,null,null,"",{"$f":"IFERROR(IF($A$12=1,IF(J102-1>=0, J102-1,\"\"),IF(J102-2.54>=0,J102-2.54,\"\")),\"\")","v":""},{"$f":"IF(J103=\"\",\"\",IF(#REF!-J103<=$C$10/IF($A$12=1,1,10),\"ABOVE\",IF(#REF!-J103<=($C$14+$C$10/IF($A$12=1,1,10)),\"CHAM\",\"BELOW\")))","v":""},{"$f":"IF(J103=\"\",\"\",IF(K103=\"ABOVE\",0,IF(K103=\"BELOW\",0,IF(L102>=1,L102+1,1))))","v":""},"","","","","","","","","","",{"$error":"#VALUE!"},"","","","",""]
[null,88,null,null,null,null,null,null,"","",{"$f":"IF(J104=\"\",\"\",IF(#REF!-J104<=$C$10/IF($A$12=1,1,10),\"ABOVE\",IF(#REF!-J104<=($C$14+$C$10/IF($A$12=1,1,10)),\"CHAM\",\"BELOW\")))","v":""},"","","","","","","","","","","",{"$error":"#VALUE!"},"","","","",""]
[null,89,null,null,null,null,null,null,"","",{"$f":"IF(J105=\"\",\"\",IF(#REF!-J105<=$C$10/IF($A$12=1,1,10),\"ABOVE\",IF(#REF!-J105<=($C$14+$C$10/IF($A$12=1,1,10)),\"CHAM\",\"BELOW\")))","v":""},"","","","","","","","","","","",{"$error":"#VALUE!"},"","","","",""]
[null,90,null,null,null,null,null,null,"","",{"$f":"IF(J106=\"\",\"\",IF(#REF!-J106<=$C$10/IF($A$12=1,1,10),\"ABOVE\",IF(#REF!-J106<=($C$14+$C$10/IF($A$12=1,1,10)),\"CHAM\",\"BELOW\")))","v":""},"","","","","","","","","","","",{"$error":"#VALUE!"},"","","","",""]
[null,91,null,null,null,null,null,null,"","",{"$f":"IF(J107=\"\",\"\",IF(#REF!-J107<=$C$10/IF($A$12=1,1,10),\"ABOVE\",IF(#REF!-J107<=($C$14+$C$10/IF($A$12=1,1,10)),\"CHAM\",\"BELOW\")))","v":""},"","","","","","","","","","","",{"$error":"#VALUE!"},"","","","",""]
[null,92,null,null,null,null,null,null,"","",{"$f":"IF(J108=\"\",\"\",IF(#REF!-J108<=$C$10/IF($A$12=1,1,10),\"ABOVE\",IF(#REF!-J108<=($C$14+$C$10/IF($A$12=1,1,10)),\"CHAM\",\"BELOW\")))","v":""},"","","","","","","","","","","",{"$error":"#VALUE!"},"","","","",""]
[null,93,null,null,null,null,null,null,"","",{"$f":"IF(J109=\"\",\"\",IF(#REF!-J109<=$C$10/IF($A$12=1,1,10),\"ABOVE\",IF(#REF!-J109<=($C$14+$C$10/IF($A$12=1,1,10)),\"CHAM\",\"BELOW\")))","v":""},"","","","","","","","","","","",{"$error":"#VALUE!"},"","","","",""]
[null,94,null,null,null,null,null,null,"","",{"$f":"IF(J110=\"\",\"\",IF(#REF!-J110<=$C$10/IF($A$12=1,1,10),\"ABOVE\",IF(#REF!-J110<=($C$14+$C$10/IF($A$12=1,1,10)),\"CHAM\",\"BELOW\")))","v":""},"","","","","","","","","","","",{"$error":"#VALUE!"},"","","","",""]
[null,95,null,null,null,null,null,null,"","",{"$f":"IF(J111=\"\",\"\",IF(#REF!-J111<=$C$10/IF($A$12=1,1,10),\"ABOVE\",IF(#REF!-J111<=($C$14+$C$10/IF($A$12=1,1,10)),\"CHAM\",\"BELOW\")))","v":""},"","","","","","","","","","","",{"$error":"#VALUE!"},"","","","",""]
[null,96,null,null,null,null,null,null,"","",{"$f":"IF(J112=\"\",\"\",IF(#REF!-J112<=$C$10/IF($A$12=1,1,10),\"ABOVE\",IF(#REF!-J112<=($C$14+$C$10/IF($A$12=1,1,10)),\"CHAM\",\"BELOW\")))","v":""},"","","","","","","","","","","",{"$error":"#VALUE!"},"","","","",""]
[null,97,null,null,null,null,null,null,"","",{"$f":"IF(J113=\"\",\"\",IF(#REF!-J113<=$C$10/IF($A$12=1,1,10),\"ABOVE\",IF(#REF!-J113<=($C$14+$C$10/IF($A$12=1,1,10)),\"CHAM\",\"BELOW\")))","v":""},"","","","","","","","","","","",{"$error":"#VALUE!"},"","","","",""]
[null,98,null,null,null,null,null,null,"","",{"$f":"IF(J114=\"\",\"\",IF(#REF!-J114<=$C$10/IF($A$12=1,1,10),\"ABOVE\",IF(#REF!-J114<=($C$14+$C$10/IF($A$12=1,1,10)),\"CHAM\",\"BELOW\")))","v":""},"","","","","","","","","","","",{"$error":"#VALUE!"},"","","","",""]
[null,99,null,null,null,null,null,null,"","",{"$f":"IF(J115=\"\",\"\",IF(#REF!-J115<=$C$10/IF($A$12=1,1,10),\"ABOVE\",IF(#REF!-J115<=($C$14+$C$10/IF($A$12=1,1,10)),\"CHAM\",\"BELOW\")))","v":""},"","","","","","","","","","","",{"$error":"#VALUE!"},"","","","",""]
[null,100,null,null,null,null,null,null,"","",{"$f":"IF(J116=\"\",\"\",IF(#REF!-J116<=$C$10/IF($A$12=1,1,10),\"ABOVE\",IF(#REF!-J116<=($C$14+$C$10/IF($A$12=1,1,10)),\"CHAM\",\"BELOW\")))","v":""},"","","","","","","","","","","",{"$error":"#VALUE!"},"","","","",""]
[null,101,null,null,null,null,null,null,"","",{"$f":"IF(J117=\"\",\"\",IF(#REF!-J117<=$C$10/IF($A$12=1,1,10),\"ABOVE\",IF(#REF!-J117<=($C$14+$C$10/IF($A$12=1,1,10)),\"CHAM\",\"BELOW\")))","v":""},"","","","","","","","","","","",{"$error":"#VALUE!"},"","","","",""]
[null,102,null,null,null,null,null,null,"","",{"$f":"IF(J118=\"\",\"\",IF(#REF!-J118<=$C$10/IF($A$12=1,1,10),\"ABOVE\",IF(#REF!-J118<=($C$14+$C$10/IF($A$12=1,1,10)),\"CHAM\",\"BELOW\")))","v":""},"","","","","","","","","","","",{"$error":"#VALUE!"},"","","","",""]
[null,103,null,null,null,null,null,null,"","",{"$f":"IF(J119=\"\",\"\",IF(#REF!-J119<=$C$10/IF($A$12=1,1,10),\"ABOVE\",IF(#REF!-J119<=($C$14+$C$10/IF($A$12=1,1,10)),\"CHAM\",\"BELOW\")))","v":""},"","","","","","","","","","","",{"$error":"#VALUE!"},"","","","",""]
[null,104,null,null,null,null,null,null,"","",{"$f":"IF(J120=\"\",\"\",IF(#REF!-J120<=$C$10/IF($A$12=1,1,10),\"ABOVE\",IF(#REF!-J120<=($C$14+$C$10/IF($A$12=1,1,10)),\"CHAM\",\"BELOW\")))","v":""},"","","","","","","","","","","",{"$error":"#VALUE!"},"","","","",""]
[null,105,null,null,null,null,null,null,"","",{"$f":"IF(J121=\"\",\"\",IF(#REF!-J121<=$C$10/IF($A$12=1,1,10),\"ABOVE\",IF(#REF!-J121<=($C$14+$C$10/IF($A$12=1,1,10)),\"CHAM\",\"BELOW\")))","v":""},"","","","","","","","","","","",{"$error":"#VALUE!"},"","","","",""]
[null,106,null,null,null,null,null,null,"","",{"$f":"IF(J122=\"\",\"\",IF(#REF!-J122<=$C$10/IF($A$12=1,1,10),\"ABOVE\",IF(#REF!-J122<=($C$14+$C$10/IF($A$12=1,1,10)),\"CHAM\",\"BELOW\")))","v":""},"","","","","","","","","","","",{"$error":"#VALUE!"},"","","","",""]
[null,107,null,null,null,null,null,null,"","",{"$f":"IF(J123=\"\",\"\",IF(#REF!-J123<=$C$10/IF($A$12=1,1,10),\"ABOVE\",IF(#REF!-J123<=($C$14+$C$10/IF($A$12=1,1,10)),\"CHAM\",\"BELOW\")))","v":""},"","","","","","","","","","","",{"$error":"#VALUE!"},"","","","",""]
[null,108,null,null,null,null,null,null,"","",{"$f":"IF(J124=\"\",\"\",IF(#REF!-J124<=$C$10/IF($A$12=1,1,10),\"ABOVE\",IF(#REF!-J124<=($C$14+$C$10/IF($A$12=1,1,10)),\"CHAM\",\"BELOW\")))","v":""},"","","","","","","","","","","",{"$error":"#VALUE!"},"","","","",""]
[null,109,null,null,null,null,null,null,"","",{"$f":"IF(J125=\"\",\"\",IF(#REF!-J125<=$C$10/IF($A$12=1,1,10),\"ABOVE\",IF(#REF!-J125<=($C$14+$C$10/IF($A$12=1,1,10)),\"CHAM\",\"BELOW\")))","v":""},"","","","","","","","","","","",{"$error":"#VALUE!"},"","","","",""]
[null,110,null,null,null,null,null,null,"","",{"$f":"IF(J126=\"\",\"\",IF(#REF!-J126<=$C$10/IF($A$12=1,1,10),\"ABOVE\",IF(#REF!-J126<=($C$14+$C$10/IF($A$12=1,1,10)),\"CHAM\",\"BELOW\")))","v":""},"","","","","","","","","","","",{"$error":"#VALUE!"},"","","","",""]
[null,111,null,null,null,null,null,null,"","",{"$f":"IF(J127=\"\",\"\",IF(#REF!-J127<=$C$10/IF($A$12=1,1,10),\"ABOVE\",IF(#REF!-J127<=($C$14+$C$10/IF($A$12=1,1,10)),\"CHAM\",\"BELOW\")))","v":""},"","","","","","","","","","","",{"$error":"#VALUE!"},"","","","",""]
[null,112,null,null,null,null,null,null,"","",{"$f":"IF(J128=\"\",\"\",IF(#REF!-J128<=$C$10/IF($A$12=1,1,10),\"ABOVE\",IF(#REF!-J128<=($C$14+$C$10/IF($A$12=1,1,10)),\"CHAM\",\"BELOW\")))","v":""},"","","","","","","","","","","",{"$error":"#VALUE!"},"","","","",""]
[null,113,null,null,null,null,null,null,"","",{"$f":"IF(J129=\"\",\"\",IF(#REF!-J129<=$C$10/IF($A$12=1,1,10),\"ABOVE\",IF(#REF!-J129<=($C$14+$C$10/IF($A$12=1,1,10)),\"CHAM\",\"BELOW\")))","v":""},"","","","","","","","","","","",{"$error":"#VALUE!"},"","","","",""]
[null,114,null,null,null,null,null,null,"","",{"$f":"IF(J130=\"\",\"\",IF(#REF!-J130<=$C$10/IF($A$12=1,1,10),\"ABOVE\",IF(#REF!-J130<=($C$14+$C$10/IF($A$12=1,1,10)),\"CHAM\",\"BELOW\")))","v":""},"","","","","","","","","","","",{"$error":"#VALUE!"},"","","","",""]
[null,115,null,null,null,null,null,null,"","",{"$f":"IF(J131=\"\",\"\",IF(#REF!-J131<=$C$10/IF($A$12=1,1,10),\"ABOVE\",IF(#REF!-J131<=($C$14+$C$10/IF($A$12=1,1,10)),\"CHAM\",\"BELOW\")))","v":""},"","","","","","","","","","","",{"$error":"#VALUE!"},"","","","",""]
[null,116,null,null,null,null,null,null,"","",{"$f":"IF(J132=\"\",\"\",IF(#REF!-J132<=$C$10/IF($A$12=1,1,10),\"ABOVE\",IF(#REF!-J132<=($C$14+$C$10/IF($A$12=1,1,10)),\"CHAM\",\"BELOW\")))","v":""},"","","","","","","","","","","",{"$error":"#VALUE!"},"","","","",""]
[null,null,null,null,null,null,null,null,"","",{"$f":"IF(J133=\"\",\"\",IF(#REF!-J133<=$C$10/IF($A$12=1,1,10),\"ABOVE\",IF(#REF!-J133<=($C$14+$C$10/IF($A$12=1,1,10)),\"CHAM\",\"BELOW\")))","v":""},"","","","","","","","","","","",{"$error":"#VALUE!"},"","","","",""]
[null,null,null,null,null,null,null,null,"","",{"$f":"IF(J134=\"\",\"\",IF(#REF!-J134<=$C$10/IF($A$12=1,1,10),\"ABOVE\",IF(#REF!-J134<=($C$14+$C$10/IF($A$12=1,1,10)),\"CHAM\",\"BELOW\")))","v":""},"","","","","","","","","","","",{"$error":"#VALUE!"},"","","","",""]
[null,null,null,null,null,null,null,null,"","",{"$f":"IF(J135=\"\",\"\",IF(#REF!-J135<=$C$10/IF($A$12=1,1,10),\"ABOVE\",IF(#REF!-J135<=($C$14+$C$10/IF($A$12=1,1,10)),\"CHAM\",\"BELOW\")))","v":""},"","","","","","","","","","","",{"$error":"#VALUE!"},"","","","",""]
[null,null,null,null,null,null,null,null,"","",{"$f":"IF(J136=\"\",\"\",IF(#REF!-J136<=$C$10/IF($A$12=1,1,10),\"ABOVE\",IF(#REF!-J136<=($C$14+$C$10/IF($A$12=1,1,10)),\"CHAM\",\"BELOW\")))","v":""},"","","","","","","","","","","",{"$error":"#VALUE!"},"","","","",""]
[null,null,null,null,null,null,null,null,"","",{"$f":"IF(J137=\"\",\"\",IF(#REF!-J137<=$C$10/IF($A$12=1,1,10),\"ABOVE\",IF(#REF!-J137<=($C$14+$C$10/IF($A$12=1,1,10)),\"CHAM\",\"BELOW\")))","v":""},"","","","","","","","","","","",{"$error":"#VALUE!"},"","","","",""]
[null,null,null,null,null,null,null,null,"","",{"$f":"IF(J138=\"\",\"\",IF(#REF!-J138<=$C$10/IF($A$12=1,1,10),\"ABOVE\",IF(#REF!-J138<=($C$14+$C$10/IF($A$12=1,1,10)),\"CHAM\",\"BELOW\")))","v":""},"","","","","","","","","","","",{"$error":"#VALUE!"},"","","","",""]
[null,null,null,null,null,null,null,null,"","",{"$f":"IF(J139=\"\",\"\",IF(#REF!-J139<=$C$10/IF($A$12=1,1,10),\"ABOVE\",IF(#REF!-J139<=($C$14+$C$10/IF($A$12=1,1,10)),\"CHAM\",\"BELOW\")))","v":""},"","","","","","","","","","","",{"$error":"#VALUE!"},"","","","",""]
[null,null,null,null,null,null,null,null,"","",{"$f":"IF(J140=\"\",\"\",IF(#REF!-J140<=$C$10/IF($A$12=1,1,10),\"ABOVE\",IF(#REF!-J140<=($C$14+$C$10/IF($A$12=1,1,10)),\"CHAM\",\"BELOW\")))","v":""},"","","","","","","","","","","",{"$error":"#VALUE!"},"","","","",""]
[null,null,null,null,null,null,null,null,"","",{"$f":"IF(J141=\"\",\"\",IF(#REF!-J141<=$C$10/IF($A$12=1,1,10),\"ABOVE\",IF(#REF!-J141<=($C$14+$C$10/IF($A$12=1,1,10)),\"CHAM\",\"BELOW\")))","v":""},"","","","","","","","","","","",{"$error":"#VALUE!"},"","","","",""]
[null,null,null,null,null,null,null,null,"","",{"$f":"IF(J142=\"\",\"\",IF(#REF!-J142<=$C$10/IF($A$12=1,1,10),\"ABOVE\",IF(#REF!-J142<=($C$14+$C$10/IF($A$12=1,1,10)),\"CHAM\",\"BELOW\")))","v":""},"","","","","","","","","","","",{"$error":"#VALUE!"},"","","","",""]
[null,null,null,null,null,null,null,null,"","",{"$f":"IF(J143=\"\",\"\",IF(#REF!-J143<=$C$10/IF($A$12=1,1,10),\"ABOVE\",IF(#REF!-J143<=($C$14+$C$10/IF($A$12=1,1,10)),\"CHAM\",\"BELOW\")))","v":""},"","","","","","","","","","","",{"$error":"#VALUE!"},"","","","",""]
[null,null,null,null,null,null,null,null,"","",{"$f":"IF(J144=\"\",\"\",IF(#REF!-J144<=$C$10/IF($A$12=1,1,10),\"ABOVE\",IF(#REF!-J144<=($C$14+$C$10/IF($A$12=1,1,10)),\"CHAM\",\"BELOW\")))","v":""},"","","","","","","","","","","",{"$error":"#VALUE!"},"","","","",""]
[null,null,null,null,null,null,null,null,"","",{"$f":"IF(J145=\"\",\"\",IF(#REF!-J145<=$C$10/IF($A$12=1,1,10),\"ABOVE\",IF(#REF!-J145<=($C$14+$C$10/IF($A$12=1,1,10)),\"CHAM\",\"BELOW\")))","v":""},"","","","","","","","","","","",{"$error":"#VALUE!"},"","","","",""]
[null,null,null,null,null,null,null,null,{"$f":"IF(J146=\"\",\"\",IF(J146=0,$C$8,($C$8+J146/100)))","v":""},"",{"$f":"IF(J146=\"\",\"\",IF(#REF!-J146<=$C$10/IF($A$12=1,1,10),\"ABOVE\",IF(#REF!-J146<=($C$14+$C$10/IF($A$12=1,1,10)),\"CHAM\",\"BELOW\")))","v":""},{"$f":"IF(J146=\"\",\"\",IF(K146=\"ABOVE\",0,IF(K146=\"BELOW\",0,IF(L145>=1,L145+1,1))))","v":""},{"$f":"IF(L146=\"\",\"\",(IF(L146=0,0,VLOOKUP(L146,$B$17:$F$132,IF($C$4=\"HS180\",2,4),FALSE))))","v":""},{"$f":"IF(L146=\"\",\"\",(IF(L146=0,0,VLOOKUP(L146,$B$17:$F$132,IF($C$4=\"HS180\",3,5),FALSE))))","v":""},"","","","","","","","",{"$error":"#VALUE!"},"","","","",""]
[null,null,null,null,null,null,null,null,"",{"$f":"IFERROR(IF($A$12=1,IF(J146-1>=0, J146-1,\"\"),IF(J146-2.54>=0,J146-2.54,\"\")),\"\")","v":""},{"$f":"IF(J147=\"\",\"\",IF(#REF!-J147<=$C$10/IF($A$12=1,1,10),\"ABOVE\",IF(#REF!-J147<=($C$14+$C$10/IF($A$12=1,1,10)),\"CHAM\",\"BELOW\")))","v":""},"","","","",{"$f":"IF(P146=\"\",\"\",IF(P146-1>=0,P146-1,\"\"))","v":""},"","","","","","",{"$error":"#VALUE!"},"","","","",""]
[null,null,null,null,null,null,null,null,"","",{"$f":"IF(J148=\"\",\"\",IF(#REF!-J148<=$C$10/IF($A$12=1,1,10),\"ABOVE\",IF(#REF!-J148<=($C$14+$C$10/IF($A$12=1,1,10)),\"CHAM\",\"BELOW\")))","v":""},"","","",{"$f":"IF(P148=\"\",\"\",IF(P148=0,$C$8,($C$8+P148/100)))","v":""},"",{"$f":"IF(P148=\"\",\"\",IF($A$4=1,IF($C$13-P148<$D$10,(\"ABOVE\"), IF($D$9<P148,(\"CHAM\"),\"BELOW\")),IF($C$13-P148<$D$10,(\"ABOVE\"), IF($D$9<P148,(\"CHAM\"),\"BELOW\"))))","v":""},{"$f":"IF(P148=\"\",\"\",IF(Q148=\"ABOVE\",0,IF(Q148=\"BELOW\",0,IF(R147>=1,R147+1,1))))","v":""},{"$f":"IF(R148=\"\",\"\",(IF(R148=0,0,VLOOKUP(R148,$B$17:$J$132,IF($C$4=\"HS180\",2,IF(C$4=\"HS75\",4,IF(C$4=\"HS290\",6,IF(C$4=\"HS31\",8))))))))","v":""},{"$f":"IF(R148=\"\",\"\",(IF(R148=0,0,VLOOKUP(R148,$B$17:$J$132,IF($C$4=\"HS180\",3,IF(C$4=\"HS75\",5,IF(C$4=\"HS290\",7,9)))))))","v":""},{"$f":"IF(S148=\"\",\"\",S148*$C$5)","v":""},{"$f":"IF(T148=\"\",\"\",T148*$C$6)","v":""},{"$f":"MAX(IF($A$11=2,IF(P148=0,0,(IF(Q148=\"\",\"\",(AA148*$C$5)+(AB148*$C$6)))),IF(P148=0,0,(IF(Q148=\"\",\"\",(AA148*$C$5)+(AB148*$C$6)+$M$11))))-((((IF($C$4=\"HS180\",$S$4*1,IF($C$4=\"HS75\",$S$3*1,IF($C$4=\"HS290\",$S$5*1,$S$2*1))))/144)*($G$5/12)))*$C$7,0)","v":{"$error":"#VALUE!"}},{"$f":"IF(P148=\"\",\"\",(U148+V148+W148))","v":""},{"$f":"IF(P148=\"\",\"\",IF(P148=0,0,(Y149+X148)))","v":""},{"$f":"IF(P148=\"\",\"\",(IF(P148=0,$C$8,(P148*(1/12)+$C$8))))","v":""},{"$f":"IF(P148=\"\",\"\",(IF($C$4=\"HS180\",((($O$4*$Q$4)/1728)-S148)*($C$7),(IF($C$4=\"HS75\",((($O$3*$Q$3)/1728)-S148)*($C$7),(IF($C$4=\"HS290\",((($O$5*$Q$5)/1728)-S148)*($C$7),((($O$2*$Q$2)/1728)-S148)*($C$7))))))))","v":""},{"$f":"IF(P148=\"\",\"\",(IF($C$4=\"HS180\",((($O$4*$W$4)/1728)-T148)*($C$7),(IF($C$4=\"HS75\",((($O$3*$W$3)/1728)-T148)*($C$7),(IF($C$4=\"HS290\",((($O$5*$W$5)/1728)-T148)*($C$7),((($O$2*$W$2)/1728)-T148)*($C$7))))))))","v":""}]
[null,null,null,null,null,null,null,null,"","",{"$f":"IF(J149=\"\",\"\",IF(#REF!-J149<=$C$10/IF($A$12=1,1,10),\"ABOVE\",IF(#REF!-J149<=($C$14+$C$10/IF($A$12=1,1,10)),\"CHAM\",\"BELOW\")))","v":""},"","","","","","","","","","","",{"$error":"#VALUE!"},"","","","",""]
[null,null,null,null,null,null,null,null,"","",{"$f":"IF(J150=\"\",\"\",IF(#REF!-J150<=$C$10/IF($A$12=1,1,10),\"ABOVE\",IF(#REF!-J150<=($C$14+$C$10/IF($A$12=1,1,10)),\"CHAM\",\"BELOW\")))","v":""},"","","","","","","","","","","",{"$error":"#VALUE!"},"","","","",""]
[null,null,null,null,null,null,null,null,"","",{"$f":"IF(J151=\"\",\"\",IF(#REF!-J151<=$C$10/IF($A$12=1,1,10),\"ABOVE\",IF(#REF!-J151<=($C$14+$C$10/IF($A$12=1,1,10)),\"CHAM\",\"BELOW\")))","v":""},"","","","","","","","","","","",{"$error":"#VALUE!"},"","","","",""]
[null,null,null,null,null,null,null,null,"","",{"$f":"IF(J152=\"\",\"\",IF(#REF!-J152<=$C$10/IF($A$12=1,1,10),\"ABOVE\",IF(#REF!-J152<=($C$14+$C$10/IF($A$12=1,1,10)),\"CHAM\",\"BELOW\")))","v":""},"","","","","","","","","","","",{"$error":"#VALUE!"},"","","","",""]
[null,null,null,null,null,null,null,null,"","",{"$f":"IF(J153=\"\",\"\",IF(#REF!-J153<=$C$10/IF($A$12=1,1,10),\"ABOVE\",IF(#REF!-J153<=($C$14+$C$10/IF($A$12=1,1,10)),\"CHAM\",\"BELOW\")))","v":""},"","","","","","","","","","","",{"$error":"#VALUE!"},"","","","",""]
[null,null,null,null,null,null,null,null,"","",{"$f":"IF(J154=\"\",\"\",IF(#REF!-J154<=$C$10/IF($A$12=1,1,10),\"ABOVE\",IF(#REF!-J154<=($C$14+$C$10/IF($A$12=1,1,10)),\"CHAM\",\"BELOW\")))","v":""},"","","","","","","","","","","",{"$error":"#VALUE!"},"","","","",""]
[null,null,null,null,null,null,null,null,"","",{"$f":"IF(J155=\"\",\"\",IF(#REF!-J155<=$C$10/IF($A$12=1,1,10),\"ABOVE\",IF(#REF!-J155<=($C$14+$C$10/IF($A$12=1,1,10)),\"CHAM\",\"BELOW\")))","v":""},"","","","","","","","","","","",{"$error":"#VALUE!"},"","","","",""]
[null,null,null,null,null,null,null,null,"","",{"$f":"IF(J156=\"\",\"\",IF(#REF!-J156<=$C$10/IF($A$12=1,1,10),\"ABOVE\",IF(#REF!-J156<=($C$14+$C$10/IF($A$12=1,1,10)),\"CHAM\",\"BELOW\")))","v":""},"","","","","","","","","","","",{"$error":"#VALUE!"},"","","","",""]
[null,null,null,null,null,null,null,null,"","",{"$f":"IF(J157=\"\",\"\",IF(#REF!-J157<=$C$10/IF($A$12=1,1,10),\"ABOVE\",IF(#REF!-J157<=($C$14+$C$10/IF($A$12=1,1,10)),\"CHAM\",\"BELOW\")))","v":""},"","","","","","","","","","","",{"$error":"#VALUE!"},"","","","",""]
[null,null,null,null,null,null,null,null,"","",{"$f":"IF(J158=\"\",\"\",IF(#REF!-J158<=$C$10/IF($A$12=1,1,10),\"ABOVE\",IF(#REF!-J158<=($C$14+$C$10/IF($A$12=1,1,10)),\"CHAM\",\"BELOW\")))","v":""},"","","","","","","","","","","",{"$error":"#VALUE!"},"","","","",""]
[null,null,null,null,null,null,null,null,"","",{"$f":"IF(J159=\"\",\"\",IF(#REF!-J159<=$C$10/IF($A$12=1,1,10),\"ABOVE\",IF(#REF!-J159<=($C$14+$C$10/IF($A$12=1,1,10)),\"CHAM\",\"BELOW\")))","v":""},"","","","","","","","","","","",{"$error":"#VALUE!"},"","","","",""]
[null,null,null,null,null,null,null,null,"","",{"$f":"IF(J160=\"\",\"\",IF(#REF!-J160<=$C$10/IF($A$12=1,1,10),\"ABOVE\",IF(#REF!-J160<=($C$14+$C$10/IF($A$12=1,1,10)),\"CHAM\",\"BELOW\")))","v":""},"","","","","","","","","","","",{"$error":"#VALUE!"},"","","","",""]
[null,null,null,null,null,null,null,null,"","",{"$f":"IF(J161=\"\",\"\",IF(#REF!-J161<=$C$10/IF($A$12=1,1,10),\"ABOVE\",IF(#REF!-J161<=($C$14+$C$10/IF($A$12=1,1,10)),\"CHAM\",\"BELOW\")))","v":""},"","","","","","","","","","","",{"$error":"#VALUE!"},"","","","",""]
[null,null,null,null,null,null,null,null,"","",{"$f":"IF(J162=\"\",\"\",IF(#REF!-J162<=$C$10/IF($A$12=1,1,10),\"ABOVE\",IF(#REF!-J162<=($C$14+$C$10/IF($A$12=1,1,10)),\"CHAM\",\"BELOW\")))","v":""},"","","","","","","","","","","",{"$error":"#VALUE!"},"","","","",""]
[null,null,null,null,null,null,null,null,"","",{"$f":"IF(J163=\"\",\"\",IF(#REF!-J163<=$C$10/IF($A$12=1,1,10),\"ABOVE\",IF(#REF!-J163<=($C$14+$C$10/IF($A$12=1,1,10)),\"CHAM\",\"BELOW\")))","v":""},"","","","","","","","","","","",{"$error":"#VALUE!"},"","","","",""]
[null,null,null,null,null,null,null,null,"","",{"$f":"IF(J164=\"\",\"\",IF(#REF!-J164<=$C$10/IF($A$12=1,1,10),\"ABOVE\",IF(#REF!-J164<=($C$14+$C$10/IF($A$12=1,1,10)),\"CHAM\",\"BELOW\")))","v":""},"","","","","","","","","","","",{"$error":"#VALUE!"},"","","","",""]
[null,null,null,null,null,null,null,null,"","",{"$f":"IF(J165=\"\",\"\",IF(#REF!-J165<=$C$10/IF($A$12=1,1,10),\"ABOVE\",IF(#REF!-J165<=($C$14+$C$10/IF($A$12=1,1,10)),\"CHAM\",\"BELOW\")))","v":""},"","","","","","","","","","","",{"$error":"#VALUE!"},"","","","",""]
[null,null,null,null,null,null,null,null,"","",{"$f":"IF(J166=\"\",\"\",IF(#REF!-J166<=$C$10/IF($A$12=1,1,10),\"ABOVE\",IF(#REF!-J166<=($C$14+$C$10/IF($A$12=1,1,10)),\"CHAM\",\"BELOW\")))","v":""},"","","","","","","","","","","",{"$error":"#VALUE!"},"","","","",""]
[null,null,null,null,null,null,null,null,"","",{"$f":"IF(J167=\"\",\"\",IF(#REF!-J167<=$C$10/IF($A$12=1,1,10),\"ABOVE\",IF(#REF!-J167<=($C$14+$C$10/IF($A$12=1,1,10)),\"CHAM\",\"BELOW\")))","v":""},"","","","","","","","","","","",{"$error":"#VALUE!"},"","","","",""]
[null,null,null,null,null,null,null,null,"","",{"$f":"IF(J168=\"\",\"\",IF(#REF!-J168<=$C$10/IF($A$12=1,1,10),\"ABOVE\",IF(#REF!-J168<=($C$14+$C$10/IF($A$12=1,1,10)),\"CHAM\",\"BELOW\")))","v":""},"","","","","","","","","","","",{"$error":"#VALUE!"},"","","","",""]
[null,null,null,null,null,null,null,null,"","",{"$f":"IF(J169=\"\",\"\",IF(#REF!-J169<=$C$10/IF($A$12=1,1,10),\"ABOVE\",IF(#REF!-J169<=($C$14+$C$10/IF($A$12=1,1,10)),\"CHAM\",\"BELOW\")))","v":""},"","","","","","","","","","","",{"$error":"#VALUE!"},"","","","",""]
[null,null,null,null,null,null,null,null,"","",{"$f":"IF(J170=\"\",\"\",IF(#REF!-J170<=$C$10/IF($A$12=1,1,10),\"ABOVE\",IF(#REF!-J170<=($C$14+$C$10/IF($A$12=1,1,10)),\"CHAM\",\"BELOW\")))","v":""},"","","","","","","","","","","",{"$error":"#VALUE!"},"","","","",""]
[null,null,null,null,null,null,null,null,"","",{"$f":"IF(J171=\"\",\"\",IF(#REF!-J171<=$C$10/IF($A$12=1,1,10),\"ABOVE\",IF(#REF!-J171<=($C$14+$C$10/IF($A$12=1,1,10)),\"CHAM\",\"BELOW\")))","v":""},"","","","","","","","","","","",{"$error":"#VALUE!"},"","","","",""]
[null,null,null,null,null,null,null,null,"","",{"$f":"IF(J172=\"\",\"\",IF(#REF!-J172<=$C$10/IF($A$12=1,1,10),\"ABOVE\",IF(#REF!-J172<=($C$14+$C$10/IF($A$12=1,1,10)),\"CHAM\",\"BELOW\")))","v":""},"","","","","","","","","","","",{"$error":"#VALUE!"},"","","","",""]
[null,null,null,null,null,null,null,null,"","",{"$f":"IF(J173=\"\",\"\",IF(#REF!-J173<=$C$10/IF($A$12=1,1,10),\"ABOVE\",IF(#REF!-J173<=($C$14+$C$10/IF($A$12=1,1,10)),\"CHAM\",\"BELOW\")))","v":""},"","","","","","","","","","","",{"$error":"#VALUE!"},"","","","",""]
[null,null,null,null,null,null,null,null,"","",{"$f":"IF(J174=\"\",\"\",IF(#REF!-J174<=$C$10/IF($A$12=1,1,10),\"ABOVE\",IF(#REF!-J174<=($C$14+$C$10/IF($A$12=1,1,10)),\"CHAM\",\"BELOW\")))","v":""},"","","","","","","","","","","",{"$error":"#VALUE!"},"","","","",""]
[null,null,null,null,null,null,null,null,"","",{"$f":"IF(J175=\"\",\"\",IF(#REF!-J175<=$C$10/IF($A$12=1,1,10),\"ABOVE\",IF(#REF!-J175<=($C$14+$C$10/IF($A$12=1,1,10)),\"CHAM\",\"BELOW\")))","v":""},"","","","","","","","","","","",{"$error":"#VALUE!"},"","","","",""]
[null,null,null,null,null,null,null,null,"","",{"$f":"IF(J176=\"\",\"\",IF(#REF!-J176<=$C$10/IF($A$12=1,1,10),\"ABOVE\",IF(#REF!-J176<=($C$14+$C$10/IF($A$12=1,1,10)),\"CHAM\",\"BELOW\")))","v":""},"","","","","","","","","","","",{"$error":"#VALUE!"},"","","","",""]
[null,null,null,null,null,null,null,null,"","",{"$f":"IF(J177=\"\",\"\",IF(#REF!-J177<=$C$10/IF($A$12=1,1,10),\"ABOVE\",IF(#REF!-J177<=($C$14+$C$10/IF($A$12=1,1,10)),\"CHAM\",\"BELOW\")))","v":""},"","","","","","","","","","","",{"$error":"#VALUE!"},"","","","",""]
[null,null,null,null,null,null,null,null,"","",{"$f":"IF(J178=\"\",\"\",IF(#REF!-J178<=$C$10/IF($A$12=1,1,10),\"ABOVE\",IF(#REF!-J178<=($C$14+$C$10/IF($A$12=1,1,10)),\"CHAM\",\"BELOW\")))","v":""},"","","","","","","","","","","",{"$error":"#VALUE!"},"","","","",""]
[null,null,null,null,null,null,null,null,"","",{"$f":"IF(J179=\"\",\"\",IF(#REF!-J179<=$C$10/IF($A$12=1,1,10),\"ABOVE\",IF(#REF!-J179<=($C$14+$C$10/IF($A$12=1,1,10)),\"CHAM\",\"BELOW\")))","v":""},"","","","","","","","","","","",{"$error":"#VALUE!"},"","","","",""]
[null,null,null,null,null,null,null,null,"","",{"$f":"IF(J180=\"\",\"\",IF(#REF!-J180<=$C$10/IF($A$12=1,1,10),\"ABOVE\",IF(#REF!-J180<=($C$14+$C$10/IF($A$12=1,1,10)),\"CHAM\",\"BELOW\")))","v":""},"","","","","","","","","","","",{"$error":"#VALUE!"},"","","","",""]
[null,null,null,null,null,null,null,null,"","",{"$f":"IF(J181=\"\",\"\",IF(#REF!-J181<=$C$10/IF($A$12=1,1,10),\"ABOVE\",IF(#REF!-J181<=($C$14+$C$10/IF($A$12=1,1,10)),\"CHAM\",\"BELOW\")))","v":""},"","","","","","","","","","","",{"$error":"#VALUE!"},"","","","",""]
[null,null,null,null,null,null,null,null,"","",{"$f":"IF(J182=\"\",\"\",IF(#REF!-J182<=$C$10/IF($A$12=1,1,10),\"ABOVE\",IF(#REF!-J182<=($C$14+$C$10/IF($A$12=1,1,10)),\"CHAM\",\"BELOW\")))","v":""},"","","","","","","","","","","",{"$error":"#VALUE!"},"","","","",""]
[null,null,null,null,null,null,null,null,"","",{"$f":"IF(J183=\"\",\"\",IF(#REF!-J183<=$C$10/IF($A$12=1,1,10),\"ABOVE\",IF(#REF!-J183<=($C$14+$C$10/IF($A$12=1,1,10)),\"CHAM\",\"BELOW\")))","v":""},"","","","","","","","","","","",{"$error":"#VALUE!"},"","","","",""]
[null,null,null,null,null,null,null,null,"","",{"$f":"IF(J184=\"\",\"\",IF(#REF!-J184<=$C$10/IF($A$12=1,1,10),\"ABOVE\",IF(#REF!-J184<=($C$14+$C$10/IF($A$12=1,1,10)),\"CHAM\",\"BELOW\")))","v":""},"","","","","","","","","","","",{"$error":"#VALUE!"},"","","","",""]
[null,null,null,null,null,null,null,null,"","",{"$f":"IF(J185=\"\",\"\",IF(#REF!-J185<=$C$10/IF($A$12=1,1,10),\"ABOVE\",IF(#REF!-J185<=($C$14+$C$10/IF($A$12=1,1,10)),\"CHAM\",\"BELOW\")))","v":""},"","","","","","","","","","","",{"$error":"#VALUE!"},"","","","",""]
[null,null,null,null,null,null,null,null,"","",{"$f":"IF(J186=\"\",\"\",IF(#REF!-J186<=$C$10/IF($A$12=1,1,10),\"ABOVE\",IF(#REF!-J186<=($C$14+$C$10/IF($A$12=1,1,10)),\"CHAM\",\"BELOW\")))","v":""},"","","","","","","","","","","",{"$error":"#VALUE!"},"","","","",""]
[null,null,null,null,null,null,null,null,"","",{"$f":"IF(J187=\"\",\"\",IF(#REF!-J187<=$C$10/IF($A$12=1,1,10),\"ABOVE\",IF(#REF!-J187<=($C$14+$C$10/IF($A$12=1,1,10)),\"CHAM\",\"BELOW\")))","v":""},"","","","","","","","","","","",{"$error":"#VALUE!"},"","","","",""]
[null,null,null,null,null,null,null,null,"","",{"$f":"IF(J188=\"\",\"\",IF(#REF!-J188<=$C$10/IF($A$12=1,1,10),\"ABOVE\",IF(#REF!-J188<=($C$14+$C$10/IF($A$12=1,1,10)),\"CHAM\",\"BELOW\")))","v":""},"","","","","","","","","","","",{"$error":"#VALUE!"},"","","","",""]
[null,null,null,null,null,null,null,null,"","",{"$f":"IF(J189=\"\",\"\",IF(#REF!-J189<=$C$10/IF($A$12=1,1,10),\"ABOVE\",IF(#REF!-J189<=($C$14+$C$10/IF($A$12=1,1,10)),\"CHAM\",\"BELOW\")))","v":""},"","","","","","","","","","","",{"$error":"#VALUE!"},"","","","",""]
[null,null,null,null,null,null,null,null,"","",{"$f":"IF(J190=\"\",\"\",IF(#REF!-J190<=$C$10/IF($A$12=1,1,10),\"ABOVE\",IF(#REF!-J190<=($C$14+$C$10/IF($A$12=1,1,10)),\"CHAM\",\"BELOW\")))","v":""},"","","","","","","","","","","",{"$error":"#VALUE!"},"","","","",""]
[null,null,null,null,null,null,null,null,"","",{"$f":"IF(J191=\"\",\"\",IF(#REF!-J191<=$C$10/IF($A$12=1,1,10),\"ABOVE\",IF(#REF!-J191<=($C$14+$C$10/IF($A$12=1,1,10)),\"CHAM\",\"BELOW\")))","v":""},"","","","","","","","","","","",{"$error":"#VALUE!"},"","","","",""]
[null,null,null,null,null,null,null,null,"","",{"$f":"IF(J192=\"\",\"\",IF(#REF!-J192<=$C$10/IF($A$12=1,1,10),\"ABOVE\",IF(#REF!-J192<=($C$14+$C$10/IF($A$12=1,1,10)),\"CHAM\",\"BELOW\")))","v":""},"","","","","","","","","","","",{"$error":"#VALUE!"},"","","","",""]
[null,null,null,null,null,null,null,null,"","",{"$f":"IF(J193=\"\",\"\",IF(#REF!-J193<=$C$10/IF($A$12=1,1,10),\"ABOVE\",IF(#REF!-J193<=($C$14+$C$10/IF($A$12=1,1,10)),\"CHAM\",\"BELOW\")))","v":""},"","","","","","","","","","","",{"$error":"#VALUE!"},"","","","",""]
[null,null,null,null,null,null,null,null,"","",{"$f":"IF(J194=\"\",\"\",IF(#REF!-J194<=$C$10/IF($A$12=1,1,10),\"ABOVE\",IF(#REF!-J194<=($C$14+$C$10/IF($A$12=1,1,10)),\"CHAM\",\"BELOW\")))","v":""},"","","","","","","","","","","",{"$error":"#VALUE!"},"","","","",""]
[null,null,null,null,null,null,null,null,"","",{"$f":"IF(J195=\"\",\"\",IF(#REF!-J195<=$C$10/IF($A$12=1,1,10),\"ABOVE\",IF(#REF!-J195<=($C$14+$C$10/IF($A$12=1,1,10)),\"CHAM\",\"BELOW\")))","v":""},"","","","","","","","","","","",{"$error":"#VALUE!"},"","","","",""]
[null,null,null,null,null,null,null,null,"","",{"$f":"IF(J196=\"\",\"\",IF(#REF!-J196<=$C$10/IF($A$12=1,1,10),\"ABOVE\",IF(#REF!-J196<=($C$14+$C$10/IF($A$12=1,1,10)),\"CHAM\",\"BELOW\")))","v":""},"","","","","","","","","","","",{"$error":"#VALUE!"},"","","","",""]
[null,null,null,null,null,null,null,null,"","",{"$f":"IF(J197=\"\",\"\",IF(#REF!-J197<=$C$10/IF($A$12=1,1,10),\"ABOVE\",IF(#REF!-J197<=($C$14+$C$10/IF($A$12=1,1,10)),\"CHAM\",\"BELOW\")))","v":""},"","","","","","","","","","","",{"$error":"#VALUE!"},"","","","",""]
[null,null,null,null,null,null,null,null,"","",{"$f":"IF(J198=\"\",\"\",IF(#REF!-J198<=$C$10/IF($A$12=1,1,10),\"ABOVE\",IF(#REF!-J198<=($C$14+$C$10/IF($A$12=1,1,10)),\"CHAM\",\"BELOW\")))","v":""},"","","","","","","","","","","",{"$error":"#VALUE!"},"","","","",""]
[null,null,null,null,null,null,null,null,"","",{"$f":"IF(J199=\"\",\"\",IF(#REF!-J199<=$C$10/IF($A$12=1,1,10),\"ABOVE\",IF(#REF!-J199<=($C$14+$C$10/IF($A$12=1,1,10)),\"CHAM\",\"BELOW\")))","v":""},"","","","","","","","","","","",{"$error":"#VALUE!"},"","","","",""]
[null,null,null,null,null,null,null,null,"","",{"$f":"IF(J200=\"\",\"\",IF(#REF!-J200<=$C$10/IF($A$12=1,1,10),\"ABOVE\",IF(#REF!-J200<=($C$14+$C$10/IF($A$12=1,1,10)),\"CHAM\",\"BELOW\")))","v":""},"","","","","","","","","","","",{"$error":"#VALUE!"},"","","","",""]
[null,null,null,null,null,null,null,null,"","",{"$f":"IF(J201=\"\",\"\",IF(#REF!-J201<=$C$10/IF($A$12=1,1,10),\"ABOVE\",IF(#REF!-J201<=($C$14+$C$10/IF($A$12=1,1,10)),\"CHAM\",\"BELOW\")))","v":""},"","","","","","","","","","","",{"$error":"#VALUE!"},"","","","",""]
[null,null,null,null,null,null,null,null,"","",{"$f":"IF(J202=\"\",\"\",IF(#REF!-J202<=$C$10/IF($A$12=1,1,10),\"ABOVE\",IF(#REF!-J202<=($C$14+$C$10/IF($A$12=1,1,10)),\"CHAM\",\"BELOW\")))","v":""},"","","","","","","","","","","",{"$error":"#VALUE!"},"","","","",""]
[null,null,null,null,null,null,null,null,"","",{"$f":"IF(J203=\"\",\"\",IF(#REF!-J203<=$C$10/IF($A$12=1,1,10),\"ABOVE\",IF(#REF!-J203<=($C$14+$C$10/IF($A$12=1,1,10)),\"CHAM\",\"BELOW\")))","v":""},"","","","","","","","","","","",{"$error":"#VALUE!"},"","","","",""]
[null,null,null,null,null,null,null,null,"","",{"$f":"IF(J204=\"\",\"\",IF(#REF!-J204<=$C$10/IF($A$12=1,1,10),\"ABOVE\",IF(#REF!-J204<=($C$14+$C$10/IF($A$12=1,1,10)),\"CHAM\",\"BELOW\")))","v":""},"","","","","","","","","","","",{"$error":"#VALUE!"},"","","","",""]
[null,null,null,null,null,null,null,null,"","",{"$f":"IF(J205=\"\",\"\",IF(#REF!-J205<=$C$10/IF($A$12=1,1,10),\"ABOVE\",IF(#REF!-J205<=($C$14+$C$10/IF($A$12=1,1,10)),\"CHAM\",\"BELOW\")))","v":""},"","","","","","","","","","","",{"$error":"#VALUE!"},"","","","",""]
[null,null,null,null,null,null,null,null,"","",{"$f":"IF(J206=\"\",\"\",IF(#REF!-J206<=$C$10/IF($A$12=1,1,10),\"ABOVE\",IF(#REF!-J206<=($C$14+$C$10/IF($A$12=1,1,10)),\"CHAM\",\"BELOW\")))","v":""},"","","","","","","","","","","",{"$error":"#VALUE!"},"","","","",""]
[null,null,null,null,null,null,null,null,"","",{"$f":"IF(J207=\"\",\"\",IF(#REF!-J207<=$C$10/IF($A$12=1,1,10),\"ABOVE\",IF(#REF!-J207<=($C$14+$C$10/IF($A$12=1,1,10)),\"CHAM\",\"BELOW\")))","v":""},"","","","","","","","","","","",{"$error":"#VALUE!"},"","","","",""]
[null,null,null,null,null,null,null,null,"","",{"$f":"IF(J208=\"\",\"\",IF(#REF!-J208<=$C$10/IF($A$12=1,1,10),\"ABOVE\",IF(#REF!-J208<=($C$14+$C$10/IF($A$12=1,1,10)),\"CHAM\",\"BELOW\")))","v":""},"","","","","","","","","","","",{"$error":"#VALUE!"},"","","","",""]
[null,null,null,null,null,null,null,null,"","",{"$f":"IF(J209=\"\",\"\",IF(#REF!-J209<=$C$10/IF($A$12=1,1,10),\"ABOVE\",IF(#REF!-J209<=($C$14+$C$10/IF($A$12=1,1,10)),\"CHAM\",\"BELOW\")))","v":""},"","","","","","","","","","","",{"$error":"#VALUE!"},"","","","",""]
[null,null,null,null,null,null,null,null,{"$f":"IF(J210=\"\",\"\",IF(J210=0,$C$8,($C$8+J210/100)))","v":""},"",{"$f":"IF(J210=\"\",\"\",IF(#REF!-J210<=$C$10/IF($A$12=1,1,10),\"ABOVE\",IF(#REF!-J210<=($C$14+$C$10/IF($A$12=1,1,10)),\"CHAM\",\"BELOW\")))","v":""},{"$f":"IF(J210=\"\",\"\",IF(K210=\"ABOVE\",0,IF(K210=\"BELOW\",0,IF(L209>=1,L209+1,1))))","v":""},{"$f":"IF(L210=\"\",\"\",(IF(L210=0,0,VLOOKUP(L210,$B$17:$F$132,IF($C$4=\"HS180\",2,4),FALSE))))","v":""},{"$f":"IF(L210=\"\",\"\",(IF(L210=0,0,VLOOKUP(L210,$B$17:$F$132,IF($C$4=\"HS180\",3,5),FALSE))))","v":""},"","","","","","","","",{"$error":"#VALUE!"},"","","","",""]
[null,null,null,null,null,null,null,null,"",{"$f":"IFERROR(IF($A$12=1,IF(J210-1>=0, J210-1,\"\"),IF(J210-2.54>=0,J210-2.54,\"\")),\"\")","v":""},{"$f":"IF(J211=\"\",\"\",IF(#REF!-J211<=$C$10/IF($A$12=1,1,10),\"ABOVE\",IF(#REF!-J211<=($C$14+$C$10/IF($A$12=1,1,10)),\"CHAM\",\"BELOW\")))","v":""},"","","","",{"$f":"IF(P210=\"\",\"\",IF(P210-1>=0,P210-1,\"\"))","v":""},"","","","","","",{"$error":"#VALUE!"},"","","","",""]
[null,null,null,null,null,null,null,null,"","",{"$f":"IF(J212=\"\",\"\",IF(#REF!-J212<=$C$10/IF($A$12=1,1,10),\"ABOVE\",IF(#REF!-J212<=($C$14+$C$10/IF($A$12=1,1,10)),\"CHAM\",\"BELOW\")))","v":""},"","","",{"$f":"IF(P212=\"\",\"\",IF(P212=0,$C$8,($C$8+P212/100)))","v":""},"",{"$f":"IF(P212=\"\",\"\",IF($A$4=1,IF($C$13-P212<$D$10,(\"ABOVE\"), IF($D$9<P212,(\"CHAM\"),\"BELOW\")),IF($C$13-P212<$D$10,(\"ABOVE\"), IF($D$9<P212,(\"CHAM\"),\"BELOW\"))))","v":""},{"$f":"IF(P212=\"\",\"\",IF(Q212=\"ABOVE\",0,IF(Q212=\"BELOW\",0,IF(R211>=1,R211+1,1))))","v":""},{"$f":"IF(R212=\"\",\"\",(IF(R212=0,0,VLOOKUP(R212,$B$17:$J$132,IF($C$4=\"HS180\",2,IF(C$4=\"HS75\",4,IF(C$4=\"HS290\",6,IF(C$4=\"HS31\",8))))))))","v":""},{"$f":"IF(R212=\"\",\"\",(IF(R212=0,0,VLOOKUP(R212,$B$17:$J$132,IF($C$4=\"HS180\",3,IF(C$4=\"HS75\",5,IF(C$4=\"HS290\",7,9)))))))","v":""},{"$f":"IF(S212=\"\",\"\",S212*$C$5)","v":""},{"$f":"IF(T212=\"\",\"\",T212*$C$6)","v":""},{"$f":"MAX(IF($A$11=2,IF(P212=0,0,(IF(Q212=\"\",\"\",(AA212*$C$5)+(AB212*$C$6)))),IF(P212=0,0,(IF(Q212=\"\",\"\",(AA212*$C$5)+(AB212*$C$6)+$M$11))))-((((IF($C$4=\"HS180\",$S$4*1,IF($C$4=\"HS75\",$S$3*1,IF($C$4=\"HS290\",$S$5*1,$S$2*1))))/144)*($G$5/12)))*$C$7,0)","v":{"$error":"#VALUE!"}},{"$f":"IF(P212=\"\",\"\",(U212+V212+W212))","v":""},{"$f":"IF(P212=\"\",\"\",IF(P212=0,0,(Y213+X212)))","v":""},{"$f":"IF(P212=\"\",\"\",(IF(P212=0,$C$8,(P212*(1/12)+$C$8))))","v":""},{"$f":"IF(P212=\"\",\"\",(IF($C$4=\"HS180\",((($O$4*$Q$4)/1728)-S212)*($C$7),(IF($C$4=\"HS75\",((($O$3*$Q$3)/1728)-S212)*($C$7),(IF($C$4=\"HS290\",((($O$5*$Q$5)/1728)-S212)*($C$7),((($O$2*$Q$2)/1728)-S212)*($C$7))))))))","v":""},{"$f":"IF(P212=\"\",\"\",(IF($C$4=\"HS180\",((($O$4*$W$4)/1728)-T212)*($C$7),(IF($C$4=\"HS75\",((($O$3*$W$3)/1728)-T212)*($C$7),(IF($C$4=\"HS290\",((($O$5*$W$5)/1728)-T212)*($C$7),((($O$2*$W$2)/1728)-T212)*($C$7))))))))","v":""}]
[null,null,null,null,null,null,null,null,"","",{"$f":"IF(J213=\"\",\"\",IF(#REF!-J213<=$C$10/IF($A$12=1,1,10),\"ABOVE\",IF(#REF!-J213<=($C$14+$C$10/IF($A$12=1,1,10)),\"CHAM\",\"BELOW\")))","v":""},"","","","","","","","","","","",{"$error":"#VALUE!"},"","","","",""]
[null,null,null,null,null,null,null,null,"","",{"$f":"IF(J214=\"\",\"\",IF(#REF!-J214<=$C$10/IF($A$12=1,1,10),\"ABOVE\",IF(#REF!-J214<=($C$14+$C$10/IF($A$12=1,1,10)),\"CHAM\",\"BELOW\")))","v":""},"","","","","","","","","","","",{"$error":"#VALUE!"},"","","","",""]
[null,null,null,null,null,null,null,null,"","",{"$f":"IF(J215=\"\",\"\",IF(#REF!-J215<=$C$10/IF($A$12=1,1,10),\"ABOVE\",IF(#REF!-J215<=($C$14+$C$10/IF($A$12=1,1,10)),\"CHAM\",\"BELOW\")))","v":""},"","","","","","","","","","","",{"$error":"#VALUE!"},"","","","",""]
[null,null,null,null,null,null,null,null,"","",{"$f":"IF(J216=\"\",\"\",IF(#REF!-J216<=$C$10/IF($A$12=1,1,10),\"ABOVE\",IF(#REF!-J216<=($C$14+$C$10/IF($A$12=1,1,10)),\"CHAM\",\"BELOW\")))","v":""},"","","","","","","","","","","",{"$error":"#VALUE!"},"","","","",""]
[null,null,null,null,null,null,null,null,"","",{"$f":"IF(J217=\"\",\"\",IF(#REF!-J217<=$C$10/IF($A$12=1,1,10),\"ABOVE\",IF(#REF!-J217<=($C$14+$C$10/IF($A$12=1,1,10)),\"CHAM\",\"BELOW\")))","v":""},"","","","","","","","","","","",{"$error":"#VALUE!"},"","","","",""]
[null,null,null,null,null,null,null,null,"","",{"$f":"IF(J218=\"\",\"\",IF(#REF!-J218<=$C$10/IF($A$12=1,1,10),\"ABOVE\",IF(#REF!-J218<=($C$14+$C$10/IF($A$12=1,1,10)),\"CHAM\",\"BELOW\")))","v":""},"","","","","","","","","","","",{"$error":"#VALUE!"},"","","","",""]
[null,null,null,null,null,null,null,null,"","",{"$f":"IF(J219=\"\",\"\",IF(#REF!-J219<=$C$10/IF($A$12=1,1,10),\"ABOVE\",IF(#REF!-J219<=($C$14+$C$10/IF($A$12=1,1,10)),\"CHAM\",\"BELOW\")))","v":""},"","","","","","","","","","","",{"$error":"#VALUE!"},"","","","",""]
[null,null,null,null,null,null,null,null,"","",{"$f":"IF(J220=\"\",\"\",IF(#REF!-J220<=$C$10/IF($A$12=1,1,10),\"ABOVE\",IF(#REF!-J220<=($C$14+$C$10/IF($A$12=1,1,10)),\"CHAM\",\"BELOW\")))","v":""},"","","","","","","","","","","",{"$error":"#VALUE!"},"","","","",""]
[null,null,null,null,null,null,null,null,"","",{"$f":"IF(J221=\"\",\"\",IF(#REF!-J221<=$C$10/IF($A$12=1,1,10),\"ABOVE\",IF(#REF!-J221<=($C$14+$C$10/IF($A$12=1,1,10)),\"CHAM\",\"BELOW\")))","v":""},"","","","","","","","","","","",{"$error":"#VALUE!"},"","","","",""]
[null,null,null,null,null,null,null,null,"","",{"$f":"IF(J222=\"\",\"\",IF(#REF!-J222<=$C$10/IF($A$12=1,1,10),\"ABOVE\",IF(#REF!-J222<=($C$14+$C$10/IF($A$12=1,1,10)),\"CHAM\",\"BELOW\")))","v":""},"","","","","","","","","","","",{"$error":"#VALUE!"},"","","","",""]
[null,null,null,null,null,null,null,null,"","",{"$f":"IF(J223=\"\",\"\",IF(#REF!-J223<=$C$10/IF($A$12=1,1,10),\"ABOVE\",IF(#REF!-J223<=($C$14+$C$10/IF($A$12=1,1,10)),\"CHAM\",\"BELOW\")))","v":""},"","","","","","","","","","","",{"$error":"#VALUE!"},"","","","",""]
[null,null,null,null,null,null,null,null,"","",{"$f":"IF(J224=\"\",\"\",IF(#REF!-J224<=$C$10/IF($A$12=1,1,10),\"ABOVE\",IF(#REF!-J224<=($C$14+$C$10/IF($A$12=1,1,10)),\"CHAM\",\"BELOW\")))","v":""},"","","","","","","","","","","",{"$error":"#VALUE!"},"","","","",""]
[null,null,null,null,null,null,null,null,"","",{"$f":"IF(J225=\"\",\"\",IF(#REF!-J225<=$C$10/IF($A$12=1,1,10),\"ABOVE\",IF(#REF!-J225<=($C$14+$C$10/IF($A$12=1,1,10)),\"CHAM\",\"BELOW\")))","v":""},"","","","","","","","","","","",{"$error":"#VALUE!"},"","","","",""]
[null,null,null,null,null,null,null,null,"","",{"$f":"IF(J226=\"\",\"\",IF(#REF!-J226<=$C$10/IF($A$12=1,1,10),\"ABOVE\",IF(#REF!-J226<=($C$14+$C$10/IF($A$12=1,1,10)),\"CHAM\",\"BELOW\")))","v":""},"","","","","","","","","","","",{"$error":"#VALUE!"},"","","","",""]
[null,null,null,null,null,null,null,null,"","",{"$f":"IF(J227=\"\",\"\",IF(#REF!-J227<=$C$10/IF($A$12=1,1,10),\"ABOVE\",IF(#REF!-J227<=($C$14+$C$10/IF($A$12=1,1,10)),\"CHAM\",\"BELOW\")))","v":""},"","","","","","","","","","","",{"$error":"#VALUE!"},"","","","",""]
[null,null,null,null,null,null,null,null,"","",{"$f":"IF(J228=\"\",\"\",IF(#REF!-J228<=$C$10/IF($A$12=1,1,10),\"ABOVE\",IF(#REF!-J228<=($C$14+$C$10/IF($A$12=1,1,10)),\"CHAM\",\"BELOW\")))","v":""},"","","","","","","","","","","",{"$error":"#VALUE!"},"","","","",""]
[null,null,null,null,null,null,null,null,"","",{"$f":"IF(J229=\"\",\"\",IF(#REF!-J229<=$C$10/IF($A$12=1,1,10),\"ABOVE\",IF(#REF!-J229<=($C$14+$C$10/IF($A$12=1,1,10)),\"CHAM\",\"BELOW\")))","v":""},"","","","","","","","","","","",{"$error":"#VALUE!"},"","","","",""]
[null,null,null,null,null,null,null,null,"","",{"$f":"IF(J230=\"\",\"\",IF(#REF!-J230<=$C$10/IF($A$12=1,1,10),\"ABOVE\",IF(#REF!-J230<=($C$14+$C$10/IF($A$12=1,1,10)),\"CHAM\",\"BELOW\")))","v":""},"","","","","","","","","","","",{"$error":"#VALUE!"},"","","","",""]
[null,null,null,null,null,null,null,null,"","",{"$f":"IF(J231=\"\",\"\",IF(#REF!-J231<=$C$10/IF($A$12=1,1,10),\"ABOVE\",IF(#REF!-J231<=($C$14+$C$10/IF($A$12=1,1,10)),\"CHAM\",\"BELOW\")))","v":""},"","","","","","","","","","","",{"$error":"#VALUE!"},"","","","",""]
[null,null,null,null,null,null,null,null,"","",{"$f":"IF(J232=\"\",\"\",IF(#REF!-J232<=$C$10/IF($A$12=1,1,10),\"ABOVE\",IF(#REF!-J232<=($C$14+$C$10/IF($A$12=1,1,10)),\"CHAM\",\"BELOW\")))","v":""},"","","","","","","","","","","",{"$error":"#VALUE!"},"","","","",""]
[null,null,null,null,null,null,null,null,"","",{"$f":"IF(J233=\"\",\"\",IF(#REF!-J233<=$C$10/IF($A$12=1,1,10),\"ABOVE\",IF(#REF!-J233<=($C$14+$C$10/IF($A$12=1,1,10)),\"CHAM\",\"BELOW\")))","v":""},"","","","","","","","","","","",{"$error":"#VALUE!"},"","","","",""]
[null,null,null,null,null,null,null,null,"","",{"$f":"IF(J234=\"\",\"\",IF(#REF!-J234<=$C$10/IF($A$12=1,1,10),\"ABOVE\",IF(#REF!-J234<=($C$14+$C$10/IF($A$12=1,1,10)),\"CHAM\",\"BELOW\")))","v":""},"","","","","","","","","","","",{"$error":"#VALUE!"},"","","","",""]
[null,null,null,null,null,null,null,null,"","",{"$f":"IF(J235=\"\",\"\",IF(#REF!-J235<=$C$10/IF($A$12=1,1,10),\"ABOVE\",IF(#REF!-J235<=($C$14+$C$10/IF($A$12=1,1,10)),\"CHAM\",\"BELOW\")))","v":""},"","","","","","","","","","","",{"$error":"#VALUE!"},"","","","",""]
[null,null,null,null,null,null,null,null,"","",{"$f":"IF(J236=\"\",\"\",IF(#REF!-J236<=$C$10/IF($A$12=1,1,10),\"ABOVE\",IF(#REF!-J236<=($C$14+$C$10/IF($A$12=1,1,10)),\"CHAM\",\"BELOW\")))","v":""},"","","","","","","","","","","",{"$error":"#VALUE!"},"","","","",""]
[null,null,null,null,null,null,null,null,"","",{"$f":"IF(J237=\"\",\"\",IF(#REF!-J237<=$C$10/IF($A$12=1,1,10),\"ABOVE\",IF(#REF!-J237<=($C$14+$C$10/IF($A$12=1,1,10)),\"CHAM\",\"BELOW\")))","v":""},"","","","","","","","","","","",{"$error":"#VALUE!"},"","","","",""]
[null,null,null,null,null,null,null,null,"","",{"$f":"IF(J238=\"\",\"\",IF(#REF!-J238<=$C$10/IF($A$12=1,1,10),\"ABOVE\",IF(#REF!-J238<=($C$14+$C$10/IF($A$12=1,1,10)),\"CHAM\",\"BELOW\")))","v":""},"","","","","","","","","","","",{"$error":"#VALUE!"},"","","","",""]
[null,null,null,null,null,null,null,null,"","",{"$f":"IF(J239=\"\",\"\",IF(#REF!-J239<=$C$10/IF($A$12=1,1,10),\"ABOVE\",IF(#REF!-J239<=($C$14+$C$10/IF($A$12=1,1,10)),\"CHAM\",\"BELOW\")))","v":""},"","","","","","","","","","","",{"$error":"#VALUE!"},"","","","",""]
[null,null,null,null,null,null,null,null,"","",{"$f":"IF(J240=\"\",\"\",IF(#REF!-J240<=$C$10/IF($A$12=1,1,10),\"ABOVE\",IF(#REF!-J240<=($C$14+$C$10/IF($A$12=1,1,10)),\"CHAM\",\"BELOW\")))","v":""},"","","","","","","","","","","",{"$error":"#VALUE!"},"","","","",""]
[null,null,null,null,null,null,null,null,"","",{"$f":"IF(J241=\"\",\"\",IF(#REF!-J241<=$C$10/IF($A$12=1,1,10),\"ABOVE\",IF(#REF!-J241<=($C$14+$C$10/IF($A$12=1,1,10)),\"CHAM\",\"BELOW\")))","v":""},"","","","","","","","","","","",{"$error":"#VALUE!"},"","","","",""]
[null,null,null,null,null,null,null,null,"","",{"$f":"IF(J242=\"\",\"\",IF(#REF!-J242<=$C$10/IF($A$12=1,1,10),\"ABOVE\",IF(#REF!-J242<=($C$14+$C$10/IF($A$12=1,1,10)),\"CHAM\",\"BELOW\")))","v":""},"","","","","","","","","","","",{"$error":"#VALUE!"},"","","","",""]
[null,null,null,null,null,null,null,null,"","",{"$f":"IF(J243=\"\",\"\",IF(#REF!-J243<=$C$10/IF($A$12=1,1,10),\"ABOVE\",IF(#REF!-J243<=($C$14+$C$10/IF($A$12=1,1,10)),\"CHAM\",\"BELOW\")))","v":""},"","","","","","","","","","","",{"$error":"#VALUE!"},"","","","",""]
[null,null,null,null,null,null,null,null,"","",{"$f":"IF(J244=\"\",\"\",IF(#REF!-J244<=$C$10/IF($A$12=1,1,10),\"ABOVE\",IF(#REF!-J244<=($C$14+$C$10/IF($A$12=1,1,10)),\"CHAM\",\"BELOW\")))","v":""},"","","","","","","","","","","",{"$error":"#VALUE!"},"","","","",""]
[null,null,null,null,null,null,null,null,"","",{"$f":"IF(J245=\"\",\"\",IF(#REF!-J245<=$C$10/IF($A$12=1,1,10),\"ABOVE\",IF(#REF!-J245<=($C$14+$C$10/IF($A$12=1,1,10)),\"CHAM\",\"BELOW\")))","v":""},"","","","","","","","","","","",{"$error":"#VALUE!"},"","","","",""]
[null,null,null,null,null,null,null,null,"","",{"$f":"IF(J246=\"\",\"\",IF(#REF!-J246<=$C$10/IF($A$12=1,1,10),\"ABOVE\",IF(#REF!-J246<=($C$14+$C$10/IF($A$12=1,1,10)),\"CHAM\",\"BELOW\")))","v":""},"","","","","","","","","","","",{"$error":"#VALUE!"},"","","","",""]
[null,null,null,null,null,null,null,null,"","",{"$f":"IF(J247=\"\",\"\",IF(#REF!-J247<=$C$10/IF($A$12=1,1,10),\"ABOVE\",IF(#REF!-J247<=($C$14+$C$10/IF($A$12=1,1,10)),\"CHAM\",\"BELOW\")))","v":""},"","","","","","","","","","","",{"$error":"#VALUE!"},"","","","",""]
[null,null,null,null,null,null,null,null,"","",{"$f":"IF(J248=\"\",\"\",IF(#REF!-J248<=$C$10/IF($A$12=1,1,10),\"ABOVE\",IF(#REF!-J248<=($C$14+$C$10/IF($A$12=1,1,10)),\"CHAM\",\"BELOW\")))","v":""},"","","","","","","","","","","",{"$error":"#VALUE!"},"","","","",""]
[null,null,null,null,null,null,null,null,"","",{"$f":"IF(J249=\"\",\"\",IF(#REF!-J249<=$C$10/IF($A$12=1,1,10),\"ABOVE\",IF(#REF!-J249<=($C$14+$C$10/IF($A$12=1,1,10)),\"CHAM\",\"BELOW\")))","v":""},"","","","","","","","","","","",{"$error":"#VALUE!"},"","","","",""]
[null,null,null,null,null,null,null,null,"","",{"$f":"IF(J250=\"\",\"\",IF(#REF!-J250<=$C$10/IF($A$12=1,1,10),\"ABOVE\",IF(#REF!-J250<=($C$14+$C$10/IF($A$12=1,1,10)),\"CHAM\",\"BELOW\")))","v":""},"","","","","","","","","","","",{"$error":"#VALUE!"},"","","","",""]
[null,null,null,null,null,null,null,null,"","",{"$f":"IF(J251=\"\",\"\",IF(#REF!-J251<=$C$10/IF($A$12=1,1,10),\"ABOVE\",IF(#REF!-J251<=($C$14+$C$10/IF($A$12=1,1,10)),\"CHAM\",\"BELOW\")))","v":""},"","","","","","","","","","","",{"$error":"#VALUE!"},"","","","",""]
[null,null,null,null,null,null,null,null,"","",{"$f":"IF(J252=\"\",\"\",IF(#REF!-J252<=$C$10/IF($A$12=1,1,10),\"ABOVE\",IF(#REF!-J252<=($C$14+$C$10/IF($A$12=1,1,10)),\"CHAM\",\"BELOW\")))","v":""},"","","","","","","","","","","",{"$error":"#VALUE!"},"","","","",""]
[null,null,null,null,null,null,null,null,"","",{"$f":"IF(J253=\"\",\"\",IF(#REF!-J253<=$C$10/IF($A$12=1,1,10),\"ABOVE\",IF(#REF!-J253<=($C$14+$C$10/IF($A$12=1,1,10)),\"CHAM\",\"BELOW\")))","v":""},"","","","","","","","","","","",{"$error":"#VALUE!"},"","","","",""]
[null,null,null,null,null,null,null,null,"","",{"$f":"IF(J254=\"\",\"\",IF(#REF!-J254<=$C$10/IF($A$12=1,1,10),\"ABOVE\",IF(#REF!-J254<=($C$14+$C$10/IF($A$12=1,1,10)),\"CHAM\",\"BELOW\")))","v":""},"","","","","","","","","","","",{"$error":"#VALUE!"},"","","","",""]
[null,null,null,null,null,null,null,null,"","",{"$f":"IF(J255=\"\",\"\",IF(#REF!-J255<=$C$10/IF($A$12=1,1,10),\"ABOVE\",IF(#REF!-J255<=($C$14+$C$10/IF($A$12=1,1,10)),\"CHAM\",\"BELOW\")))","v":""},"","","","","","","","","","","",{"$error":"#VALUE!"},"","","","",""]
[null,null,null,null,null,null,null,null,"","",{"$f":"IF(J256=\"\",\"\",IF(#REF!-J256<=$C$10/IF($A$12=1,1,10),\"ABOVE\",IF(#REF!-J256<=($C$14+$C$10/IF($A$12=1,1,10)),\"CHAM\",\"BELOW\")))","v":""},"","","","","","","","","","","",{"$error":"#VALUE!"},"","","","",""]
[null,null,null,null,null,null,null,null,"","",{"$f":"IF(J257=\"\",\"\",IF(#REF!-J257<=$C$10/IF($A$12=1,1,10),\"ABOVE\",IF(#REF!-J257<=($C$14+$C$10/IF($A$12=1,1,10)),\"CHAM\",\"BELOW\")))","v":""},"","","","","","","","","","","",{"$error":"#VALUE!"},"","","","",""]
[null,null,null,null,null,null,null,null,"","",{"$f":"IF(J258=\"\",\"\",IF(#REF!-J258<=$C$10/IF($A$12=1,1,10),\"ABOVE\",IF(#REF!-J258<=($C$14+$C$10/IF($A$12=1,1,10)),\"CHAM\",\"BELOW\")))","v":""},"","","","","","","","","","","",{"$error":"#VALUE!"},"","","","",""]
[null,null,null,null,null,null,null,null,"","",{"$f":"IF(J259=\"\",\"\",IF(#REF!-J259<=$C$10/IF($A$12=1,1,10),\"ABOVE\",IF(#REF!-J259<=($C$14+$C$10/IF($A$12=1,1,10)),\"CHAM\",\"BELOW\")))","v":""},"","","","","","","","","","","",{"$error":"#VALUE!"},"","","","",""]
[null,null,null,null,null,null,null,null,"","",{"$f":"IF(J260=\"\",\"\",IF(#REF!-J260<=$C$10/IF($A$12=1,1,10),\"ABOVE\",IF(#REF!-J260<=($C$14+$C$10/IF($A$12=1,1,10)),\"CHAM\",\"BELOW\")))","v":""},"","","","","","","","","","","",{"$error":"#VALUE!"},"","","","",""]
[null,null,null,null,null,null,null,null,"","",{"$f":"IF(J261=\"\",\"\",IF(#REF!-J261<=$C$10/IF($A$12=1,1,10),\"ABOVE\",IF(#REF!-J261<=($C$14+$C$10/IF($A$12=1,1,10)),\"CHAM\",\"BELOW\")))","v":""},"","","","","","","","","","","",{"$error":"#VALUE!"},"","","","",""]
[null,null,null,null,null,null,null,null,"","",{"$f":"IF(J262=\"\",\"\",IF(#REF!-J262<=$C$10/IF($A$12=1,1,10),\"ABOVE\",IF(#REF!-J262<=($C$14+$C$10/IF($A$12=1,1,10)),\"CHAM\",\"BELOW\")))","v":""},"","","","","","","","","","","",{"$error":"#VALUE!"},"","","","",""]
[null,null,null,null,null,null,null,null,"","",{"$f":"IF(J263=\"\",\"\",IF(#REF!-J263<=$C$10/IF($A$12=1,1,10),\"ABOVE\",IF(#REF!-J263<=($C$14+$C$10/IF($A$12=1,1,10)),\"CHAM\",\"BELOW\")))","v":""},"","","","","","","","","","","",{"$error":"#VALUE!"},"","","","",""]
[null,null,null,null,null,null,null,null,"","",{"$f":"IF(J264=\"\",\"\",IF(#REF!-J264<=$C$10/IF($A$12=1,1,10),\"ABOVE\",IF(#REF!-J264<=($C$14+$C$10/IF($A$12=1,1,10)),\"CHAM\",\"BELOW\")))","v":""},"","","","","","","","","","","",{"$error":"#VALUE!"},"","","","",""]
[null,null,null,null,null,null,null,null,"","",{"$f":"IF(J265=\"\",\"\",IF(#REF!-J265<=$C$10/IF($A$12=1,1,10),\"ABOVE\",IF(#REF!-J265<=($C$14+$C$10/IF($A$12=1,1,10)),\"CHAM\",\"BELOW\")))","v":""},"","","","","","","","","","","",{"$error":"#VALUE!"},"","","","",""]
[null,null,null,null,null,null,null,null,"","",{"$f":"IF(J266=\"\",\"\",IF(#REF!-J266<=$C$10/IF($A$12=1,1,10),\"ABOVE\",IF(#REF!-J266<=($C$14+$C$10/IF($A$12=1,1,10)),\"CHAM\",\"BELOW\")))","v":""},"","","","","","","","","","","",{"$error":"#VALUE!"},"","","","",""]
[null,null,null,null,null,null,null,null,"","",{"$f":"IF(J267=\"\",\"\",IF(#REF!-J267<=$C$10/IF($A$12=1,1,10),\"ABOVE\",IF(#REF!-J267<=($C$14+$C$10/IF($A$12=1,1,10)),\"CHAM\",\"BELOW\")))","v":""},"","","","","","","","","","","",{"$error":"#VALUE!"},"","","","",""]
[null,null,null,null,null,null,null,null,"","",{"$f":"IF(J268=\"\",\"\",IF(#REF!-J268<=$C$10/IF($A$12=1,1,10),\"ABOVE\",IF(#REF!-J268<=($C$14+$C$10/IF($A$12=1,1,10)),\"CHAM\",\"BELOW\")))","v":""},"","","","","","","","","","","",{"$error":"#VALUE!"},"","","","",""]
[null,null,null,null,null,null,null,null,"","",{"$f":"IF(J269=\"\",\"\",IF(#REF!-J269<=$C$10/IF($A$12=1,1,10),\"ABOVE\",IF(#REF!-J269<=($C$14+$C$10/IF($A$12=1,1,10)),\"CHAM\",\"BELOW\")))","v":""},"","","","","","","","","","","",{"$error":"#VALUE!"},"","","","",""]
[null,null,null,null,null,null,null,null,"","",{"$f":"IF(J270=\"\",\"\",IF(#REF!-J270<=$C$10/IF($A$12=1,1,10),\"ABOVE\",IF(#REF!-J270<=($C$14+$C$10/IF($A$12=1,1,10)),\"CHAM\",\"BELOW\")))","v":""},"","","","","","","","","","","",{"$error":"#VALUE!"},"","","","",""]
[null,null,null,null,null,null,null,null,"","",{"$f":"IF(J271=\"\",\"\",IF(#REF!-J271<=$C$10/IF($A$12=1,1,10),\"ABOVE\",IF(#REF!-J271<=($C$14+$C$10/IF($A$12=1,1,10)),\"CHAM\",\"BELOW\")))","v":""},"","","","","","","","","","","",{"$error":"#VALUE!"},"","","","",""]
[null,null,null,null,null,null,null,null,"","",{"$f":"IF(J272=\"\",\"\",IF(#REF!-J272<=$C$10/IF($A$12=1,1,10),\"ABOVE\",IF(#REF!-J272<=($C$14+$C$10/IF($A$12=1,1,10)),\"CHAM\",\"BELOW\")))","v":""},"","","","","","","","","","","",{"$error":"#VALUE!"},"","","","",""]
[null,null,null,null,null,null,null,null,"","",{"$f":"IF(J273=\"\",\"\",IF(#REF!-J273<=$C$10/IF($A$12=1,1,10),\"ABOVE\",IF(#REF!-J273<=($C$14+$C$10/IF($A$12=1,1,10)),\"CHAM\",\"BELOW\")))","v":""},"","","","","","","","","","","",{"$error":"#VALUE!"},"","","","",""]
[null,null,null,null,null,null,null,null,{"$f":"IF(J274=\"\",\"\",IF(J274=0,$C$8,($C$8+J274/100)))","v":""},"",{"$f":"IF(J274=\"\",\"\",IF(#REF!-J274<=$C$10/IF($A$12=1,1,10),\"ABOVE\",IF(#REF!-J274<=($C$14+$C$10/IF($A$12=1,1,10)),\"CHAM\",\"BELOW\")))","v":""},{"$f":"IF(J274=\"\",\"\",IF(K274=\"ABOVE\",0,IF(K274=\"BELOW\",0,IF(L273>=1,L273+1,1))))","v":""},{"$f":"IF(L274=\"\",\"\",(IF(L274=0,0,VLOOKUP(L274,$B$17:$F$132,IF($C$4=\"HS180\",2,4),FALSE))))","v":""},{"$f":"IF(L274=\"\",\"\",(IF(L274=0,0,VLOOKUP(L274,$B$17:$F$132,IF($C$4=\"HS180\",3,5),FALSE))))","v":""},"","","","","","","","",{"$error":"#VALUE!"},"","","","",""]
[null,null,null,null,null,null,null,null,"",{"$f":"IFERROR(IF($A$12=1,IF(J274-1>=0, J274-1,\"\"),IF(J274-2.54>=0,J274-2.54,\"\")),\"\")","v":""},{"$f":"IF(J275=\"\",\"\",IF(#REF!-J275<=$C$10/IF($A$12=1,1,10),\"ABOVE\",IF(#REF!-J275<=($C$14+$C$10/IF($A$12=1,1,10)),\"CHAM\",\"BELOW\")))","v":""},"","","","",{"$f":"IF(P274=\"\",\"\",IF(P274-1>=0,P274-1,\"\"))","v":""},"","","","","","",{"$error":"#VALUE!"},"","","","",""]
[null,null,null,null,null,null,null,null,"","",{"$f":"IF(J276=\"\",\"\",IF(#REF!-J276<=$C$10/IF($A$12=1,1,10),\"ABOVE\",IF(#REF!-J276<=($C$14+$C$10/IF($A$12=1,1,10)),\"CHAM\",\"BELOW\")))","v":""},"","","",{"$f":"IF(P276=\"\",\"\",IF(P276=0,$C$8,($C$8+P276/100)))","v":""},"",{"$f":"IF(P276=\"\",\"\",IF($A$4=1,IF($C$13-P276<$D$10,(\"ABOVE\"), IF($D$9<P276,(\"CHAM\"),\"BELOW\")),IF($C$13-P276<$D$10,(\"ABOVE\"), IF($D$9<P276,(\"CHAM\"),\"BELOW\"))))","v":""},{"$f":"IF(P276=\"\",\"\",IF(Q276=\"ABOVE\",0,IF(Q276=\"BELOW\",0,IF(R275>=1,R275+1,1))))","v":""},{"$f":"IF(R276=\"\",\"\",(IF(R276=0,0,VLOOKUP(R276,$B$17:$J$132,IF($C$4=\"HS180\",2,IF(C$4=\"HS75\",4,IF(C$4=\"HS290\",6,IF(C$4=\"HS31\",8))))))))","v":""},{"$f":"IF(R276=\"\",\"\",(IF(R276=0,0,VLOOKUP(R276,$B$17:$J$132,IF($C$4=\"HS180\",3,IF(C$4=\"HS75\",5,IF(C$4=\"HS290\",7,9)))))))","v":""},{"$f":"IF(S276=\"\",\"\",S276*$C$5)","v":""},{"$f":"IF(T276=\"\",\"\",T276*$C$6)","v":""},{"$f":"MAX(IF($A$11=2,IF(P276=0,0,(IF(Q276=\"\",\"\",(AA276*$C$5)+(AB276*$C$6)))),IF(P276=0,0,(IF(Q276=\"\",\"\",(AA276*$C$5)+(AB276*$C$6)+$M$11))))-((((IF($C$4=\"HS180\",$S$4*1,IF($C$4=\"HS75\",$S$3*1,IF($C$4=\"HS290\",$S$5*1,$S$2*1))))/144)*($G$5/12)))*$C$7,0)","v":{"$error":"#VALUE!"}},{"$f":"IF(P276=\"\",\"\",(U276+V276+W276))","v":""},{"$f":"IF(P276=\"\",\"\",IF(P276=0,0,(Y277+X276)))","v":""},{"$f":"IF(P276=\"\",\"\",(IF(P276=0,$C$8,(P276*(1/12)+$C$8))))","v":""},{"$f":"IF(P276=\"\",\"\",(IF($C$4=\"HS180\",((($O$4*$Q$4)/1728)-S276)*($C$7),(IF($C$4=\"HS75\",((($O$3*$Q$3)/1728)-S276)*($C$7),(IF($C$4=\"HS290\",((($O$5*$Q$5)/1728)-S276)*($C$7),((($O$2*$Q$2)/1728)-S276)*($C$7))))))))","v":""},{"$f":"IF(P276=\"\",\"\",(IF($C$4=\"HS180\",((($O$4*$W$4)/1728)-T276)*($C$7),(IF($C$4=\"HS75\",((($O$3*$W$3)/1728)-T276)*($C$7),(IF($C$4=\"HS290\",((($O$5*$W$5)/1728)-T276)*($C$7),((($O$2*$W$2)/1728)-T276)*($C$7))))))))","v":""}]
[null,null,null,null,null,null,null,null,"","",{"$f":"IF(J277=\"\",\"\",IF(#REF!-J277<=$C$10/IF($A$12=1,1,10),\"ABOVE\",IF(#REF!-J277<=($C$14+$C$10/IF($A$12=1,1,10)),\"CHAM\",\"BELOW\")))","v":""},"","","","","","","","","","","",{"$error":"#VALUE!"},"","","","",""]
[null,null,null,null,null,null,null,null,"","",{"$f":"IF(J278=\"\",\"\",IF(#REF!-J278<=$C$10/IF($A$12=1,1,10),\"ABOVE\",IF(#REF!-J278<=($C$14+$C$10/IF($A$12=1,1,10)),\"CHAM\",\"BELOW\")))","v":""},"","","","","","","","","","","",{"$error":"#VALUE!"},"","","","",""]
[null,null,null,null,null,null,null,null,"","",{"$f":"IF(J279=\"\",\"\",IF(#REF!-J279<=$C$10/IF($A$12=1,1,10),\"ABOVE\",IF(#REF!-J279<=($C$14+$C$10/IF($A$12=1,1,10)),\"CHAM\",\"BELOW\")))","v":""},"","","","","","","","","","","",{"$error":"#VALUE!"},"","","","",""]
[null,null,null,null,null,null,null,null,"","",{"$f":"IF(J280=\"\",\"\",IF(#REF!-J280<=$C$10/IF($A$12=1,1,10),\"ABOVE\",IF(#REF!-J280<=($C$14+$C$10/IF($A$12=1,1,10)),\"CHAM\",\"BELOW\")))","v":""},"","","","","","","","","","","",{"$error":"#VALUE!"},"","","","",""]
[null,null,null,null,null,null,null,null,"","",{"$f":"IF(J281=\"\",\"\",IF(#REF!-J281<=$C$10/IF($A$12=1,1,10),\"ABOVE\",IF(#REF!-J281<=($C$14+$C$10/IF($A$12=1,1,10)),\"CHAM\",\"BELOW\")))","v":""},"","","","","","","","","","","",{"$error":"#VALUE!"},"","","","",""]
[null,null,null,null,null,null,null,null,"","",{"$f":"IF(J282=\"\",\"\",IF(#REF!-J282<=$C$10/IF($A$12=1,1,10),\"ABOVE\",IF(#REF!-J282<=($C$14+$C$10/IF($A$12=1,1,10)),\"CHAM\",\"BELOW\")))","v":""},"","","","","","","","","","","",{"$error":"#VALUE!"},"","","","",""]
[null,null,null,null,null,null,null,null,"","",{"$f":"IF(J283=\"\",\"\",IF(#REF!-J283<=$C$10/IF($A$12=1,1,10),\"ABOVE\",IF(#REF!-J283<=($C$14+$C$10/IF($A$12=1,1,10)),\"CHAM\",\"BELOW\")))","v":""},"","","","","","","","","","","",{"$error":"#VALUE!"},"","","","",""]
[null,null,null,null,null,null,null,null,"","",{"$f":"IF(J284=\"\",\"\",IF(#REF!-J284<=$C$10/IF($A$12=1,1,10),\"ABOVE\",IF(#REF!-J284<=($C$14+$C$10/IF($A$12=1,1,10)),\"CHAM\",\"BELOW\")))","v":""},"","","","","","","","","","","",{"$error":"#VALUE!"},"","","","",""]
[null,null,null,null,null,null,null,null,"","",{"$f":"IF(J285=\"\",\"\",IF(#REF!-J285<=$C$10/IF($A$12=1,1,10),\"ABOVE\",IF(#REF!-J285<=($C$14+$C$10/IF($A$12=1,1,10)),\"CHAM\",\"BELOW\")))","v":""},"","","","","","","","","","","",{"$error":"#VALUE!"},"","","","",""]
[null,null,null,null,null,null,null,null,"","",{"$f":"IF(J286=\"\",\"\",IF(#REF!-J286<=$C$10/IF($A$12=1,1,10),\"ABOVE\",IF(#REF!-J286<=($C$14+$C$10/IF($A$12=1,1,10)),\"CHAM\",\"BELOW\")))","v":""},"","","","","","","","","","","",{"$error":"#VALUE!"},"","","","",""]
[null,null,null,null,null,null,null,null,"","",{"$f":"IF(J287=\"\",\"\",IF(#REF!-J287<=$C$10/IF($A$12=1,1,10),\"ABOVE\",IF(#REF!-J287<=($C$14+$C$10/IF($A$12=1,1,10)),\"CHAM\",\"BELOW\")))","v":""},"","","","","","","","","","","",{"$error":"#VALUE!"},"","","","",""]
[null,null,null,null,null,null,null,null,"","",{"$f":"IF(J288=\"\",\"\",IF(#REF!-J288<=$C$10/IF($A$12=1,1,10),\"ABOVE\",IF(#REF!-J288<=($C$14+$C$10/IF($A$12=1,1,10)),\"CHAM\",\"BELOW\")))","v":""},"","","","","","","","","","","",{"$error":"#VALUE!"},"","","","",""]
[null,null,null,null,null,null,null,null,"","",{"$f":"IF(J289=\"\",\"\",IF(#REF!-J289<=$C$10/IF($A$12=1,1,10),\"ABOVE\",IF(#REF!-J289<=($C$14+$C$10/IF($A$12=1,1,10)),\"CHAM\",\"BELOW\")))","v":""},"","","","","","","","","","","",{"$error":"#VALUE!"},"","","","",""]
[null,null,null,null,null,null,null,null,"","",{"$f":"IF(J290=\"\",\"\",IF(#REF!-J290<=$C$10/IF($A$12=1,1,10),\"ABOVE\",IF(#REF!-J290<=($C$14+$C$10/IF($A$12=1,1,10)),\"CHAM\",\"BELOW\")))","v":""},"","","","","","","","","","","",{"$error":"#VALUE!"},"","","","",""]
[null,null,null,null,null,null,null,null,"","",{"$f":"IF(J291=\"\",\"\",IF(#REF!-J291<=$C$10/IF($A$12=1,1,10),\"ABOVE\",IF(#REF!-J291<=($C$14+$C$10/IF($A$12=1,1,10)),\"CHAM\",\"BELOW\")))","v":""},"","","","","","","","","","","",{"$error":"#VALUE!"},"","","","",""]
[null,null,null,null,null,null,null,null,"","",{"$f":"IF(J292=\"\",\"\",IF(#REF!-J292<=$C$10/IF($A$12=1,1,10),\"ABOVE\",IF(#REF!-J292<=($C$14+$C$10/IF($A$12=1,1,10)),\"CHAM\",\"BELOW\")))","v":""},"","","","","","","","","","","",{"$error":"#VALUE!"},"","","","",""]
[null,null,null,null,null,null,null,null,"","",{"$f":"IF(J293=\"\",\"\",IF(#REF!-J293<=$C$10/IF($A$12=1,1,10),\"ABOVE\",IF(#REF!-J293<=($C$14+$C$10/IF($A$12=1,1,10)),\"CHAM\",\"BELOW\")))","v":""},"","","","","","","","","","","",{"$error":"#VALUE!"},"","","","",""]
[null,null,null,null,null,null,null,null,"","",{"$f":"IF(J294=\"\",\"\",IF(#REF!-J294<=$C$10/IF($A$12=1,1,10),\"ABOVE\",IF(#REF!-J294<=($C$14+$C$10/IF($A$12=1,1,10)),\"CHAM\",\"BELOW\")))","v":""},"","","","","","","","","","","",{"$error":"#VALUE!"},"","","","",""]
[null,null,null,null,null,null,null,null,"","",{"$f":"IF(J295=\"\",\"\",IF(#REF!-J295<=$C$10/IF($A$12=1,1,10),\"ABOVE\",IF(#REF!-J295<=($C$14+$C$10/IF($A$12=1,1,10)),\"CHAM\",\"BELOW\")))","v":""},"","","","","","","","","","","",{"$error":"#VALUE!"},"","","","",""]
[null,null,null,null,null,null,null,null,"","",{"$f":"IF(J296=\"\",\"\",IF(#REF!-J296<=$C$10/IF($A$12=1,1,10),\"ABOVE\",IF(#REF!-J296<=($C$14+$C$10/IF($A$12=1,1,10)),\"CHAM\",\"BELOW\")))","v":""},"","","","","","","","","","","",{"$error":"#VALUE!"},"","","","",""]
[null,null,null,null,null,null,null,null,"","",{"$f":"IF(J297=\"\",\"\",IF(#REF!-J297<=$C$10/IF($A$12=1,1,10),\"ABOVE\",IF(#REF!-J297<=($C$14+$C$10/IF($A$12=1,1,10)),\"CHAM\",\"BELOW\")))","v":""},"","","","","","","","","","","",{"$error":"#VALUE!"},"","","","",""]
[null,null,null,null,null,null,null,null,"","",{"$f":"IF(J298=\"\",\"\",IF(#REF!-J298<=$C$10/IF($A$12=1,1,10),\"ABOVE\",IF(#REF!-J298<=($C$14+$C$10/IF($A$12=1,1,10)),\"CHAM\",\"BELOW\")))","v":""},"","","","","","","","","","","",{"$error":"#VALUE!"},"","","","",""]
[null,null,null,null,null,null,null,null,"","",{"$f":"IF(J299=\"\",\"\",IF(#REF!-J299<=$C$10/IF($A$12=1,1,10),\"ABOVE\",IF(#REF!-J299<=($C$14+$C$10/IF($A$12=1,1,10)),\"CHAM\",\"BELOW\")))","v":""},"","","","","","","","","","","",{"$error":"#VALUE!"},"","","","",""]
[null,null,null,null,null,null,null,null,"","",{"$f":"IF(J300=\"\",\"\",IF(#REF!-J300<=$C$10/IF($A$12=1,1,10),\"ABOVE\",IF(#REF!-J300<=($C$14+$C$10/IF($A$12=1,1,10)),\"CHAM\",\"BELOW\")))","v":""},"","","","","","","","","","","",{"$error":"#VALUE!"},"","","","",""]
[null,null,null,null,null,null,null,null,"","",{"$f":"IF(J301=\"\",\"\",IF(#REF!-J301<=$C$10/IF($A$12=1,1,10),\"ABOVE\",IF(#REF!-J301<=($C$14+$C$10/IF($A$12=1,1,10)),\"CHAM\",\"BELOW\")))","v":""},"","","","","","","","","","","",{"$error":"#VALUE!"},"","","","",""]
[null,null,null,null,null,null,null,null,"","",{"$f":"IF(J302=\"\",\"\",IF(#REF!-J302<=$C$10/IF($A$12=1,1,10),\"ABOVE\",IF(#REF!-J302<=($C$14+$C$10/IF($A$12=1,1,10)),\"CHAM\",\"BELOW\")))","v":""},"","","","","","","","","","","",{"$error":"#VALUE!"},"","","","",""]
[null,null,null,null,null,null,null,null,"","",{"$f":"IF(J303=\"\",\"\",IF(#REF!-J303<=$C$10/IF($A$12=1,1,10),\"ABOVE\",IF(#REF!-J303<=($C$14+$C$10/IF($A$12=1,1,10)),\"CHAM\",\"BELOW\")))","v":""},"","","","","","","","","","","",{"$error":"#VALUE!"},"","","","",""]
[null,null,null,null,null,null,null,null,"","",{"$f":"IF(J304=\"\",\"\",IF(#REF!-J304<=$C$10/IF($A$12=1,1,10),\"ABOVE\",IF(#REF!-J304<=($C$14+$C$10/IF($A$12=1,1,10)),\"CHAM\",\"BELOW\")))","v":""},"","","","","","","","","","","",{"$error":"#VALUE!"},"","","","",""]
[null,null,null,null,null,null,null,null,"","",{"$f":"IF(J305=\"\",\"\",IF(#REF!-J305<=$C$10/IF($A$12=1,1,10),\"ABOVE\",IF(#REF!-J305<=($C$14+$C$10/IF($A$12=1,1,10)),\"CHAM\",\"BELOW\")))","v":""},"","","","","","","","","","","",{"$error":"#VALUE!"},"","","","",""]
[null,null,null,null,null,null,null,null,"","",{"$f":"IF(J306=\"\",\"\",IF(#REF!-J306<=$C$10/IF($A$12=1,1,10),\"ABOVE\",IF(#REF!-J306<=($C$14+$C$10/IF($A$12=1,1,10)),\"CHAM\",\"BELOW\")))","v":""},"","","","","","","","","","","",{"$error":"#VALUE!"},"","","","",""]
[null,null,null,null,null,null,null,null,"","",{"$f":"IF(J307=\"\",\"\",IF(#REF!-J307<=$C$10/IF($A$12=1,1,10),\"ABOVE\",IF(#REF!-J307<=($C$14+$C$10/IF($A$12=1,1,10)),\"CHAM\",\"BELOW\")))","v":""},"","","","","","","","","","","",{"$error":"#VALUE!"},"","","","",""]
[null,null,null,null,null,null,null,null,"","",{"$f":"IF(J308=\"\",\"\",IF(#REF!-J308<=$C$10/IF($A$12=1,1,10),\"ABOVE\",IF(#REF!-J308<=($C$14+$C$10/IF($A$12=1,1,10)),\"CHAM\",\"BELOW\")))","v":""},"","","","","","","","","","","",{"$error":"#VALUE!"},"","","","",""]
[null,null,null,null,null,null,null,null,"","",{"$f":"IF(J309=\"\",\"\",IF(#REF!-J309<=$C$10/IF($A$12=1,1,10),\"ABOVE\",IF(#REF!-J309<=($C$14+$C$10/IF($A$12=1,1,10)),\"CHAM\",\"BELOW\")))","v":""},"","","","","","","","","","","",{"$error":"#VALUE!"},"","","","",""]
[null,null,null,null,null,null,null,null,"","",{"$f":"IF(J310=\"\",\"\",IF(#REF!-J310<=$C$10/IF($A$12=1,1,10),\"ABOVE\",IF(#REF!-J310<=($C$14+$C$10/IF($A$12=1,1,10)),\"CHAM\",\"BELOW\")))","v":""},"","","","","","","","","","","",{"$error":"#VALUE!"},"","","","",""]
[null,null,null,null,null,null,null,null,"","",{"$f":"IF(J311=\"\",\"\",IF(#REF!-J311<=$C$10/IF($A$12=1,1,10),\"ABOVE\",IF(#REF!-J311<=($C$14+$C$10/IF($A$12=1,1,10)),\"CHAM\",\"BELOW\")))","v":""},"","","","","","","","","","","",{"$error":"#VALUE!"},"","","","",""]
[null,null,null,null,null,null,null,null,"","",{"$f":"IF(J312=\"\",\"\",IF(#REF!-J312<=$C$10/IF($A$12=1,1,10),\"ABOVE\",IF(#REF!-J312<=($C$14+$C$10/IF($A$12=1,1,10)),\"CHAM\",\"BELOW\")))","v":""},"","","","","","","","","","","",{"$error":"#VALUE!"},"","","","",""]
[null,null,null,null,null,null,null,null,"","",{"$f":"IF(J313=\"\",\"\",IF(#REF!-J313<=$C$10/IF($A$12=1,1,10),\"ABOVE\",IF(#REF!-J313<=($C$14+$C$10/IF($A$12=1,1,10)),\"CHAM\",\"BELOW\")))","v":""},"","","","","","","","","","","",{"$error":"#VALUE!"},"","","","",""]
[null,null,null,null,null,null,null,null,"","",{"$f":"IF(J314=\"\",\"\",IF(#REF!-J314<=$C$10/IF($A$12=1,1,10),\"ABOVE\",IF(#REF!-J314<=($C$14+$C$10/IF($A$12=1,1,10)),\"CHAM\",\"BELOW\")))","v":""},"","","","","","","","","","","",{"$error":"#VALUE!"},"","","","",""]
[null,null,null,null,null,null,null,null,"","",{"$f":"IF(J315=\"\",\"\",IF(#REF!-J315<=$C$10/IF($A$12=1,1,10),\"ABOVE\",IF(#REF!-J315<=($C$14+$C$10/IF($A$12=1,1,10)),\"CHAM\",\"BELOW\")))","v":""},"","","","","","","","","","","",{"$error":"#VALUE!"},"","","","",""]
[null,null,null,null,null,null,null,null,"","",{"$f":"IF(J316=\"\",\"\",IF(#REF!-J316<=$C$10/IF($A$12=1,1,10),\"ABOVE\",IF(#REF!-J316<=($C$14+$C$10/IF($A$12=1,1,10)),\"CHAM\",\"BELOW\")))","v":""},"","","","","","","","","","","",{"$error":"#VALUE!"},"","","","",""]
[null,null,null,null,null,null,null,null,null,{"$f":"IFERROR(IF(J316-1>=0, J316-1,\"\"),\"\")","v":""},null,null,null,null,"","","","","","","","",{"$error":"#VALUE!"},"","","","",""]
[null,null,null,null,null,null,null,null,null,{"$f":"IFERROR(IF(J317-1>=0, J317-1,\"\"),\"\")","v":""},null,null,null,null,"","","","","","","","",{"$error":"#VALUE!"},"","","","",""]
[null,null,null,null,null,null,null,null,null,{"$f":"IFERROR(IF(J318-1>=0, J318-1,\"\"),\"\")","v":""}]
[null,null,null,null,null,null,null,null,null,{"$f":"IFERROR(IF(J319-1>=0, J319-1,\"\"),\"\")","v":""}]

{"sheet":"Backend Calcs Metric","index":3,"n_rows":320,"n_cols":28,"rows_kept":320,"cut":false,"hidden":true,"merged":[[10,15,10,16]]}
[null,null,{"$f":"((VLOOKUP(C4,J1:K5,2,FALSE))*2.54)+C9+C10","v":3433.2200000000003},null,null,null,null,null,null,"Chamber Size","Chamber Height (mm)","Chamber Height (m)","Chamber Width (mm)","Chamber Width (m)","Chamber Installed Width (mm)","Chamber Installed Width (in)","Chamber Installed Width (m)","Chamber Length (installed) (mm)","Chamber Length (installed) (in)","Chamber Length (installed) (m)","Chamber Spacing (mm)","Chamber Spacing (m)","Chamber Spacing (in)","END CAP STONE LENGTH (mm)","END CAP STONE LENGTH (in)","Length of Installed End Cap (mm)","Length of End Cap (m)"]
[null,null,null,null,null,null,null,null,null,"HS31",{"$f":"ROUND(CONVERT('Backend Calcs Standard'!K2,\"in\",\"mm\"),0)","v":406},{"$f":"ROUND((CONVERT('Backend Calcs Standard'!L2,\"ft\",\"m\")),3)","v":0.39600000000000002},{"$f":"ROUND(CONVERT('Backend Calcs Standard'!M2,\"in\",\"mm\"),0)","v":861},{"$f":"ROUND((CONVERT('Backend Calcs Standard'!N2,\"ft\",\"m\")),3)","v":0.86099999999999999},{"$f":"M2+U2","v":1013},{"$f":"ROUND(CONVERT(O2,\"mm\",\"in\"),1)","v":39.9},{"$f":"ROUND((CONVERT('Backend Calcs Standard'!P2,\"ft\",\"m\")),3)","v":1.0129999999999999},{"$f":"ROUND((CONVERT('Backend Calcs Standard'!Q2,\"in\",\"mm\")),3)","v":2169.16},{"$f":"ROUND(CONVERT(R2,\"mm\",\"in\"),1)","v":85.4},{"$f":"ROUND((CONVERT('Backend Calcs Standard'!R2,\"ft\",\"m\")),3)","v":2.169},{"$f":"ROUND(CONVERT('Backend Calcs Standard'!S2,\"in\",\"mm\"),0)","v":152},{"$f":"ROUND((CONVERT('Backend Calcs Standard'!T2,\"ft\",\"m\")),3)","v":0.152},{"$f":"ROUND(CONVERT(V2,\"m\",\"in\"),2)","v":5.98},{"$f":"ROUND((CONVERT('Backend Calcs Standard'!V2,\"in\",\"mm\")),3)","v":462.28},{"$f":"ROUND(CONVERT(Z2,\"mm\",\"in\"),1)","v":6.2},{"$f":"ROUND((CONVERT('Backend Calcs Standard'!W2,\"in\",\"mm\")),3)","v":157.47999999999999},{"$f":"ROUND((CONVERT('Backend Calcs Standard'!X2,\"ft\",\"m\")),3)","v":0.157}]
[null,null,null,null,null,null,null,null,null,"HS75",{"$f":"ROUND(CONVERT('Backend Calcs Standard'!K3,\"in\",\"mm\"),0)","v":762},{"$f":"ROUND((CONVERT('Backend Calcs Standard'!L3,\"ft\",\"m\")),3)","v":0.76200000000000001},{"$f":"ROUND(CONVERT('Backend Calcs Standard'!M3,\"in\",\"mm\"),0)","v":1295},{"$f":"ROUND((CONVERT('Backend Calcs Standard'!N3,\"ft\",\"m\")),3)","v":1.2949999999999999},{"$f":"M3+U3","v":1447},{"$f":"ROUND(CONVERT(O3,\"mm\",\"in\"),1)","v":57},{"$f":"ROUND((CONVERT('Backend Calcs Standard'!P3,\"ft\",\"m\")),3)","v":1.448},{"$f":"ROUND((CONVERT('Backend Calcs Standard'!Q3,\"in\",\"mm\")),3)","v":2156.46},{"$f":"ROUND(CONVERT(R3,\"mm\",\"in\"),1)","v":84.9},{"$f":"ROUND((CONVERT('Backend Calcs Standard'!R3,\"ft\",\"m\")),3)","v":2.1560000000000001},{"$f":"ROUND(CONVERT('Backend Calcs Standard'!S3,\"in\",\"mm\"),0)","v":152},{"$f":"ROUND((CONVERT('Backend Calcs Standard'!T3,\"ft\",\"m\")),3)","v":0.152},{"$f":"ROUND(CONVERT(V3,\"m\",\"in\"),2)","v":5.98},{"$f":"ROUND((CONVERT('Backend Calcs Standard'!V3,\"in\",\"mm\")),3)","v":561.34},{"$f":"ROUND(CONVERT(Z3,\"mm\",\"in\"),1)","v":10.1},{"$f":"ROUND((CONVERT('Backend Calcs Standard'!W3,\"in\",\"mm\")),3)","v":256.54000000000002},{"$f":"ROUND((CONVERT('Backend Calcs Standard'!X3,\"ft\",\"m\")),3)","v":0.25700000000000001}]
[3,"Chamber type",{"$f":"IF(A4=1,\"HS31\",IF(A4=2,\"HS75\",IF(A4=3,\"HS180\",\"HS290\")))","v":"HS180"},null,"Convert","Inferred no. of rows",{"$f":"$C$6/2","v":5},"rows","Convert","HS180",{"$f":"ROUND(CONVERT('Backend Calcs Standard'!K4,\"in\",\"mm\"),0)","v":1143},{"$f":"ROUND((CONVERT('Backend Calcs Standard'!L4,\"ft\",\"m\")),3)","v":1.1579999999999999},{"$f":"ROUND(CONVERT('Backend Calcs Standard'!M4,\"in\",\"mm\"),0)","v":1976},{"$f":"ROUND((CONVERT('Backend Calcs Standard'!N4,\"ft\",\"m\")),3)","v":1.976},{"$f":"M4+U4","v":2103},82.8,{"$f":"ROUND((CONVERT('Backend Calcs Standard'!P4,\"ft\",\"m\")),3)","v":2.1030000000000002},{"$f":"ROUND((CONVERT('Backend Calcs Standard'!Q4,\"in\",\"mm\")),3)","v":2166.62},85.3,{"$f":"ROUND((CONVERT('Backend Calcs Standard'!R4,\"ft\",\"m\")),3)","v":2.1669999999999998},{"$f":"ROUND(CONVERT('Backend Calcs Standard'!S4,\"in\",\"mm\"),0)","v":127},{"$f":"ROUND((CONVERT('Backend Calcs Standard'!T4,\"ft\",\"m\")),3)","v":0.127},5,{"$f":"ROUND((CONVERT('Backend Calcs Standard'!V4,\"in\",\"mm\")),3)","v":713.74},22.1,{"$f":"ROUND((CONVERT('Backend Calcs Standard'!W4,\"in\",\"mm\")),3)","v":561.34},{"$f":"ROUND((CONVERT('Backend Calcs Standard'!X4,\"ft\",\"m\")),3)","v":0.56100000000000005}]
[null,"Number of chambers",{"$f":"'Stage-Storage (Metric)'!E4","v":25},null,null,"System Length",{"$f":"(((C5/G4)*IF(C4=\"HS180\",R4,IF(C4=\"HS75\",R3,IF(C4=\"HS290\",R5,R2)))+(2*IF(C4=\"HS180\",Z4,IF(C4=\"HS75\",Z3,IF(C4=\"HS290\",Z5,Z2))))))","v":11955.779999999999},"mm",{"$f":"CONVERT(G5,\"mm\",\"in\")","v":470.69999999999993},"HS290",{"$f":"ROUND(CONVERT('Backend Calcs Standard'!K5,\"in\",\"mm\"),0)","v":1524},{"$f":"ROUND((CONVERT('Backend Calcs Standard'!L5,\"ft\",\"m\")),3)","v":1.524},{"$f":"ROUND(CONVERT('Backend Calcs Standard'!M5,\"in\",\"mm\"),0)","v":2553},{"$f":"ROUND((CONVERT('Backend Calcs Standard'!N5,\"ft\",\"m\")),3)","v":2.5529999999999999},{"$f":"M5+U5","v":2769},109,{"$f":"ROUND((CONVERT('Backend Calcs Standard'!P5,\"ft\",\"m\")),3)","v":2.7690000000000001},{"$f":"ROUND((CONVERT('Backend Calcs Standard'!Q5,\"in\",\"mm\")),3)","v":1226.82},48.3,{"$f":"ROUND((CONVERT('Backend Calcs Standard'!R5,\"ft\",\"m\")),3)","v":1.2270000000000001},{"$f":"ROUND(CONVERT('Backend Calcs Standard'!S5,\"in\",\"mm\"),0)","v":216},{"$f":"ROUND((CONVERT('Backend Calcs Standard'!T5,\"ft\",\"m\")),3)","v":0.216},8.5,{"$f":"ROUND((CONVERT('Backend Calcs Standard'!V5,\"in\",\"mm\")),3)","v":1127.76},32.4,{"$f":"ROUND((CONVERT('Backend Calcs Standard'!W5,\"in\",\"mm\")),3)","v":822.96},{"$f":"ROUND((CONVERT('Backend Calcs Standard'!X5,\"ft\",\"m\")),3)","v":0.82299999999999995}]
[null,"Number of endcaps",{"$f":"'Stage-Storage (Metric)'!E5","v":10},null,null,"System Width",{"$f":"IF(C4=\"HS180\",((G4*M4+U4*(G4-1))),IF(C4=\"HS75\",((G4*M3+U3*(G4-1))),IF(C4=\"HS290\",(G4*M5+U5*(G4-1)),(G4*M2+U2*(G4-1)))))","v":10388},"mm",{"$f":"CONVERT(G6,\"mm\",\"in\")","v":408.97637795275591}]
[null,"Stone Voids (Porosity)",{"$f":"'Stage-Storage (Metric)'!E6","v":0.4},null,null,"System Area",{"$f":"$G$6*$G$5","v":124196642.63999999},"sq. mm",{"$f":"ROUND(CONVERT(G7,\"mm2\",\"in2\"),0)","v":192505}]
[null,"Base of stone Elevation",{"$f":"'Stage-Storage (Metric)'!E7","v":0},"m",{"$f":"ROUND(CONVERT(C8,\"m\",\"ft\"),1)","v":0},"Trench Length",{"$f":"IF(C4=\"HS180\",$G$5+304.8,IF(C4=\"HS75\",$G$5+609.6,IF(C4=\"HS290\",G5+304.8,G5+609.6)))","v":12260.579999999998},"mm"]
[null,"Stone Below",{"$f":"'Stage-Storage (Metric)'!E8","v":230},"mm",{"$f":"ROUND(CONVERT(C9,\"mm\",\"in\"),0)","v":9},"Trench Width",{"$f":"IF(C4=\"HS180\",$G$6+609.6,IF(C4=\"HS75\",$G$6+609.6,IF(C4=\"HS290\",G6+609.6,G6+609.6)))","v":10997.6},"mm"]
[null,"Stone Above",{"$f":"'Stage-Storage (Metric)'!E9","v":300},"mm",{"$f":"ROUND(CONVERT(C10,\"mm\",\"in\"),0)","v":12},"Trench Area",{"$f":"G8*G9","v":134836954.60799998},"sq. mm",null,null,null,null,null,null,null,null,null,null,null,null,{"$f":"((IF($C$4=\"HS180\",$U$4*1,IF($C$4=\"HS75\",$U$3*1,IF($C$4=\"HS290\",$U$5*1,$U$2*1))))/12)*(($G$5/12)/12*$C$7)","v":351.47779166666663}]
[1,"Perimeter?",{"$f":"IF(A11=1, \"Yes\", \"No\")","v":"Yes"},null,null,null,null,null,null,null,null,"Perimeter:",{"$f":"(($J$12*144)-$I$7)/1728*$C$7","v":5.3053240740740746},"cu.ft",null,"Conversions"]
[1,"Standard/Metric","Metric",null,null,"Trench Area",{"$f":"ROUND(G10/1000000,0)","v":135},"sq. m","Real Area",{"$f":"ROUND(CONVERT(C15,\"m2\",\"ft2\"),0)","v":1496},"sq.ft",null,null,null,null,"in -> in/m",{"$f":"IF(A12=1,1,0.0254)","v":1},null,null,null,null,null,null,null,null,"Perimeter","Standard or Metric"]
[null,"Total System Height",{"$f":"(VLOOKUP(C4,J1:K5,2,FALSE))+C9+C10","v":1673},"mm",{"$f":"ROUND(CONVERT(C13,\"mm\",\"in\"),0)","v":66},"System Area",{"$f":"ROUND(G7/1000000,0)","v":124},"sq. m",null,null,null,"1 cu.ft =",2.83168E-2,"cu.m",null,"ft2 -> ft2/m2",{"$f":"IF(A12=1,1,1/10.7639)","v":1},null,null,null,null,null,null,null,null,"Yes","Standard"]
[null,"Chamber Height",{"$f":"IF(C4=\"HS75\",K3,IF(C4=\"HS180\",K4,IF(C4=\"HS290\",K5,K2)))","v":1143},"mm",{"$f":"CONVERT(C14,\"mm\",\"in\")","v":45},null,null,null,null,null,null,null,null,null,null,null,null,null,null,null,null,null,null,null,null,"No","Metric"]
[null,"Real Area",{"$f":"IF($A$11=1,'Stage-Storage (Metric)'!D11,'Stage-Storage (Metric)'!D11)","v":139},"m",{"$f":"ROUND(CONVERT(C15,\"m\",\"ft\"),1)","v":456},"Area must be greater than:",null,{"$f":"IF(A11=1,CONCATENATE(G12,\" \",H12),\" \")","v":"135 sq. m"},null,null,null,null,null,null,null,null,null,null,"1 chamber","1 endcap","mult chamber","mult endcap"]
[null,"Slice Name (in)","HS180 Chamber Storage/Slice (ft3/in)","HS180 End Cap Storage/Slice (ft3/in)","HS75 Chamber Storage/Slice (ft3/in)","HS75 End Cap Storage/Slice (ft3/in)","HS290 Chamber Storage/Slice (ft3/in)","HS290 End Cap Storage/Slice (ft3/in)","HS31 Chamber Storage/Slice (ft3/in)","HS31 End Cap Storage/Slice (ft3/in)",null,null,null,null,"Elevation (inches)","System Height (in)","Position Marker","Chamber Slice Name","Incr. Single Chamber Storage","Incr. Single End Cap Storage","Incr. Total Chamber Storage","Incr. Total End Cap Storage","Stone Void Storage at this Slice","Total Incremental CH,EC, & STONE","Cumulative System Storage (cu.ft)","Elevation","Incremental Chamber Stone Void Volume","Incremental End Cap Stone Void Volume"]
[null,1,{"$f":"('Backend Calcs Standard'!C17)","v":0.182731481481481},{"$f":"('Backend Calcs Standard'!D17)","v":0},{"$f":"('Backend Calcs Standard'!E17)","v":0.12497685185185185},{"$f":"('Backend Calcs Standard'!F17)","v":0},{"$f":"('Backend Calcs Standard'!G17)","v":0},{"$f":"('Backend Calcs Standard'!H17)","v":0},{"$f":"('Backend Calcs Standard'!I17)","v":5.74E-2},{"$f":"('Backend Calcs Standard'!J17)","v":1.6999999999999999E-3},null,null,null,null,{"$f":"IF(P17=\"\",\"\",IF(P17=0,$E$8,($E$8+P17/100)))","v":0.66},{"$f":"ROUNDUP(E13,0)","v":66},{"$f":"IF(P17=\"\",\"\",IF($A$4=1,IF($E$13-P17<$E$10,(\"ABOVE\"), IF($E$9<P17,(\"CHAM\"),\"BELOW\")),IF($E$13-P17<$E$10,(\"ABOVE\"), IF($E$9<P17,(\"CHAM\"),\"BELOW\"))))","v":"ABOVE"},{"$f":"IF(P17=\"\",\"\",IF(Q17=\"ABOVE\",0,IF(Q17=\"BELOW\",0,IF(R16>=1,R16+1,1))))","v":0},{"$f":"IF(R17=\"\",\"\",(IF(R17=0,0,VLOOKUP(R17,$B$17:$J$132,IF($C$4=\"HS180\",2,IF(C$4=\"HS75\",4,IF(C$4=\"HS290\",6,IF(C$4=\"HS31\",8))))))))","v":0},{"$f":"IF(R17=\"\",\"\",(IF(R17=0,0,VLOOKUP(R17,$B$17:$J$132,IF($C$4=\"HS180\",3,IF(C$4=\"HS75\",5,IF(C$4=\"HS290\",7,9)))))))","v":0},{"$f":"IF(S17=\"\",\"\",S17*$C$5)","v":0},{"$f":"IF(T17=\"\",\"\",T17*$C$6)","v":0},{"$f":"MAX(IF($A$11=2,IF(P17=0,0,(IF(Q17=\"\",\"\",(AA17*$C$5)+(AB17*$C$6)))),IF(P17=0,0,(IF(Q17=\"\",\"\",(AA17*$C$5)+(AB17*$C$6)+$M$11))))-((((IF($C$4=\"HS180\",$W$4*1,IF($C$4=\"HS75\",$W$3*1,IF($C$4=\"HS290\",$W$5*1,$W$2*1))))/144)*($I$5/12)))*$C$7,0)","v":49.869282407407397},{"$f":"IF(P17=\"\",\"\",(U17+V17+W17))","v":49.869282407407397},{"$f":"IF(P18=\"\",0,(Y18+X17))","v":5086.9404861111161},{"$f":"IF(P17=\"\",\"\",(IF(P17=0,$E$8,(P17*(1/12)+$E$8))))","v":5.5},{"$f":"IF(P17=\"\",\"\",(IF($C$4=\"HS180\",((($P$4*$S$4)/1728)-S17)*($C$7),(IF($C$4=\"HS75\",((($P$3*$S$3)/1728)-S17)*($C$7),(IF($C$4=\"HS290\",((($P$5*$S$5)/1728)-S17)*($C$7),((($P$2*$S$2)/1728)-S17)*($C$7))))))))","v":1.6349166666666666},{"$f":"IF(P17=\"\",\"\",(IF($C$4=\"HS180\",((($P$4*$Y$4)/1728)-T17)*($C$7),(IF($C$4=\"HS75\",((($P$3*$Y$3)/1728)-T17)*($C$7),(IF($C$4=\"HS290\",((($P$5*$Y$5)/1728)-T17)*($C$7),((($P$2*$Y$2)/1728)-T17)*($C$7))))))))","v":0.42358333333333342}]
[null,2,{"$f":"('Backend Calcs Standard'!C18)","v":0.31384259259259262},{"$f":"('Backend Calcs Standard'!D18)","v":9.9999999999997868E-3},{"$f":"('Backend Calcs Standard'!E18)","v":0.30066550925925922},{"$f":"('Backend Calcs Standard'!F18)","v":0.01},{"$f":"('Backend Calcs Standard'!G18)","v":7.0000000000000007E-2},{"$f":"('Backend Calcs Standard'!H18)","v":0.02},{"$f":"('Backend Calcs Standard'!I18)","v":0.20680000000000001},{"$f":"('Backend Calcs Standard'!J18)","v":6.0000000000000001E-3},null,null,null,null,{"$f":"IF(P18=\"\",\"\",IF(P18=0,$E$8,($E$8+P18/100)))","v":0.65},{"$f":"IF(P17=\"\",\"\",IF(P17-1>=0,P17-1,\"\"))","v":65},{"$f":"IF(P18=\"\",\"\",IF($A$4=1,IF($E$13-P18<$E$10,(\"ABOVE\"), IF($E$9<P18,(\"CHAM\"),\"BELOW\")),IF($E$13-P18<$E$10,(\"ABOVE\"), IF($E$9<P18,(\"CHAM\"),\"BELOW\"))))","v":"ABOVE"},0,{"$f":"IF(R18=\"\",\"\",(IF(R18=0,0,VLOOKUP(R18,$B$17:$J$132,IF($C$4=\"HS180\",2,IF(C$4=\"HS75\",4,IF(C$4=\"HS290\",6,IF(C$4=\"HS31\",8))))))))","v":0},{"$f":"IF(R18=\"\",\"\",(IF(R18=0,0,VLOOKUP(R18,$B$17:$J$132,IF($C$4=\"HS180\",3,IF(C$4=\"HS75\",5,IF(C$4=\"HS290\",7,9)))))))","v":0},{"$f":"IF(S18=\"\",\"\",S18*$C$5)","v":0},{"$f":"IF(T18=\"\",\"\",T18*$C$6)","v":0},{"$f":"MAX(IF($A$11=2,IF(P18=0,0,(IF(Q18=\"\",\"\",(AA18*$C$5)+(AB18*$C$6)))),IF(P18=0,0,(IF(Q18=\"\",\"\",(AA18*$C$5)+(AB18*$C$6)+$M$11))))-((((IF($C$4=\"HS180\",$W$4*1,IF($C$4=\"HS75\",$W$3*1,IF($C$4=\"HS290\",$W$5*1,$W$2*1))))/144)*($I$5/12)))*$C$7,0)","v":49.869282407407397},{"$f":"IF(P18=\"\",\"\",(U18+V18+W18))","v":49.869282407407397},{"$f":"IF(P19=\"\",0,(Y19+X18))","v":5037.0712037037083},{"$f":"IF(P18=\"\",\"\",(IF(P18=0,$E$8,(P18*(1/12)+$E$8))))","v":5.4166666666666661},{"$f":"IF(P18=\"\",\"\",(IF($C$4=\"HS180\",((($P$4*$S$4)/1728)-S18)*($C$7),(IF($C$4=\"HS75\",((($P$3*$S$3)/1728)-S18)*($C$7),(IF($C$4=\"HS290\",((($P$5*$S$5)/1728)-S18)*($C$7),((($P$2*$S$2)/1728)-S18)*($C$7))))))))","v":1.6349166666666666},{"$f":"IF(P18=\"\",\"\",(IF($C$4=\"HS180\",((($P$4*$Y$4)/1728)-T18)*($C$7),(IF($C$4=\"HS75\",((($P$3*$Y$3)/1728)-T18)*($C$7),(IF($C$4=\"HS290\",((($P$5*$Y$5)/1728)-T18)*($C$7),((($P$2*$Y$2)/1728)-T18)*($C$7))))))))","v":0.42358333333333342}]
[null,3,{"$f":"('Backend Calcs Standard'!C19)","v":0.44235532407407402},{"$f":"('Backend Calcs Standard'!D19)","v":3.0000000000001137E-2},{"$f":"('Backend Calcs Standard'!E19)","v":0.61634259259259261},{"$f":"('Backend Calcs Standard'!F19)","v":0.02},{"$f":"('Backend Calcs Standard'!G19)","v":0.18},{"$f":"('Backend Calcs Standard'!H19)","v":0.04},{"$f":"('Backend Calcs Standard'!I19)","v":0.37159999999999999},{"$f":"('Backend Calcs Standard'!J19)","v":1.24E-2},null,null,null,null,0.64,{"$f":"IF(P18=\"\",\"\",IF(P18-1>=0,P18-1,\"\"))","v":64},"ABOVE",0,0,0,{"$f":"IF(S19=\"\",\"\",S19*$C$5)","v":0},{"$f":"IF(T19=\"\",\"\",T19*$C$6)","v":0},49.869282407407397,49.869282407407397,4987.2019212963005,5.333333333333333,1.6349166666666666,0.42358333333333342]
[null,4,{"$f":"('Backend Calcs Standard'!C20)","v":0.62631365740740741},{"$f":"('Backend Calcs Standard'!D20)","v":4.9999999999998934E-2},{"$f":"('Backend Calcs Standard'!E20)","v":0.85162037037037031},{"$f":"('Backend Calcs Standard'!F20)","v":0.03},{"$f":"('Backend Calcs Standard'!G20)","v":0.27},{"$f":"('Backend Calcs Standard'!H20)","v":7.0000000000000007E-2},{"$f":"('Backend Calcs Standard'!I20)","v":0.62239999999999995},{"$f":"('Backend Calcs Standard'!J20)","v":1.7299999999999999E-2},null,null,null,null,0.63,63,"ABOVE",0,0,0,0,0,49.869282407407397,49.869282407407397,4937.3326388888927,5.25,1.6349166666666666,0.42358333333333342]
[null,5,{"$f":"('Backend Calcs Standard'!C21)","v":1.0240046296296297},{"$f":"('Backend Calcs Standard'!D21)","v":7.0000000000000284E-2},{"$f":"('Backend Calcs Standard'!E21)","v":1.011556712962963},{"$f":"('Backend Calcs Standard'!F21)","v":0.04},{"$f":"('Backend Calcs Standard'!G21)","v":0.35},{"$f":"('Backend Calcs Standard'!H21)","v":0.09},{"$f":"('Backend Calcs Standard'!I21)","v":0.7732},{"$f":"('Backend Calcs Standard'!J21)","v":2.1499999999999998E-2},null,null,null,null,0.62,62,"ABOVE",0,0,0,0,0,49.869282407407397,49.869282407407397,4887.4633564814849,5.1666666666666661,1.6349166666666666,0.42358333333333342]
[null,6,{"$f":"('Backend Calcs Standard'!C22)","v":1.2720486111111111},{"$f":"('Backend Calcs Standard'!D22)","v":8.0000000000000071E-2},{"$f":"('Backend Calcs Standard'!E22)","v":1.1383796296296296},{"$f":"('Backend Calcs Standard'!F22)","v":0.05},{"$f":"('Backend Calcs Standard'!G22)","v":0.46},{"$f":"('Backend Calcs Standard'!H22)","v":0.11},{"$f":"('Backend Calcs Standard'!I22)","v":0.8871},{"$f":"('Backend Calcs Standard'!J22)","v":2.5100000000000001E-2},null,null,null,null,0.61,61,"ABOVE",0,0,0,0,0,49.869282407407397,49.869282407407397,4837.5940740740771,5.083333333333333,1.6349166666666666,0.42358333333333342]
[null,7,{"$f":"('Backend Calcs Standard'!C23)","v":1.4614930555555556},{"$f":"('Backend Calcs Standard'!D23)","v":9.9999999999999645E-2},{"$f":"('Backend Calcs Standard'!E23)","v":1.2436747685185185},{"$f":"('Backend Calcs Standard'!F23)","v":0.06},{"$f":"('Backend Calcs Standard'!G23)","v":0.72},{"$f":"('Backend Calcs Standard'!H23)","v":0.14000000000000001},{"$f":"('Backend Calcs Standard'!I23)","v":0.97760000000000002},{"$f":"('Backend Calcs Standard'!J23)","v":2.8400000000000002E-2},null,null,null,null,0.6,60,"ABOVE",0,0,0,0,0,49.869282407407397,49.869282407407397,4787.7247916666693,5,1.6349166666666666,0.42358333333333342]
[null,8,{"$f":"('Backend Calcs Standard'!C24)","v":1.6197048611111111},{"$f":"('Backend Calcs Standard'!D24)","v":0.12000000000000099},{"$f":"('Backend Calcs Standard'!E24)","v":1.3330324074074074},{"$f":"('Backend Calcs Standard'!F24)","v":0.06},{"$f":"('Backend Calcs Standard'!G24)","v":0.91},{"$f":"('Backend Calcs Standard'!H24)","v":0.18},{"$f":"('Backend Calcs Standard'!I24)","v":1.0532999999999999},{"$f":"('Backend Calcs Standard'!J24)","v":3.1300000000000001E-2},null,null,null,null,0.59,59,"ABOVE",0,0,0,0,0,49.869282407407397,49.869282407407397,4737.8555092592615,4.9166666666666661,1.6349166666666666,0.42358333333333342]
[null,9,{"$f":"('Backend Calcs Standard'!C25)","v":1.7567418981481482},{"$f":"('Backend Calcs Standard'!D25)","v":0.14999999999999858},{"$f":"('Backend Calcs Standard'!E25)","v":1.4107581018518518},{"$f":"('Backend Calcs Standard'!F25)","v":7.0000000000000007E-2},{"$f":"('Backend Calcs Standard'!G25)","v":1.04},{"$f":"('Backend Calcs Standard'!H25)","v":0.2},{"$f":"('Backend Calcs Standard'!I25)","v":1.1151},{"$f":"('Backend Calcs Standard'!J25)","v":3.4000000000000002E-2},null,null,null,null,0.57999999999999996,58,"ABOVE",0,0,0,0,0,49.869282407407397,49.869282407407397,4687.9862268518536,4.833333333333333,1.6349166666666666,0.42358333333333342]
[null,10,{"$f":"('Backend Calcs Standard'!C26)","v":1.8778587962962963},{"$f":"('Backend Calcs Standard'!D26)","v":0.16000000000000014},{"$f":"('Backend Calcs Standard'!E26)","v":1.4812094907407409},{"$f":"('Backend Calcs Standard'!F26)","v":0.08},{"$f":"('Backend Calcs Standard'!G26)","v":1.1499999999999999},{"$f":"('Backend Calcs Standard'!H26)","v":0.24},{"$f":"('Backend Calcs Standard'!I26)","v":1.1637999999999999},{"$f":"('Backend Calcs Standard'!J26)","v":3.6400000000000002E-2},null,null,null,null,0.56999999999999995,57,"ABOVE",0,0,0,0,0,49.869282407407397,49.869282407407397,4638.1169444444458,4.75,1.6349166666666666,0.42358333333333342]
[null,11,{"$f":"('Backend Calcs Standard'!C27)","v":1.9862442129629629},{"$f":"('Backend Calcs Standard'!D27)","v":0.16999999999999993},{"$f":"('Backend Calcs Standard'!E27)","v":1.546875},{"$f":"('Backend Calcs Standard'!F27)","v":0.08},{"$f":"('Backend Calcs Standard'!G27)","v":1.24},{"$f":"('Backend Calcs Standard'!H27)","v":0.28000000000000003},{"$f":"('Backend Calcs Standard'!I27)","v":1.2051000000000001},{"$f":"('Backend Calcs Standard'!J27)","v":3.8600000000000002E-2},null,null,null,null,0.56000000000000005,56,"ABOVE",0,0,0,0,0,49.869282407407397,49.869282407407397,4588.247662037038,4.6666666666666661,1.6349166666666666,0.42358333333333342]
[null,12,{"$f":"('Backend Calcs Standard'!C28)","v":2.0839756944444443},{"$f":"('Backend Calcs Standard'!D28)","v":0.19000000000000128},{"$f":"('Backend Calcs Standard'!E28)","v":1.6081597222222224},{"$f":"('Backend Calcs Standard'!F28)","v":0.09},{"$f":"('Backend Calcs Standard'!G28)","v":1.32},{"$f":"('Backend Calcs Standard'!H28)","v":0.32},{"$f":"('Backend Calcs Standard'!I28)","v":1.2406999999999999},{"$f":"('Backend Calcs Standard'!J28)","v":4.07E-2},null,null,null,null,0.55000000000000004,55,"ABOVE",0,0,0,0,0,49.869282407407397,49.869282407407397,4538.3783796296302,4.583333333333333,1.6349166666666666,0.42358333333333342]
[null,13,{"$f":"('Backend Calcs Standard'!C29)","v":2.1730324074074074},{"$f":"('Backend Calcs Standard'!D29)","v":0.19999999999999929},{"$f":"('Backend Calcs Standard'!E29)","v":1.6653125},{"$f":"('Backend Calcs Standard'!F29)","v":0.1},{"$f":"('Backend Calcs Standard'!G29)","v":1.4},{"$f":"('Backend Calcs Standard'!H29)","v":0.34},{"$f":"('Backend Calcs Standard'!I29)","v":1.2757000000000001},{"$f":"('Backend Calcs Standard'!J29)","v":4.2599999999999999E-2},null,null,null,null,0.54,54,"CHAM",1,0.182731481481481,0,4.5682870370370248,0,48.041967592592592,52.610254629629615,4488.5090972222224,4.5,1.5618240740740743,0.42358333333333342]
[null,14,{"$f":"('Backend Calcs Standard'!C30)","v":2.255271990740741},{"$f":"('Backend Calcs Standard'!D30)","v":0.22000000000000064},{"$f":"('Backend Calcs Standard'!E30)","v":1.7185648148148147},{"$f":"('Backend Calcs Standard'!F30)","v":0.1},{"$f":"('Backend Calcs Standard'!G30)","v":1.46},{"$f":"('Backend Calcs Standard'!H30)","v":0.37},{"$f":"('Backend Calcs Standard'!I30)","v":1.3090999999999999},{"$f":"('Backend Calcs Standard'!J30)","v":4.4400000000000002E-2},null,null,null,null,0.53,53,"CHAM",2,0.31384259259259262,9.9999999999997868E-3,7.8460648148148158,9.9999999999997868E-2,46.690856481481475,54.636921296296286,4435.8988425925927,4.4166666666666661,1.5093796296296296,0.41958333333333347]
[null,15,{"$f":"('Backend Calcs Standard'!C31)","v":2.3325810185185185},{"$f":"('Backend Calcs Standard'!D31)","v":0.22999999999999865},{"$f":"('Backend Calcs Standard'!E31)","v":1.7681539351851852},{"$f":"('Backend Calcs Standard'!F31)","v":0.11},{"$f":"('Backend Calcs Standard'!G31)","v":1.53},{"$f":"('Backend Calcs Standard'!H31)","v":0.39},{"$f":"('Backend Calcs Standard'!I31)","v":1.3422000000000001},{"$f":"('Backend Calcs Standard'!J31)","v":4.6300000000000001E-2},null,null,null,null,0.52,52,"CHAM",3,0.44235532407407402,3.0000000000001137E-2,11.058883101851851,0.30000000000001137,45.325729166666662,56.684612268518521,4381.2619212962964,4.333333333333333,1.4579745370370372,0.41158333333333297]
[null,16,{"$f":"('Backend Calcs Standard'!C32)","v":2.4059143518518518},{"$f":"('Backend Calcs Standard'!D32)","v":0.25},{"$f":"('Backend Calcs Standard'!E32)","v":1.8142476851851852},{"$f":"('Backend Calcs Standard'!F32)","v":0.11},{"$f":"('Backend Calcs Standard'!G32)","v":1.58},{"$f":"('Backend Calcs Standard'!H32)","v":0.42},{"$f":"('Backend Calcs Standard'!I32)","v":1.3717999999999999},{"$f":"('Backend Calcs Standard'!J32)","v":4.2299999999999997E-2},null,null,null,null,0.51,51,"CHAM",{"$f":"IF(P32=\"\",\"\",IF(Q32=\"ABOVE\",0,IF(Q32=\"BELOW\",0,IF(R31>=1,R31+1,1))))","v":4},0.62631365740740741,4.9999999999998934E-2,15.657841435185185,0.49999999999998934,43.406145833333326,59.563987268518503,4324.577309027778,4.25,1.3843912037037036,0.40358333333333385]
[null,17,{"$f":"('Backend Calcs Standard'!C33)","v":2.4755092592592596},{"$f":"('Backend Calcs Standard'!D33)","v":0.27000000000000135},{"$f":"('Backend Calcs Standard'!E33)","v":1.8546585648148148},{"$f":"('Backend Calcs Standard'!F33)","v":0.12},{"$f":"('Backend Calcs Standard'!G33)","v":1.63},{"$f":"('Backend Calcs Standard'!H33)","v":0.44},null,null,null,null,null,null,0.5,50,"CHAM",5,1.0240046296296297,7.0000000000000284E-2,25.60011574074074,0.70000000000000284,39.349236111111104,65.649351851851847,4265.0133217592593,4.1666666666666661,1.2253148148148147,0.39558333333333329]
[null,18,{"$f":"('Backend Calcs Standard'!C34)","v":2.5415509259259261},{"$f":"('Backend Calcs Standard'!D34)","v":0.27999999999999936},{"$f":"('Backend Calcs Standard'!E34)","v":1.8971180555555553},{"$f":"('Backend Calcs Standard'!F34)","v":0.12},{"$f":"('Backend Calcs Standard'!G34)","v":1.69},{"$f":"('Backend Calcs Standard'!H34)","v":0.48},null,null,null,null,null,null,0.49,49,"CHAM",6,1.2720486111111111,8.0000000000000071E-2,31.801215277777779,0.80000000000000071,36.828796296296296,69.430011574074086,4199.3639699074074,4.083333333333333,1.1260972222222223,0.39158333333333339]
[null,19,{"$f":"('Backend Calcs Standard'!C35)","v":2.6042245370370374},{"$f":"('Backend Calcs Standard'!D35)","v":0.30000000000000071},{"$f":"('Backend Calcs Standard'!E35)","v":1.9348958333333333},{"$f":"('Backend Calcs Standard'!F35)","v":0.12},{"$f":"('Backend Calcs Standard'!G35)","v":1.73},{"$f":"('Backend Calcs Standard'!H35)","v":0.51},null,null,null,null,null,null,0.48,48,"CHAM",7,1.4614930555555556,9.9999999999999645E-2,36.537326388888893,0.99999999999999645,34.854351851851852,72.391678240740731,4129.9339583333331,4,1.0503194444444444,0.38358333333333355]
[null,20,{"$f":"('Backend Calcs Standard'!C36)","v":2.6636284722222223},{"$f":"('Backend Calcs Standard'!D36)","v":0.31999999999999851},{"$f":"('Backend Calcs Standard'!E36)","v":1.9703414351851851},{"$f":"('Backend Calcs Standard'!F36)","v":0.13},{"$f":"('Backend Calcs Standard'!G36)","v":1.78},{"$f":"('Backend Calcs Standard'!H36)","v":0.53},null,null,null,null,null,null,0.47,47,"CHAM",8,1.6197048611111111,0.12000000000000099,40.492621527777779,1.2000000000000099,33.192233796296286,74.884855324074067,4057.5422800925926,3.9166666666666665,0.98703472222222222,0.37558333333333299]
[null,21,{"$f":"('Backend Calcs Standard'!C37)","v":2.7199305555555555},{"$f":"('Backend Calcs Standard'!D37)","v":0.33000000000000007},{"$f":"('Backend Calcs Standard'!E37)","v":2.0035069444444442},{"$f":"('Backend Calcs Standard'!F37)","v":0.13},{"$f":"('Backend Calcs Standard'!G37)","v":1.81},{"$f":"('Backend Calcs Standard'!H37)","v":0.56000000000000005},null,null,null,null,null,null,0.46,46,"CHAM",9,1.7567418981481482,0.14999999999999858,43.918547453703702,1.4999999999999858,31.701863425925932,77.120410879629617,3982.6574247685185,3.833333333333333,0.93221990740740734,0.36358333333333398]
[null,22,{"$f":"('Backend Calcs Standard'!C38)","v":2.7732696759259259},{"$f":"('Backend Calcs Standard'!D38)","v":0.35000000000000142},{"$f":"('Backend Calcs Standard'!E38)","v":2.0344907407407407},{"$f":"('Backend Calcs Standard'!F38)","v":0.13},{"$f":"('Backend Calcs Standard'!G38)","v":1.85},{"$f":"('Backend Calcs Standard'!H38)","v":0.57999999999999996},null,null,null,null,null,null,0.45,45,"CHAM",10,1.8778587962962963,0.16000000000000014,46.946469907407405,1.6000000000000014,30.450694444444448,78.99716435185185,{"$f":"IF(P38=\"\",\"\",IF(P38=0,0,(Y39+X38)))","v":3905.5370138888889},3.75,0.88377314814814811,0.35958333333333337]
[null,23,{"$f":"('Backend Calcs Standard'!C39)","v":2.8236979166666667},{"$f":"('Backend Calcs Standard'!D39)","v":0.36999999999999922},{"$f":"('Backend Calcs Standard'!E39)","v":2.0639699074074076},{"$f":"('Backend Calcs Standard'!F39)","v":0.14000000000000001},{"$f":"('Backend Calcs Standard'!G39)","v":1.89},{"$f":"('Backend Calcs Standard'!H39)","v":0.6},null,null,null,null,null,null,0.44,44,"CHAM",11,1.9862442129629629,0.16999999999999993,49.656105324074076,1.6999999999999993,29.326840277777777,80.682945601851856,3826.5398495370368,3.6666666666666665,0.84041898148148142,0.35558333333333342]
[null,24,{"$f":"('Backend Calcs Standard'!C40)","v":2.8713541666666664},{"$f":"('Backend Calcs Standard'!D40)","v":0.36999999999999922},{"$f":"('Backend Calcs Standard'!E40)","v":2.0925752314814812},{"$f":"('Backend Calcs Standard'!F40)","v":0.14000000000000001},{"$f":"('Backend Calcs Standard'!G40)","v":1.92},{"$f":"('Backend Calcs Standard'!H40)","v":0.62},null,null,null,null,null,null,0.43,43,"CHAM",12,2.0839756944444443,0.19000000000000128,52.099392361111107,1.9000000000000128,28.269525462962964,82.26891782407408,3745.8569039351851,3.583333333333333,0.80132638888888885,0.34758333333333291]
[null,25,{"$f":"('Backend Calcs Standard'!C41)","v":2.9163078703703706},{"$f":"('Backend Calcs Standard'!D41)","v":0.40000000000000036},{"$f":"('Backend Calcs Standard'!E41)","v":2.1211458333333333},{"$f":"('Backend Calcs Standard'!F41)","v":0.14000000000000001},{"$f":"('Backend Calcs Standard'!G41)","v":1.95},{"$f":"('Backend Calcs Standard'!H41)","v":0.65},null,null,null,null,null,null,0.42,42,"CHAM",13,2.1730324074074074,0.19999999999999929,54.325810185185183,1.9999999999999929,27.338958333333338,83.664768518518514,3663.5879861111111,3.5,0.76570370370370355,0.34358333333333368]
[null,26,{"$f":"('Backend Calcs Standard'!C42)","v":2.9644386574074075},{"$f":"('Backend Calcs Standard'!D42)","v":0.41000000000000014},{"$f":"('Backend Calcs Standard'!E42)","v":2.1489930555555556},{"$f":"('Backend Calcs Standard'!F42)","v":0.14000000000000001},{"$f":"('Backend Calcs Standard'!G42)","v":1.98},{"$f":"('Backend Calcs Standard'!H42)","v":0.67},null,null,null,null,null,null,0.41,41,"CHAM",14,2.255271990740741,0.22000000000000064,56.381799768518526,2.2000000000000064,26.436562499999994,85.01836226851853,3579.9232175925927,3.4166666666666665,0.73280787037037021,0.33558333333333312]
[null,27,{"$f":"('Backend Calcs Standard'!C43)","v":2.9983912037037039},{"$f":"('Backend Calcs Standard'!D43)","v":0.41999999999999993},{"$f":"('Backend Calcs Standard'!E43)","v":2.1754224537037037},{"$f":"('Backend Calcs Standard'!F43)","v":0.14000000000000001},{"$f":"('Backend Calcs Standard'!G43)","v":2.0099999999999998},{"$f":"('Backend Calcs Standard'!H43)","v":0.69},null,null,null,null,null,null,0.4,40,"CHAM",15,2.3325810185185185,0.22999999999999865,58.314525462962962,2.2999999999999865,25.62347222222223,86.237997685185178,3494.9048553240741,3.333333333333333,0.70188425925925912,0.33158333333333395]
[null,28,{"$f":"('Backend Calcs Standard'!C44)","v":3.0355381944444444},{"$f":"('Backend Calcs Standard'!D44)","v":0.44000000000000128},{"$f":"('Backend Calcs Standard'!E44)","v":2.2011342592592591},{"$f":"('Backend Calcs Standard'!F44)","v":0.14000000000000001},{"$f":"('Backend Calcs Standard'!G44)","v":2.04},{"$f":"('Backend Calcs Standard'!H44)","v":0.71},null,null,null,null,null,null,0.39,39,"CHAM",16,2.4059143518518518,0.25,60.147858796296291,2.5,24.810138888888893,87.457997685185177,3408.6668576388888,3.25,0.67255092592592591,0.32358333333333339]
[null,29,{"$f":"('Backend Calcs Standard'!C45)","v":3.0707060185185187},{"$f":"('Backend Calcs Standard'!D45)","v":0.44999999999999929},{"$f":"('Backend Calcs Standard'!E45)","v":2.2261458333333333},{"$f":"('Backend Calcs Standard'!F45)","v":0.15},{"$f":"('Backend Calcs Standard'!G45)","v":2.06},{"$f":"('Backend Calcs Standard'!H45)","v":0.73},null,null,null,null,null,null,0.38,38,"CHAM",17,2.4755092592592596,0.27000000000000135,61.887731481481488,2.7000000000000135,24.034189814814809,88.621921296296307,3321.2088599537037,3.1666666666666665,0.64471296296296277,0.31558333333333288]
[null,30,{"$f":"('Backend Calcs Standard'!C46)","v":3.1052256944444445},{"$f":"('Backend Calcs Standard'!D46)","v":0.45999999999999908},null,null,{"$f":"('Backend Calcs Standard'!G46)","v":2.08},{"$f":"('Backend Calcs Standard'!H46)","v":0.75},null,null,null,null,null,null,0.37,37,"CHAM",18,2.5415509259259261,0.27999999999999936,63.538773148148152,2.7999999999999936,23.333773148148151,89.672546296296304,3232.5869386574072,3.083333333333333,0.61829629629629612,0.31158333333333366]
[null,31,{"$f":"('Backend Calcs Standard'!C47)","v":3.1384027777777779},{"$f":"('Backend Calcs Standard'!D47)","v":0.47000000000000064},null,null,{"$f":"('Backend Calcs Standard'!G47)","v":2.1},{"$f":"('Backend Calcs Standard'!H47)","v":0.76},null,null,null,null,null,null,0.36,36,"CHAM",19,2.6042245370370374,0.30000000000000071,65.105613425925938,3.0000000000000071,22.627037037037034,90.732650462962994,3142.9143923611109,3,0.59322685185185164,0.30358333333333309]
[null,32,{"$f":"('Backend Calcs Standard'!C48)","v":3.1705324074074075},{"$f":"('Backend Calcs Standard'!D48)","v":0.49000000000000021},null,null,{"$f":"('Backend Calcs Standard'!G48)","v":2.12},{"$f":"('Backend Calcs Standard'!H48)","v":0.78},null,null,null,null,null,null,0.35,35,"CHAM",20,2.6636284722222223,0.31999999999999851,66.590711805555557,3.1999999999999851,21.952997685185192,91.743709490740741,3052.1817418981477,2.9166666666666665,0.56946527777777767,0.29558333333333398]
[null,33,{"$f":"('Backend Calcs Standard'!C49)","v":3.201701388888889},{"$f":"('Backend Calcs Standard'!D49)","v":0.5},null,null,{"$f":"('Backend Calcs Standard'!G49)","v":2.14},{"$f":"('Backend Calcs Standard'!H49)","v":0.8},null,null,null,null,null,null,0.34,34,"CHAM",21,2.7199305555555555,0.33000000000000007,67.998263888888886,3.3000000000000007,21.349976851851853,92.648240740740732,2960.4380324074068,2.833333333333333,0.54694444444444434,0.29158333333333336]
[null,34,{"$f":"('Backend Calcs Standard'!C50)","v":3.2321354166666669},{"$f":"('Backend Calcs Standard'!D50)","v":0.50999999999999979},null,null,{"$f":"('Backend Calcs Standard'!G50)","v":2.16},{"$f":"('Backend Calcs Standard'!H50)","v":0.81},null,null,null,null,null,null,0.33,33,"CHAM",22,2.7732696759259259,0.35000000000000142,69.331741898148152,3.5000000000000142,20.736585648148143,93.568327546296302,2867.7897916666661,2.75,0.5256087962962962,0.2835833333333328]
[null,35,{"$f":"('Backend Calcs Standard'!C51)","v":3.2612789351851852},{"$f":"('Backend Calcs Standard'!D51)","v":0.52000000000000046},null,null,{"$f":"('Backend Calcs Standard'!G51)","v":2.17},{"$f":"('Backend Calcs Standard'!H51)","v":0.83},null,null,null,null,null,null,0.32,32,"CHAM",23,2.8236979166666667,0.36999999999999922,70.592447916666671,3.6999999999999922,20.152303240740743,94.44475115740741,2774.22146412037,2.6666666666666665,0.50543749999999987,0.27558333333333368]
[null,36,{"$f":"('Backend Calcs Standard'!C52)","v":3.2916435185185184},{"$f":"('Backend Calcs Standard'!D52)","v":0.52999999999999936},null,null,{"$f":"('Backend Calcs Standard'!G52)","v":2.19},{"$f":"('Backend Calcs Standard'!H52)","v":0.84},null,null,null,null,null,null,0.31,31,"CHAM",24,2.8713541666666664,0.36999999999999922,71.783854166666657,3.6999999999999922,19.675740740740746,95.159594907407396,{"$f":"IF(P52=\"\",\"\",IF(P52=0,0,(Y53+X52)))","v":2679.7767129629624},2.583333333333333,0.486375,0.27558333333333368]
[null,37,{"$f":"('Backend Calcs Standard'!C53)","v":3.3206250000000002},{"$f":"('Backend Calcs Standard'!D53)","v":0.54},null,null,{"$f":"('Backend Calcs Standard'!G53)","v":2.2000000000000002},{"$f":"('Backend Calcs Standard'!H53)","v":0.85},null,null,null,null,null,null,0.3,30,"CHAM",{"$f":"IF(P53=\"\",\"\",IF(Q53=\"ABOVE\",0,IF(Q53=\"BELOW\",0,IF(R52>=1,R52+1,1))))","v":25},2.9163078703703706,0.40000000000000036,72.907696759259267,4.0000000000000036,19.106203703703699,96.013900462962965,2584.6171180555548,2.5,0.46839351851851829,0.26358333333333323]
[null,38,{"$f":"('Backend Calcs Standard'!C54)","v":3.3492361111111109},{"$f":"('Backend Calcs Standard'!D54)","v":0.55000000000000071},null,null,{"$f":"('Backend Calcs Standard'!G54)","v":2.21},{"$f":"('Backend Calcs Standard'!H54)","v":0.87},null,null,null,null,null,null,0.28999999999999998,29,"CHAM",26,2.9644386574074075,0.41000000000000014,74.11096643518519,4.1000000000000014,18.584895833333331,96.795862268518519,2488.603217592592,2.4166666666666665,0.44914120370370353,0.25958333333333333]
[null,39,{"$f":"('Backend Calcs Standard'!C55)","v":3.376689814814815},{"$f":"('Backend Calcs Standard'!D55)","v":0.55999999999999961},null,null,{"$f":"('Backend Calcs Standard'!G55)","v":2.23},{"$f":"('Backend Calcs Standard'!H55)","v":0.88},null,null,null,null,null,null,0.28000000000000003,28,"CHAM",27,2.9983912037037039,0.41999999999999993,74.959780092592595,4.1999999999999993,18.205370370370368,97.365150462962958,{"$f":"IF(P55=\"\",\"\",IF(P55=0,0,(Y56+X55)))","v":2391.8073553240733},2.333333333333333,0.43556018518518497,0.25558333333333344]
[null,40,{"$f":"('Backend Calcs Standard'!C56)","v":3.4046990740740739},{"$f":"('Backend Calcs Standard'!D56)","v":0.56000000000000005},null,null,{"$f":"('Backend Calcs Standard'!G56)","v":2.2400000000000002},{"$f":"('Backend Calcs Standard'!H56)","v":0.89},null,null,null,null,null,null,0.27,27,"CHAM",28,3.0355381944444444,0.44000000000000128,75.888454861111114,4.4000000000000128,17.753900462962957,98.04235532407408,{"$f":"IF(P56=\"\",\"\",IF(P56=0,0,(Y57+X56)))","v":2294.4422048611104},2.25,0.42070138888888881,0.24758333333333288]
[null,41,{"$f":"('Backend Calcs Standard'!C57)","v":3.4329108796296293},{"$f":"('Backend Calcs Standard'!D57)","v":0.56999999999999984},null,null,{"$f":"('Backend Calcs Standard'!G57)","v":2.25},{"$f":"('Backend Calcs Standard'!H57)","v":0.9},null,null,null,null,null,null,0.26,26,"CHAM",29,3.0707060185185187,0.44999999999999929,76.767650462962962,4.4999999999999929,17.362222222222226,98.629872685185191,{"$f":"IF(P57=\"\",\"\",IF(P57=0,0,(Y58+X57)))","v":2196.3998495370365},2.1666666666666665,0.40663425925925911,0.24358333333333368]
[null,42,{"$f":"('Backend Calcs Standard'!C58)","v":3.4620428240740742},{"$f":"('Backend Calcs Standard'!D58)","v":0.58000000000000007},null,null,{"$f":"('Backend Calcs Standard'!G58)","v":2.2599999999999998},{"$f":"('Backend Calcs Standard'!H58)","v":0.91},null,null,null,null,null,null,0.25,25,"CHAM",30,3.1052256944444445,0.45999999999999908,77.630642361111114,4.5999999999999908,16.977025462962967,99.207667824074079,2097.7699768518514,2.083333333333333,0.39282638888888877,0.23958333333333376]
[null,43,{"$f":"('Backend Calcs Standard'!C59)","v":3.4899537037037041},{"$f":"('Backend Calcs Standard'!D59)","v":0.58000000000000007},null,null,{"$f":"('Backend Calcs Standard'!G59)","v":2.2799999999999998},{"$f":"('Backend Calcs Standard'!H59)","v":0.92},null,null,null,null,null,null,0.24,24,"CHAM",{"$f":"IF(P59=\"\",\"\",IF(Q59=\"ABOVE\",0,IF(Q59=\"BELOW\",0,IF(R58>=1,R58+1,1))))","v":31},3.1384027777777779,0.47000000000000064,78.460069444444443,4.7000000000000064,16.605254629629627,99.765324074074073,1998.5623090277775,2,0.37955555555555542,0.23558333333333314]
[null,44,{"$f":"('Backend Calcs Standard'!C60)","v":3.5176157407407405},{"$f":"('Backend Calcs Standard'!D60)","v":0.57999999999999996},null,null,{"$f":"('Backend Calcs Standard'!G60)","v":2.29},{"$f":"('Backend Calcs Standard'!H60)","v":0.93},null,null,null,null,null,null,0.23,23,"CHAM",{"$f":"IF(P60=\"\",\"\",IF(Q60=\"ABOVE\",0,IF(Q60=\"BELOW\",0,IF(R59>=1,R59+1,1))))","v":32},3.1705324074074075,0.49000000000000021,79.26331018518519,4.9000000000000021,16.203958333333329,100.36726851851853,1898.7969849537035,1.9166666666666665,0.36670370370370353,0.2275833333333333]
[null,45,{"$f":"('Backend Calcs Standard'!C61)","v":3.545167824074074},{"$f":"('Backend Calcs Standard'!D61)","v":0.59},null,null,{"$f":"('Backend Calcs Standard'!G61)","v":2.2999999999999998},{"$f":"('Backend Calcs Standard'!H61)","v":0.94},null,null,null,null,null,null,0.22,22,"CHAM",33,3.201701388888889,0.5,80.042534722222229,5,15.852268518518516,100.89480324074074,1798.4297164351849,1.8333333333333333,0.35423611111111097,0.22358333333333338]
[null,46,null,null,null,null,{"$f":"('Backend Calcs Standard'!G62)","v":2.31},{"$f":"('Backend Calcs Standard'!H62)","v":0.95},null,null,null,null,null,null,0.21,21,"CHAM",34,3.2321354166666669,0.50999999999999979,80.803385416666671,5.0999999999999979,15.507928240740737,101.4113136574074,1697.5349131944442,1.75,0.34206249999999977,0.21958333333333346]
[null,47,null,null,null,null,{"$f":"('Backend Calcs Standard'!G63)","v":2.3199999999999998},{"$f":"('Backend Calcs Standard'!H63)","v":0.96},null,null,null,null,null,null,0.2,20,"CHAM",35,3.2612789351851852,0.52000000000000046,81.531973379629633,5.2000000000000046,15.176493055555552,101.90846643518519,1596.1235995370369,1.6666666666666665,0.33040509259259249,0.21558333333333321]
[null,48,null,null,null,null,{"$f":"('Backend Calcs Standard'!G64)","v":2.33},{"$f":"('Backend Calcs Standard'!H64)","v":0.97},null,null,null,null,null,null,0.19,19,"CHAM",36,3.2916435185185184,0.52999999999999936,82.291087962962962,5.2999999999999936,14.832847222222226,102.42393518518519,1494.2151331018517,1.5833333333333333,0.31825925925925919,0.21158333333333365]
[null,49,null,null,null,null,{"$f":"('Backend Calcs Standard'!G65)","v":2.35},{"$f":"('Backend Calcs Standard'!H65)","v":0.98},null,null,null,null,null,null,0.18,18,"CHAM",37,3.3206250000000002,0.54,83.015625,5.4,14.503032407407405,102.91865740740741,1391.7911979166665,1.5,0.30666666666666648,0.20758333333333337]
[null,50,null,null,null,null,{"$f":"('Backend Calcs Standard'!G66)","v":2.36},{"$f":"('Backend Calcs Standard'!H66)","v":0.99},null,null,null,null,null,null,0.17,17,"CHAM",38,3.3492361111111109,0.55000000000000071,83.730902777777771,5.5000000000000071,14.176921296296294,103.40782407407407,1288.8725405092591,1.4166666666666665,0.29522222222222222,0.20358333333333312]
[null,51,null,null,null,null,{"$f":"('Backend Calcs Standard'!G67)","v":2.37},{"$f":"('Backend Calcs Standard'!H67)","v":0.99},null,null,null,null,null,null,0.16,16,"CHAM",39,3.376689814814815,0.55999999999999961,84.417245370370381,5.5999999999999961,13.862384259259256,103.87962962962963,1185.464716435185,1.3333333333333333,0.28424074074074052,0.19958333333333356]
[null,52,null,null,null,null,{"$f":"('Backend Calcs Standard'!G68)","v":2.38},{"$f":"('Backend Calcs Standard'!H68)","v":1},null,null,null,null,null,null,0.15,15,"CHAM",40,3.4046990740740739,0.56000000000000005,85.117476851851848,5.6000000000000005,13.582291666666665,104.2997685185185,1081.5850868055554,1.25,0.27303703703703697,0.19958333333333336]
[null,53,null,null,null,null,{"$f":"('Backend Calcs Standard'!G69)","v":2.39},{"$f":"('Backend Calcs Standard'!H69)","v":1.01},null,null,null,null,null,null,0.14000000000000001,14,"CHAM",41,3.4329108796296293,0.56999999999999984,85.822771990740733,5.6999999999999984,13.260173611111112,104.78294560185185,977.28531828703694,1.1666666666666665,0.26175231481481481,0.19558333333333344]
[null,54,null,null,null,null,{"$f":"('Backend Calcs Standard'!G70)","v":2.4},{"$f":"('Backend Calcs Standard'!H70)","v":1.02},null,null,null,null,null,null,0.13,13,"CHAM",42,3.4620428240740742,0.58000000000000007,86.551070601851848,5.8000000000000007,12.928854166666662,105.27992476851851,872.50237268518515,1.0833333333333333,0.25009953703703686,0.19158333333333336]
[null,55,null,null,null,null,{"$f":"('Backend Calcs Standard'!G71)","v":2.41},{"$f":"('Backend Calcs Standard'!H71)","v":1.02},null,null,null,null,null,null,0.12,12,"CHAM",43,3.4899537037037041,0.58000000000000007,87.248842592592595,5.8000000000000007,12.649745370370363,105.69858796296296,767.22244791666662,1,0.23893518518518492,0.19158333333333336]
[null,56,null,null,null,null,{"$f":"('Backend Calcs Standard'!G72)","v":2.42},{"$f":"('Backend Calcs Standard'!H72)","v":1.03},null,null,null,null,null,null,0.11,11,"CHAM",44,3.5176157407407405,0.57999999999999996,87.940393518518505,5.8,12.373125,106.1135185185185,661.52385995370366,0.91666666666666663,0.22787037037037036,0.19158333333333341]
[null,57,null,null,null,null,{"$f":"('Backend Calcs Standard'!G73)","v":2.4300000000000002},{"$f":"('Backend Calcs Standard'!H73)","v":1.03},null,null,null,null,null,null,0.1,10,"CHAM",45,3.545167824074074,0.59,88.629195601851848,5.8999999999999995,12.057604166666666,106.58679976851852,555.41034143518516,0.83333333333333326,0.21684953703703691,0.18758333333333341]
[null,58,null,null,null,null,{"$f":"('Backend Calcs Standard'!G74)","v":2.4500000000000002},{"$f":"('Backend Calcs Standard'!H74)","v":1.04},null,null,null,null,null,null,0.09,9,"BELOW",0,0,0,0,0,49.869282407407397,49.869282407407397,448.82354166666664,0.75,1.6349166666666666,0.42358333333333342]
[null,59,null,null,null,null,{"$f":"('Backend Calcs Standard'!G75)","v":2.46},{"$f":"('Backend Calcs Standard'!H75)","v":1.05},null,null,null,null,null,null,0.08,8,"BELOW",0,0,0,0,0,49.869282407407397,49.869282407407397,398.95425925925923,0.66666666666666663,1.6349166666666666,0.42358333333333342]
[null,60,null,null,null,null,{"$f":"('Backend Calcs Standard'!G76)","v":3.05},{"$f":"('Backend Calcs Standard'!H76)","v":0.92},null,null,null,null,null,null,7.0000000000000007E-2,7,"BELOW",0,0,0,0,0,49.869282407407397,49.869282407407397,349.08497685185182,0.58333333333333326,1.6349166666666666,0.42358333333333342]
[null,61,null,null,null,null,null,null,null,null,null,null,null,null,0.06,6,"BELOW",0,0,0,0,0,49.869282407407397,49.869282407407397,299.21569444444441,0.5,1.6349166666666666,0.42358333333333342]
[null,62,null,null,null,null,null,null,null,null,null,null,null,null,0.05,5,"BELOW",0,0,0,0,0,49.869282407407397,49.869282407407397,249.346412037037,0.41666666666666663,1.6349166666666666,0.42358333333333342]
[null,63,null,null,null,null,null,null,null,null,null,null,null,null,0.04,4,"BELOW",0,0,0,0,0,49.869282407407397,49.869282407407397,199.47712962962959,0.33333333333333331,1.6349166666666666,0.42358333333333342]
[null,64,null,null,null,null,null,null,null,null,null,null,null,null,0.03,3,"BELOW",0,0,0,0,0,49.869282407407397,49.869282407407397,149.60784722222218,0.25,1.6349166666666666,0.42358333333333342]
[null,65,null,null,null,null,null,null,null,null,null,null,null,null,0.02,2,"BELOW",0,0,0,0,0,49.869282407407397,49.869282407407397,99.738564814814794,0.16666666666666666,1.6349166666666666,0.42358333333333342]
[null,66,null,null,null,null,null,null,null,null,null,null,null,null,{"$f":"IF(P82=\"\",\"\",IF(P82=0,$E$8,($E$8+P82/100)))","v":0.01},1,{"$f":"IF(P82=\"\",\"\",IF($A$4=1,IF($E$13-P82<$E$10,(\"ABOVE\"), IF($E$9<P82,(\"CHAM\"),\"BELOW\")),IF($E$13-P82<$E$10,(\"ABOVE\"), IF($E$9<P82,(\"CHAM\"),\"BELOW\"))))","v":"BELOW"},0,{"$f":"IF(R82=\"\",\"\",(IF(R82=0,0,VLOOKUP(R82,$B$17:$J$132,IF($C$4=\"HS180\",2,IF(C$4=\"HS75\",4,IF(C$4=\"HS290\",6,IF(C$4=\"HS31\",8))))))))","v":0},{"$f":"IF(R82=\"\",\"\",(IF(R82=0,0,VLOOKUP(R82,$B$17:$J$132,IF($C$4=\"HS180\",3,IF(C$4=\"HS75\",5,IF(C$4=\"HS290\",7,9)))))))","v":0},0,0,{"$f":"MAX(IF($A$11=2,IF(P82=0,0,(IF(Q82=\"\",\"\",(AA82*$C$5)+(AB82*$C$6)))),IF(P82=0,0,(IF(Q82=\"\",\"\",(AA82*$C$5)+(AB82*$C$6)+$M$11))))-((((IF($C$4=\"HS180\",$W$4*1,IF($C$4=\"HS75\",$W$3*1,IF($C$4=\"HS290\",$W$5*1,$W$2*1))))/144)*($I$5/12)))*$C$7,0)","v":49.869282407407397},{"$f":"IF(P82=\"\",\"\",(U82+V82+W82))","v":49.869282407407397},49.869282407407397,{"$f":"IF(P82=\"\",\"\",(IF(P82=0,$E$8,(P82*(1/12)+$E$8))))","v":8.3333333333333329E-2},{"$f":"IF(P82=\"\",\"\",(IF($C$4=\"HS180\",((($P$4*$S$4)/1728)-S82)*($C$7),(IF($C$4=\"HS75\",((($P$3*$S$3)/1728)-S82)*($C$7),(IF($C$4=\"HS290\",((($P$5*$S$5)/1728)-S82)*($C$7),((($P$2*$S$2)/1728)-S82)*($C$7))))))))","v":1.6349166666666666},{"$f":"IF(P82=\"\",\"\",(IF($C$4=\"HS180\",((($P$4*$Y$4)/1728)-T82)*($C$7),(IF($C$4=\"HS75\",((($P$3*$Y$3)/1728)-T82)*($C$7),(IF($C$4=\"HS290\",((($P$5*$Y$5)/1728)-T82)*($C$7),((($P$2*$Y$2)/1728)-T82)*($C$7))))))))","v":0.42358333333333342}]
[null,67,null,null,null,null,null,null,null,null,null,null,null,null,0,{"$f":"IF(P82=\"\",\"\",IF(P82-1>=0,P82-1,\"\"))","v":0},"BELOW",0,0,0,{"$f":"IF(S83=\"\",\"\",S83*$C$5)","v":0},{"$f":"IF(T83=\"\",\"\",T83*$C$6)","v":0},0,0,0,0,1.6349166666666666,0.42358333333333342]
[null,68,null,null,null,null,null,null,null,null,null,null,null,null,"","","","","","","","",{"$error":"#VALUE!"},"","","","",""]
[null,69,null,null,null,null,null,null,null,null,null,null,null,null,"","","","","","","","",{"$error":"#VALUE!"},"","","","",""]
[null,70,null,null,null,null,null,null,null,null,null,null,null,null,"","","","","","","","",{"$error":"#VALUE!"},"","","","",""]
[null,71,null,null,null,null,null,null,null,null,null,null,null,null,"","","","","","","","",{"$error":"#VALUE!"},"","","","",""]
[null,72,null,null,null,null,null,null,null,null,null,null,null,null,"","","","","","","","",{"$error":"#VALUE!"},"","","","",""]
[null,73,null,null,null,null,null,null,null,null,null,null,null,null,"","","","","","","","",{"$error":"#VALUE!"},"","","","",""]
[null,74,null,null,null,null,null,null,null,null,null,null,null,null,"","","","","","","","",{"$error":"#VALUE!"},"","","","",""]
[null,75,null,null,null,null,null,null,null,null,null,null,null,null,"","","","","","","","",{"$error":"#VALUE!"},"","","","",""]
[null,76,null,null,null,null,null,null,null,null,null,null,null,null,"","","","","","","","",{"$error":"#VALUE!"},"","","","",""]
[null,77,null,null,null,null,null,null,null,null,null,null,null,null,"","","","","","","","",{"$error":"#VALUE!"},"","","","",""]
[null,78,null,null,null,null,null,null,null,null,null,null,null,null,"","","","","","","","",{"$error":"#VALUE!"},"","","","",""]
[null,79,null,null,null,null,null,null,null,null,null,null,null,null,"","","","","","","","",{"$error":"#VALUE!"},"","","","",""]
[null,80,null,null,null,null,null,null,null,null,null,null,null,null,"","","","","","","","",{"$error":"#VALUE!"},"","","","",""]
[null,81,null,null,null,null,null,null,null,null,null,null,null,null,"","","","","","","","",{"$error":"#VALUE!"},"","","","",""]
[null,82,null,null,null,null,null,null,null,null,null,null,null,null,"","","","","","","","",{"$error":"#VALUE!"},"","","","",""]
[null,83,null,null,null,null,null,null,null,null,null,null,null,null,"","","","","","","","",{"$error":"#VALUE!"},"","","","",""]
[null,84,null,null,null,null,null,null,null,null,null,null,null,null,"","","","","","","","",{"$error":"#VALUE!"},"","","","",""]
[null,85,null,null,null,null,null,null,null,null,null,null,null,null,"","","","","","","","",{"$error":"#VALUE!"},"","","","",""]
[null,86,null,null,null,null,null,null,{"$f":"IF(J102=\"\",\"\",IF(J102=0,$C$8,($C$8+J102/100)))","v":""},{"$f":"IFERROR(IF($A$12=1,IF(P101-1>=0, P101-1,\"\"),IF(P101-2.54>=0,P101-2.54,\"\")),\"\")","v":""},{"$f":"IF(J102=\"\",\"\",IF(#REF!-J102<=$C$10/IF($A$12=1,1,10),\"ABOVE\",IF(#REF!-J102<=($C$14+$C$10/IF($A$12=1,1,10)),\"CHAM\",\"BELOW\")))","v":""},{"$f":"IF(J102=\"\",\"\",IF(K102=\"ABOVE\",0,IF(K102=\"BELOW\",0,IF(R101>=1,R101+1,1))))","v":""},{"$f":"IF(L102=\"\",\"\",(IF(L102=0,0,VLOOKUP(L102,$B$17:$F$132,IF($C$4=\"HS180\",2,4),FALSE))))","v":""},{"$f":"IF(L102=\"\",\"\",(IF(L102=0,0,VLOOKUP(L102,$B$17:$F$132,IF($C$4=\"HS180\",3,5),FALSE))))","v":""},"","","",{"$f":"IF(P102=\"\",\"\",IF(Q102=\"ABOVE\",0,IF(Q102=\"BELOW\",0,IF(R101>=1,R101+1,1))))","v":""},"","","","",{"$error":"#VALUE!"},"","","","",""]
[null,87,null,null,null,null,null,null,"",{"$f":"IFERROR(IF($A$12=1,IF(J102-1>=0, J102-1,\"\"),IF(J102-2.54>=0,J102-2.54,\"\")),\"\")","v":""},{"$f":"IF(J103=\"\",\"\",IF(#REF!-J103<=$C$10/IF($A$12=1,1,10),\"ABOVE\",IF(#REF!-J103<=($C$14+$C$10/IF($A$12=1,1,10)),\"CHAM\",\"BELOW\")))","v":""},{"$f":"IF(J103=\"\",\"\",IF(K103=\"ABOVE\",0,IF(K103=\"BELOW\",0,IF(L102>=1,L102+1,1))))","v":""},"","","","","",{"$f":"IF(P103=\"\",\"\",IF(Q103=\"ABOVE\",0,IF(Q103=\"BELOW\",0,IF(R102>=1,R102+1,1))))","v":""},"","","","",{"$error":"#VALUE!"},"","","","",""]
[null,88,null,null,null,null,null,null,"","",{"$f":"IF(J104=\"\",\"\",IF(#REF!-J104<=$C$10/IF($A$12=1,1,10),\"ABOVE\",IF(#REF!-J104<=($C$14+$C$10/IF($A$12=1,1,10)),\"CHAM\",\"BELOW\")))","v":""},"","","","","","","","","","","",{"$error":"#VALUE!"},"","","","",""]
[null,89,null,null,null,null,null,null,"","",{"$f":"IF(J105=\"\",\"\",IF(#REF!-J105<=$C$10/IF($A$12=1,1,10),\"ABOVE\",IF(#REF!-J105<=($C$14+$C$10/IF($A$12=1,1,10)),\"CHAM\",\"BELOW\")))","v":""},"","","","","","","","","","","",{"$error":"#VALUE!"},"","","","",""]
[null,90,null,null,null,null,null,null,"","",{"$f":"IF(J106=\"\",\"\",IF(#REF!-J106<=$C$10/IF($A$12=1,1,10),\"ABOVE\",IF(#REF!-J106<=($C$14+$C$10/IF($A$12=1,1,10)),\"CHAM\",\"BELOW\")))","v":""},"","","","","","","","","","","",{"$error":"#VALUE!"},"","","","",""]
[null,91,null,null,null,null,null,null,"","",{"$f":"IF(J107=\"\",\"\",IF(#REF!-J107<=$C$10/IF($A$12=1,1,10),\"ABOVE\",IF(#REF!-J107<=($C$14+$C$10/IF($A$12=1,1,10)),\"CHAM\",\"BELOW\")))","v":""},"","","","","","","","","","","",{"$error":"#VALUE!"},"","","","",""]
[null,92,null,null,null,null,null,null,"","",{"$f":"IF(J108=\"\",\"\",IF(#REF!-J108<=$C$10/IF($A$12=1,1,10),\"ABOVE\",IF(#REF!-J108<=($C$14+$C$10/IF($A$12=1,1,10)),\"CHAM\",\"BELOW\")))","v":""},"","","","","","","","","","","",{"$error":"#VALUE!"},"","","","",""]
[null,93,null,null,null,null,null,null,"","",{"$f":"IF(J109=\"\",\"\",IF(#REF!-J109<=$C$10/IF($A$12=1,1,10),\"ABOVE\",IF(#REF!-J109<=($C$14+$C$10/IF($A$12=1,1,10)),\"CHAM\",\"BELOW\")))","v":""},"","","","","","","","","","","",{"$error":"#VALUE!"},"","","","",""]
[null,94,null,null,null,null,null,null,"","",{"$f":"IF(J110=\"\",\"\",IF(#REF!-J110<=$C$10/IF($A$12=1,1,10),\"ABOVE\",IF(#REF!-J110<=($C$14+$C$10/IF($A$12=1,1,10)),\"CHAM\",\"BELOW\")))","v":""},"","","","","","","","","","","",{"$error":"#VALUE!"},"","","","",""]
[null,95,null,null,null,null,null,null,"","",{"$f":"IF(J111=\"\",\"\",IF(#REF!-J111<=$C$10/IF($A$12=1,1,10),\"ABOVE\",IF(#REF!-J111<=($C$14+$C$10/IF($A$12=1,1,10)),\"CHAM\",\"BELOW\")))","v":""},"","","","","","","","","","","",{"$error":"#VALUE!"},"","","","",""]
[null,96,null,null,null,null,null,null,"","",{"$f":"IF(J112=\"\",\"\",IF(#REF!-J112<=$C$10/IF($A$12=1,1,10),\"ABOVE\",IF(#REF!-J112<=($C$14+$C$10/IF($A$12=1,1,10)),\"CHAM\",\"BELOW\")))","v":""},"","","","","","","","","","","",{"$error":"#VALUE!"},"","","","",""]
[null,97,null,null,null,null,null,null,"","",{"$f":"IF(J113=\"\",\"\",IF(#REF!-J113<=$C$10/IF($A$12=1,1,10),\"ABOVE\",IF(#REF!-J113<=($C$14+$C$10/IF($A$12=1,1,10)),\"CHAM\",\"BELOW\")))","v":""},"","","","","","","","","","","",{"$error":"#VALUE!"},"","","","",""]
[null,98,null,null,null,null,null,null,"","",{"$f":"IF(J114=\"\",\"\",IF(#REF!-J114<=$C$10/IF($A$12=1,1,10),\"ABOVE\",IF(#REF!-J114<=($C$14+$C$10/IF($A$12=1,1,10)),\"CHAM\",\"BELOW\")))","v":""},"","","","","","","","","","","",{"$error":"#VALUE!"},"","","","",""]
[null,99,null,null,null,null,null,null,"","",{"$f":"IF(J115=\"\",\"\",IF(#REF!-J115<=$C$10/IF($A$12=1,1,10),\"ABOVE\",IF(#REF!-J115<=($C$14+$C$10/IF($A$12=1,1,10)),\"CHAM\",\"BELOW\")))","v":""},"","","","","","","","","","","",{"$error":"#VALUE!"},"","","","",""]
[null,100,null,null,null,null,null,null,"","",{"$f":"IF(J116=\"\",\"\",IF(#REF!-J116<=$C$10/IF($A$12=1,1,10),\"ABOVE\",IF(#REF!-J116<=($C$14+$C$10/IF($A$12=1,1,10)),\"CHAM\",\"BELOW\")))","v":""},"","","","","","","","","","","",{"$error":"#VALUE!"},"","","","",""]
[null,101,null,null,null,null,null,null,"","",{"$f":"IF(J117=\"\",\"\",IF(#REF!-J117<=$C$10/IF($A$12=1,1,10),\"ABOVE\",IF(#REF!-J117<=($C$14+$C$10/IF($A$12=1,1,10)),\"CHAM\",\"BELOW\")))","v":""},"","","","","","",{"$f":"IF(P117=\"\",\"\",IF(Q117=\"ABOVE\",0,IF(Q117=\"BELOW\",0,IF(R116>=1,R116+1,1))))","v":""},"","","","",{"$error":"#VALUE!"},"","","","",""]
[null,102,null,null,null,null,null,null,"","",{"$f":"IF(J118=\"\",\"\",IF(#REF!-J118<=$C$10/IF($A$12=1,1,10),\"ABOVE\",IF(#REF!-J118<=($C$14+$C$10/IF($A$12=1,1,10)),\"CHAM\",\"BELOW\")))","v":""},"","","","","","",{"$f":"IF(P118=\"\",\"\",IF(Q118=\"ABOVE\",0,IF(Q118=\"BELOW\",0,IF(R117>=1,R117+1,1))))","v":""},"","","","",{"$error":"#VALUE!"},"","","","",""]
[null,103,null,null,null,null,null,null,"","",{"$f":"IF(J119=\"\",\"\",IF(#REF!-J119<=$C$10/IF($A$12=1,1,10),\"ABOVE\",IF(#REF!-J119<=($C$14+$C$10/IF($A$12=1,1,10)),\"CHAM\",\"BELOW\")))","v":""},"","","","","","","","","","","",{"$error":"#VALUE!"},"","","","",""]
[null,104,null,null,null,null,null,null,"","",{"$f":"IF(J120=\"\",\"\",IF(#REF!-J120<=$C$10/IF($A$12=1,1,10),\"ABOVE\",IF(#REF!-J120<=($C$14+$C$10/IF($A$12=1,1,10)),\"CHAM\",\"BELOW\")))","v":""},"","","","","","","","","","","",{"$error":"#VALUE!"},"","","","",""]
[null,105,null,null,null,null,null,null,"","",{"$f":"IF(J121=\"\",\"\",IF(#REF!-J121<=$C$10/IF($A$12=1,1,10),\"ABOVE\",IF(#REF!-J121<=($C$14+$C$10/IF($A$12=1,1,10)),\"CHAM\",\"BELOW\")))","v":""},"","","","","","","","","","","",{"$error":"#VALUE!"},"",{"$f":"IF(P121=\"\",\"\",IF(P121=0,0,(Y122+X121)))","v":""},"","",""]
[null,106,null,null,null,null,null,null,"","",{"$f":"IF(J122=\"\",\"\",IF(#REF!-J122<=$C$10/IF($A$12=1,1,10),\"ABOVE\",IF(#REF!-J122<=($C$14+$C$10/IF($A$12=1,1,10)),\"CHAM\",\"BELOW\")))","v":""},"","","","","","","","","","","",{"$error":"#VALUE!"},"","","","",""]
[null,107,null,null,null,null,null,null,"","",{"$f":"IF(J123=\"\",\"\",IF(#REF!-J123<=$C$10/IF($A$12=1,1,10),\"ABOVE\",IF(#REF!-J123<=($C$14+$C$10/IF($A$12=1,1,10)),\"CHAM\",\"BELOW\")))","v":""},"","","","","","","","","","","",{"$error":"#VALUE!"},"","","","",""]
[null,108,null,null,null,null,null,null,"","",{"$f":"IF(J124=\"\",\"\",IF(#REF!-J124<=$C$10/IF($A$12=1,1,10),\"ABOVE\",IF(#REF!-J124<=($C$14+$C$10/IF($A$12=1,1,10)),\"CHAM\",\"BELOW\")))","v":""},"","","","","","","","","","","",{"$error":"#VALUE!"},"","","","",""]
[null,109,null,null,null,null,null,null,"","",{"$f":"IF(J125=\"\",\"\",IF(#REF!-J125<=$C$10/IF($A$12=1,1,10),\"ABOVE\",IF(#REF!-J125<=($C$14+$C$10/IF($A$12=1,1,10)),\"CHAM\",\"BELOW\")))","v":""},"","","","","","","","","","","",{"$error":"#VALUE!"},"","","","",""]
[null,110,null,null,null,null,null,null,"","",{"$f":"IF(J126=\"\",\"\",IF(#REF!-J126<=$C$10/IF($A$12=1,1,10),\"ABOVE\",IF(#REF!-J126<=($C$14+$C$10/IF($A$12=1,1,10)),\"CHAM\",\"BELOW\")))","v":""},"","","","","","","","","","","",{"$error":"#VALUE!"},"","","","",""]
[null,111,null,null,null,null,null,null,"","",{"$f":"IF(J127=\"\",\"\",IF(#REF!-J127<=$C$10/IF($A$12=1,1,10),\"ABOVE\",IF(#REF!-J127<=($C$14+$C$10/IF($A$12=1,1,10)),\"CHAM\",\"BELOW\")))","v":""},"","","","","","","","","","","",{"$error":"#VALUE!"},"","","","",""]
[null,112,null,null,null,null,null,null,"","",{"$f":"IF(J128=\"\",\"\",IF(#REF!-J128<=$C$10/IF($A$12=1,1,10),\"ABOVE\",IF(#REF!-J128<=($C$14+$C$10/IF($A$12=1,1,10)),\"CHAM\",\"BELOW\")))","v":""},"","","","","","","","","","","",{"$error":"#VALUE!"},"","","","",""]
[null,113,null,null,null,null,null,null,"","",{"$f":"IF(J129=\"\",\"\",IF(#REF!-J129<=$C$10/IF($A$12=1,1,10),\"ABOVE\",IF(#REF!-J129<=($C$14+$C$10/IF($A$12=1,1,10)),\"CHAM\",\"BELOW\")))","v":""},"","","","","","","","","","","",{"$error":"#VALUE!"},"","","","",""]
[null,114,null,null,null,null,null,null,"","",{"$f":"IF(J130=\"\",\"\",IF(#REF!-J130<=$C$10/IF($A$12=1,1,10),\"ABOVE\",IF(#REF!-J130<=($C$14+$C$10/IF($A$12=1,1,10)),\"CHAM\",\"BELOW\")))","v":""},"","","","","","",{"$f":"IF(P130=\"\",\"\",IF(Q130=\"ABOVE\",0,IF(Q130=\"BELOW\",0,IF(R129>=1,R129+1,1))))","v":""},"","","","",{"$error":"#VALUE!"},"","","","",""]
[null,115,null,null,null,null,null,null,"","",{"$f":"IF(J131=\"\",\"\",IF(#REF!-J131<=$C$10/IF($A$12=1,1,10),\"ABOVE\",IF(#REF!-J131<=($C$14+$C$10/IF($A$12=1,1,10)),\"CHAM\",\"BELOW\")))","v":""},"","","","","","",{"$f":"IF(P131=\"\",\"\",IF(Q131=\"ABOVE\",0,IF(Q131=\"BELOW\",0,IF(R130>=1,R130+1,1))))","v":""},"","","","",{"$error":"#VALUE!"},"","","","",""]
[null,116,null,null,null,null,null,null,"","",{"$f":"IF(J132=\"\",\"\",IF(#REF!-J132<=$C$10/IF($A$12=1,1,10),\"ABOVE\",IF(#REF!-J132<=($C$14+$C$10/IF($A$12=1,1,10)),\"CHAM\",\"BELOW\")))","v":""},"","","","","","","","","","","",{"$error":"#VALUE!"},"","","","",""]
[null,null,null,null,null,null,null,null,"","",{"$f":"IF(J133=\"\",\"\",IF(#REF!-J133<=$C$10/IF($A$12=1,1,10),\"ABOVE\",IF(#REF!-J133<=($C$14+$C$10/IF($A$12=1,1,10)),\"CHAM\",\"BELOW\")))","v":""},"","","","","","","","","","","",{"$error":"#VALUE!"},"","","","",""]
[null,null,null,null,null,null,null,null,"","",{"$f":"IF(J134=\"\",\"\",IF(#REF!-J134<=$C$10/IF($A$12=1,1,10),\"ABOVE\",IF(#REF!-J134<=($C$14+$C$10/IF($A$12=1,1,10)),\"CHAM\",\"BELOW\")))","v":""},"","","","","","","","","","","",{"$error":"#VALUE!"},"","","","",""]
[null,null,null,null,null,null,null,null,"","",{"$f":"IF(J135=\"\",\"\",IF(#REF!-J135<=$C$10/IF($A$12=1,1,10),\"ABOVE\",IF(#REF!-J135<=($C$14+$C$10/IF($A$12=1,1,10)),\"CHAM\",\"BELOW\")))","v":""},"","","","","","","","","","","",{"$error":"#VALUE!"},"","","","",""]
[null,null,null,null,null,null,null,null,"","",{"$f":"IF(J136=\"\",\"\",IF(#REF!-J136<=$C$10/IF($A$12=1,1,10),\"ABOVE\",IF(#REF!-J136<=($C$14+$C$10/IF($A$12=1,1,10)),\"CHAM\",\"BELOW\")))","v":""},"","","","","","","","","","","",{"$error":"#VALUE!"},"","","","",""]
[null,null,null,null,null,null,null,null,"","",{"$f":"IF(J137=\"\",\"\",IF(#REF!-J137<=$C$10/IF($A$12=1,1,10),\"ABOVE\",IF(#REF!-J137<=($C$14+$C$10/IF($A$12=1,1,10)),\"CHAM\",\"BELOW\")))","v":""},"","","","","","","","","","","",{"$error":"#VALUE!"},"","","","",""]
[null,null,null,null,null,null,null,null,"","",{"$f":"IF(J138=\"\",\"\",IF(#REF!-J138<=$C$10/IF($A$12=1,1,10),\"ABOVE\",IF(#REF!-J138<=($C$14+$C$10/IF($A$12=1,1,10)),\"CHAM\",\"BELOW\")))","v":""},"","","","","","","","","","","",{"$error":"#VALUE!"},"","","","",""]
[null,null,null,null,null,null,null,null,"","",{"$f":"IF(J139=\"\",\"\",IF(#REF!-J139<=$C$10/IF($A$12=1,1,10),\"ABOVE\",IF(#REF!-J139<=($C$14+$C$10/IF($A$12=1,1,10)),\"CHAM\",\"BELOW\")))","v":""},"","","","","","","","","","","",{"$error":"#VALUE!"},"","","","",""]
[null,null,null,null,null,null,null,null,"","",{"$f":"IF(J140=\"\",\"\",IF(#REF!-J140<=$C$10/IF($A$12=1,1,10),\"ABOVE\",IF(#REF!-J140<=($C$14+$C$10/IF($A$12=1,1,10)),\"CHAM\",\"BELOW\")))","v":""},"","","","","","","","","","","",{"$error":"#VALUE!"},"","","","",""]
[null,null,null,null,null,null,null,null,"","",{"$f":"IF(J141=\"\",\"\",IF(#REF!-J141<=$C$10/IF($A$12=1,1,10),\"ABOVE\",IF(#REF!-J141<=($C$14+$C$10/IF($A$12=1,1,10)),\"CHAM\",\"BELOW\")))","v":""},"","","","","","","","","","","",{"$error":"#VALUE!"},"","","","",""]
[null,null,null,null,null,null,null,null,"","",{"$f":"IF(J142=\"\",\"\",IF(#REF!-J142<=$C$10/IF($A$12=1,1,10),\"ABOVE\",IF(#REF!-J142<=($C$14+$C$10/IF($A$12=1,1,10)),\"CHAM\",\"BELOW\")))","v":""},"","","","","","","","","","","",{"$error":"#VALUE!"},"","","","",""]
[null,null,null,null,null,null,null,null,"","",{"$f":"IF(J143=\"\",\"\",IF(#REF!-J143<=$C$10/IF($A$12=1,1,10),\"ABOVE\",IF(#REF!-J143<=($C$14+$C$10/IF($A$12=1,1,10)),\"CHAM\",\"BELOW\")))","v":""},"","","","","","","","","","","",{"$error":"#VALUE!"},"","","","",""]
[null,null,null,null,null,null,null,null,"","",{"$f":"IF(J144=\"\",\"\",IF(#REF!-J144<=$C$10/IF($A$12=1,1,10),\"ABOVE\",IF(#REF!-J144<=($C$14+$C$10/IF($A$12=1,1,10)),\"CHAM\",\"BELOW\")))","v":""},"","","","","","","","","","","",{"$error":"#VALUE!"},"","","","",""]
[null,null,null,null,null,null,null,null,"","",{"$f":"IF(J145=\"\",\"\",IF(#REF!-J145<=$C$10/IF($A$12=1,1,10),\"ABOVE\",IF(#REF!-J145<=($C$14+$C$10/IF($A$12=1,1,10)),\"CHAM\",\"BELOW\")))","v":""},"","","","","","","","","","","",{"$error":"#VALUE!"},"","","","",""]
[null,null,null,null,null,null,null,null,"","",{"$f":"IF(J146=\"\",\"\",IF(#REF!-J146<=$C$10/IF($A$12=1,1,10),\"ABOVE\",IF(#REF!-J146<=($C$14+$C$10/IF($A$12=1,1,10)),\"CHAM\",\"BELOW\")))","v":""},"","","",{"$f":"IF(P146=\"\",\"\",IF(P146=0,$E$8,($E$8+P146/100)))","v":""},"",{"$f":"IF(P146=\"\",\"\",IF($A$4=1,IF($E$13-P146<$E$10,(\"ABOVE\"), IF($E$9<P146,(\"CHAM\"),\"BELOW\")),IF($E$13-P146<$E$10,(\"ABOVE\"), IF($E$9<P146,(\"CHAM\"),\"BELOW\"))))","v":""},"",{"$f":"IF(R146=\"\",\"\",(IF(R146=0,0,VLOOKUP(R146,$B$17:$J$132,IF($C$4=\"HS180\",2,IF(C$4=\"HS75\",4,IF(C$4=\"HS290\",6,IF(C$4=\"HS31\",8))))))))","v":""},{"$f":"IF(R146=\"\",\"\",(IF(R146=0,0,VLOOKUP(R146,$B$17:$J$132,IF($C$4=\"HS180\",3,IF(C$4=\"HS75\",5,IF(C$4=\"HS290\",7,9)))))))","v":""},"","",{"$f":"MAX(IF($A$11=2,IF(P146=0,0,(IF(Q146=\"\",\"\",(AA146*$C$5)+(AB146*$C$6)))),IF(P146=0,0,(IF(Q146=\"\",\"\",(AA146*$C$5)+(AB146*$C$6)+$M$11))))-((((IF($C$4=\"HS180\",$W$4*1,IF($C$4=\"HS75\",$W$3*1,IF($C$4=\"HS290\",$W$5*1,$W$2*1))))/144)*($I$5/12)))*$C$7,0)","v":{"$error":"#VALUE!"}},{"$f":"IF(P146=\"\",\"\",(U146+V146+W146))","v":""},"",{"$f":"IF(P146=\"\",\"\",(IF(P146=0,$E$8,(P146*(1/12)+$E$8))))","v":""},{"$f":"IF(P146=\"\",\"\",(IF($C$4=\"HS180\",((($P$4*$S$4)/1728)-S146)*($C$7),(IF($C$4=\"HS75\",((($P$3*$S$3)/1728)-S146)*($C$7),(IF($C$4=\"HS290\",((($P$5*$S$5)/1728)-S146)*($C$7),((($P$2*$S$2)/1728)-S146)*($C$7))))))))","v":""},{"$f":"IF(P146=\"\",\"\",(IF($C$4=\"HS180\",((($P$4*$Y$4)/1728)-T146)*($C$7),(IF($C$4=\"HS75\",((($P$3*$Y$3)/1728)-T146)*($C$7),(IF($C$4=\"HS290\",((($P$5*$Y$5)/1728)-T146)*($C$7),((($P$2*$Y$2)/1728)-T146)*($C$7))))))))","v":""}]
[null,null,null,null,null,null,null,null,"","",{"$f":"IF(J147=\"\",\"\",IF(#REF!-J147<=$C$10/IF($A$12=1,1,10),\"ABOVE\",IF(#REF!-J147<=($C$14+$C$10/IF($A$12=1,1,10)),\"CHAM\",\"BELOW\")))","v":""},"","","","",{"$f":"IF(P146=\"\",\"\",IF(P146-1>=0,P146-1,\"\"))","v":""},"","","","",{"$f":"IF(S147=\"\",\"\",S147*$C$5)","v":""},{"$f":"IF(T147=\"\",\"\",T147*$C$6)","v":""},{"$error":"#VALUE!"},"","","","",""]
[null,null,null,null,null,null,null,null,"","",{"$f":"IF(J148=\"\",\"\",IF(#REF!-J148<=$C$10/IF($A$12=1,1,10),\"ABOVE\",IF(#REF!-J148<=($C$14+$C$10/IF($A$12=1,1,10)),\"CHAM\",\"BELOW\")))","v":""},"","","","","","","","","","","",{"$error":"#VALUE!"},"","","","",""]
[null,null,null,null,null,null,null,null,"","",{"$f":"IF(J149=\"\",\"\",IF(#REF!-J149<=$C$10/IF($A$12=1,1,10),\"ABOVE\",IF(#REF!-J149<=($C$14+$C$10/IF($A$12=1,1,10)),\"CHAM\",\"BELOW\")))","v":""},"","","","","","","","","","","",{"$error":"#VALUE!"},"","","","",""]
[null,null,null,null,null,null,null,null,"","",{"$f":"IF(J150=\"\",\"\",IF(#REF!-J150<=$C$10/IF($A$12=1,1,10),\"ABOVE\",IF(#REF!-J150<=($C$14+$C$10/IF($A$12=1,1,10)),\"CHAM\",\"BELOW\")))","v":""},"","","","","","","","","","","",{"$error":"#VALUE!"},"","","","",""]
[null,null,null,null,null,null,null,null,"","",{"$f":"IF(J151=\"\",\"\",IF(#REF!-J151<=$C$10/IF($A$12=1,1,10),\"ABOVE\",IF(#REF!-J151<=($C$14+$C$10/IF($A$12=1,1,10)),\"CHAM\",\"BELOW\")))","v":""},"","","","","","","","","","","",{"$error":"#VALUE!"},"","","","",""]
[null,null,null,null,null,null,null,null,"","",{"$f":"IF(J152=\"\",\"\",IF(#REF!-J152<=$C$10/IF($A$12=1,1,10),\"ABOVE\",IF(#REF!-J152<=($C$14+$C$10/IF($A$12=1,1,10)),\"CHAM\",\"BELOW\")))","v":""},"","","","","","","","","","","",{"$error":"#VALUE!"},"","","","",""]
[null,null,null,null,null,null,null,null,"","",{"$f":"IF(J153=\"\",\"\",IF(#REF!-J153<=$C$10/IF($A$12=1,1,10),\"ABOVE\",IF(#REF!-J153<=($C$14+$C$10/IF($A$12=1,1,10)),\"CHAM\",\"BELOW\")))","v":""},"","","","","","","","","","","",{"$error":"#VALUE!"},"","","","",""]
[null,null,null,null,null,null,null,null,"","",{"$f":"IF(J154=\"\",\"\",IF(#REF!-J154<=$C$10/IF($A$12=1,1,10),\"ABOVE\",IF(#REF!-J154<=($C$14+$C$10/IF($A$12=1,1,10)),\"CHAM\",\"BELOW\")))","v":""},"","","","","","","","","","","",{"$error":"#VALUE!"},"","","","",""]
[null,null,null,null,null,null,null,null,"","",{"$f":"IF(J155=\"\",\"\",IF(#REF!-J155<=$C$10/IF($A$12=1,1,10),\"ABOVE\",IF(#REF!-J155<=($C$14+$C$10/IF($A$12=1,1,10)),\"CHAM\",\"BELOW\")))","v":""},"","","","","","","","","","","",{"$error":"#VALUE!"},"","","","",""]
[null,null,null,null,null,null,null,null,"","",{"$f":"IF(J156=\"\",\"\",IF(#REF!-J156<=$C$10/IF($A$12=1,1,10),\"ABOVE\",IF(#REF!-J156<=($C$14+$C$10/IF($A$12=1,1,10)),\"CHAM\",\"BELOW\")))","v":""},"","","","","","","","","","","",{"$error":"#VALUE!"},"","","","",""]
[null,null,null,null,null,null,null,null,"","",{"$f":"IF(J157=\"\",\"\",IF(#REF!-J157<=$C$10/IF($A$12=1,1,10),\"ABOVE\",IF(#REF!-J157<=($C$14+$C$10/IF($A$12=1,1,10)),\"CHAM\",\"BELOW\")))","v":""},"","","","","","","","","","","",{"$error":"#VALUE!"},"","","","",""]
[null,null,null,null,null,null,null,null,"","",{"$f":"IF(J158=\"\",\"\",IF(#REF!-J158<=$C$10/IF($A$12=1,1,10),\"ABOVE\",IF(#REF!-J158<=($C$14+$C$10/IF($A$12=1,1,10)),\"CHAM\",\"BELOW\")))","v":""},"","","","","","","","","","","",{"$error":"#VALUE!"},"","","","",""]
[null,null,null,null,null,null,null,null,"","",{"$f":"IF(J159=\"\",\"\",IF(#REF!-J159<=$C$10/IF($A$12=1,1,10),\"ABOVE\",IF(#REF!-J159<=($C$14+$C$10/IF($A$12=1,1,10)),\"CHAM\",\"BELOW\")))","v":""},"","","","","","","","","","","",{"$error":"#VALUE!"},"","","","",""]
[null,null,null,null,null,null,null,null,"","",{"$f":"IF(J160=\"\",\"\",IF(#REF!-J160<=$C$10/IF($A$12=1,1,10),\"ABOVE\",IF(#REF!-J160<=($C$14+$C$10/IF($A$12=1,1,10)),\"CHAM\",\"BELOW\")))","v":""},"","","","","","","","","","","",{"$error":"#VALUE!"},"","","","",""]
[null,null,null,null,null,null,null,null,"","",{"$f":"IF(J161=\"\",\"\",IF(#REF!-J161<=$C$10/IF($A$12=1,1,10),\"ABOVE\",IF(#REF!-J161<=($C$14+$C$10/IF($A$12=1,1,10)),\"CHAM\",\"BELOW\")))","v":""},"","","","","","","","","","","",{"$error":"#VALUE!"},"","","","",""]
[null,null,null,null,null,null,null,null,"","",{"$f":"IF(J162=\"\",\"\",IF(#REF!-J162<=$C$10/IF($A$12=1,1,10),\"ABOVE\",IF(#REF!-J162<=($C$14+$C$10/IF($A$12=1,1,10)),\"CHAM\",\"BELOW\")))","v":""},"","","","","","","","","","","",{"$error":"#VALUE!"},"","","","",""]
[null,null,null,null,null,null,null,null,"","",{"$f":"IF(J163=\"\",\"\",IF(#REF!-J163<=$C$10/IF($A$12=1,1,10),\"ABOVE\",IF(#REF!-J163<=($C$14+$C$10/IF($A$12=1,1,10)),\"CHAM\",\"BELOW\")))","v":""},"","","","","","","","","","","",{"$error":"#VALUE!"},"","","","",""]
[null,null,null,null,null,null,null,null,"","",{"$f":"IF(J164=\"\",\"\",IF(#REF!-J164<=$C$10/IF($A$12=1,1,10),\"ABOVE\",IF(#REF!-J164<=($C$14+$C$10/IF($A$12=1,1,10)),\"CHAM\",\"BELOW\")))","v":""},"","","","","","","","","","","",{"$error":"#VALUE!"},"","","","",""]
[null,null,null,null,null,null,null,null,"","",{"$f":"IF(J165=\"\",\"\",IF(#REF!-J165<=$C$10/IF($A$12=1,1,10),\"ABOVE\",IF(#REF!-J165<=($C$14+$C$10/IF($A$12=1,1,10)),\"CHAM\",\"BELOW\")))","v":""},"","","","","","","","","","","",{"$error":"#VALUE!"},"","","","",""]
[null,null,null,null,null,null,null,null,{"$f":"IF(J166=\"\",\"\",IF(J166=0,$C$8,($C$8+J166/100)))","v":""},"",{"$f":"IF(J166=\"\",\"\",IF(#REF!-J166<=$C$10/IF($A$12=1,1,10),\"ABOVE\",IF(#REF!-J166<=($C$14+$C$10/IF($A$12=1,1,10)),\"CHAM\",\"BELOW\")))","v":""},"",{"$f":"IF(L166=\"\",\"\",(IF(L166=0,0,VLOOKUP(L166,$B$17:$F$132,IF($C$4=\"HS180\",2,4),FALSE))))","v":""},{"$f":"IF(L166=\"\",\"\",(IF(L166=0,0,VLOOKUP(L166,$B$17:$F$132,IF($C$4=\"HS180\",3,5),FALSE))))","v":""},"","","","","","","","",{"$error":"#VALUE!"},"","","","",""]
[null,null,null,null,null,null,null,null,"",{"$f":"IFERROR(IF($A$12=1,IF(J166-1>=0, J166-1,\"\"),IF(J166-2.54>=0,J166-2.54,\"\")),\"\")","v":""},{"$f":"IF(J167=\"\",\"\",IF(#REF!-J167<=$C$10/IF($A$12=1,1,10),\"ABOVE\",IF(#REF!-J167<=($C$14+$C$10/IF($A$12=1,1,10)),\"CHAM\",\"BELOW\")))","v":""},{"$f":"IF(J167=\"\",\"\",IF(K167=\"ABOVE\",0,IF(K167=\"BELOW\",0,IF(L166>=1,L166+1,1))))","v":""},"","","","","","","","","","",{"$error":"#VALUE!"},"","","","",""]
[null,null,null,null,null,null,null,null,"","",{"$f":"IF(J168=\"\",\"\",IF(#REF!-J168<=$C$10/IF($A$12=1,1,10),\"ABOVE\",IF(#REF!-J168<=($C$14+$C$10/IF($A$12=1,1,10)),\"CHAM\",\"BELOW\")))","v":""},"","","","","","","","","","","",{"$error":"#VALUE!"},"","","","",""]
[null,null,null,null,null,null,null,null,"","",{"$f":"IF(J169=\"\",\"\",IF(#REF!-J169<=$C$10/IF($A$12=1,1,10),\"ABOVE\",IF(#REF!-J169<=($C$14+$C$10/IF($A$12=1,1,10)),\"CHAM\",\"BELOW\")))","v":""},"","","","","","","","","","","",{"$error":"#VALUE!"},"","","","",""]
[null,null,null,null,null,null,null,null,"","",{"$f":"IF(J170=\"\",\"\",IF(#REF!-J170<=$C$10/IF($A$12=1,1,10),\"ABOVE\",IF(#REF!-J170<=($C$14+$C$10/IF($A$12=1,1,10)),\"CHAM\",\"BELOW\")))","v":""},"","","","","","","","","","","",{"$error":"#VALUE!"},"","","","",""]
[null,null,null,null,null,null,null,null,"","",{"$f":"IF(J171=\"\",\"\",IF(#REF!-J171<=$C$10/IF($A$12=1,1,10),\"ABOVE\",IF(#REF!-J171<=($C$14+$C$10/IF($A$12=1,1,10)),\"CHAM\",\"BELOW\")))","v":""},"","","","","","","","","","","",{"$error":"#VALUE!"},"","","","",""]
[null,null,null,null,null,null,null,null,"","",{"$f":"IF(J172=\"\",\"\",IF(#REF!-J172<=$C$10/IF($A$12=1,1,10),\"ABOVE\",IF(#REF!-J172<=($C$14+$C$10/IF($A$12=1,1,10)),\"CHAM\",\"BELOW\")))","v":""},"","","","","","","","","","","",{"$error":"#VALUE!"},"","","","",""]
[null,null,null,null,null,null,null,null,"","",{"$f":"IF(J173=\"\",\"\",IF(#REF!-J173<=$C$10/IF($A$12=1,1,10),\"ABOVE\",IF(#REF!-J173<=($C$14+$C$10/IF($A$12=1,1,10)),\"CHAM\",\"BELOW\")))","v":""},"","","","","","","","","","","",{"$error":"#VALUE!"},"","","","",""]
[null,null,null,null,null,null,null,null,"","",{"$f":"IF(J174=\"\",\"\",IF(#REF!-J174<=$C$10/IF($A$12=1,1,10),\"ABOVE\",IF(#REF!-J174<=($C$14+$C$10/IF($A$12=1,1,10)),\"CHAM\",\"BELOW\")))","v":""},"","","","","","","","","","","",{"$error":"#VALUE!"},"","","","",""]
[null,null,null,null,null,null,null,null,"","",{"$f":"IF(J175=\"\",\"\",IF(#REF!-J175<=$C$10/IF($A$12=1,1,10),\"ABOVE\",IF(#REF!-J175<=($C$14+$C$10/IF($A$12=1,1,10)),\"CHAM\",\"BELOW\")))","v":""},"","","","","","","","","","","",{"$error":"#VALUE!"},"","","","",""]
[null,null,null,null,null,null,null,null,"","",{"$f":"IF(J176=\"\",\"\",IF(#REF!-J176<=$C$10/IF($A$12=1,1,10),\"ABOVE\",IF(#REF!-J176<=($C$14+$C$10/IF($A$12=1,1,10)),\"CHAM\",\"BELOW\")))","v":""},"","","","","","","","","","","",{"$error":"#VALUE!"},"","","","",""]
[null,null,null,null,null,null,null,null,"","",{"$f":"IF(J177=\"\",\"\",IF(#REF!-J177<=$C$10/IF($A$12=1,1,10),\"ABOVE\",IF(#REF!-J177<=($C$14+$C$10/IF($A$12=1,1,10)),\"CHAM\",\"BELOW\")))","v":""},"","","","","","","","","","","",{"$error":"#VALUE!"},"","","","",""]
[null,null,null,null,null,null,null,null,"","",{"$f":"IF(J178=\"\",\"\",IF(#REF!-J178<=$C$10/IF($A$12=1,1,10),\"ABOVE\",IF(#REF!-J178<=($C$14+$C$10/IF($A$12=1,1,10)),\"CHAM\",\"BELOW\")))","v":""},"","","","","","","","","","","",{"$error":"#VALUE!"},"","","","",""]
[null,null,null,null,null,null,null,null,"","",{"$f":"IF(J179=\"\",\"\",IF(#REF!-J179<=$C$10/IF($A$12=1,1,10),\"ABOVE\",IF(#REF!-J179<=($C$14+$C$10/IF($A$12=1,1,10)),\"CHAM\",\"BELOW\")))","v":""},"","","","","","","","","","","",{"$error":"#VALUE!"},"","","","",""]
[null,null,null,null,null,null,null,null,"","",{"$f":"IF(J180=\"\",\"\",IF(#REF!-J180<=$C$10/IF($A$12=1,1,10),\"ABOVE\",IF(#REF!-J180<=($C$14+$C$10/IF($A$12=1,1,10)),\"CHAM\",\"BELOW\")))","v":""},"","","","","","","","","","","",{"$error":"#VALUE!"},"","","","",""]
[null,null,null,null,null,null,null,null,"","",{"$f":"IF(J181=\"\",\"\",IF(#REF!-J181<=$C$10/IF($A$12=1,1,10),\"ABOVE\",IF(#REF!-J181<=($C$14+$C$10/IF($A$12=1,1,10)),\"CHAM\",\"BELOW\")))","v":""},"","","","","","","","","","","",{"$error":"#VALUE!"},"","","","",""]
[null,null,null,null,null,null,null,null,"","",{"$f":"IF(J182=\"\",\"\",IF(#REF!-J182<=$C$10/IF($A$12=1,1,10),\"ABOVE\",IF(#REF!-J182<=($C$14+$C$10/IF($A$12=1,1,10)),\"CHAM\",\"BELOW\")))","v":""},"","","","","","","","","","","",{"$error":"#VALUE!"},"","","","",""]
[null,null,null,null,null,null,null,null,"","",{"$f":"IF(J183=\"\",\"\",IF(#REF!-J183<=$C$10/IF($A$12=1,1,10),\"ABOVE\",IF(#REF!-J183<=($C$14+$C$10/IF($A$12=1,1,10)),\"CHAM\",\"BELOW\")))","v":""},"","","","","","","","","","","",{"$error":"#VALUE!"},"","","","",""]
[null,null,null,null,null,null,null,null,"","",{"$f":"IF(J184=\"\",\"\",IF(#REF!-J184<=$C$10/IF($A$12=1,1,10),\"ABOVE\",IF(#REF!-J184<=($C$14+$C$10/IF($A$12=1,1,10)),\"CHAM\",\"BELOW\")))","v":""},"","","","","","","","","","","",{"$error":"#VALUE!"},"","","","",""]
[null,null,null,null,null,null,null,null,"","",{"$f":"IF(J185=\"\",\"\",IF(#REF!-J185<=$C$10/IF($A$12=1,1,10),\"ABOVE\",IF(#REF!-J185<=($C$14+$C$10/IF($A$12=1,1,10)),\"CHAM\",\"BELOW\")))","v":""},"","","","","","","","","","","",{"$error":"#VALUE!"},"",{"$f":"IF(P185=\"\",\"\",IF(P185=0,0,(Y186+X185)))","v":""},"","",""]
[null,null,null,null,null,null,null,null,"","",{"$f":"IF(J186=\"\",\"\",IF(#REF!-J186<=$C$10/IF($A$12=1,1,10),\"ABOVE\",IF(#REF!-J186<=($C$14+$C$10/IF($A$12=1,1,10)),\"CHAM\",\"BELOW\")))","v":""},"","","","","","","","","","","",{"$error":"#VALUE!"},"","","","",""]
[null,null,null,null,null,null,null,null,"","",{"$f":"IF(J187=\"\",\"\",IF(#REF!-J187<=$C$10/IF($A$12=1,1,10),\"ABOVE\",IF(#REF!-J187<=($C$14+$C$10/IF($A$12=1,1,10)),\"CHAM\",\"BELOW\")))","v":""},"","","","","","","","","","","",{"$error":"#VALUE!"},"","","","",""]
[null,null,null,null,null,null,null,null,"","",{"$f":"IF(J188=\"\",\"\",IF(#REF!-J188<=$C$10/IF($A$12=1,1,10),\"ABOVE\",IF(#REF!-J188<=($C$14+$C$10/IF($A$12=1,1,10)),\"CHAM\",\"BELOW\")))","v":""},"","","","","","","","","","","",{"$error":"#VALUE!"},"","","","",""]
[null,null,null,null,null,null,null,null,"","",{"$f":"IF(J189=\"\",\"\",IF(#REF!-J189<=$C$10/IF($A$12=1,1,10),\"ABOVE\",IF(#REF!-J189<=($C$14+$C$10/IF($A$12=1,1,10)),\"CHAM\",\"BELOW\")))","v":""},"","","","","","","","","","","",{"$error":"#VALUE!"},"","","","",""]
[null,null,null,null,null,null,null,null,"","",{"$f":"IF(J190=\"\",\"\",IF(#REF!-J190<=$C$10/IF($A$12=1,1,10),\"ABOVE\",IF(#REF!-J190<=($C$14+$C$10/IF($A$12=1,1,10)),\"CHAM\",\"BELOW\")))","v":""},"","","","","","","","","","","",{"$error":"#VALUE!"},"","","","",""]
[null,null,null,null,null,null,null,null,"","",{"$f":"IF(J191=\"\",\"\",IF(#REF!-J191<=$C$10/IF($A$12=1,1,10),\"ABOVE\",IF(#REF!-J191<=($C$14+$C$10/IF($A$12=1,1,10)),\"CHAM\",\"BELOW\")))","v":""},"","","","","","","","","","","",{"$error":"#VALUE!"},"","","","",""]
[null,null,null,null,null,null,null,null,"","",{"$f":"IF(J192=\"\",\"\",IF(#REF!-J192<=$C$10/IF($A$12=1,1,10),\"ABOVE\",IF(#REF!-J192<=($C$14+$C$10/IF($A$12=1,1,10)),\"CHAM\",\"BELOW\")))","v":""},"","","","","","","","","","","",{"$error":"#VALUE!"},"","","","",""]
[null,null,null,null,null,null,null,null,"","",{"$f":"IF(J193=\"\",\"\",IF(#REF!-J193<=$C$10/IF($A$12=1,1,10),\"ABOVE\",IF(#REF!-J193<=($C$14+$C$10/IF($A$12=1,1,10)),\"CHAM\",\"BELOW\")))","v":""},"","","","","","","","","","","",{"$error":"#VALUE!"},"","","","",""]
[null,null,null,null,null,null,null,null,"","",{"$f":"IF(J194=\"\",\"\",IF(#REF!-J194<=$C$10/IF($A$12=1,1,10),\"ABOVE\",IF(#REF!-J194<=($C$14+$C$10/IF($A$12=1,1,10)),\"CHAM\",\"BELOW\")))","v":""},"","","","","","","","","","","",{"$error":"#VALUE!"},"","","","",""]
[null,null,null,null,null,null,null,null,"","",{"$f":"IF(J195=\"\",\"\",IF(#REF!-J195<=$C$10/IF($A$12=1,1,10),\"ABOVE\",IF(#REF!-J195<=($C$14+$C$10/IF($A$12=1,1,10)),\"CHAM\",\"BELOW\")))","v":""},"","","","","","",{"$f":"IF(P195=\"\",\"\",IF(Q195=\"ABOVE\",0,IF(Q195=\"BELOW\",0,IF(R194>=1,R194+1,1))))","v":""},"","","","",{"$error":"#VALUE!"},"","","","",""]
[null,null,null,null,null,null,null,null,"","",{"$f":"IF(J196=\"\",\"\",IF(#REF!-J196<=$C$10/IF($A$12=1,1,10),\"ABOVE\",IF(#REF!-J196<=($C$14+$C$10/IF($A$12=1,1,10)),\"CHAM\",\"BELOW\")))","v":""},"","","","","","","","","","","",{"$error":"#VALUE!"},"","","","",""]
[null,null,null,null,null,null,null,null,"","",{"$f":"IF(J197=\"\",\"\",IF(#REF!-J197<=$C$10/IF($A$12=1,1,10),\"ABOVE\",IF(#REF!-J197<=($C$14+$C$10/IF($A$12=1,1,10)),\"CHAM\",\"BELOW\")))","v":""},"","","","","","","","","","","",{"$error":"#VALUE!"},"","","","",""]
[null,null,null,null,null,null,null,null,"","",{"$f":"IF(J198=\"\",\"\",IF(#REF!-J198<=$C$10/IF($A$12=1,1,10),\"ABOVE\",IF(#REF!-J198<=($C$14+$C$10/IF($A$12=1,1,10)),\"CHAM\",\"BELOW\")))","v":""},"","","","","","","","","","","",{"$error":"#VALUE!"},"","","","",""]
[null,null,null,null,null,null,null,null,"","",{"$f":"IF(J199=\"\",\"\",IF(#REF!-J199<=$C$10/IF($A$12=1,1,10),\"ABOVE\",IF(#REF!-J199<=($C$14+$C$10/IF($A$12=1,1,10)),\"CHAM\",\"BELOW\")))","v":""},"","","","","","","","","","","",{"$error":"#VALUE!"},"","","","",""]
[null,null,null,null,null,null,null,null,"","",{"$f":"IF(J200=\"\",\"\",IF(#REF!-J200<=$C$10/IF($A$12=1,1,10),\"ABOVE\",IF(#REF!-J200<=($C$14+$C$10/IF($A$12=1,1,10)),\"CHAM\",\"BELOW\")))","v":""},"","","","","","","","","","","",{"$error":"#VALUE!"},"","","","",""]
[null,null,null,null,null,null,null,null,"","",{"$f":"IF(J201=\"\",\"\",IF(#REF!-J201<=$C$10/IF($A$12=1,1,10),\"ABOVE\",IF(#REF!-J201<=($C$14+$C$10/IF($A$12=1,1,10)),\"CHAM\",\"BELOW\")))","v":""},"","","","","","","","","","","",{"$error":"#VALUE!"},"","","","",""]
[null,null,null,null,null,null,null,null,"","",{"$f":"IF(J202=\"\",\"\",IF(#REF!-J202<=$C$10/IF($A$12=1,1,10),\"ABOVE\",IF(#REF!-J202<=($C$14+$C$10/IF($A$12=1,1,10)),\"CHAM\",\"BELOW\")))","v":""},"","","","","","","","","","","",{"$error":"#VALUE!"},"","","","",""]
[null,null,null,null,null,null,null,null,"","",{"$f":"IF(J203=\"\",\"\",IF(#REF!-J203<=$C$10/IF($A$12=1,1,10),\"ABOVE\",IF(#REF!-J203<=($C$14+$C$10/IF($A$12=1,1,10)),\"CHAM\",\"BELOW\")))","v":""},"","","","","","","","","","","",{"$error":"#VALUE!"},"","","","",""]
[null,null,null,null,null,null,null,null,"","",{"$f":"IF(J204=\"\",\"\",IF(#REF!-J204<=$C$10/IF($A$12=1,1,10),\"ABOVE\",IF(#REF!-J204<=($C$14+$C$10/IF($A$12=1,1,10)),\"CHAM\",\"BELOW\")))","v":""},"","","","","","","","","","","",{"$error":"#VALUE!"},"","","","",""]
[null,null,null,null,null,null,null,null,"","",{"$f":"IF(J205=\"\",\"\",IF(#REF!-J205<=$C$10/IF($A$12=1,1,10),\"ABOVE\",IF(#REF!-J205<=($C$14+$C$10/IF($A$12=1,1,10)),\"CHAM\",\"BELOW\")))","v":""},"","","","","","","","","","","",{"$error":"#VALUE!"},"","","","",""]
[null,null,null,null,null,null,null,null,"","",{"$f":"IF(J206=\"\",\"\",IF(#REF!-J206<=$C$10/IF($A$12=1,1,10),\"ABOVE\",IF(#REF!-J206<=($C$14+$C$10/IF($A$12=1,1,10)),\"CHAM\",\"BELOW\")))","v":""},"","","","","","","","","","","",{"$error":"#VALUE!"},"","","","",""]
[null,null,null,null,null,null,null,null,"","",{"$f":"IF(J207=\"\",\"\",IF(#REF!-J207<=$C$10/IF($A$12=1,1,10),\"ABOVE\",IF(#REF!-J207<=($C$14+$C$10/IF($A$12=1,1,10)),\"CHAM\",\"BELOW\")))","v":""},"","","","","","","","","","","",{"$error":"#VALUE!"},"","","","",""]
[null,null,null,null,null,null,null,null,"","",{"$f":"IF(J208=\"\",\"\",IF(#REF!-J208<=$C$10/IF($A$12=1,1,10),\"ABOVE\",IF(#REF!-J208<=($C$14+$C$10/IF($A$12=1,1,10)),\"CHAM\",\"BELOW\")))","v":""},"","","","","","","","","","","",{"$error":"#VALUE!"},"","","","",""]
[null,null,null,null,null,null,null,null,"","",{"$f":"IF(J209=\"\",\"\",IF(#REF!-J209<=$C$10/IF($A$12=1,1,10),\"ABOVE\",IF(#REF!-J209<=($C$14+$C$10/IF($A$12=1,1,10)),\"CHAM\",\"BELOW\")))","v":""},"","","","","","","","","","","",{"$error":"#VALUE!"},"","","","",""]
[null,null,null,null,null,null,null,null,"","",{"$f":"IF(J210=\"\",\"\",IF(#REF!-J210<=$C$10/IF($A$12=1,1,10),\"ABOVE\",IF(#REF!-J210<=($C$14+$C$10/IF($A$12=1,1,10)),\"CHAM\",\"BELOW\")))","v":""},"","","",{"$f":"IF(P210=\"\",\"\",IF(P210=0,$E$8,($E$8+P210/100)))","v":""},"",{"$f":"IF(P210=\"\",\"\",IF($A$4=1,IF($E$13-P210<$E$10,(\"ABOVE\"), IF($E$9<P210,(\"CHAM\"),\"BELOW\")),IF($E$13-P210<$E$10,(\"ABOVE\"), IF($E$9<P210,(\"CHAM\"),\"BELOW\"))))","v":""},"",{"$f":"IF(R210=\"\",\"\",(IF(R210=0,0,VLOOKUP(R210,$B$17:$J$132,IF($C$4=\"HS180\",2,IF(C$4=\"HS75\",4,IF(C$4=\"HS290\",6,IF(C$4=\"HS31\",8))))))))","v":""},{"$f":"IF(R210=\"\",\"\",(IF(R210=0,0,VLOOKUP(R210,$B$17:$J$132,IF($C$4=\"HS180\",3,IF(C$4=\"HS75\",5,IF(C$4=\"HS290\",7,9)))))))","v":""},"","",{"$f":"MAX(IF($A$11=2,IF(P210=0,0,(IF(Q210=\"\",\"\",(AA210*$C$5)+(AB210*$C$6)))),IF(P210=0,0,(IF(Q210=\"\",\"\",(AA210*$C$5)+(AB210*$C$6)+$M$11))))-((((IF($C$4=\"HS180\",$W$4*1,IF($C$4=\"HS75\",$W$3*1,IF($C$4=\"HS290\",$W$5*1,$W$2*1))))/144)*($I$5/12)))*$C$7,0)","v":{"$error":"#VALUE!"}},{"$f":"IF(P210=\"\",\"\",(U210+V210+W210))","v":""},"",{"$f":"IF(P210=\"\",\"\",(IF(P210=0,$E$8,(P210*(1/12)+$E$8))))","v":""},{"$f":"IF(P210=\"\",\"\",(IF($C$4=\"HS180\",((($P$4*$S$4)/1728)-S210)*($C$7),(IF($C$4=\"HS75\",((($P$3*$S$3)/1728)-S210)*($C$7),(IF($C$4=\"HS290\",((($P$5*$S$5)/1728)-S210)*($C$7),((($P$2*$S$2)/1728)-S210)*($C$7))))))))","v":""},{"$f":"IF(P210=\"\",\"\",(IF($C$4=\"HS180\",((($P$4*$Y$4)/1728)-T210)*($C$7),(IF($C$4=\"HS75\",((($P$3*$Y$3)/1728)-T210)*($C$7),(IF($C$4=\"HS290\",((($P$5*$Y$5)/1728)-T210)*($C$7),((($P$2*$Y$2)/1728)-T210)*($C$7))))))))","v":""}]
[null,null,null,null,null,null,null,null,"","",{"$f":"IF(J211=\"\",\"\",IF(#REF!-J211<=$C$10/IF($A$12=1,1,10),\"ABOVE\",IF(#REF!-J211<=($C$14+$C$10/IF($A$12=1,1,10)),\"CHAM\",\"BELOW\")))","v":""},"","","","",{"$f":"IF(P210=\"\",\"\",IF(P210-1>=0,P210-1,\"\"))","v":""},"","","","",{"$f":"IF(S211=\"\",\"\",S211*$C$5)","v":""},{"$f":"IF(T211=\"\",\"\",T211*$C$6)","v":""},{"$error":"#VALUE!"},"","","","",""]
[null,null,null,null,null,null,null,null,"","",{"$f":"IF(J212=\"\",\"\",IF(#REF!-J212<=$C$10/IF($A$12=1,1,10),\"ABOVE\",IF(#REF!-J212<=($C$14+$C$10/IF($A$12=1,1,10)),\"CHAM\",\"BELOW\")))","v":""},"","","","","","","","","","","",{"$error":"#VALUE!"},"","","","",""]
[null,null,null,null,null,null,null,null,"","",{"$f":"IF(J213=\"\",\"\",IF(#REF!-J213<=$C$10/IF($A$12=1,1,10),\"ABOVE\",IF(#REF!-J213<=($C$14+$C$10/IF($A$12=1,1,10)),\"CHAM\",\"BELOW\")))","v":""},"","","","","","","","","","","",{"$error":"#VALUE!"},"","","","",""]
[null,null,null,null,null,null,null,null,"","",{"$f":"IF(J214=\"\",\"\",IF(#REF!-J214<=$C$10/IF($A$12=1,1,10),\"ABOVE\",IF(#REF!-J214<=($C$14+$C$10/IF($A$12=1,1,10)),\"CHAM\",\"BELOW\")))","v":""},"","","","","","","","","","","",{"$error":"#VALUE!"},"","","","",""]
[null,null,null,null,null,null,null,null,"","",{"$f":"IF(J215=\"\",\"\",IF(#REF!-J215<=$C$10/IF($A$12=1,1,10),\"ABOVE\",IF(#REF!-J215<=($C$14+$C$10/IF($A$12=1,1,10)),\"CHAM\",\"BELOW\")))","v":""},"","","","","","","","","","","",{"$error":"#VALUE!"},"","","","",""]
[null,null,null,null,null,null,null,null,"","",{"$f":"IF(J216=\"\",\"\",IF(#REF!-J216<=$C$10/IF($A$12=1,1,10),\"ABOVE\",IF(#REF!-J216<=($C$14+$C$10/IF($A$12=1,1,10)),\"CHAM\",\"BELOW\")))","v":""},"","","","","","","","","","","",{"$error":"#VALUE!"},"","","","",""]
[null,null,null,null,null,null,null,null,"","",{"$f":"IF(J217=\"\",\"\",IF(#REF!-J217<=$C$10/IF($A$12=1,1,10),\"ABOVE\",IF(#REF!-J217<=($C$14+$C$10/IF($A$12=1,1,10)),\"CHAM\",\"BELOW\")))","v":""},"","","","","","","","","","","",{"$error":"#VALUE!"},"","","","",""]
[null,null,null,null,null,null,null,null,"","",{"$f":"IF(J218=\"\",\"\",IF(#REF!-J218<=$C$10/IF($A$12=1,1,10),\"ABOVE\",IF(#REF!-J218<=($C$14+$C$10/IF($A$12=1,1,10)),\"CHAM\",\"BELOW\")))","v":""},"","","","","","","","","","","",{"$error":"#VALUE!"},"","","","",""]
[null,null,null,null,null,null,null,null,"","",{"$f":"IF(J219=\"\",\"\",IF(#REF!-J219<=$C$10/IF($A$12=1,1,10),\"ABOVE\",IF(#REF!-J219<=($C$14+$C$10/IF($A$12=1,1,10)),\"CHAM\",\"BELOW\")))","v":""},"","","","","","","","","","","",{"$error":"#VALUE!"},"","","","",""]
[null,null,null,null,null,null,null,null,"","",{"$f":"IF(J220=\"\",\"\",IF(#REF!-J220<=$C$10/IF($A$12=1,1,10),\"ABOVE\",IF(#REF!-J220<=($C$14+$C$10/IF($A$12=1,1,10)),\"CHAM\",\"BELOW\")))","v":""},"","","","","","","","","","","",{"$error":"#VALUE!"},"","","","",""]
[null,null,null,null,null,null,null,null,"","",{"$f":"IF(J221=\"\",\"\",IF(#REF!-J221<=$C$10/IF($A$12=1,1,10),\"ABOVE\",IF(#REF!-J221<=($C$14+$C$10/IF($A$12=1,1,10)),\"CHAM\",\"BELOW\")))","v":""},"","","","","","","","","","","",{"$error":"#VALUE!"},"","","","",""]
[null,null,null,null,null,null,null,null,"","",{"$f":"IF(J222=\"\",\"\",IF(#REF!-J222<=$C$10/IF($A$12=1,1,10),\"ABOVE\",IF(#REF!-J222<=($C$14+$C$10/IF($A$12=1,1,10)),\"CHAM\",\"BELOW\")))","v":""},"","","","","","","","","","","",{"$error":"#VALUE!"},"","","","",""]
[null,null,null,null,null,null,null,null,"","",{"$f":"IF(J223=\"\",\"\",IF(#REF!-J223<=$C$10/IF($A$12=1,1,10),\"ABOVE\",IF(#REF!-J223<=($C$14+$C$10/IF($A$12=1,1,10)),\"CHAM\",\"BELOW\")))","v":""},"","","","","","","","","","","",{"$error":"#VALUE!"},"","","","",""]
[null,null,null,null,null,null,null,null,"","",{"$f":"IF(J224=\"\",\"\",IF(#REF!-J224<=$C$10/IF($A$12=1,1,10),\"ABOVE\",IF(#REF!-J224<=($C$14+$C$10/IF($A$12=1,1,10)),\"CHAM\",\"BELOW\")))","v":""},"","","","","","","","","","","",{"$error":"#VALUE!"},"","","","",""]
[null,null,null,null,null,null,null,null,"","",{"$f":"IF(J225=\"\",\"\",IF(#REF!-J225<=$C$10/IF($A$12=1,1,10),\"ABOVE\",IF(#REF!-J225<=($C$14+$C$10/IF($A$12=1,1,10)),\"CHAM\",\"BELOW\")))","v":""},"","","","","","","","","","","",{"$error":"#VALUE!"},"","","","",""]
[null,null,null,null,null,null,null,null,"","",{"$f":"IF(J226=\"\",\"\",IF(#REF!-J226<=$C$10/IF($A$12=1,1,10),\"ABOVE\",IF(#REF!-J226<=($C$14+$C$10/IF($A$12=1,1,10)),\"CHAM\",\"BELOW\")))","v":""},"","","","","","","","","","","",{"$error":"#VALUE!"},"","","","",""]
[null,null,null,null,null,null,null,null,"","",{"$f":"IF(J227=\"\",\"\",IF(#REF!-J227<=$C$10/IF($A$12=1,1,10),\"ABOVE\",IF(#REF!-J227<=($C$14+$C$10/IF($A$12=1,1,10)),\"CHAM\",\"BELOW\")))","v":""},"","","","","","","","","","","",{"$error":"#VALUE!"},"","","","",""]
[null,null,null,null,null,null,null,null,"","",{"$f":"IF(J228=\"\",\"\",IF(#REF!-J228<=$C$10/IF($A$12=1,1,10),\"ABOVE\",IF(#REF!-J228<=($C$14+$C$10/IF($A$12=1,1,10)),\"CHAM\",\"BELOW\")))","v":""},"","","","","","","","","","","",{"$error":"#VALUE!"},"","","","",""]
[null,null,null,null,null,null,null,null,"","",{"$f":"IF(J229=\"\",\"\",IF(#REF!-J229<=$C$10/IF($A$12=1,1,10),\"ABOVE\",IF(#REF!-J229<=($C$14+$C$10/IF($A$12=1,1,10)),\"CHAM\",\"BELOW\")))","v":""},"","","","","","","","","","","",{"$error":"#VALUE!"},"","","","",""]
[null,null,null,null,null,null,null,null,{"$f":"IF(J230=\"\",\"\",IF(J230=0,$C$8,($C$8+J230/100)))","v":""},"",{"$f":"IF(J230=\"\",\"\",IF(#REF!-J230<=$C$10/IF($A$12=1,1,10),\"ABOVE\",IF(#REF!-J230<=($C$14+$C$10/IF($A$12=1,1,10)),\"CHAM\",\"BELOW\")))","v":""},"",{"$f":"IF(L230=\"\",\"\",(IF(L230=0,0,VLOOKUP(L230,$B$17:$F$132,IF($C$4=\"HS180\",2,4),FALSE))))","v":""},{"$f":"IF(L230=\"\",\"\",(IF(L230=0,0,VLOOKUP(L230,$B$17:$F$132,IF($C$4=\"HS180\",3,5),FALSE))))","v":""},"","","","","","","","",{"$error":"#VALUE!"},"","","","",""]
[null,null,null,null,null,null,null,null,"",{"$f":"IFERROR(IF($A$12=1,IF(J230-1>=0, J230-1,\"\"),IF(J230-2.54>=0,J230-2.54,\"\")),\"\")","v":""},{"$f":"IF(J231=\"\",\"\",IF(#REF!-J231<=$C$10/IF($A$12=1,1,10),\"ABOVE\",IF(#REF!-J231<=($C$14+$C$10/IF($A$12=1,1,10)),\"CHAM\",\"BELOW\")))","v":""},{"$f":"IF(J231=\"\",\"\",IF(K231=\"ABOVE\",0,IF(K231=\"BELOW\",0,IF(L230>=1,L230+1,1))))","v":""},"","","","","","","","","","",{"$error":"#VALUE!"},"","","","",""]
[null,null,null,null,null,null,null,null,"","",{"$f":"IF(J232=\"\",\"\",IF(#REF!-J232<=$C$10/IF($A$12=1,1,10),\"ABOVE\",IF(#REF!-J232<=($C$14+$C$10/IF($A$12=1,1,10)),\"CHAM\",\"BELOW\")))","v":""},"","","","","","","","","","","",{"$error":"#VALUE!"},"","","","",""]
[null,null,null,null,null,null,null,null,"","",{"$f":"IF(J233=\"\",\"\",IF(#REF!-J233<=$C$10/IF($A$12=1,1,10),\"ABOVE\",IF(#REF!-J233<=($C$14+$C$10/IF($A$12=1,1,10)),\"CHAM\",\"BELOW\")))","v":""},"","","","","","","","","","","",{"$error":"#VALUE!"},"","","","",""]
[null,null,null,null,null,null,null,null,"","",{"$f":"IF(J234=\"\",\"\",IF(#REF!-J234<=$C$10/IF($A$12=1,1,10),\"ABOVE\",IF(#REF!-J234<=($C$14+$C$10/IF($A$12=1,1,10)),\"CHAM\",\"BELOW\")))","v":""},"","","","","","","","","","","",{"$error":"#VALUE!"},"","","","",""]
[null,null,null,null,null,null,null,null,"","",{"$f":"IF(J235=\"\",\"\",IF(#REF!-J235<=$C$10/IF($A$12=1,1,10),\"ABOVE\",IF(#REF!-J235<=($C$14+$C$10/IF($A$12=1,1,10)),\"CHAM\",\"BELOW\")))","v":""},"","","","","","","","","","","",{"$error":"#VALUE!"},"","","","",""]
[null,null,null,null,null,null,null,null,"","",{"$f":"IF(J236=\"\",\"\",IF(#REF!-J236<=$C$10/IF($A$12=1,1,10),\"ABOVE\",IF(#REF!-J236<=($C$14+$C$10/IF($A$12=1,1,10)),\"CHAM\",\"BELOW\")))","v":""},"","","","","","","","","","","",{"$error":"#VALUE!"},"","","","",""]
[null,null,null,null,null,null,null,null,"","",{"$f":"IF(J237=\"\",\"\",IF(#REF!-J237<=$C$10/IF($A$12=1,1,10),\"ABOVE\",IF(#REF!-J237<=($C$14+$C$10/IF($A$12=1,1,10)),\"CHAM\",\"BELOW\")))","v":""},"","","","","","","","","","","",{"$error":"#VALUE!"},"","","","",""]
[null,null,null,null,null,null,null,null,"","",{"$f":"IF(J238=\"\",\"\",IF(#REF!-J238<=$C$10/IF($A$12=1,1,10),\"ABOVE\",IF(#REF!-J238<=($C$14+$C$10/IF($A$12=1,1,10)),\"CHAM\",\"BELOW\")))","v":""},"","","","","","","","","","","",{"$error":"#VALUE!"},"","","","",""]
[null,null,null,null,null,null,null,null,"","",{"$f":"IF(J239=\"\",\"\",IF(#REF!-J239<=$C$10/IF($A$12=1,1,10),\"ABOVE\",IF(#REF!-J239<=($C$14+$C$10/IF($A$12=1,1,10)),\"CHAM\",\"BELOW\")))","v":""},"","","","","","","","","","","",{"$error":"#VALUE!"},"","","","",""]
[null,null,null,null,null,null,null,null,"","",{"$f":"IF(J240=\"\",\"\",IF(#REF!-J240<=$C$10/IF($A$12=1,1,10),\"ABOVE\",IF(#REF!-J240<=($C$14+$C$10/IF($A$12=1,1,10)),\"CHAM\",\"BELOW\")))","v":""},"","","","","","","","","","","",{"$error":"#VALUE!"},"","","","",""]
[null,null,null,null,null,null,null,null,"","",{"$f":"IF(J241=\"\",\"\",IF(#REF!-J241<=$C$10/IF($A$12=1,1,10),\"ABOVE\",IF(#REF!-J241<=($C$14+$C$10/IF($A$12=1,1,10)),\"CHAM\",\"BELOW\")))","v":""},"","","","","","","","","","","",{"$error":"#VALUE!"},"","","","",""]
[null,null,null,null,null,null,null,null,"","",{"$f":"IF(J242=\"\",\"\",IF(#REF!-J242<=$C$10/IF($A$12=1,1,10),\"ABOVE\",IF(#REF!-J242<=($C$14+$C$10/IF($A$12=1,1,10)),\"CHAM\",\"BELOW\")))","v":""},"","","","","","","","","","","",{"$error":"#VALUE!"},"","","","",""]
[null,null,null,null,null,null,null,null,"","",{"$f":"IF(J243=\"\",\"\",IF(#REF!-J243<=$C$10/IF($A$12=1,1,10),\"ABOVE\",IF(#REF!-J243<=($C$14+$C$10/IF($A$12=1,1,10)),\"CHAM\",\"BELOW\")))","v":""},"","","","","","","","","","","",{"$error":"#VALUE!"},"","","","",""]
[null,null,null,null,null,null,null,null,"","",{"$f":"IF(J244=\"\",\"\",IF(#REF!-J244<=$C$10/IF($A$12=1,1,10),\"ABOVE\",IF(#REF!-J244<=($C$14+$C$10/IF($A$12=1,1,10)),\"CHAM\",\"BELOW\")))","v":""},"","","","","","","","","","","",{"$error":"#VALUE!"},"","","","",""]
[null,null,null,null,null,null,null,null,"","",{"$f":"IF(J245=\"\",\"\",IF(#REF!-J245<=$C$10/IF($A$12=1,1,10),\"ABOVE\",IF(#REF!-J245<=($C$14+$C$10/IF($A$12=1,1,10)),\"CHAM\",\"BELOW\")))","v":""},"","","","","","","","","","","",{"$error":"#VALUE!"},"","","","",""]
[null,null,null,null,null,null,null,null,"","",{"$f":"IF(J246=\"\",\"\",IF(#REF!-J246<=$C$10/IF($A$12=1,1,10),\"ABOVE\",IF(#REF!-J246<=($C$14+$C$10/IF($A$12=1,1,10)),\"CHAM\",\"BELOW\")))","v":""},"","","","","","","","","","","",{"$error":"#VALUE!"},"","","","",""]
[null,null,null,null,null,null,null,null,"","",{"$f":"IF(J247=\"\",\"\",IF(#REF!-J247<=$C$10/IF($A$12=1,1,10),\"ABOVE\",IF(#REF!-J247<=($C$14+$C$10/IF($A$12=1,1,10)),\"CHAM\",\"BELOW\")))","v":""},"","","","","","","","","","","",{"$error":"#VALUE!"},"","","","",""]
[null,null,null,null,null,null,null,null,"","",{"$f":"IF(J248=\"\",\"\",IF(#REF!-J248<=$C$10/IF($A$12=1,1,10),\"ABOVE\",IF(#REF!-J248<=($C$14+$C$10/IF($A$12=1,1,10)),\"CHAM\",\"BELOW\")))","v":""},"","","","","","","","","","","",{"$error":"#VALUE!"},"","","","",""]
[null,null,null,null,null,null,null,null,"","",{"$f":"IF(J249=\"\",\"\",IF(#REF!-J249<=$C$10/IF($A$12=1,1,10),\"ABOVE\",IF(#REF!-J249<=($C$14+$C$10/IF($A$12=1,1,10)),\"CHAM\",\"BELOW\")))","v":""},"","","","","","","","","","","",{"$error":"#VALUE!"},"",{"$f":"IF(P249=\"\",\"\",IF(P249=0,0,(Y250+X249)))","v":""},"","",""]
[null,null,null,null,null,null,null,null,"","",{"$f":"IF(J250=\"\",\"\",IF(#REF!-J250<=$C$10/IF($A$12=1,1,10),\"ABOVE\",IF(#REF!-J250<=($C$14+$C$10/IF($A$12=1,1,10)),\"CHAM\",\"BELOW\")))","v":""},"","","","","","","","","","","",{"$error":"#VALUE!"},"","","","",""]
[null,null,null,null,null,null,null,null,"","",{"$f":"IF(J251=\"\",\"\",IF(#REF!-J251<=$C$10/IF($A$12=1,1,10),\"ABOVE\",IF(#REF!-J251<=($C$14+$C$10/IF($A$12=1,1,10)),\"CHAM\",\"BELOW\")))","v":""},"","","","","","","","","","","",{"$error":"#VALUE!"},"","","","",""]
[null,null,null,null,null,null,null,null,"","",{"$f":"IF(J252=\"\",\"\",IF(#REF!-J252<=$C$10/IF($A$12=1,1,10),\"ABOVE\",IF(#REF!-J252<=($C$14+$C$10/IF($A$12=1,1,10)),\"CHAM\",\"BELOW\")))","v":""},"","","","","","","","","","","",{"$error":"#VALUE!"},"","","","",""]
[null,null,null,null,null,null,null,null,"","",{"$f":"IF(J253=\"\",\"\",IF(#REF!-J253<=$C$10/IF($A$12=1,1,10),\"ABOVE\",IF(#REF!-J253<=($C$14+$C$10/IF($A$12=1,1,10)),\"CHAM\",\"BELOW\")))","v":""},"","","","","","","","","","","",{"$error":"#VALUE!"},"","","","",""]
[null,null,null,null,null,null,null,null,"","",{"$f":"IF(J254=\"\",\"\",IF(#REF!-J254<=$C$10/IF($A$12=1,1,10),\"ABOVE\",IF(#REF!-J254<=($C$14+$C$10/IF($A$12=1,1,10)),\"CHAM\",\"BELOW\")))","v":""},"","","","","","","","","","","",{"$error":"#VALUE!"},"","","","",""]
[null,null,null,null,null,null,null,null,"","",{"$f":"IF(J255=\"\",\"\",IF(#REF!-J255<=$C$10/IF($A$12=1,1,10),\"ABOVE\",IF(#REF!-J255<=($C$14+$C$10/IF($A$12=1,1,10)),\"CHAM\",\"BELOW\")))","v":""},"","","","","","","","","","","",{"$error":"#VALUE!"},"","","","",""]
[null,null,null,null,null,null,null,null,"","",{"$f":"IF(J256=\"\",\"\",IF(#REF!-J256<=$C$10/IF($A$12=1,1,10),\"ABOVE\",IF(#REF!-J256<=($C$14+$C$10/IF($A$12=1,1,10)),\"CHAM\",\"BELOW\")))","v":""},"","","","","","","","","","","",{"$error":"#VALUE!"},"","","","",""]
[null,null,null,null,null,null,null,null,"","",{"$f":"IF(J257=\"\",\"\",IF(#REF!-J257<=$C$10/IF($A$12=1,1,10),\"ABOVE\",IF(#REF!-J257<=($C$14+$C$10/IF($A$12=1,1,10)),\"CHAM\",\"BELOW\")))","v":""},"","","","","","","","","","","",{"$error":"#VALUE!"},"","","","",""]
[null,null,null,null,null,null,null,null,"","",{"$f":"IF(J258=\"\",\"\",IF(#REF!-J258<=$C$10/IF($A$12=1,1,10),\"ABOVE\",IF(#REF!-J258<=($C$14+$C$10/IF($A$12=1,1,10)),\"CHAM\",\"BELOW\")))","v":""},"","","","","","","","","","","",{"$error":"#VALUE!"},"","","","",""]
[null,null,null,null,null,null,null,null,"","",{"$f":"IF(J259=\"\",\"\",IF(#REF!-J259<=$C$10/IF($A$12=1,1,10),\"ABOVE\",IF(#REF!-J259<=($C$14+$C$10/IF($A$12=1,1,10)),\"CHAM\",\"BELOW\")))","v":""},"","","","","","",{"$f":"IF(P259=\"\",\"\",IF(Q259=\"ABOVE\",0,IF(Q259=\"BELOW\",0,IF(R258>=1,R258+1,1))))","v":""},"","","","",{"$error":"#VALUE!"},"","","","",""]
[null,null,null,null,null,null,null,null,"","",{"$f":"IF(J260=\"\",\"\",IF(#REF!-J260<=$C$10/IF($A$12=1,1,10),\"ABOVE\",IF(#REF!-J260<=($C$14+$C$10/IF($A$12=1,1,10)),\"CHAM\",\"BELOW\")))","v":""},"","","","","","","","","","","",{"$error":"#VALUE!"},"","","","",""]
[null,null,null,null,null,null,null,null,"","",{"$f":"IF(J261=\"\",\"\",IF(#REF!-J261<=$C$10/IF($A$12=1,1,10),\"ABOVE\",IF(#REF!-J261<=($C$14+$C$10/IF($A$12=1,1,10)),\"CHAM\",\"BELOW\")))","v":""},"","","","","","","","","","","",{"$error":"#VALUE!"},"","","","",""]
[null,null,null,null,null,null,null,null,"","",{"$f":"IF(J262=\"\",\"\",IF(#REF!-J262<=$C$10/IF($A$12=1,1,10),\"ABOVE\",IF(#REF!-J262<=($C$14+$C$10/IF($A$12=1,1,10)),\"CHAM\",\"BELOW\")))","v":""},"","","","","","","","","","","",{"$error":"#VALUE!"},"","","","",""]
[null,null,null,null,null,null,null,null,"","",{"$f":"IF(J263=\"\",\"\",IF(#REF!-J263<=$C$10/IF($A$12=1,1,10),\"ABOVE\",IF(#REF!-J263<=($C$14+$C$10/IF($A$12=1,1,10)),\"CHAM\",\"BELOW\")))","v":""},"","","","","","","","","","","",{"$error":"#VALUE!"},"","","","",""]
[null,null,null,null,null,null,null,null,"","",{"$f":"IF(J264=\"\",\"\",IF(#REF!-J264<=$C$10/IF($A$12=1,1,10),\"ABOVE\",IF(#REF!-J264<=($C$14+$C$10/IF($A$12=1,1,10)),\"CHAM\",\"BELOW\")))","v":""},"","","","","","","","","","","",{"$error":"#VALUE!"},"","","","",""]
[null,null,null,null,null,null,null,null,"","",{"$f":"IF(J265=\"\",\"\",IF(#REF!-J265<=$C$10/IF($A$12=1,1,10),\"ABOVE\",IF(#REF!-J265<=($C$14+$C$10/IF($A$12=1,1,10)),\"CHAM\",\"BELOW\")))","v":""},"","","","","","","","","","","",{"$error":"#VALUE!"},"","","","",""]
[null,null,null,null,null,null,null,null,"","",{"$f":"IF(J266=\"\",\"\",IF(#REF!-J266<=$C$10/IF($A$12=1,1,10),\"ABOVE\",IF(#REF!-J266<=($C$14+$C$10/IF($A$12=1,1,10)),\"CHAM\",\"BELOW\")))","v":""},"","","","","","","","","","","",{"$error":"#VALUE!"},"","","","",""]
[null,null,null,null,null,null,null,null,"","",{"$f":"IF(J267=\"\",\"\",IF(#REF!-J267<=$C$10/IF($A$12=1,1,10),\"ABOVE\",IF(#REF!-J267<=($C$14+$C$10/IF($A$12=1,1,10)),\"CHAM\",\"BELOW\")))","v":""},"","","","","","","","","","","",{"$error":"#VALUE!"},"","","","",""]
[null,null,null,null,null,null,null,null,"","",{"$f":"IF(J268=\"\",\"\",IF(#REF!-J268<=$C$10/IF($A$12=1,1,10),\"ABOVE\",IF(#REF!-J268<=($C$14+$C$10/IF($A$12=1,1,10)),\"CHAM\",\"BELOW\")))","v":""},"","","","","","","","","","","",{"$error":"#VALUE!"},"","","","",""]
[null,null,null,null,null,null,null,null,"","",{"$f":"IF(J269=\"\",\"\",IF(#REF!-J269<=$C$10/IF($A$12=1,1,10),\"ABOVE\",IF(#REF!-J269<=($C$14+$C$10/IF($A$12=1,1,10)),\"CHAM\",\"BELOW\")))","v":""},"","","","","","","","","","","",{"$error":"#VALUE!"},"","","","",""]
[null,null,null,null,null,null,null,null,"","",{"$f":"IF(J270=\"\",\"\",IF(#REF!-J270<=$C$10/IF($A$12=1,1,10),\"ABOVE\",IF(#REF!-J270<=($C$14+$C$10/IF($A$12=1,1,10)),\"CHAM\",\"BELOW\")))","v":""},"","","","","","","","","","","",{"$error":"#VALUE!"},"","","","",""]
[null,null,null,null,null,null,null,null,"","",{"$f":"IF(J271=\"\",\"\",IF(#REF!-J271<=$C$10/IF($A$12=1,1,10),\"ABOVE\",IF(#REF!-J271<=($C$14+$C$10/IF($A$12=1,1,10)),\"CHAM\",\"BELOW\")))","v":""},"","","","","","","","","","","",{"$error":"#VALUE!"},"","","","",""]
[null,null,null,null,null,null,null,null,"","",{"$f":"IF(J272=\"\",\"\",IF(#REF!-J272<=$C$10/IF($A$12=1,1,10),\"ABOVE\",IF(#REF!-J272<=($C$14+$C$10/IF($A$12=1,1,10)),\"CHAM\",\"BELOW\")))","v":""},"","","","","","","","","","","",{"$error":"#VALUE!"},"","","","",""]
[null,null,null,null,null,null,null,null,"","",{"$f":"IF(J273=\"\",\"\",IF(#REF!-J273<=$C$10/IF($A$12=1,1,10),\"ABOVE\",IF(#REF!-J273<=($C$14+$C$10/IF($A$12=1,1,10)),\"CHAM\",\"BELOW\")))","v":""},"","","","","","","","","","","",{"$error":"#VALUE!"},"","","","",""]
[null,null,null,null,null,null,null,null,"","",{"$f":"IF(J274=\"\",\"\",IF(#REF!-J274<=$C$10/IF($A$12=1,1,10),\"ABOVE\",IF(#REF!-J274<=($C$14+$C$10/IF($A$12=1,1,10)),\"CHAM\",\"BELOW\")))","v":""},"","","",{"$f":"IF(P274=\"\",\"\",IF(P274=0,$E$8,($E$8+P274/100)))","v":""},"",{"$f":"IF(P274=\"\",\"\",IF($A$4=1,IF($E$13-P274<$E$10,(\"ABOVE\"), IF($E$9<P274,(\"CHAM\"),\"BELOW\")),IF($E$13-P274<$E$10,(\"ABOVE\"), IF($E$9<P274,(\"CHAM\"),\"BELOW\"))))","v":""},"",{"$f":"IF(R274=\"\",\"\",(IF(R274=0,0,VLOOKUP(R274,$B$17:$J$132,IF($C$4=\"HS180\",2,IF(C$4=\"HS75\",4,IF(C$4=\"HS290\",6,IF(C$4=\"HS31\",8))))))))","v":""},{"$f":"IF(R274=\"\",\"\",(IF(R274=0,0,VLOOKUP(R274,$B$17:$J$132,IF($C$4=\"HS180\",3,IF(C$4=\"HS75\",5,IF(C$4=\"HS290\",7,9)))))))","v":""},"","",{"$f":"MAX(IF($A$11=2,IF(P274=0,0,(IF(Q274=\"\",\"\",(AA274*$C$5)+(AB274*$C$6)))),IF(P274=0,0,(IF(Q274=\"\",\"\",(AA274*$C$5)+(AB274*$C$6)+$M$11))))-((((IF($C$4=\"HS180\",$W$4*1,IF($C$4=\"HS75\",$W$3*1,IF($C$4=\"HS290\",$W$5*1,$W$2*1))))/144)*($I$5/12)))*$C$7,0)","v":{"$error":"#VALUE!"}},{"$f":"IF(P274=\"\",\"\",(U274+V274+W274))","v":""},"",{"$f":"IF(P274=\"\",\"\",(IF(P274=0,$E$8,(P274*(1/12)+$E$8))))","v":""},{"$f":"IF(P274=\"\",\"\",(IF($C$4=\"HS180\",((($P$4*$S$4)/1728)-S274)*($C$7),(IF($C$4=\"HS75\",((($P$3*$S$3)/1728)-S274)*($C$7),(IF($C$4=\"HS290\",((($P$5*$S$5)/1728)-S274)*($C$7),((($P$2*$S$2)/1728)-S274)*($C$7))))))))","v":""},{"$f":"IF(P274=\"\",\"\",(IF($C$4=\"HS180\",((($P$4*$Y$4)/1728)-T274)*($C$7),(IF($C$4=\"HS75\",((($P$3*$Y$3)/1728)-T274)*($C$7),(IF($C$4=\"HS290\",((($P$5*$Y$5)/1728)-T274)*($C$7),((($P$2*$Y$2)/1728)-T274)*($C$7))))))))","v":""}]
[null,null,null,null,null,null,null,null,"","",{"$f":"IF(J275=\"\",\"\",IF(#REF!-J275<=$C$10/IF($A$12=1,1,10),\"ABOVE\",IF(#REF!-J275<=($C$14+$C$10/IF($A$12=1,1,10)),\"CHAM\",\"BELOW\")))","v":""},"","","","",{"$f":"IF(P274=\"\",\"\",IF(P274-1>=0,P274-1,\"\"))","v":""},"","","","",{"$f":"IF(S275=\"\",\"\",S275*$C$5)","v":""},{"$f":"IF(T275=\"\",\"\",T275*$C$6)","v":""},{"$error":"#VALUE!"},"","","","",""]
[null,null,null,null,null,null,null,null,"","",{"$f":"IF(J276=\"\",\"\",IF(#REF!-J276<=$C$10/IF($A$12=1,1,10),\"ABOVE\",IF(#REF!-J276<=($C$14+$C$10/IF($A$12=1,1,10)),\"CHAM\",\"BELOW\")))","v":""},"","","","","","","","","","","",{"$error":"#VALUE!"},"","","","",""]
[null,null,null,null,null,null,null,null,"","",{"$f":"IF(J277=\"\",\"\",IF(#REF!-J277<=$C$10/IF($A$12=1,1,10),\"ABOVE\",IF(#REF!-J277<=($C$14+$C$10/IF($A$12=1,1,10)),\"CHAM\",\"BELOW\")))","v":""},"","","","","","","","","","","",{"$error":"#VALUE!"},"","","","",""]
[null,null,null,null,null,null,null,null,"","",{"$f":"IF(J278=\"\",\"\",IF(#REF!-J278<=$C$10/IF($A$12=1,1,10),\"ABOVE\",IF(#REF!-J278<=($C$14+$C$10/IF($A$12=1,1,10)),\"CHAM\",\"BELOW\")))","v":""},"","","","","","","","","","","",{"$error":"#VALUE!"},"","","","",""]
[null,null,null,null,null,null,null,null,"","",{"$f":"IF(J279=\"\",\"\",IF(#REF!-J279<=$C$10/IF($A$12=1,1,10),\"ABOVE\",IF(#REF!-J279<=($C$14+$C$10/IF($A$12=1,1,10)),\"CHAM\",\"BELOW\")))","v":""},"","","","","","","","","","","",{"$error":"#VALUE!"},"","","","",""]
[null,null,null,null,null,null,null,null,"","",{"$f":"IF(J280=\"\",\"\",IF(#REF!-J280<=$C$10/IF($A$12=1,1,10),\"ABOVE\",IF(#REF!-J280<=($C$14+$C$10/IF($A$12=1,1,10)),\"CHAM\",\"BELOW\")))","v":""},"","","","","","","","","","","",{"$error":"#VALUE!"},"","","","",""]
[null,null,null,null,null,null,null,null,"","",{"$f":"IF(J281=\"\",\"\",IF(#REF!-J281<=$C$10/IF($A$12=1,1,10),\"ABOVE\",IF(#REF!-J281<=($C$14+$C$10/IF($A$12=1,1,10)),\"CHAM\",\"BELOW\")))","v":""},"","","","","","","","","","","",{"$error":"#VALUE!"},"","","","",""]
[null,null,null,null,null,null,null,null,"","",{"$f":"IF(J282=\"\",\"\",IF(#REF!-J282<=$C$10/IF($A$12=1,1,10),\"ABOVE\",IF(#REF!-J282<=($C$14+$C$10/IF($A$12=1,1,10)),\"CHAM\",\"BELOW\")))","v":""},"","","","","","","","","","","",{"$error":"#VALUE!"},"","","","",""]
[null,null,null,null,null,null,null,null,"","",{"$f":"IF(J283=\"\",\"\",IF(#REF!-J283<=$C$10/IF($A$12=1,1,10),\"ABOVE\",IF(#REF!-J283<=($C$14+$C$10/IF($A$12=1,1,10)),\"CHAM\",\"BELOW\")))","v":""},"","","","","","","","","","","",{"$error":"#VALUE!"},"","","","",""]
[null,null,null,null,null,null,null,null,"","",{"$f":"IF(J284=\"\",\"\",IF(#REF!-J284<=$C$10/IF($A$12=1,1,10),\"ABOVE\",IF(#REF!-J284<=($C$14+$C$10/IF($A$12=1,1,10)),\"CHAM\",\"BELOW\")))","v":""},"","","","","","","","","","","",{"$error":"#VALUE!"},"","","","",""]
[null,null,null,null,null,null,null,null,"","",{"$f":"IF(J285=\"\",\"\",IF(#REF!-J285<=$C$10/IF($A$12=1,1,10),\"ABOVE\",IF(#REF!-J285<=($C$14+$C$10/IF($A$12=1,1,10)),\"CHAM\",\"BELOW\")))","v":""},"","","","","","","","","","","",{"$error":"#VALUE!"},"","","","",""]
[null,null,null,null,null,null,null,null,"","",{"$f":"IF(J286=\"\",\"\",IF(#REF!-J286<=$C$10/IF($A$12=1,1,10),\"ABOVE\",IF(#REF!-J286<=($C$14+$C$10/IF($A$12=1,1,10)),\"CHAM\",\"BELOW\")))","v":""},"","","","","","","","","","","",{"$error":"#VALUE!"},"","","","",""]
[null,null,null,null,null,null,null,null,"","",{"$f":"IF(J287=\"\",\"\",IF(#REF!-J287<=$C$10/IF($A$12=1,1,10),\"ABOVE\",IF(#REF!-J287<=($C$14+$C$10/IF($A$12=1,1,10)),\"CHAM\",\"BELOW\")))","v":""},"","","","","","","","","","","",{"$error":"#VALUE!"},"","","","",""]
[null,null,null,null,null,null,null,null,"","",{"$f":"IF(J288=\"\",\"\",IF(#REF!-J288<=$C$10/IF($A$12=1,1,10),\"ABOVE\",IF(#REF!-J288<=($C$14+$C$10/IF($A$12=1,1,10)),\"CHAM\",\"BELOW\")))","v":""},"","","","","","","","","","","",{"$error":"#VALUE!"},"","","","",""]
[null,null,null,null,null,null,null,null,"","",{"$f":"IF(J289=\"\",\"\",IF(#REF!-J289<=$C$10/IF($A$12=1,1,10),\"ABOVE\",IF(#REF!-J289<=($C$14+$C$10/IF($A$12=1,1,10)),\"CHAM\",\"BELOW\")))","v":""},"","","","","","","","","","","",{"$error":"#VALUE!"},"","","","",""]
[null,null,null,null,null,null,null,null,"","",{"$f":"IF(J290=\"\",\"\",IF(#REF!-J290<=$C$10/IF($A$12=1,1,10),\"ABOVE\",IF(#REF!-J290<=($C$14+$C$10/IF($A$12=1,1,10)),\"CHAM\",\"BELOW\")))","v":""},"","","","","","","","","","","",{"$error":"#VALUE!"},"","","","",""]
[null,null,null,null,null,null,null,null,"","",{"$f":"IF(J291=\"\",\"\",IF(#REF!-J291<=$C$10/IF($A$12=1,1,10),\"ABOVE\",IF(#REF!-J291<=($C$14+$C$10/IF($A$12=1,1,10)),\"CHAM\",\"BELOW\")))","v":""},"","","","","","","","","","","",{"$error":"#VALUE!"},"","","","",""]
[null,null,null,null,null,null,null,null,"","",{"$f":"IF(J292=\"\",\"\",IF(#REF!-J292<=$C$10/IF($A$12=1,1,10),\"ABOVE\",IF(#REF!-J292<=($C$14+$C$10/IF($A$12=1,1,10)),\"CHAM\",\"BELOW\")))","v":""},"","","","","","","","","","","",{"$error":"#VALUE!"},"","","","",""]
[null,null,null,null,null,null,null,null,"","",{"$f":"IF(J293=\"\",\"\",IF(#REF!-J293<=$C$10/IF($A$12=1,1,10),\"ABOVE\",IF(#REF!-J293<=($C$14+$C$10/IF($A$12=1,1,10)),\"CHAM\",\"BELOW\")))","v":""},"","","","","","","","","","","",{"$error":"#VALUE!"},"","","","",""]
[null,null,null,null,null,null,null,null,{"$f":"IF(J294=\"\",\"\",IF(J294=0,$C$8,($C$8+J294/100)))","v":""},"",{"$f":"IF(J294=\"\",\"\",IF(#REF!-J294<=$C$10/IF($A$12=1,1,10),\"ABOVE\",IF(#REF!-J294<=($C$14+$C$10/IF($A$12=1,1,10)),\"CHAM\",\"BELOW\")))","v":""},"",{"$f":"IF(L294=\"\",\"\",(IF(L294=0,0,VLOOKUP(L294,$B$17:$F$132,IF($C$4=\"HS180\",2,4),FALSE))))","v":""},{"$f":"IF(L294=\"\",\"\",(IF(L294=0,0,VLOOKUP(L294,$B$17:$F$132,IF($C$4=\"HS180\",3,5),FALSE))))","v":""},"","","","","","","","",{"$error":"#VALUE!"},"","","","",""]
[null,null,null,null,null,null,null,null,"",{"$f":"IFERROR(IF($A$12=1,IF(J294-1>=0, J294-1,\"\"),IF(J294-2.54>=0,J294-2.54,\"\")),\"\")","v":""},{"$f":"IF(J295=\"\",\"\",IF(#REF!-J295<=$C$10/IF($A$12=1,1,10),\"ABOVE\",IF(#REF!-J295<=($C$14+$C$10/IF($A$12=1,1,10)),\"CHAM\",\"BELOW\")))","v":""},{"$f":"IF(J295=\"\",\"\",IF(K295=\"ABOVE\",0,IF(K295=\"BELOW\",0,IF(L294>=1,L294+1,1))))","v":""},"","","","","","","","","","",{"$error":"#VALUE!"},"","","","",""]
[null,null,null,null,null,null,null,null,"","",{"$f":"IF(J296=\"\",\"\",IF(#REF!-J296<=$C$10/IF($A$12=1,1,10),\"ABOVE\",IF(#REF!-J296<=($C$14+$C$10/IF($A$12=1,1,10)),\"CHAM\",\"BELOW\")))","v":""},"","","","","","","","","","","",{"$error":"#VALUE!"},"","","","",""]
[null,null,null,null,null,null,null,null,"","",{"$f":"IF(J297=\"\",\"\",IF(#REF!-J297<=$C$10/IF($A$12=1,1,10),\"ABOVE\",IF(#REF!-J297<=($C$14+$C$10/IF($A$12=1,1,10)),\"CHAM\",\"BELOW\")))","v":""},"","","","","","","","","","","",{"$error":"#VALUE!"},"","","","",""]
[null,null,null,null,null,null,null,null,"","",{"$f":"IF(J298=\"\",\"\",IF(#REF!-J298<=$C$10/IF($A$12=1,1,10),\"ABOVE\",IF(#REF!-J298<=($C$14+$C$10/IF($A$12=1,1,10)),\"CHAM\",\"BELOW\")))","v":""},"","","","","","","","","","","",{"$error":"#VALUE!"},"","","","",""]
[null,null,null,null,null,null,null,null,"","",{"$f":"IF(J299=\"\",\"\",IF(#REF!-J299<=$C$10/IF($A$12=1,1,10),\"ABOVE\",IF(#REF!-J299<=($C$14+$C$10/IF($A$12=1,1,10)),\"CHAM\",\"BELOW\")))","v":""},"","","","","","","","","","","",{"$error":"#VALUE!"},"","","","",""]
[null,null,null,null,null,null,null,null,"","",{"$f":"IF(J300=\"\",\"\",IF(#REF!-J300<=$C$10/IF($A$12=1,1,10),\"ABOVE\",IF(#REF!-J300<=($C$14+$C$10/IF($A$12=1,1,10)),\"CHAM\",\"BELOW\")))","v":""},"","","","","","","","","","","",{"$error":"#VALUE!"},"","","","",""]
[null,null,null,null,null,null,null,null,"","",{"$f":"IF(J301=\"\",\"\",IF(#REF!-J301<=$C$10/IF($A$12=1,1,10),\"ABOVE\",IF(#REF!-J301<=($C$14+$C$10/IF($A$12=1,1,10)),\"CHAM\",\"BELOW\")))","v":""},"","","","","","","","","","","",{"$error":"#VALUE!"},"","","","",""]
[null,null,null,null,null,null,null,null,"","",{"$f":"IF(J302=\"\",\"\",IF(#REF!-J302<=$C$10/IF($A$12=1,1,10),\"ABOVE\",IF(#REF!-J302<=($C$14+$C$10/IF($A$12=1,1,10)),\"CHAM\",\"BELOW\")))","v":""},"","","","","","","","","","","",{"$error":"#VALUE!"},"","","","",""]
[null,null,null,null,null,null,null,null,"","",{"$f":"IF(J303=\"\",\"\",IF(#REF!-J303<=$C$10/IF($A$12=1,1,10),\"ABOVE\",IF(#REF!-J303<=($C$14+$C$10/IF($A$12=1,1,10)),\"CHAM\",\"BELOW\")))","v":""},"","","","","","","","","","","",{"$error":"#VALUE!"},"","","","",""]
[null,null,null,null,null,null,null,null,"","",{"$f":"IF(J304=\"\",\"\",IF(#REF!-J304<=$C$10/IF($A$12=1,1,10),\"ABOVE\",IF(#REF!-J304<=($C$14+$C$10/IF($A$12=1,1,10)),\"CHAM\",\"BELOW\")))","v":""},"","","","","","","","","","","",{"$error":"#VALUE!"},"","","","",""]
[null,null,null,null,null,null,null,null,"","",{"$f":"IF(J305=\"\",\"\",IF(#REF!-J305<=$C$10/IF($A$12=1,1,10),\"ABOVE\",IF(#REF!-J305<=($C$14+$C$10/IF($A$12=1,1,10)),\"CHAM\",\"BELOW\")))","v":""},"","","","","","","","","","","",{"$error":"#VALUE!"},"","","","",""]
[null,null,null,null,null,null,null,null,"","",{"$f":"IF(J306=\"\",\"\",IF(#REF!-J306<=$C$10/IF($A$12=1,1,10),\"ABOVE\",IF(#REF!-J306<=($C$14+$C$10/IF($A$12=1,1,10)),\"CHAM\",\"BELOW\")))","v":""},"","","","","","","","","","","",{"$error":"#VALUE!"},"","","","",""]
[null,null,null,null,null,null,null,null,"","",{"$f":"IF(J307=\"\",\"\",IF(#REF!-J307<=$C$10/IF($A$12=1,1,10),\"ABOVE\",IF(#REF!-J307<=($C$14+$C$10/IF($A$12=1,1,10)),\"CHAM\",\"BELOW\")))","v":""},"","","","","","","","","","","",{"$error":"#VALUE!"},"","","","",""]
[null,null,null,null,null,null,null,null,"","",{"$f":"IF(J308=\"\",\"\",IF(#REF!-J308<=$C$10/IF($A$12=1,1,10),\"ABOVE\",IF(#REF!-J308<=($C$14+$C$10/IF($A$12=1,1,10)),\"CHAM\",\"BELOW\")))","v":""},"","","","","","","","","","","",{"$error":"#VALUE!"},"","","","",""]
[null,null,null,null,null,null,null,null,"","",{"$f":"IF(J309=\"\",\"\",IF(#REF!-J309<=$C$10/IF($A$12=1,1,10),\"ABOVE\",IF(#REF!-J309<=($C$14+$C$10/IF($A$12=1,1,10)),\"CHAM\",\"BELOW\")))","v":""},"","","","","","","","","","","",{"$error":"#VALUE!"},"","","","",""]
[null,null,null,null,null,null,null,null,"","",{"$f":"IF(J310=\"\",\"\",IF(#REF!-J310<=$C$10/IF($A$12=1,1,10),\"ABOVE\",IF(#REF!-J310<=($C$14+$C$10/IF($A$12=1,1,10)),\"CHAM\",\"BELOW\")))","v":""},"","","","","","","","","","","",{"$error":"#VALUE!"},"","","","",""]
[null,null,null,null,null,null,null,null,"","",{"$f":"IF(J311=\"\",\"\",IF(#REF!-J311<=$C$10/IF($A$12=1,1,10),\"ABOVE\",IF(#REF!-J311<=($C$14+$C$10/IF($A$12=1,1,10)),\"CHAM\",\"BELOW\")))","v":""},"","","","","","","","","","","",{"$error":"#VALUE!"},"","","","",""]
[null,null,null,null,null,null,null,null,"","",{"$f":"IF(J312=\"\",\"\",IF(#REF!-J312<=$C$10/IF($A$12=1,1,10),\"ABOVE\",IF(#REF!-J312<=($C$14+$C$10/IF($A$12=1,1,10)),\"CHAM\",\"BELOW\")))","v":""},"","","","","","","","","","","",{"$error":"#VALUE!"},"","","","",""]
[null,null,null,null,null,null,null,null,"","",{"$f":"IF(J313=\"\",\"\",IF(#REF!-J313<=$C$10/IF($A$12=1,1,10),\"ABOVE\",IF(#REF!-J313<=($C$14+$C$10/IF($A$12=1,1,10)),\"CHAM\",\"BELOW\")))","v":""},"","","","","","","","","","","",{"$error":"#VALUE!"},"",{"$f":"IF(P313=\"\",\"\",IF(P313=0,0,(Y314+X313)))","v":""},"","",""]
[null,null,null,null,null,null,null,null,"","",{"$f":"IF(J314=\"\",\"\",IF(#REF!-J314<=$C$10/IF($A$12=1,1,10),\"ABOVE\",IF(#REF!-J314<=($C$14+$C$10/IF($A$12=1,1,10)),\"CHAM\",\"BELOW\")))","v":""},"","","","","","","","","","","",{"$error":"#VALUE!"},"","","","",""]
[null,null,null,null,null,null,null,null,"","",{"$f":"IF(J315=\"\",\"\",IF(#REF!-J315<=$C$10/IF($A$12=1,1,10),\"ABOVE\",IF(#REF!-J315<=($C$14+$C$10/IF($A$12=1,1,10)),\"CHAM\",\"BELOW\")))","v":""},"","","","","","","","","","","",{"$error":"#VALUE!"},"","","","",""]
[null,null,null,null,null,null,null,null,"","",{"$f":"IF(J316=\"\",\"\",IF(#REF!-J316<=$C$10/IF($A$12=1,1,10),\"ABOVE\",IF(#REF!-J316<=($C$14+$C$10/IF($A$12=1,1,10)),\"CHAM\",\"BELOW\")))","v":""},"","","","","","","","","","","",{"$error":"#VALUE!"},"","","","",""]
[null,null,null,null,null,null,null,null,null,{"$f":"IFERROR(IF(J316-1>=0, J316-1,\"\"),\"\")","v":""},null,null,null,null,"","","","","","","","",{"$error":"#VALUE!"},"","","","",""]
[null,null,null,null,null,null,null,null,null,{"$f":"IFERROR(IF(J317-1>=0, J317-1,\"\"),\"\")","v":""},null,null,null,null,"","","","","","","","",{"$error":"#VALUE!"},"","","","",""]
[null,null,null,null,null,null,null,null,null,{"$f":"IFERROR(IF(J318-1>=0, J318-1,\"\"),\"\")","v":""}]
[null,null,null,null,null,null,null,null,null,{"$f":"IFERROR(IF(J319-1>=0, J319-1,\"\"),\"\")","v":""}]